{"text_format":"1","workbook":"xlsx","n_sheets":10,"sheets":["CycleTime","DataSerch","ModelData","LeadData","StrokeData","MassDataLink","AccVelDataLink","Message","LangData","LangData_Model"],"not_rendered":{"charts":0,"images":3,"macros":1,"external_links":0,"defined_names":12,"comments":2,"pivot_tables":0},"unopened":[],"bounds":{"document_bytes":16777216,"sheet_cells":100000,"rows_first":2000,"rows_last":500,"rows_between":2000,"halvings":0,"cell_chars":16384,"cell_head_chars":4096},"cells_cut":0,"cells_raw":0,"read":"whole","date_system":"1900"}

{"sheet":"CycleTime","index":0,"n_rows":3231,"n_cols":48,"rows_kept":1125,"cut":true,"hidden":false,"merged":[[1,0,1,9],[23,6,23,9],[24,2,24,9],[0,11,0,43],[28,14,28,20],[8,11,8,12],[2,27,2,28],[3,27,3,28],[2,11,2,12],[7,11,7,12],[6,11,6,12],[9,11,9,12],[23,22,24,22],[23,29,24,29],[23,30,24,30],[23,31,24,31],[23,32,24,32],[3,2,3,3],[5,11,5,12],[5,2,5,4],[13,11,13,12],[4,11,4,12],[3,11,3,12],[15,1,15,2],[13,1,13,2],[10,11,10,12],[11,11,11,12],[28,44,28,47],[23,1,23,2],[17,1,17,2],[21,1,21,2],[19,6,21,7],[19,8,21,8],[19,1,19,2],[23,23,23,24],[23,25,24,25],[23,26,24,26],[23,27,24,27],[23,28,24,28],[23,42,24,42],[23,41,24,41],[23,37,24,37],[23,38,24,38],[23,39,24,39],[47,22,48,22],[47,23,48,23],[47,24,48,24],[47,25,48,25],[47,26,48,26],[47,27,48,27],[47,28,48,28],[47,29,48,29],[47,30,48,30],[37,22,38,22],[35,22,36,22],[35,23,36,23],[47,31,48,31],[47,32,48,32],[47,33,48,33],[47,34,48,34],[23,35,24,35],[23,36,24,36],[35,34,36,34],[35,32,36,32],[35,31,36,31],[35,36,36,36],[35,25,36,25],[41,34,42,34],[41,29,42,29],[41,36,42,36],[41,32,42,32],[41,35,42,35],[41,33,42,33],[35,33,36,33],[35,30,36,30],[35,35,36,35],[47,35,48,35],[49,22,50,22],[49,23,50,23],[23,40,24,40],[31,23,32,24],[30,23,30,24],[41,31,42,31],[35,29,36,29],[35,24,36,24],[41,26,42,26],[41,30,42,30],[41,24,42,24],[35,27,36,27],[23,33,24,33],[23,34,24,34],[41,37,42,37],[43,22,44,22],[41,28,42,28],[35,28,36,28],[41,22,42,22],[41,27,42,27],[35,26,36,26],[41,23,42,23],[41,25,42,25],[31,22,32,22]],"bounds":{"rows_first":500,"rows_last":125,"rows_between":500,"halvings":2}}
[null,null,null,null,null,null,null,null,null,null,null,"↓　W～AQ　「表示しない」列　↓　↓　W～AQ　「表示しない」列　↓　↓　W～AQ　「表示しない」列　↓　↓　W～AQ　「表示しない」列　↓　↓　W～AQ　「表示しない」列　↓　↓　W～AQ　「表示しない」列　↓　↓　W～AQ　「表示しない」列　↓　↓　W～AQ　「表示しない」列　↓　↓　W～AQ　「表示しない」列　↓　↓　",null,null,null,null,null,null,null,null,null,null,null,null,null,null,null,null,null,null,null,null,null,null,null,null,null,null,null,null,null,null,null,null,null,"残す列",null,"残す列"]
[{"$f":"Message!C5","v":"通过速度・加减速度・移动距离自动计算单轴机械手的定位时间（Cycle Time）。\n请在以下<a>～<e>项目中选择使用的产品。　在<1>～<5>中输入需要的运行条件。\n点击「最快运行设定」按钮后，将根据移动距离与负载质量，计算速度与加减速度。"},null,null,null,null,null,null,null,null,null,null,"参考表示"]
[null,null,null,null,null,null,null,null,null,null,null,"Vmax[㎜/s]",null,{"$f":"SQRT(D14*(2*N4*N5)/(N4+N5))","v":700.23745972348547},null,null,null,null,null,null,null,null,null,null,null,null,null,"feedforward",null,null,"物理計算用変換係数"]
["<a>",{"$f":"Message!C6","v":"系列"},"RCP6",null,null,null,null,null,null,null,null,{"$f":"IF(AE33=0,\"加速度[㎜/s^2]\",\"加速度[deg/s^2]\")","v":"加速度[㎜/s^2]"},null,{"$f":"D20*AH5*1000","v":9806.65},null,null,null,null,null,null,null,null,null,null,null,null,null,{"$f":"AF45/100","v":0},null,null,"ﾓｰﾀ軸角速度及び角加速度",null,null,"Ｇ"]
[null,null,null,null,null,null,null,null,null,null,null,{"$f":"IF(AE33=0,\"減速度[㎜/s^2]\",\"減速度[deg/s^2]\")","v":"減速度[㎜/s^2]"},null,{"$f":"D22*AH5*1000","v":9806.65},null,null,null,null,null,null,null,null,null,null,null,null,null,"Kf",{"$f":"IF( AB4=1,1,1-EXP(-((N11/(1-AB4))-N11)*N8) )","v":0},null,{"$f":"IF(AE33=0,1000,360/(2*PI()))","v":1000},null,null,{"$f":"LeadData!$A$1","v":9.8066499999999994}]
["<b>",{"$f":"Message!C7","v":"型号"},"RCP6-SA8C",null,null,null,null,null,null,null,null,"最高速度[㎜/s]",null,{"$f":"IF(D18<N3,D18,N3)","v":100},null,null,null,null,null,null,null,null,null,null,null,null,null,null,null,null,null,null,null,null,null,null,null,null,null,null,"(Tkp+2Kf)",{"$f":"($N$8*$N$11+2*$AB$4)","v":8.7064362138187593E-3}]
[null,null,null,null,null,null,null,null,null,null,null,"分割数",null,{"$f":"ROUND(3200/(AP18+AP20*10)*AP18,0)","v":2051},null,null,null,null,null,null,null,null,null,null,null,null,null,null,null,null,null,null,null,null,null,null,null,null,null,null,"(Tkp-2Kf)",{"$f":"($N$8*$N$11-2*$AB$4)","v":8.7064362138187593E-3}]
["<c>",{"$f":"IF(AE33=0,Message!C8,Message!C9)","v":"导程"},5,{"$f":"IF(AE33=0,\"㎜\",\"：1\")","v":"㎜"},null,null,null,null,null,null,null,"⊿ｔ[s]",null,{"$f":"AT32-AT31","v":2.487553203948217E-4},null,null,null,null,null,null,null,null,null,null,null,null,null,null,null,null,null,null,null,null,null,null,null,null,null,null,"(2+TKp)",{"$f":"(2+$N$8*$N$11)","v":2.0087064362138189}]
[null,null,null,null,null,null,null,null,null,null,null,"最終時刻[s]",null,{"$f":"AT3231","v":0.79601702526342943},null,null,null,null,null,null,null,null,null,null,null,null,null,null,null,null,null,null,null,null,null,null,null,null,null,null,"(2-TKp)",{"$f":"(2-$N$8*$N$11)","v":1.9912935637861813}]
["<d>",{"$f":"Message!C10","v":"行程"},50,{"$f":"IF(AE33=0,\"㎜\",\"deg\")","v":"㎜"},null,null,null,null,null,null,null,"最終位置[㎜]",null,{"$f":"AV3231","v":49.999891317479204},null,null,null,null,null,null,null,null,null,null,null,null,null,null,null,null,null,null,null,null,null,null,null,null,null,null,"減速時間",{"$f":"N6/N5","v":1.0197162129779282E-2},"s"]
[null,null,null,null,null,null,null,null,null,null,null,"位置ｹﾞｲﾝ",null,{"$f":"AE45","v":35},null,null,null,null,null,null,null,null,null,null,null,null,null,null,null,null,null,null,null,null,null,null,null,null,null,null,"減速距離",{"$f":"N5*AP10*AP10/2","v":0.50985810648896401},"㎜"]
["<e>",{"$f":"Message!C11","v":"安装姿态"},"水平",null,null,null,null,null,null,null,null,"速度制御帯域",null,{"$f":"AG45","v":170},null,null,null,null,null,null,null,null,null,null,null,null,null,null,null,null,null,null,null,null,null,null,null,null,null,null,"加速時間",{"$f":"N6/N4","v":1.0197162129779282E-2},"s"]
[null,null,null,null,null,null,null,null,null,null,null,null,null,null,null,null,null,null,null,null,null,null,null,null,null,null,null,null,null,null,null,null,null,null,null,null,null,null,null,null,"加速距離",{"$f":"N4*AP12*AP12/2","v":0.50985810648896401},"㎜"]
["<1>",{"$f":"IF(AE33=0,Message!C12,Message!C13)","v":"移动距离[mm]"},null,50,null,null,null,null,null,null,null,"移動可能距離[㎜]",null,{"$f":"X45+Y45","v":50},null,null,null,null,null,null,null,null,null,null,null,null,null,null,null,null,null,null,null,null,null,null,null,null,null,null,"等速時間",{"$f":"IF(D18<N3,(D14-AP13-AP11)/D18,0)","v":0.48980283787022072},"s"]
[null,null,null,null,null,null,null,null,null,null,null,null,null,null,null,null,null,null,null,null,null,null,null,null,null,null,null,null,null,null,null,null,null,null,null,null,null,null,null,null,"等速距離",{"$f":"AP14*N6","v":48.980283787022074},"㎜"]
["<2>",{"$f":"IF(AE33=0,Message!C14,Message!C15)","v":"负载质量[kg]"},null,80,null,null,null,null,null,null,null,{"$f":"CONCATENATE(C6,\"-\",C8)","v":"RCP6-SA8C-5"},null,null,null,null,null,null,null,null,null,null,null,null,null,null,null,null,null,null,null,null,null,null,null,null,null,null,null,null,"減速時刻",{"$f":"AP12+AP14","v":0.5},"s"]
[null,null,null,null,null,null,null,null,null,null,null,{"$f":"CONCATENATE(C6,\"-\",C8,\"-\",C10,\"-\",C12)","v":"RCP6-SA8C-5-50-水平"},null,null,null,null,null,null,null,null,null,null,null,null,null,null,null,null,null,null,null,null,null,null,null,null,null,null,null,null,"減速位置",{"$f":"AP13+AP15","v":49.490141893511037},"㎜"]
["<3>",{"$f":"IF(AE33=0,Message!C16,Message!C17)","v":"速度[㎜/s]"},null,100,null,null,{"$f":"Message!C25","v":"●计算结果"},null,null,null,null,"最高速度","位置ｹﾞｲﾝ","速度ﾙｰﾌﾟ比例ｹﾞｲﾝ","速度ﾙｰﾌﾟ積分ｹﾞｲﾝ","電流制御帯域番号","ﾄﾙｸﾌｨﾙﾀ時定数","ストローク",null,null,null,null,null,null,null,null,null,null,null,null,null,null,null,null,null,null,null,null,null,null,"TotalTime",{"$f":"AP14+AP12+AP10","v":0.51019716212977928},"s"]
[null,null,null,null,null,null,null,null,null,null,null,{"$f":"AD45","v":250},{"$f":"AE45","v":35},{"$f":"AN27","v":0},{"$f":"AO27","v":0},{"$f":"AK45","v":0},{"$f":"AI45","v":0},{"$f":"C10","v":50},null,null,null,null,null,null,null,null,null,null,null,null,"運転姿勢","←初期値",null,null,null,null,null,null,null,null,"Spdτ",{"$f":"1/N12","v":5.8823529411764705E-3},"s"]
["<4>",{"$f":"Message!C18","v":"加速度[G]"},null,1,{"$f":"\"(1G=9806\" & IF(AE33=0,\"mm\",\"deg\") & \"/s^2)\"","v":"(1G=9806mm/s^2)"},null,{"$f":"Message!C26","v":"定位时间 [s]"},null,{"$f":"LOOKUP((D14-D24),AV31:AV3231,AT31:AT3231)","v":0.60099285407388925},null,null,null,null,null,null,null,null,null,null,null,null,null,null,null,null,null,null,null,null,null,{"$f":"Message!C81","v":"水平"},"水平",null,null,null,null,null,null,null,null,"Posτ",{"$f":"1/N11","v":2.8571428571428571E-2},"s"]
[null,null,null,null,null,null,null,null,null,null,null,null,null,null,null,null,null,null,null,null,null,null,null,null,null,null,null,null,null,null,{"$f":"Message!C82","v":"垂直"},null,null,null,null,null,null,null,null,null,"収束時間",{"$f":"I20-AP18","v":9.0795691944109969E-2},"s"]
["<5>",{"$f":"Message!C19","v":"减速度[G]"},null,1]
[]
["<6>",{"$f":"IF(AE33=0,Message!C20,Message!C21)","v":"定位宽度 [㎜]"},null,0.1,null,null,{"$f":"IF(N9<=I20,Message!C22,Message!C23)","v":"※代表进入定位宽度范围内需要的时间"}]
[null,null,{"$f":"IF(N10<=I21,\"\",Message!C24)","v":"※计算结果供参考。 根据负载情况变化，实际的定位时间也会发生变化。\n※伺服增益调整后，可能比计算结果更快定位完成。\n　 详情请参考控制器的使用说明书。"}]
[]
[]
[1,{"$f":"A28+1","v":2},3,4,5,6,7,8,9,10,11,12,13,14,15,{"$f":"O28+1","v":16},{"$f":"P28+1","v":17},{"$f":"Q28+1","v":18},{"$f":"R28+1","v":19},{"$f":"S28+1","v":20},21,22,23,24,25,26,27,28,29,30,31,32,33,34,35,36,37,38,39,40,41,42,43,44,45,46,47,48]
[null,null,null,null,null,null,null,null,null,null,null,null,null,null,"↓↓↓↓↓↓↓↓　フォント色を白にする列　O29～U193　↓↓↓↓↓↓↓↓",null,null,null,null,null,null,null,null,null,null,null,null,null,null,null,null,null,null,null,null,null,null,null,null,null,null,null,null,null,"↓↓↓↓↓↓↓↓↓↓↓↓↓↓↓　フォント色を白に、数式は非表示に、する列　A29～J3231　↓↓↓↓↓↓↓↓↓↓↓↓↓↓↓"]
[null,"可搬質量","加減速度","最高速度","実加速度","到達速度","運転時間","三角速度",null,null,null,null,null,null,"№","メカ型式リスト","絞込み","ﾀｲﾌﾟﾘｽﾄ","ﾘｰﾄﾞﾘｽﾄ","ｽﾄﾛｰｸﾘｽﾄ","型式総数",null,{"$f":"DataSerch!B1","v":"メカ機種データレコード"},null,null,null,null,null,null,null,null,null,null,null,null,null,null,null,null,null,null,null,null,null,"№","時刻","位置計画","位置"]
[{"$f":"A30+1","v":1},5,0.5,225,4903.3249999999998,225,0.26810945180622897,495.14265621131858,null,null,null,null,null,null,1,"RCP4-SA5C","RCP6-SA8C","RCP4",5,50,155,null,"ﾚｺｰﾄﾞ№",{"$f":"DataSerch!$C$2","v":"ｱｸﾁｭｴｰﾀ型式"},null,{"$f":"DataSerch!$E$2","v":0},{"$f":"DataSerch!$F$2","v":0},{"$f":"DataSerch!$G$2","v":0},{"$f":"DataSerch!$H$2","v":"最小ｽﾄﾛｰｸ"},{"$f":"DataSerch!$I$2","v":"最大ｽﾄﾛｰｸ"},{"$f":"DataSerch!$J$2","v":"動作種別"},{"$f":"DataSerch!$K$2","v":0},null,null,null,null,null,null,null,null,null,null,null,null,0,{"$f":"$AP$18/$N$7*AS31","v":0},0,0]
[2,5,1,200,9806.65,200,0.27039432425955856,700.23745972348547,null,null,null,null,null,null,{"$f":"O31+1","v":2},"RCP4-SA6C","RCP6-SA8R","ERC3",10,100,"絞込み数",null,{"$f":"DataSerch!$B$3","v":60},{"$f":"DataSerch!$C$3","v":"RCP6-SA8C"},null,{"$f":"DataSerch!$E$4","v":"[kg]"},{"$f":"DataSerch!$F$4","v":"[mm]"},{"$f":"DataSerch!$G$4","v":"[mm]"},{"$f":"DataSerch!$H$4","v":"[mm]"},{"$f":"DataSerch!$I$4","v":"[mm]"},{"$f":"DataSerch!$J$4","v":"0/1"},{"$f":"DataSerch!$K$4","v":"[K]"},null,null,null,null,null,null,null,null,null,null,null,null,{"$f":"AS31+1","v":1},2.487553203948217E-4,{"$f":"IF(($N$4*AT32^2/2)<=$AP$13,($N$4*AT32^2/2), IF(($AP$13+$N$6*(AT32-$AP$12))<=$AP$17, ($AP$13+$N$6*(AT32-$AP$12)), IF(AU31<$D$14, ($AP$17+($N$6-$N$5*(AT32-$AP$16)/2)*(AT32-$AP$16)), $D$14)))","v":3.0341387455251617E-4},{"$f":"( $AP$6*AU32 + $AP$7*AU31 + $AP$9*AV31 )/$AP$8","v":1.3151018474149476E-6}]
[3,10,0.7,200,6864.6549999999988,200,0.27913474894222651,585.86069163240495,null,null,null,null,null,null,{"$f":"O32+1","v":3},"RCP4-SA7C","RCP6-WSA16C","RCP5",20,150,96,null,null,null,null,{"$f":"DataSerch!$E$5","v":0},{"$f":"DataSerch!$F$5","v":0},{"$f":"DataSerch!$G$5","v":0},{"$f":"DataSerch!$H$5","v":50},{"$f":"DataSerch!$I$5","v":1100},{"$f":"DataSerch!$J$5","v":0},null,null,null,null,null,null,null,null,null,null,null,null,null,{"$f":"AS32+1","v":2},4.975106407896434E-4,1.2136554982100647E-3,{"$f":"( $AP$6*AU33 + $AP$7*AU32 + $AP$9*AV32 )/$AP$8","v":7.8792108617963433E-6}]
[4,20,0.3,225,2941.9949999999999,225,0.29870093819556687,383.53585230066824,null,null,null,null,null,null,4,"RCP4-RA5C","RCP6-WSA16R","RCP6",30,200,null,null,null,null,null,null,null,null,null,null,null,null,null,null,null,null,null,null,null,null,null,null,null,null,3,7.4626596118446511E-4,2.7307248709726455E-3,2.4907232367135079E-5]
[5,20,0.5,200,4903.3249999999998,200,0.29078864851911712,495.14265621131858,null,null,null,null,null,null,5,"RCP4-RA6C","RCP6-RA8C",null,"- - -",250,"ﾘｰﾄﾞ総数",null,"リードデータレコード",null,null,null,null,null,null,null,null,null,null,null,null,null,null,null,null,null,null,null,null,null,4,9.9502128157928681E-4,4.8546219928402587E-3,5.7568865240381419E-5]
[6,25,1,175,9806.65,175,0.30355931944139947,700.23745972348547,null,null,null,null,null,null,6,"ERC3-SA5","RCP6-RA8R",null,"- - -",300,4,null,"リスト№",{"$f":"DataSerch!$F$24","v":"ﾘｰﾄﾞ長"},{"$f":"DataSerch!$G$24","v":0},{"$f":"DataSerch!$H$24","v":"水平定格加速度"},{"$f":"DataSerch!$I$24","v":"垂直定格加速度"},{"$f":"DataSerch!$J$24","v":"水平最大加速度"},{"$f":"DataSerch!$K$24","v":"垂直最大加速度"},{"$f":"DataSerch!$L$24","v":0},{"$f":"DataSerch!$M$24","v":0},{"$f":"DataSerch!$N$24","v":0},{"$f":"DataSerch!$O$24","v":"ｷﾞｱ比分子"},{"$f":"DataSerch!$P$24","v":"ｷﾞｱ比分母"},{"$f":"DataSerch!$Q$24","v":0},{"$f":"DataSerch!$R$24","v":"ｽﾄﾛｰｸ刻み"},{"$f":"DataSerch!$S$24","v":"位置決め幅\n初期値"},null,null,null,null,null,null,null,5,1.2437766019741084E-3,7.5853468638129029E-3,1.109889937925487E-4]
[7,30,0.7,175,6864.6549999999988,175,0.3112071910387339,585.86069163240495,null,null,null,null,null,null,7,"ERC3-SA7","RCP6-RRA8C",null,"- - -",350,null,null,null,null,null,null,null,null,null,null,null,null,null,null,null,null,null,null,null,null,null,null,null,null,6,1.4925319223689302E-3,1.0922899483890582E-2,1.902480762527175E-4]
[8,40,0.5,175,4903.3249999999998,175,0.32140435316851318,495.14265621131858,null,null,null,null,null,null,8,"ERC3-RA4","RCP6-RRA8R",null,"- - -",400,"ｽﾄﾛｰｸ総数",null,{"$f":"DataSerch!$D$35","v":1},{"$f":"DataSerch!$F$25","v":"[mm]"},{"$f":"DataSerch!$G$25","v":"[kgm^2]"},{"$f":"DataSerch!$H$25","v":"[m/s^2]"},{"$f":"DataSerch!$I$25","v":"[m/s^2]"},{"$f":"DataSerch!$J$25","v":"[m/s^2]"},{"$f":"DataSerch!$K$25","v":"[m/s^2]"},{"$f":"DataSerch!$L$25","v":"[Nm]"},{"$f":"DataSerch!$M$25","v":"[Nms]"},{"$f":"DataSerch!$N$25","v":"[Nm]"},{"$f":"DataSerch!$O$25","v":0},{"$f":"DataSerch!$P$25","v":0},{"$f":"DataSerch!$Q$25","v":0},{"$f":"DataSerch!$R$25","v":"[mm]"},{"$f":"DataSerch!$S$25","v":"[mm]"},null,null,null,null,null,null,null,7,1.741287242763752E-3,1.4867279853073293E-2,3.0038252988438878E-4]
[9,50,0.3,200,2941.9949999999999,200,0.31798108086519522,383.53585230066824,null,null,null,null,null,null,9,"ERC3-RA6","RCP6-WRA16C",null,null,450,22,null,null,{"$f":"LOOKUP(W38,DataSerch!$B$26:$B$33,DataSerch!$F$26:$F$33)","v":5},{"$f":"LOOKUP(W38,DataSerch!$B$26:$B$33,DataSerch!$G$26:$G$33)","v":0},{"$f":"LOOKUP(W38,DataSerch!$B$26:$B$33,DataSerch!$H$26:$H$33)","v":2.9419949999999999},{"$f":"LOOKUP(W38,DataSerch!$B$26:$B$33,DataSerch!$I$26:$I$33)","v":2.9419949999999999},{"$f":"LOOKUP(W38,DataSerch!$B$26:$B$33,DataSerch!$J$26:$J$33)","v":9.8066499999999994},{"$f":"LOOKUP(W38,DataSerch!$B$26:$B$33,DataSerch!$K$26:$K$33)","v":4.9033249999999997},null,null,null,{"$f":"LOOKUP(W38,DataSerch!$B$26:$B$33,DataSerch!$O$26:$O$33)","v":1},{"$f":"LOOKUP(W38,DataSerch!$B$26:$B$33,DataSerch!$P$26:$P$33)","v":1},null,{"$f":"LOOKUP(W38,DataSerch!$B$26:$B$33,DataSerch!$R$26:$R$33)","v":50},{"$f":"LOOKUP(W38,DataSerch!$B$26:$B$33,DataSerch!$S$26:$S$33)","v":0.1},null,null,null,null,null,null,null,8,1.9900425631585736E-3,1.9418487971361035E-2,4.4638511276337897E-4]
[10,70,0.3,175,2941.9949999999999,175,0.34519773147133154,383.53585230066824,null,null,null,null,null,null,10,"RCP4-SA5R","RCP6-WRA16R",null,null,500,null,null,null,null,null,null,null,null,null,null,null,null,null,null,null,null,null,null,null,null,null,null,null,null,9,2.2387978835533952E-3,2.4576523838753809E-2,6.3320530224619744E-4]
[11,70,1,125,9806.65,125,0.41274645266222409,700.23745972348547,null,null,null,null,null,null,11,"RCP4-SA6R","RCP6-SA4C",null,null,550,null,null,"ストロークデータレコード",null,null,null,null,null,null,null,null,null,null,null,null,null,null,null,null,null,null,null,null,null,10,2.4875532039482168E-3,3.0341387455251612E-2,8.6574967015759486E-4]
[12,80,0.1,250,980.66499999999996,221.43452756966335,0.45160075575178754,221.43452756966335,null,null,null,null,null,null,12,"RCP4-SA7R","RCP6-SA6C",null,null,600,null,null,"リスト№",{"$f":"DataSerch!$E$58","v":"ｽﾄﾛｰｸ長"},{"$f":"DataSerch!$G$58","v":"有効ｽﾄﾛｰｸ補正"},{"$f":"DataSerch!$H$58","v":0},{"$f":"DataSerch!$I$58","v":"基準ｹﾞｲﾝ用搬送質量"},{"$f":"DataSerch!$J$58","v":"水平可搬質量"},{"$f":"DataSerch!$K$58","v":"垂直可搬質量"},{"$f":"DataSerch!$L$58","v":"最大速度"},{"$f":"DataSerch!$M$58","v":"位置ｹﾞｲﾝ"},{"$f":"DataSerch!$N$58","v":"FFｹﾞｲﾝ"},{"$f":"DataSerch!$O$58","v":"速度制御帯域"},{"$f":"DataSerch!$P$58","v":0},{"$f":"DataSerch!$Q$58","v":0},{"$f":"DataSerch!$R$58","v":0},{"$f":"DataSerch!$S$58","v":0},{"$f":"DataSerch!$T$58","v":0},null,null,null,null,null,null,11,2.7363085243430388E-3,3.6713078820854457E-2,1.1488822547257244E-3]
[13,80,0.5,125,4903.3249999999998,125,0.42549290532444822,495.14265621131858,null,null,null,null,null,null,13,"RCP4-RA5R","RCP6-SA7C",null,null,650,null,null,null,null,null,null,null,null,null,null,null,null,null,null,null,null,null,null,null,null,null,null,null,null,12,2.9850638447378604E-3,4.3691597935562328E-2,1.4874249292931075E-3]
[14,80,1,100,9806.65,100,0.51019716212977928,700.23745972348547,null,null,null,null,null,null,14,"RCP4-RA6R","RCP6-SA4R",null,null,700,null,null,{"$f":"MATCH(C10,DataSerch!$E$60:$E$109,0)","v":1},{"$f":"DataSerch!$E$59","v":"[mm]"},{"$f":"DataSerch!$G$59","v":"[mm]"},{"$f":"DataSerch!$H$59","v":"[kg/mm]"},{"$f":"DataSerch!$I$59","v":"[kg]"},{"$f":"DataSerch!$J$59","v":"[kg]"},{"$f":"DataSerch!$K$59","v":"[kg]"},{"$f":"DataSerch!$L$59","v":"[mm/s]"},{"$f":"DataSerch!$M$59","v":"[1/s]"},{"$f":"DataSerch!$N$59","v":"[%]"},{"$f":"DataSerch!$O$59","v":"[rad/s]"},{"$f":"DataSerch!$P$59","v":0},{"$f":"DataSerch!$Q$59","v":"[s]"},{"$f":"DataSerch!$R$59","v":0},{"$f":"DataSerch!$S$59","v":0},{"$f":"DataSerch!$T$59","v":"[Nm/rad]"},null,null,null,null,null,null,13,3.233819165132682E-3,5.1276944799375231E-2,1.8861577678313563E-3]
[15,-1,-1,-1,-1,-1,-1,-1,null,null,null,null,null,null,15,"ERC3D-SA5","RCP6-SA6R",null,null,750,null,null,null,{"$f":"LOOKUP(W44,DataSerch!$D$60:$D$109,DataSerch!$E$60:$E$109)","v":50},{"$f":"LOOKUP(W44,DataSerch!$D$60:$D$109,DataSerch!$G$60:$G$109)","v":0},{"$f":"LOOKUP(W44,DataSerch!$D$60:$D$109,DataSerch!$H$60:$H$109)","v":0},{"$f":"LOOKUP(W44,DataSerch!$D$60:$D$109,DataSerch!$I$60:$I$109)","v":80},{"$f":"LOOKUP(W44,DataSerch!$D$60:$D$109,DataSerch!$J$60:$J$109)","v":80},{"$f":"LOOKUP(W44,DataSerch!$D$60:$D$109,DataSerch!$K$60:$K$109)","v":55},{"$f":"LOOKUP(W44,DataSerch!$D$60:$D$109,DataSerch!$L$60:$L$109)","v":250},{"$f":"LOOKUP(W44,DataSerch!$D$60:$D$109,DataSerch!$M$60:$M$109)","v":35},{"$f":"LOOKUP(W44,DataSerch!$D$60:$D$109,DataSerch!$N$60:$N$109)","v":0},{"$f":"LOOKUP(W44,DataSerch!$D$60:$D$109,DataSerch!$O$60:$O$109)","v":170},{"$f":"LOOKUP(W44,DataSerch!$D$60:$D$109,DataSerch!$P$60:$P$109)","v":0},{"$f":"LOOKUP(W44,DataSerch!$D$60:$D$109,DataSerch!$Q$60:$Q$109)","v":0},{"$f":"LOOKUP(W44,DataSerch!$D$60:$D$109,DataSerch!$R$60:$R$109)","v":0},{"$f":"LOOKUP(W44,DataSerch!$D$60:$D$109,DataSerch!$S$60:$S$109)","v":0},{"$f":"LOOKUP(W44,DataSerch!$D$60:$D$109,DataSerch!$T$60:$T$109)","v":0},null,null,null,null,null,null,14,3.4825744855275041E-3,5.9469119412293173E-2,2.3498194072873583E-3]
[16,-1,-1,-1,-1,-1,-1,-1,null,null,null,null,null,null,16,"ERC3D-SA7","RCP6-SA7R",null,null,800,null,null,null,null,null,null,null,null,null,null,null,null,null,null,null,null,null,null,null,null,null,null,null,null,15,3.7313298059223256E-3,6.826812177431614E-2,2.8831074067883901E-3]
[17,-1,-1,-1,-1,-1,-1,-1,null,null,null,null,null,null,17,"ERC3CR-SA5","RCP6-WSA10C",null,null,850,null,null,null,null,null,null,null,null,null,null,null,null,null,null,null,null,null,null,null,null,null,null,null,null,16,3.9800851263171472E-3,7.767395188544414E-2,3.4906786037333919E-3]
[18,-1,-1,-1,-1,-1,-1,-1,null,null,null,null,null,null,18,"ERC3CR-SA7","RCP6-WSA12C",null,null,900,null,null,null,null,null,null,null,null,null,null,null,null,null,null,null,null,null,null,null,null,null,null,null,null,17,4.2288404467119688E-3,8.7686609745677171E-2,4.1771494667973913E-3]
[19,-1,-1,-1,-1,-1,-1,-1,null,null,null,null,null,null,19,"RCP5-SA4C","RCP6-WSA14C",null,null,950,null,null,null,null,null,null,null,null,null,null,null,null,null,null,null,null,null,null,null,null,null,null,null,null,18,4.4775957671067904E-3,9.8306095355015236E-2,4.9470964458758378E-3]
[20,-1,-1,-1,-1,-1,-1,-1,null,null,null,null,null,null,20,"RCP5-SA6C","RCP6-WSA10R",null,null,1000,"リンクリスト総数",null,null,null,null,null,null,null,null,null,null,null,null,null,null,null,null,null,null,null,null,null,null,null,19,4.726351087501612E-3,0.10953240871345832,5.8050563189953816E-3]
[21,-1,-1,-1,-1,-1,-1,-1,null,null,null,null,null,null,21,"RCP5-SA7C","RCP6-WSA12R",null,null,1050,14,null,null,null,null,null,null,null,null,null,null,null,null,null,null,null,null,null,null,null,null,null,null,null,20,4.9751064078964336E-3,0.12136554982100645,6.7555265362173765E-3]
[22,-1,-1,-1,-1,-1,-1,-1,null,null,null,null,null,null,22,"RCP5-RA4C","RCP6-WSA14R",null,null,1100,null,null,null,null,null,null,null,null,null,null,null,null,null,null,null,null,null,null,null,null,null,null,null,null,21,5.2238617282912561E-3,0.13380551867765966,7.8029655605601931E-3]
[23,-1,-1,-1,-1,-1,-1,-1,null,null,null,null,null,null,23,"RCP5-RA6C","RCP6-RA4C",null,null,"- - -",null,null,null,null,null,null,null,null,null,null,null,null,null,null,null,null,null,null,null,null,null,null,null,null,22,5.4726170486860777E-3,0.14685231528341783,8.9517932059661794E-3]
[24,-1,-1,-1,-1,-1,-1,-1,null,null,null,null,null,null,24,"RCP5-RA7C","RCP6-RA6C",null,null,"- - -",null,null,null,null,null,null,null,null,null,null,null,null,null,null,null,null,null,null,null,null,null,null,null,null,23,5.7213723690808993E-3,0.16050593963828105,1.0206390972338886E-2]
[25,-1,-1,-1,-1,-1,-1,-1,null,null,null,null,null,null,25,"RCP4W-RA6C","RCP6-RA7C",null,null,"- - -",null,null,null,null,null,null,null,null,null,null,null,null,null,null,null,null,null,null,null,null,null,null,null,null,24,5.9701276894757209E-3,0.17476639174224931,1.1571102377675948E-2]
[26,-1,-1,-1,-1,-1,-1,-1,null,null,null,null,null,null,26,"RCP4W-RA6C(高推力)","RCP6-RA4R",null,null,"- - -",null,null,null,null,null,null,null,null,null,null,null,null,null,null,null,null,null,null,null,null,null,null,null,null,25,6.2188830098705425E-3,0.1896336715953226,1.3050233287322825E-2]
[27,-1,-1,-1,-1,-1,-1,-1,null,null,null,null,null,null,27,"RCP4W-RA7C","RCP6-RA6R",null,null,"- - -",null,null,null,null,null,null,null,null,null,null,null,null,null,null,null,null,null,null,null,null,null,null,null,null,26,6.467638330265364E-3,0.20510777919750092,1.4648052240372314E-2]
[28,-1,-1,-1,-1,-1,-1,-1,null,null,null,null,null,null,28,"RCP4W-RA7C(高推力)","RCP6-RA7R",null,null,"- - -",null,null,null,null,null,null,null,null,null,null,null,null,null,null,null,null,null,null,null,null,null,null,null,null,27,6.7163936506601856E-3,0.22118871454878425,1.6368790773234623E-2]
[29,-1,-1,-1,-1,-1,-1,-1,null,null,null,null,null,null,29,"RCP4-SA3C","RCP6-RRA4C",null,null,"- - -",null,null,null,null,null,null,null,null,null,null,null,null,null,null,null,null,null,null,null,null,null,null,null,null,28,6.9651489710550081E-3,0.23787647764917269,1.8216643740402508E-2]
[30,-1,-1,-1,-1,-1,-1,-1,null,null,null,null,null,null,30,"RCP4-RA3C","RCP6-RRA6C",null,null,"- - -",null,null,null,null,null,null,null,null,null,null,null,null,null,null,null,null,null,null,null,null,null,null,null,null,29,7.2139042914498297E-3,0.25517106849866611,2.0195769632435787E-2]
[31,-1,-1,-1,-1,-1,-1,-1,null,null,null,null,null,null,31,"RCP5-RA8C","RCP6-RRA7C",null,null,"- - -",null,null,null,null,null,null,null,null,null,null,null,null,null,null,null,null,null,null,null,null,null,null,null,null,30,7.4626596118446513E-3,0.27307248709726456,2.2310290891189351E-2]
[32,-1,-1,-1,-1,-1,-1,-1,null,null,null,null,null,null,32,"RCP5-RA10C","RCP6-RRA4R",null,null,"- - -",null,null,null,null,null,null,null,null,null,null,null,null,null,null,null,null,null,null,null,null,null,null,null,null,31,7.7114149322394729E-3,0.29158073344496804,2.4564294222308547E-2]
[33,-1,-1,-1,-1,-1,-1,-1,null,null,null,null,null,null,33,"RCP5-RA8R","RCP6-RRA6R",null,null,"- - -",null,null,null,null,null,null,null,null,null,null,null,null,null,null,null,null,null,null,null,null,null,null,null,null,32,7.9601702526342945E-3,0.31069580754177656,2.6961830905015645E-2]
[34,-1,-1,-1,-1,-1,-1,-1,null,null,null,null,null,null,34,"RCP5-RA10R","RCP6-RRA7R",null,null,"- - -",null,null,null,null,null,null,null,null,null,null,null,null,null,null,null,null,null,null,null,null,null,null,null,null,33,8.2089255730291161E-3,0.33041770938769011,2.9506917099210848E-2]
[35,-1,-1,-1,-1,-1,-1,-1,null,null,null,null,null,null,35,"RCP4-SA3R","RCP6-WRA10C",null,null,"- - -",null,null,null,null,null,null,null,null,null,null,null,null,null,null,null,null,null,null,null,null,null,null,null,null,34,8.4576808934239377E-3,0.35074643898270869,3.2203534149911152E-2]
[36,-1,-1,-1,-1,-1,-1,-1,null,null,null,null,null,null,36,"RCP4-RA3R","RCP6-WRA12C",null,null,"- - -",null,null,null,null,null,null,null,null,null,null,null,null,null,null,null,null,null,null,null,null,null,null,null,null,35,8.7064362138187593E-3,0.37168199632683224,3.5055628889050075E-2]
[37,-1,-1,-1,-1,-1,-1,-1,null,null,null,null,null,null,37,"RCP4CR-SA3C","RCP6-WRA14C",null,null,"- - -",null,null,null,null,null,null,null,null,null,null,null,null,null,null,null,null,null,null,null,null,null,null,null,null,36,8.9551915342135809E-3,0.39322438142006094,3.8067113934661251E-2]
[38,-1,-1,-1,-1,-1,-1,-1,null,null,null,null,null,null,38,"RCP4CR-SA5C","RCP6-WRA10R",null,null,"- - -",null,null,null,null,null,null,null,null,null,null,null,null,null,null,null,null,null,null,null,null,null,null,null,null,37,9.2039468546084025E-3,0.41537359426239456,4.1241867987468414E-2]
[39,-1,-1,-1,-1,-1,-1,-1,null,null,null,null,null,null,39,"RCP4CR-SA6C","RCP6-WRA12R",null,null,"- - -",null,null,null,null,null,null,null,null,null,null,null,null,null,null,null,null,null,null,null,null,null,null,null,null,38,9.452702175003224E-3,0.43812963485383327,4.4583736124904384E-2]
[40,-1,-1,-1,-1,-1,-1,-1,null,null,null,null,null,null,40,"RCP4CR-SA7C","RCP6-WRA14R",null,null,"- - -",null,null,null,null,null,null,null,null,null,null,null,null,null,null,null,null,null,null,null,null,null,null,null,null,39,9.7014574953980456E-3,0.46149250319437701,4.809653009258124E-2]
[41,-1,-1,-1,-1,-1,-1,-1,null,null,null,null,null,null,41,"RCP5CR-SA4C","RCP6-TA4C(SB)",null,null,"- - -",null,null,null,null,null,null,null,null,null,null,null,null,null,null,null,null,null,null,null,null,null,null,null,null,40,9.9502128157928672E-3,0.48546219928402579,5.1784028593233888E-2]
[42,-1,-1,-1,-1,-1,-1,-1,null,null,null,null,null,null,42,"RCP5CR-SA6C","RCP6-TA6C(SB)",null,null,"- - -",null,null,null,null,null,null,null,null,null,null,null,null,null,null,null,null,null,null,null,null,null,null,null,null,41,1.0198968136187691E-2,0.51003870712980492,5.5649977503839682E-2]
[43,-1,-1,-1,-1,-1,-1,-1,null,null,null,null,null,null,43,"RCP5CR-SA7C","RCP6-TA7C(SB)",null,null,"- - -",null,null,null,null,null,null,null,null,null,null,null,null,null,null,null,null,null,null,null,null,null,null,null,null,42,1.0447723456582512E-2,0.53491423916928704,5.9696756101234733E-2]
[44,-1,-1,-1,-1,-1,-1,-1,null,null,null,null,null,null,44,"RCP5-BA4","RCP6-TA4R(SB)",null,null,"- - -",null,null,null,null,null,null,null,null,null,null,null,null,null,null,null,null,null,null,null,null,null,null,null,null,43,1.0696478776977334E-2,0.55978977120876916,6.3924092902643601E-2]
[45,-1,-1,-1,-1,-1,-1,-1,null,null,null,null,null,null,45,"RCP5-BA6","RCP6-TA6R(SB)",null,null,"- - -",null,null,null,null,null,null,null,null,null,null,null,null,null,null,null,null,null,null,null,null,null,null,null,null,44,1.0945234097372155E-2,0.58466530324825139,6.8330422703258079E-2]
[46,-1,-1,-1,-1,-1,-1,-1,null,null,null,null,null,null,46,"RCP5-BA7","RCP6-TA7R(SB)",null,null,"- - -",null,null,null,null,null,null,null,null,null,null,null,null,null,null,null,null,null,null,null,null,null,null,null,null,45,1.1193989417766977E-2,0.60954083528773351,7.2914193866560048E-2]
[47,-1,-1,-1,-1,-1,-1,-1,null,null,null,null,null,null,47,"RCP5-SA4R","RCP6-TA4C(DB)",null,null,"- - -",null,null,null,null,null,null,null,null,null,null,null,null,null,null,null,null,null,null,null,null,null,null,null,null,46,1.1442744738161799E-2,0.63441636732721562,7.7673868206702065E-2]
[48,-1,-1,-1,-1,-1,-1,-1,null,null,null,null,null,null,48,"RCP5-SA6R","RCP6-TA6C(DB)",null,null,"- - -",null,null,null,null,null,null,null,null,null,null,null,null,null,null,null,null,null,null,null,null,null,null,null,null,47,1.169150005855662E-2,0.65929189936669785,8.2607920871907534E-2]
[49,-1,-1,-1,-1,-1,-1,-1,null,null,null,null,null,null,49,"RCP5-SA7R","RCP6-TA7C(DB)",null,null,"- - -",null,null,null,null,null,null,null,null,null,null,null,null,null,null,null,null,null,null,null,null,null,null,null,null,48,1.1940255378951442E-2,0.68416743140617997,8.7714840228881624E-2]
[50,-1,-1,-1,-1,-1,-1,-1,null,null,null,null,null,null,50,"RCP5-RA4R","RCP6-TA4R(DB)",null,null,"- - -",null,null,null,null,null,null,null,null,null,null,null,null,null,null,null,null,null,null,null,null,null,null,null,null,49,1.2189010699346263E-2,0.70904296344566209,9.2993127748224283E-2]
[51,-1,-1,-1,-1,-1,-1,-1,null,null,null,null,null,null,51,"RCP5-RA6R","RCP6-TA6R(DB)",null,null,null,null,null,null,null,null,null,null,null,null,null,null,null,null,null,null,null,null,null,null,null,null,null,null,null,50,1.2437766019741085E-2,0.73391849548514432,9.8441297890836485E-2]
[52,-1,-1,-1,-1,-1,-1,-1,null,null,null,null,null,null,52,"RCP5-RA7R","RCP6-TA7R(DB)",null,null,null,null,null,null,null,null,null,null,null,null,null,null,null,null,null,null,null,null,null,null,null,null,null,null,null,51,1.2686521340135907E-2,0.75879402752462644,0.10405787799531119]
[53,-1,-1,-1,-1,-1,-1,-1,null,null,null,null,null,null,53,"RCP5W-RA6C","RCP6CR-SA4C",null,null,null,null,null,null,null,null,null,null,null,null,null,null,null,null,null,null,null,null,null,null,null,null,null,null,null,52,1.2935276660530728E-2,0.78366955956410855,0.10984140816630053]
[54,-1,-1,-1,-1,-1,-1,-1,null,null,null,null,null,null,54,"RCP5W-RA6C(高推力)","RCP6CR-SA6C",null,null,null,null,null,null,null,null,null,null,null,null,null,null,null,null,null,null,null,null,null,null,null,null,null,null,null,53,1.318403198092555E-2,0.80854509160359078,0.11579044116385069]
[55,-1,-1,-1,-1,-1,-1,-1,null,null,null,null,null,null,55,"RCP5W-RA7C","RCP6CR-SA7C",null,null,null,null,null,null,null,null,null,null,null,null,null,null,null,null,null,null,null,null,null,null,null,null,null,null,null,54,1.3432787301320371E-2,0.83342062364307301,0.12190354229369606]
[56,-1,-1,-1,-1,-1,-1,-1,null,null,null,null,null,null,56,"RCP5W-RA7C(高推力)","RCP6CR-SA8C",null,null,null,null,null,null,null,null,null,null,null,null,null,null,null,null,null,null,null,null,null,null,null,null,null,null,null,55,1.3681542621715193E-2,0.85829615568255513,0.12817928929850445]
[57,-1,-1,-1,-1,-1,-1,-1,null,null,null,null,null,null,57,"RCP4-RA6C(高推力)","RCP6CR-WSA10C",null,null,null,null,null,null,null,null,null,null,null,null,null,null,null,null,null,null,null,null,null,null,null,null,null,null,null,56,1.3930297942110016E-2,0.88317168772203747,0.13461627225006506]
[58,-1,-1,-1,-1,-1,-1,-1,null,null,null,null,null,null,58,"RCP5W-RA8C","RCP6CR-WSA12C",null,null,null,null,null,null,null,null,null,null,null,null,null,null,null,null,null,null,null,null,null,null,null,null,null,null,null,57,1.4179053262504838E-2,0.90804721976151959,0.14121309344241109]
[59,-1,-1,-1,-1,-1,-1,-1,null,null,null,null,null,null,59,"RCP5W-RA10C","RCP6CR-WSA14C",null,null,null,null,null,null,null,null,null,null,null,null,null,null,null,null,null,null,null,null,null,null,null,null,null,null,null,58,1.4427808582899659E-2,0.9329227518010017,0.14796836728586862]
[60,-1,-1,-1,-1,-1,-1,-1,null,null,null,null,null,null,60,"RCP6-SA8C","RCP6CR-WSA16C",null,null,null,null,null,null,null,null,null,null,null,null,null,null,null,null,null,null,null,null,null,null,null,null,null,null,null,59,1.4676563903294481E-2,0.95779828384048393,0.15488072020202431]
[61,-1,-1,-1,-1,-1,-1,-1,null,null,null,null,null,null,61,"RCP6-SA8R","RCP6-HSA6C",null,null,null,null,null,null,null,null,null,null,null,null,null,null,null,null,null,null,null,null,null,null,null,null,null,null,null,60,1.4925319223689303E-2,0.98267381587996605,0.16194879051960318]
[62,-1,-1,-1,-1,-1,-1,-1,null,null,null,null,null,null,62,"RCP6-WSA16C","RCP6-HSA7C",null,null,null,null,null,null,null,null,null,null,null,null,null,null,null,null,null,null,null,null,null,null,null,null,null,null,null,61,1.5174074544084124E-2,1.0075493479194482,0.16917122837124943]
[63,-1,-1,-1,-1,-1,-1,-1,null,null,null,null,null,null,63,"RCP6-WSA16R","RCP6-HSA6C-W",null,null,null,null,null,null,null,null,null,null,null,null,null,null,null,null,null,null,null,null,null,null,null,null,null,null,null,62,1.5422829864478946E-2,1.0324248799589304,0.17654669559120156]
[64,-1,-1,-1,-1,-1,-1,-1,null,null,null,null,null,null,64,"RCP6-RA8C","RCP6-HSA7C-W",null,null,null,null,null,null,null,null,null,null,null,null,null,null,null,null,null,null,null,null,null,null,null,null,null,null,null,63,1.5671585184873767E-2,1.0573004119984124,0.18407386561385508]
[{"$f":"A94+1","v":65},-1,-1,-1,-1,-1,-1,-1,null,null,null,null,null,null,65,"RCP6-RA8R","RCP6-HSA6R",null,null,null,null,null,null,null,null,null,null,null,null,null,null,null,null,null,null,null,null,null,null,null,null,null,null,null,64,{"$f":"$AP$18/$N$7*AS95","v":1.5920340505268589E-2},1.0821759440378949,0.19175142337320392]
[66,-1,-1,-1,-1,-1,-1,-1,null,null,null,null,null,null,66,"RCP6-RRA8C","RCP6-HSA6R-W",null,null,null,null,null,null,null,null,null,null,null,null,null,null,null,null,null,null,null,null,null,null,null,null,null,null,null,65,1.6169095825663411E-2,{"$f":"IF(($N$4*AT96^2/2)<=$AP$13,($N$4*AT96^2/2), IF(($AP$13+$N$6*(AT96-$AP$12))<=$AP$17, ($AP$13+$N$6*(AT96-$AP$12)), IF(AU95<$D$14, ($AP$17+($N$6-$N$5*(AT96-$AP$16)/2)*(AT96-$AP$16)), $D$14)))","v":1.1070514760773769},0.19957806520315402]
[67,-1,-1,-1,-1,-1,-1,-1,null,null,null,null,null,null,{"$f":"O96+1","v":67},"RCP6-RRA8R","RCP6-HSA6XC-3",null,null,null,null,null,null,null,null,null,null,null,null,null,null,null,null,null,null,null,null,null,null,null,null,null,null,null,{"$f":"AS96+1","v":66},1.6417851146058232E-2,1.1319270081168589,{"$f":"( $AP$6*AU97 + $AP$7*AU96 + $AP$9*AV96 )/$AP$8","v":0.20755249873870099}]
[68,-1,-1,-1,-1,-1,-1,-1,null,null,null,null,null,null,68,"RCP6-WRA16C","RCP6-HSA6XC-6",null,null,null,null,null,null,null,null,null,null,null,null,null,null,null,null,null,null,null,null,null,null,null,null,null,null,null,67,1.6666606466453054E-2,1.1568025401563413,0.21567344281796416]
[69,-1,-1,-1,-1,-1,-1,-1,null,null,null,null,null,null,69,"RCP6-WRA16R","RCP6-HSA6XC-12",null,null,null,null,null,null,null,null,null,null,null,null,null,null,null,null,null,null,null,null,null,null,null,null,null,null,null,68,1.6915361786847875E-2,1.1816780721958233,0.22393962738507026]
[70,-1,-1,-1,-1,-1,-1,-1,null,null,null,null,null,null,70,"RCP6-SA4C","RCP6-HSA6XC-20",null,null,null,null,null,null,null,null,null,null,null,null,null,null,null,null,null,null,null,null,null,null,null,null,null,null,null,69,1.7164117107242697E-2,1.2065536042353056,0.23234979339387865]
[71,-1,-1,-1,-1,-1,-1,-1,null,null,null,null,null,null,71,"RCP6-SA6C","RCP6-HSA6XR-3",null,null,null,null,null,null,null,null,null,null,null,null,null,null,null,null,null,null,null,null,null,null,null,null,null,null,null,70,1.7412872427637519E-2,1.2314291362747878,0.24090269271254139]
[72,-1,-1,-1,-1,-1,-1,-1,null,null,null,null,null,null,72,"RCP6-SA7C","RCP6-HSA6XR-6",null,null,null,null,null,null,null,null,null,null,null,null,null,null,null,null,null,null,null,null,null,null,null,null,null,null,null,71,1.766162774803234E-2,1.2563046683142698,0.24959708802889036]
[73,-1,-1,-1,-1,-1,-1,-1,null,null,null,null,null,null,73,"RCP6-SA4R","RCP6-HSA6XR-12",null,null,null,null,null,null,null,null,null,null,null,null,null,null,null,null,null,null,null,null,null,null,null,null,null,null,null,72,1.7910383068427162E-2,1.281180200353752,0.25843175275664476]
[74,-1,-1,-1,-1,-1,-1,-1,null,null,null,null,null,null,74,"RCP6-SA6R","RCP6-HSA6XR-20",null,null,null,null,null,null,null,null,null,null,null,null,null,null,null,null,null,null,null,null,null,null,null,null,null,null,null,73,1.8159138388821983E-2,1.3060557323932342,0.26740547094243172]
[75,-1,-1,-1,-1,-1,-1,-1,null,null,null,null,null,null,75,"RCP6-SA7R","RCP6-HSA7R",null,null,null,null,null,null,null,null,null,null,null,null,null,null,null,null,null,null,null,null,null,null,null,null,null,null,null,74,1.8407893709216805E-2,1.3309312644327163,0.2765170371736127]
[76,-1,-1,-1,-1,-1,-1,-1,null,null,null,null,null,null,76,"RCP6-WSA10C","RCP6-HSA7R-W",null,null,null,null,null,null,null,null,null,null,null,null,null,null,null,null,null,null,null,null,null,null,null,null,null,null,null,75,1.8656649029611626E-2,1.3558067964721985,0.28576525648690904]
[77,-1,-1,-1,-1,-1,-1,-1,null,null,null,null,null,null,77,"RCP6-WSA12C","RCP6-HSA7XC-4",null,null,null,null,null,null,null,null,null,null,null,null,null,null,null,null,null,null,null,null,null,null,null,null,null,null,null,76,1.8905404350006448E-2,1.3806823285116807,0.29514894427781962]
[78,-1,-1,-1,-1,-1,-1,-1,null,null,null,null,null,null,78,"RCP6-WSA14C","RCP6-HSA7XC-8",null,null,null,null,null,null,null,null,null,null,null,null,null,null,null,null,null,null,null,null,null,null,null,null,null,null,null,77,1.915415967040127E-2,1.4055578605511627,0.30466692621082386]
[79,-1,-1,-1,-1,-1,-1,-1,null,null,null,null,null,null,79,"RCP6-WSA10R","RCP6-HSA7XC-16",null,null,null,null,null,null,null,null,null,null,null,null,null,null,null,null,null,null,null,null,null,null,null,null,null,null,null,78,1.9402914990796091E-2,1.4304333925906449,0.31431803813036263]
[80,-1,-1,-1,-1,-1,-1,-1,null,null,null,null,null,null,80,"RCP6-WSA12R","RCP6-HSA7XC-24",null,null,null,null,null,null,null,null,null,null,null,null,null,null,null,null,null,null,null,null,null,null,null,null,null,null,null,79,1.9651670311190913E-2,1.4553089246301272,0.32410112597259177]
[81,-1,-1,-1,-1,-1,-1,-1,null,null,null,null,null,null,81,"RCP6-WSA14R","RCP6-HSA7XR-4",null,null,null,null,null,null,null,null,null,null,null,null,null,null,null,null,null,null,null,null,null,null,null,null,null,null,null,80,1.9900425631585734E-2,1.4801844566696092,0.33401504567789964]
[82,-1,-1,-1,-1,-1,-1,-1,null,null,null,null,null,null,82,"RCP6-RA4C","RCP6-HSA7XR-8",null,null,null,null,null,null,null,null,null,null,null,null,null,null,null,null,null,null,null,null,null,null,null,null,null,null,null,81,2.014918095198056E-2,1.5050599887090916,0.34405866310418348]
[83,-1,-1,-1,-1,-1,-1,-1,null,null,null,null,null,null,83,"RCP6-RA6C","RCP6-HSA7XR-16",null,null,null,null,null,null,null,null,null,null,null,null,null,null,null,null,null,null,null,null,null,null,null,null,null,null,null,82,2.0397936272375381E-2,1.5299355207485739,0.35423085394087761]
[84,-1,-1,-1,-1,-1,-1,-1,null,null,null,null,null,null,84,"RCP6-RA7C","RCP6-HSA7XR-24",null,null,null,null,null,null,null,null,null,null,null,null,null,null,null,null,null,null,null,null,null,null,null,null,null,null,null,83,2.0646691592770203E-2,1.5548110527880561,0.36453050362372691]
[85,-1,-1,-1,-1,-1,-1,-1,null,null,null,null,null,null,85,"RCP6-RA4R","RCP6CR-HSA6C",null,null,null,null,null,null,null,null,null,null,null,null,null,null,null,null,null,null,null,null,null,null,null,null,null,null,null,84,2.0895446913165024E-2,1.5796865848275383,0.37495650725029867]
[86,-1,-1,-1,-1,-1,-1,-1,null,null,null,null,null,null,86,"RCP6-RA6R","RCP6CR-HSA6C-W",null,null,null,null,null,null,null,null,null,null,null,null,null,null,null,null,null,null,null,null,null,null,null,null,null,null,null,85,2.1144202233559846E-2,1.6045621168670203,0.38550776949622734]
[87,-1,-1,-1,-1,-1,-1,-1,null,null,null,null,null,null,87,"RCP6-RA7R","RCP6CR-HSA6XC-3",null,null,null,null,null,null,null,null,null,null,null,null,null,null,null,null,null,null,null,null,null,null,null,null,null,null,null,86,2.1392957553954667E-2,1.6294376489065026,0.39618320453218514]
[88,-1,-1,-1,-1,-1,-1,-1,null,null,null,null,null,null,88,"RCP6-RRA4C","RCP6CR-HSA6XC-6",null,null,null,null,null,null,null,null,null,null,null,null,null,null,null,null,null,null,null,null,null,null,null,null,null,null,null,87,2.1641712874349489E-2,1.6543131809459848,0.4069817359415725]
[89,-1,-1,-1,-1,-1,-1,-1,null,null,null,null,null,null,89,"RCP6-RRA6C","RCP6CR-HSA6XC-12",null,null,null,null,null,null,null,null,null,null,null,null,null,null,null,null,null,null,null,null,null,null,null,null,null,null,null,88,2.1890468194744311E-2,1.6791887129854668,0.41790229663892176]
[90,-1,-1,-1,-1,-1,-1,-1,null,null,null,null,null,null,90,"RCP6-RRA7C","RCP6CR-HSA6XC-20",null,null,null,null,null,null,null,null,null,null,null,null,null,null,null,null,null,null,null,null,null,null,null,null,null,null,null,89,2.2139223515139132E-2,1.704064245024949,0.4289438287890085]
[91,-1,-1,-1,-1,-1,-1,-1,null,null,null,null,null,null,91,"RCP6-RRA4R","RCP6CR-HSA7C",null,null,null,null,null,null,null,null,null,null,null,null,null,null,null,null,null,null,null,null,null,null,null,null,null,null,null,90,2.2387978835533954E-2,1.7289397770644312,0.44010528372666391]
[92,-1,-1,-1,-1,-1,-1,-1,null,null,null,null,null,null,92,"RCP6-RRA6R","RCP6CR-HSA7C-W",null,null,null,null,null,null,null,null,null,null,null,null,null,null,null,null,null,null,null,null,null,null,null,null,null,null,null,91,2.2636734155928775E-2,1.7538153091039133,0.45138562187728248]
[93,-1,-1,-1,-1,-1,-1,-1,null,null,null,null,null,null,93,"RCP6-RRA7R","RCP6CR-HSA7XC-4",null,null,null,null,null,null,null,null,null,null,null,null,null,null,null,null,null,null,null,null,null,null,null,null,null,null,null,92,2.2885489476323597E-2,1.7786908411433955,0.46278381267801855]
[94,-1,-1,-1,-1,-1,-1,-1,null,null,null,null,null,null,94,"RCP6-WRA10C","RCP6CR-HSA7XC-8",null,null,null,null,null,null,null,null,null,null,null,null,null,null,null,null,null,null,null,null,null,null,null,null,null,null,null,93,2.3134244796718419E-2,1.8035663731828777,0.47429883449966598]
[95,-1,-1,-1,-1,-1,-1,-1,null,null,null,null,null,null,95,"RCP6-WRA12C","RCP6CR-HSA7XC-16",null,null,null,null,null,null,null,null,null,null,null,null,null,null,null,null,null,null,null,null,null,null,null,null,null,null,null,94,2.338300011711324E-2,1.8284419052223599,0.4859296745692151]
[96,-1,-1,-1,-1,-1,-1,-1,null,null,null,null,null,null,96,"RCP6-WRA14C","RCP6CR-HSA7XC-24",null,null,null,null,null,null,null,null,null,null,null,null,null,null,null,null,null,null,null,null,null,null,null,null,null,null,null,95,2.3631755437508062E-2,1.8533174372618419,0.4976753288930813]
[97,-1,-1,-1,-1,-1,-1,-1,null,null,null,null,null,null,97,"RCP6-WRA10R","- - -",null,null,null,null,null,null,null,null,null,null,null,null,null,null,null,null,null,null,null,null,null,null,null,null,null,null,null,96,2.3880510757902883E-2,1.8781929693013242,0.50953480218099856]
[98,-1,-1,-1,-1,-1,-1,-1,null,null,null,null,null,null,98,"RCP6-WRA12R","- - -",null,null,null,null,null,null,null,null,null,null,null,null,null,null,null,null,null,null,null,null,null,null,null,null,null,null,null,97,2.4129266078297705E-2,1.9030685013408064,0.52150710777057308]
[99,-1,-1,-1,-1,-1,-1,-1,null,null,null,null,null,null,99,"RCP6-WRA14R","- - -",null,null,null,null,null,null,null,null,null,null,null,null,null,null,null,null,null,null,null,null,null,null,null,null,null,null,null,98,2.4378021398692527E-2,1.9279440333802884,0.53359126755249064]
[100,-1,-1,-1,-1,-1,-1,-1,null,null,null,null,null,null,100,"RCP6-TA4C(SB)","- - -",null,null,null,null,null,null,null,null,null,null,null,null,null,null,null,null,null,null,null,null,null,null,null,null,null,null,null,99,2.4626776719087348E-2,1.9528195654197706,0.54578631189637306]
[101,-1,-1,-1,-1,-1,-1,-1,null,null,null,null,null,null,101,"RCP6-TA6C(SB)","- - -",null,null,null,null,null,null,null,null,null,null,null,null,null,null,null,null,null,null,null,null,null,null,null,null,null,null,null,100,2.487553203948217E-2,1.9776950974592529,0.55809127957727622]
[102,-1,-1,-1,-1,-1,-1,-1,null,null,null,null,null,null,102,"RCP6-TA7C(SB)","- - -",null,null,null,null,null,null,null,null,null,null,null,null,null,null,null,null,null,null,null,null,null,null,null,null,null,null,null,{"$f":"AS131+1","v":101},2.5124287359876991E-2,2.0025706294987349,0.57050521770282625]
[103,-1,-1,-1,-1,-1,-1,-1,null,null,null,null,null,null,103,"RCP6-TA4R(SB)","- - -",null,null,null,null,null,null,null,null,null,null,null,null,null,null,null,null,null,null,null,null,null,null,null,null,null,null,null,102,2.5373042680271813E-2,2.0274461615382169,0.5830271816409871]
[104,-1,-1,-1,-1,-1,-1,-1,null,null,null,null,null,null,104,"RCP6-TA6R(SB)","- - -",null,null,null,null,null,null,null,null,null,null,null,null,null,null,null,null,null,null,null,null,null,null,null,null,null,null,null,103,2.5621798000666635E-2,2.0523216935776993,0.59565623494845354]
[105,-1,-1,-1,-1,-1,-1,-1,null,null,null,null,null,null,105,"RCP6-TA7R(SB)","- - -",null,null,null,null,null,null,null,null,null,null,null,null,null,null,null,null,null,null,null,null,null,null,null,null,null,null,null,104,2.5870553321061456E-2,2.0771972256171813,0.60839144929966615]
[106,-1,-1,-1,-1,-1,-1,-1,null,null,null,null,null,null,106,"RCP6-TA4C(DB)","- - -",null,null,null,null,null,null,null,null,null,null,null,null,null,null,null,null,null,null,null,null,null,null,null,null,null,null,null,105,2.6119308641456278E-2,2.1020727576566638,0.62123190441644105]
[107,-1,-1,-1,-1,-1,-1,-1,null,null,null,null,null,null,107,"RCP6-TA6C(DB)","- - -",null,null,null,null,null,null,null,null,null,null,null,null,null,null,null,null,null,null,null,null,null,null,null,null,null,null,null,106,2.6368063961851099E-2,2.1269482896961458,0.63417668799820903]
[108,-1,-1,-1,-1,-1,-1,-1,null,null,null,null,null,null,108,"RCP6-TA7C(DB)","- - -",null,null,null,null,null,null,null,null,null,null,null,null,null,null,null,null,null,null,null,null,null,null,null,null,null,null,null,107,2.6616819282245921E-2,2.1518238217356283,0.64722489565286057]
[109,-1,-1,-1,-1,-1,-1,-1,null,null,null,null,null,null,109,"RCP6-TA4R(DB)","- - -",null,null,null,null,null,null,null,null,null,null,null,null,null,null,null,null,null,null,null,null,null,null,null,null,null,null,null,108,2.6865574602640743E-2,2.1766993537751098,0.66037563082818929]
[110,-1,-1,-1,-1,-1,-1,-1,null,null,null,null,null,null,110,"RCP6-TA6R(DB)","- - -",null,null,null,null,null,null,null,null,null,null,null,null,null,null,null,null,null,null,null,null,null,null,null,null,null,null,null,109,2.7114329923035564E-2,2.2015748858145923,0.67362800474393048]
[111,-1,-1,-1,-1,-1,-1,-1,null,null,null,null,null,null,111,"RCP6-TA7R(DB)","- - -",null,null,null,null,null,null,null,null,null,null,null,null,null,null,null,null,null,null,null,null,null,null,null,null,null,null,null,110,2.7363085243430386E-2,2.2264504178540743,0.68698113632438873]
[112,-1,-1,-1,-1,-1,-1,-1,null,null,null,null,null,null,112,"RCP6CR-SA4C","- - -",null,null,null,null,null,null,null,null,null,null,null,null,null,null,null,null,null,null,null,null,null,null,null,null,null,null,null,111,2.7611840563825207E-2,2.2513259498935567,0.70043415213164884]
[113,-1,-1,-1,-1,-1,-1,-1,null,null,null,null,null,null,113,"RCP6CR-SA6C","- - -",null,null,null,null,null,null,null,null,null,null,null,null,null,null,null,null,null,null,null,null,null,null,null,null,null,null,null,112,2.7860595884220032E-2,2.2762014819330392,0.71398618629936639]
[114,-1,-1,-1,-1,-1,-1,-1,null,null,null,null,null,null,114,"RCP6CR-SA7C","- - -",null,null,null,null,null,null,null,null,null,null,null,null,null,null,null,null,null,null,null,null,null,null,null,null,null,null,null,113,2.8109351204614854E-2,2.3010770139725212,0.7276363804671323]
[115,-1,-1,-1,-1,-1,-1,-1,null,null,null,null,null,null,115,"RCP6CR-SA8C","- - -",null,null,null,null,null,null,null,null,null,null,null,null,null,null,null,null,null,null,null,null,null,null,null,null,null,null,null,114,2.8358106525009676E-2,2.3259525460120036,0.74138388371540564]
[116,-1,-1,-1,-1,-1,-1,-1,null,null,null,null,null,null,116,"RCP6CR-WSA10C","- - -",null,null,null,null,null,null,null,null,null,null,null,null,null,null,null,null,null,null,null,null,null,null,null,null,null,null,null,115,2.8606861845404497E-2,2.3508280780514852,0.75522785250101132]
[117,-1,-1,-1,-1,-1,-1,-1,null,null,null,null,null,null,117,"RCP6CR-WSA12C","- - -",null,null,null,null,null,null,null,null,null,null,null,null,null,null,null,null,null,null,null,null,null,null,null,null,null,null,null,116,2.8855617165799319E-2,2.3757036100909676,0.76916745059319669]
[118,-1,-1,-1,-1,-1,-1,-1,null,null,null,null,null,null,118,"RCP6CR-WSA14C","- - -",null,null,null,null,null,null,null,null,null,null,null,null,null,null,null,null,null,null,null,null,null,null,null,null,null,null,null,117,2.910437248619414E-2,2.4005791421304497,0.78320184901024181]
[119,-1,-1,-1,-1,-1,-1,-1,null,null,null,null,null,null,119,"RCP6CR-WSA16C","- - -",null,null,null,null,null,null,null,null,null,null,null,null,null,null,null,null,null,null,null,null,null,null,null,null,null,null,null,118,2.9353127806588962E-2,2.4254546741699321,0.79733022595662073]
[120,-1,-1,-1,-1,-1,-1,-1,null,null,null,null,null,null,120,"RCP6-HSA6C","- - -",null,null,null,null,null,null,null,null,null,null,null,null,null,null,null,null,null,null,null,null,null,null,null,null,null,null,null,119,2.9601883126983784E-2,2.4503302062094141,0.81155176676070551]
[121,-1,-1,-1,-1,-1,-1,-1,null,null,null,null,null,null,121,"RCP6-HSA7C","- - -",null,null,null,null,null,null,null,null,null,null,null,null,null,null,null,null,null,null,null,null,null,null,null,null,null,null,null,120,2.9850638447378605E-2,2.4752057382488966,0.82586566381301185]
[122,-1,-1,-1,-1,-1,-1,-1,null,null,null,null,null,null,122,"RCP6-HSA6C-W","- - -",null,null,null,null,null,null,null,null,null,null,null,null,null,null,null,null,null,null,null,null,null,null,null,null,null,null,null,121,3.0099393767773427E-2,2.5000812702883781,0.84027111650497932]
[123,-1,-1,-1,-1,-1,-1,-1,null,null,null,null,null,null,123,"RCP6-HSA7C-W","- - -",null,null,null,null,null,null,null,null,null,null,null,null,null,null,null,null,null,null,null,null,null,null,null,null,null,null,null,122,3.0348149088168248E-2,2.5249568023278606,0.85476733116828241]
[124,-1,-1,-1,-1,-1,-1,-1,null,null,null,null,null,null,124,"RCP6-HSA6R","- - -",null,null,null,null,null,null,null,null,null,null,null,null,null,null,null,null,null,null,null,null,null,null,null,null,null,null,null,123,3.059690440856307E-2,2.549832334367343,0.86935352101466812]
[125,-1,-1,-1,-1,-1,-1,-1,null,null,null,null,null,null,125,"RCP6-HSA6R-W","- - -",null,null,null,null,null,null,null,null,null,null,null,null,null,null,null,null,null,null,null,null,null,null,null,null,null,null,null,124,3.0845659728957892E-2,2.5747078664068255,0.88402890607631401]
[126,-1,-1,-1,-1,-1,-1,-1,null,null,null,null,null,null,126,"RCP6-HSA6XC-3","- - -",null,null,null,null,null,null,null,null,null,null,null,null,null,null,null,null,null,null,null,null,null,null,null,null,null,null,null,125,3.1094415049352713E-2,2.599583398446307,0.8987927131467045]
[127,-1,-1,-1,-1,-1,-1,-1,null,null,null,null,null,null,127,"RCP6-HSA6XC-6","- - -",null,null,null,null,null,null,null,null,null,null,null,null,null,null,null,null,null,null,null,null,null,null,null,null,null,null,null,126,3.1343170369747535E-2,2.6244589304857895,0.91364417572201895]
[128,-1,-1,-1,-1,-1,-1,-1,null,null,null,null,null,null,128,"RCP6-HSA6XC-12","- - -",null,null,null,null,null,null,null,null,null,null,null,null,null,null,null,null,null,null,null,null,null,null,null,null,null,null,null,127,3.1591925690142353E-2,2.6493344625252711,0.9285825339430277]
[{"$f":"A158+1","v":129},-1,-1,-1,-1,-1,-1,-1,null,null,null,null,null,null,129,"RCP6-HSA6XC-20","- - -",null,null,null,null,null,null,null,null,null,null,null,null,null,null,null,null,null,null,null,null,null,null,null,null,null,null,null,128,{"$f":"$AP$18/$N$7*AS159","v":3.1840681010537178E-2},2.6742099945647535,0.94360703453749262]
[130,-1,-1,-1,-1,-1,-1,-1,null,null,null,null,null,null,130,"RCP6-HSA6XR-3","- - -",null,null,null,null,null,null,null,null,null,null,null,null,null,null,null,null,null,null,null,null,null,null,null,null,null,null,null,129,3.2089436330932003E-2,{"$f":"IF(($N$4*AT160^2/2)<=$AP$13,($N$4*AT160^2/2), IF(($AP$13+$N$6*(AT160-$AP$12))<=$AP$17, ($AP$13+$N$6*(AT160-$AP$12)), IF(AU159<$D$14, ($AP$17+($N$6-$N$5*(AT160-$AP$16)/2)*(AT160-$AP$16)), $D$14)))","v":2.699085526604236},0.95871693076306641]
[131,-1,-1,-1,-1,-1,-1,-1,null,null,null,null,null,null,131,"RCP6-HSA6XR-6","- - -",null,null,null,null,null,null,null,null,null,null,null,null,null,null,null,null,null,null,null,null,null,null,null,null,null,null,null,130,3.2338191651326821E-2,2.7239610586437184,{"$f":"( $AP$6*AU161 + $AP$7*AU160 + $AP$9*AV160 )/$AP$8","v":0.97391148235068647}]
[132,-1,-1,-1,-1,-1,-1,-1,null,null,null,null,null,null,132,"RCP6-HSA6XR-12","- - -",null,null,null,null,null,null,null,null,null,null,null,null,null,null,null,null,null,null,null,null,null,null,null,null,null,null,null,131,3.2586946971721646E-2,2.7488365906832009,0.98918995544846045]
[133,-1,-1,-1,-1,-1,-1,-1,null,null,null,null,null,null,133,"RCP6-HSA6XR-20","- - -",null,null,null,null,null,null,null,null,null,null,null,null,null,null,null,null,null,null,null,null,null,null,null,null,null,null,null,132,3.2835702292116464E-2,2.7737121227226824,1.0045516225660371]
[134,-1,-1,-1,-1,-1,-1,-1,null,null,null,null,null,null,134,"RCP6-HSA7R","- - -",null,null,null,null,null,null,null,null,null,null,null,null,null,null,null,null,null,null,null,null,null,null,null,null,null,null,null,133,3.3084457612511289E-2,2.7985876547621649,1.0199957625194611]
[135,-1,-1,-1,-1,-1,-1,-1,null,null,null,null,null,null,135,"RCP6-HSA7R-W","- - -",null,null,null,null,null,null,null,null,null,null,null,null,null,null,null,null,null,null,null,null,null,null,null,null,null,null,null,134,3.3333212932906107E-2,2.8234631868016464,1.0355216603765032]
[136,-1,-1,-1,-1,-1,-1,-1,null,null,null,null,null,null,136,"RCP6-HSA7XC-4","- - -",null,null,null,null,null,null,null,null,null,null,null,null,null,null,null,null,null,null,null,null,null,null,null,null,null,null,null,135,3.3581968253300933E-2,2.8483387188411289,1.0511286074024677]
[137,-1,-1,-1,-1,-1,-1,-1,null,null,null,null,null,null,137,"RCP6-HSA7XC-8","- - -",null,null,null,null,null,null,null,null,null,null,null,null,null,null,null,null,null,null,null,null,null,null,null,null,null,null,null,136,3.3830723573695751E-2,2.8732142508806113,1.0668159010064664]
[138,-1,-1,-1,-1,-1,-1,-1,null,null,null,null,null,null,138,"RCP6-HSA7XC-16","- - -",null,null,null,null,null,null,null,null,null,null,null,null,null,null,null,null,null,null,null,null,null,null,null,null,null,null,null,137,3.4079478894090576E-2,2.8980897829200938,1.0825828446881605]
[139,-1,-1,-1,-1,-1,-1,-1,null,null,null,null,null,null,139,"RCP6-HSA7XC-24","- - -",null,null,null,null,null,null,null,null,null,null,null,null,null,null,null,null,null,null,null,null,null,null,null,null,null,null,null,138,3.4328234214485394E-2,2.9229653149595753,1.0984287479849635]
[140,-1,-1,-1,-1,-1,-1,-1,null,null,null,null,null,null,140,"RCP6-HSA7XR-4","- - -",null,null,null,null,null,null,null,null,null,null,null,null,null,null,null,null,null,null,null,null,null,null,null,null,null,null,null,139,3.4576989534880219E-2,2.9478408469990578,1.1143529264197012]
[141,-1,-1,-1,-1,-1,-1,-1,null,null,null,null,null,null,141,"RCP6-HSA7XR-8","- - -",null,null,null,null,null,null,null,null,null,null,null,null,null,null,null,null,null,null,null,null,null,null,null,null,null,null,null,140,3.4825744855275037E-2,2.9727163790385394,1.1303547014487267]
[142,-1,-1,-1,-1,-1,-1,-1,null,null,null,null,null,null,142,"RCP6-HSA7XR-16","- - -",null,null,null,null,null,null,null,null,null,null,null,null,null,null,null,null,null,null,null,null,null,null,null,null,null,null,null,141,3.5074500175669862E-2,2.9975919110780218,1.1464334004104839]
[143,-1,-1,-1,-1,-1,-1,-1,null,null,null,null,null,null,143,"RCP6-HSA7XR-24","- - -",null,null,null,null,null,null,null,null,null,null,null,null,null,null,null,null,null,null,null,null,null,null,null,null,null,null,null,142,3.532325549606468E-2,3.0224674431175043,1.1625883564745174]
[144,-1,-1,-1,-1,-1,-1,-1,null,null,null,null,null,null,144,"RCP6CR-HSA6C","- - -",null,null,null,null,null,null,null,null,null,null,null,null,null,null,null,null,null,null,null,null,null,null,null,null,null,null,null,143,3.5572010816459505E-2,3.0473429751569867,1.1788189085909251]
[145,-1,-1,-1,-1,-1,-1,-1,null,null,null,null,null,null,145,"RCP6CR-HSA6C-W","- - -",null,null,null,null,null,null,null,null,null,null,null,null,null,null,null,null,null,null,null,null,null,null,null,null,null,null,null,144,3.5820766136854323E-2,3.0722185071964683,1.1951244014402473]
[146,-1,-1,-1,-1,-1,-1,-1,null,null,null,null,null,null,146,"RCP6CR-HSA6XC-3","- - -",null,null,null,null,null,null,null,null,null,null,null,null,null,null,null,null,null,null,null,null,null,null,null,null,null,null,null,145,3.6069521457249148E-2,3.0970940392359507,1.2115041853837918]
[147,-1,-1,-1,-1,-1,-1,-1,null,null,null,null,null,null,147,"RCP6CR-HSA6XC-6","- - -",null,null,null,null,null,null,null,null,null,null,null,null,null,null,null,null,null,null,null,null,null,null,null,null,null,null,null,146,3.6318276777643967E-2,3.1219695712754323,1.2279576164143895]
[148,-1,-1,-1,-1,-1,-1,-1,null,null,null,null,null,null,148,"RCP6CR-HSA6XC-12","- - -",null,null,null,null,null,null,null,null,null,null,null,null,null,null,null,null,null,null,null,null,null,null,null,null,null,null,null,147,3.6567032098038792E-2,3.1468451033149147,1.2444840561075752]
[149,-1,-1,-1,-1,-1,-1,-1,null,null,null,null,null,null,149,"RCP6CR-HSA6XC-20","- - -",null,null,null,null,null,null,null,null,null,null,null,null,null,null,null,null,null,null,null,null,null,null,null,null,null,null,null,148,3.681578741843361E-2,3.1717206353543972,1.2610828715731945]
[150,-1,-1,-1,-1,-1,-1,-1,null,null,null,null,null,null,150,"RCP6CR-HSA7C","- - -",null,null,null,null,null,null,null,null,null,null,null,null,null,null,null,null,null,null,null,null,null,null,null,null,null,null,null,149,3.7064542738828435E-2,3.1965961673938796,1.2777534354074265]
[151,-1,-1,-1,-1,-1,-1,-1,null,null,null,null,null,null,151,"RCP6CR-HSA7C-W","- - -",null,null,null,null,null,null,null,null,null,null,null,null,null,null,null,null,null,null,null,null,null,null,null,null,null,null,null,150,3.7313298059223253E-2,3.2214716994333612,1.294495125645226]
[152,-1,-1,-1,-1,-1,-1,-1,null,null,null,null,null,null,152,"RCP6CR-HSA7XC-4","- - -",null,null,null,null,null,null,null,null,null,null,null,null,null,null,null,null,null,null,null,null,null,null,null,null,null,null,null,151,3.7562053379618078E-2,3.2463472314728437,1.3113073257131758]
[153,-1,-1,-1,-1,-1,-1,-1,null,null,null,null,null,null,153,"RCP6CR-HSA7XC-8","- - -",null,null,null,null,null,null,null,null,null,null,null,null,null,null,null,null,null,null,null,null,null,null,null,null,null,null,null,{"$f":"AS182+1","v":152},3.7810808700012896E-2,3.2712227635123252,1.3281894243827483]
[154,-1,-1,-1,-1,-1,-1,-1,null,null,null,null,null,null,154,"RCP6CR-HSA7XC-16","- - -",null,null,null,null,null,null,null,null,null,null,null,null,null,null,null,null,null,null,null,null,null,null,null,null,null,null,null,153,3.8059564020407721E-2,3.2960982955518077,1.3451408157239726]
[155,-1,-1,-1,-1,-1,-1,-1,null,null,null,null,null,null,155,"RCP6CR-HSA7XC-24","- - -",null,null,null,null,null,null,null,null,null,null,null,null,null,null,null,null,null,null,null,null,null,null,null,null,null,null,null,154,3.8308319340802539E-2,3.3209738275912901,1.3621608990595022]
[156,-1,-1,-1,-1,-1,-1,-1,null,null,null,null,null,null,null,null,null,null,null,null,null,null,null,null,null,null,null,null,null,null,null,null,null,null,null,null,null,null,null,null,null,null,null,null,155,3.8557074661197364E-2,3.3458493596307726,1.3792490789190821]
[157,-1,-1,-1,-1,-1,-1,-1,null,null,null,null,null,null,null,null,null,null,null,null,null,null,null,null,null,null,null,null,null,null,null,null,null,null,null,null,null,null,null,null,null,null,null,null,156,3.8805829981592183E-2,3.3707248916702541,1.39640476499441]
[158,-1,-1,-1,-1,-1,-1,-1,null,null,null,null,null,null,null,null,null,null,null,null,null,null,null,null,null,null,null,null,null,null,null,null,null,null,null,null,null,null,null,null,null,null,null,null,157,3.9054585301987008E-2,3.3956004237097366,1.4136273720943893]
[159,-1,-1,-1,-1,-1,-1,-1,null,null,null,null,null,null,null,null,null,null,null,null,null,null,null,null,null,null,null,null,null,null,null,null,null,null,null,null,null,null,null,null,null,null,null,null,158,3.9303340622381826E-2,3.4204759557492181,1.4309163201007684]
[160,-1,-1,-1,-1,-1,-1,-1,null,null,null,null,null,null,null,null,null,null,null,null,null,null,null,null,null,null,null,null,null,null,null,null,null,null,null,null,null,null,null,null,null,null,null,null,159,3.9552095942776651E-2,3.4453514877887015,1.4482710339241671]
[161,-1,-1,-1,-1,-1,-1,-1,null,null,null,null,null,null,null,null,null,null,null,null,null,null,null,null,null,null,null,null,null,null,null,null,null,null,null,null,null,null,null,null,null,null,null,null,160,3.9800851263171469E-2,3.470227019828183,1.4656909434604819]
[162,-1,-1,-1,-1,-1,-1,-1,null,null,null,null,null,null,null,null,null,null,null,null,null,null,null,null,null,null,null,null,null,null,null,null,null,null,null,null,null,null,null,null,null,null,null,null,161,4.0049606583566294E-2,3.4951025518676655,1.4831754835476705]
[163,-1,-1,-1,-1,-1,-1,-1,null,null,null,null,null,null,null,null,null,null,null,null,null,null,null,null,null,null,null,null,null,null,null,null,null,null,null,null,null,null,null,null,null,null,null,null,162,4.0298361903961119E-2,3.5199780839071479,1.5007240939229105]
[164,-1,-1,-1,-1,-1,-1,-1,null,null,null,null,null,null,null,null,null,null,null,null,null,null,null,null,null,null,null,null,null,null,null,null,null,null,null,null,null,null,null,null,null,null,null,null,163,4.0547117224355937E-2,3.5448536159466295,1.5183362191801295]
[165,-1,-1,-1,-1,-1,-1,-1,null,null,null,null,null,null,null,null,null,null,null,null,null,null,null,null,null,null,null,null,null,null,null,null,null,null,null,null,null,null,null,null,null,null,null,null,164,4.0795872544750762E-2,3.569729147986112,1.5360113087279037]
[166,-1,-1,-1,-1,-1,-1,-1,null,null,null,null,null,null,null,null,null,null,null,null,null,null,null,null,null,null,null,null,null,null,null,null,null,null,null,null,null,null,null,null,null,null,null,null,165,4.104462786514558E-2,3.5946046800255944,1.5537488167477207]
[167,-1,-1,-1,-1,-1,-1,-1,null,null,null,null,null,null,null,null,null,null,null,null,null,null,null,null,null,null,null,null,null,null,null,null,null,null,null,null,null,null,null,null,null,null,null,null,166,4.1293383185540405E-2,3.6194802120650769,1.5715482021526042]
[168,-1,-1,-1,-1,-1,-1,-1,null,null,null,null,null,null,null,null,null,null,null,null,null,null,null,null,null,null,null,null,null,null,null,null,null,null,null,null,null,null,null,null,null,null,null,null,167,4.1542138505935224E-2,3.6443557441045584,1.5894089285460991]
[169,-1,-1,-1,-1,-1,-1,-1,null,null,null,null,null,null,null,null,null,null,null,null,null,null,null,null,null,null,null,null,null,null,null,null,null,null,null,null,null,null,null,null,null,null,null,null,168,4.1790893826330049E-2,3.6692312761440409,1.6073304641816097]
[170,-1,-1,-1,-1,-1,-1,-1,null,null,null,null,null,null,null,null,null,null,null,null,null,null,null,null,null,null,null,null,null,null,null,null,null,null,null,null,null,null,null,null,null,null,null,null,169,4.2039649146724867E-2,3.6941068081835224,1.6253122819220922]
[171,-1,-1,-1,-1,-1,-1,-1,null,null,null,null,null,null,null,null,null,null,null,null,null,null,null,null,null,null,null,null,null,null,null,null,null,null,null,null,null,null,null,null,null,null,null,null,170,4.2288404467119692E-2,3.7189823402230049,1.643353859200094]
[172,-1,-1,-1,-1,-1,-1,-1,null,null,null,null,null,null,null,null,null,null,null,null,null,null,null,null,null,null,null,null,null,null,null,null,null,null,null,null,null,null,null,null,null,null,null,null,171,4.253715978751451E-2,3.7438578722624873,1.6614546779781443]
[173,-1,-1,-1,-1,-1,-1,-1,null,null,null,null,null,null,null,null,null,null,null,null,null,null,null,null,null,null,null,null,null,null,null,null,null,null,null,null,null,null,null,null,null,null,null,null,172,4.2785915107909335E-2,3.7687334043019698,1.6796142247094823]
[174,-1,-1,-1,-1,-1,-1,-1,null,null,null,null,null,null,null,null,null,null,null,null,null,null,null,null,null,null,null,null,null,null,null,null,null,null,null,null,null,null,null,null,null,null,null,null,173,4.3034670428304153E-2,3.7936089363414514,1.6978319902991306]
[175,-1,-1,-1,-1,-1,-1,-1,null,null,null,null,null,null,null,null,null,null,null,null,null,null,null,null,null,null,null,null,null,null,null,null,null,null,null,null,null,null,null,null,null,null,null,null,174,4.3283425748698978E-2,3.8184844683809338,1.7161074700653025]
[176,-1,-1,-1,-1,-1,-1,-1,null,null,null,null,null,null,null,null,null,null,null,null,null,null,null,null,null,null,null,null,null,null,null,null,null,null,null,null,null,null,null,null,null,null,null,null,175,4.3532181069093796E-2,3.8433600004204154,1.7344401637011466]
[177,-1,-1,-1,-1,-1,-1,-1,null,null,null,null,null,null,null,null,null,null,null,null,null,null,null,null,null,null,null,null,null,null,null,null,null,null,null,null,null,null,null,null,null,null,null,null,176,4.3780936389488621E-2,3.8682355324598978,1.7528295752368208]
[178,-1,-1,-1,-1,-1,-1,-1,null,null,null,null,null,null,null,null,null,null,null,null,null,null,null,null,null,null,null,null,null,null,null,null,null,null,null,null,null,null,null,null,null,null,null,null,177,4.4029691709883439E-2,3.8931110644993803,1.7712752130018963]
[179,-1,-1,-1,-1,-1,-1,-1,null,null,null,null,null,null,null,null,null,null,null,null,null,null,null,null,null,null,null,null,null,null,null,null,null,null,null,null,null,null,null,null,null,null,null,null,178,4.4278447030278265E-2,3.9179865965388627,1.7897765895880882]
[180,-1,-1,-1,-1,-1,-1,-1,null,null,null,null,null,null,null,null,null,null,null,null,null,null,null,null,null,null,null,null,null,null,null,null,null,null,null,null,null,null,null,null,null,null,null,null,179,4.4527202350673083E-2,3.9428621285783443,1.8083332218123072]
[181,-1,-1,-1,-1,-1,-1,-1,null,null,null,null,null,null,null,null,null,null,null,null,null,null,null,null,null,null,null,null,null,null,null,null,null,null,null,null,null,null,null,null,null,null,null,null,180,4.4775957671067908E-2,3.9677376606178267,1.8269446306800332]
[182,-1,-1,-1,-1,-1,-1,-1,null,null,null,null,null,null,null,null,null,null,null,null,null,null,null,null,null,null,null,null,null,null,null,null,null,null,null,null,null,null,null,null,null,null,null,null,181,4.5024712991462726E-2,3.9926131926573083,1.845610341349005]
[183,-1,-1,-1,-1,-1,-1,-1,null,null,null,null,null,null,null,null,null,null,null,null,null,null,null,null,null,null,null,null,null,null,null,null,null,null,null,null,null,null,null,null,null,null,null,null,182,4.5273468311857551E-2,4.0174887246967907,1.8643298830932269]
[184,-1,-1,-1,-1,-1,-1,-1,null,null,null,null,null,null,null,null,null,null,null,null,null,null,null,null,null,null,null,null,null,null,null,null,null,null,null,null,null,null,null,null,null,null,null,null,183,4.5522223632252369E-2,4.0423642567362732,1.8831027892672849]
[185,-1,-1,-1,-1,-1,-1,-1,null,null,null,null,null,null,null,null,null,null,null,null,null,null,null,null,null,null,null,null,null,null,null,null,null,null,null,null,null,null,null,null,null,null,null,null,184,4.5770978952647194E-2,4.0672397887757556,1.9019285972709745]
[186,-1,-1,-1,-1,-1,-1,-1,null,null,null,null,null,null,null,null,null,null,null,null,null,null,null,null,null,null,null,null,null,null,null,null,null,null,null,null,null,null,null,null,null,null,null,null,185,4.6019734273042012E-2,4.0921153208152372,1.9208068485142331]
[187,-1,-1,-1,-1,-1,-1,-1,null,null,null,null,null,null,null,null,null,null,null,null,null,null,null,null,null,null,null,null,null,null,null,null,null,null,null,null,null,null,null,null,null,null,null,null,186,4.6268489593436837E-2,4.1169908528547197,1.939737088382377]
[188,-1,-1,-1,-1,-1,-1,-1,null,null,null,null,null,null,null,null,null,null,null,null,null,null,null,null,null,null,null,null,null,null,null,null,null,null,null,null,null,null,null,null,null,null,null,null,187,4.6517244913831655E-2,4.1418663848942012,1.9587188662016413]
[189,-1,-1,-1,-1,-1,-1,-1,null,null,null,null,null,null,null,null,null,null,null,null,null,null,null,null,null,null,null,null,null,null,null,null,null,null,null,null,null,null,null,null,null,null,null,null,188,4.6766000234226481E-2,4.1667419169336837,1.977751735205016]
[190,-1,-1,-1,-1,-1,-1,-1,null,null,null,null,null,null,null,null,null,null,null,null,null,null,null,null,null,null,null,null,null,null,null,null,null,null,null,null,null,null,null,null,null,null,null,null,189,4.7014755554621299E-2,4.1916174489731661,1.9968352524983803]
[191,-1,-1,-1,-1,-1,-1,-1,null,null,null,null,null,null,null,null,null,null,null,null,null,null,null,null,null,null,null,null,null,null,null,null,null,null,null,null,null,null,null,null,null,null,null,null,190,4.7263510875016124E-2,4.2164929810126486,2.0159689790269293]
[192,-1,-1,-1,-1,-1,-1,-1,null,null,null,null,null,null,null,null,null,null,null,null,null,null,null,null,null,null,null,null,null,null,null,null,null,null,null,null,null,null,null,null,null,null,null,null,191,4.7512266195410942E-2,4.2413685130521301,2.0351524795418925]
[{"$f":"A222+1","v":193},-1,-1,-1,-1,-1,-1,-1,null,null,null,null,null,null,null,null,null,null,null,null,null,null,null,null,null,null,null,null,null,null,null,null,null,null,null,null,null,null,null,null,null,null,null,null,192,{"$f":"$AP$18/$N$7*AS223","v":4.7761021515805767E-2},4.2662440450916126,2.0543853225675401]
[194,-1,-1,-1,-1,-1,-1,-1,null,null,null,null,null,null,null,null,null,null,null,null,null,null,null,null,null,null,null,null,null,null,null,null,null,null,null,null,null,null,null,null,null,null,null,null,193,4.8009776836200592E-2,{"$f":"IF(($N$4*AT224^2/2)<=$AP$13,($N$4*AT224^2/2), IF(($AP$13+$N$6*(AT224-$AP$12))<=$AP$17, ($AP$13+$N$6*(AT224-$AP$12)), IF(AU223<$D$14, ($AP$17+($N$6-$N$5*(AT224-$AP$16)/2)*(AT224-$AP$16)), $D$14)))","v":4.291119577131095},2.0736670803684758]
[195,-1,-1,-1,-1,-1,-1,-1,null,null,null,null,null,null,null,null,null,null,null,null,null,null,null,null,null,null,null,null,null,null,null,null,null,null,null,null,null,null,null,null,null,null,null,null,194,4.825853215659541E-2,4.3159951091705766,{"$f":"( $AP$6*AU225 + $AP$7*AU224 + $AP$9*AV224 )/$AP$8","v":2.0929973289172126}]
[196,-1,-1,-1,-1,-1,-1,-1,null,null,null,null,null,null,null,null,null,null,null,null,null,null,null,null,null,null,null,null,null,null,null,null,null,null,null,null,null,null,null,null,null,null,null,null,195,4.8507287476990235E-2,4.3408706412100591,2.1123756478620304]
[197,-1,-1,-1,-1,-1,-1,-1,null,null,null,null,null,null,null,null,null,null,null,null,null,null,null,null,null,null,null,null,null,null,null,null,null,null,null,null,null,null,null,null,null,null,null,null,196,4.8756042797385053E-2,4.3657461732495415,2.1318016204951116]
[198,-1,-1,-1,-1,-1,-1,-1,null,null,null,null,null,null,null,null,null,null,null,null,null,null,null,null,null,null,null,null,null,null,null,null,null,null,null,null,null,null,null,null,null,null,null,null,197,4.9004798117779878E-2,4.390621705289024,2.1512748337209548]
[199,-1,-1,-1,-1,-1,-1,-1,null,null,null,null,null,null,null,null,null,null,null,null,null,null,null,null,null,null,null,null,null,null,null,null,null,null,null,null,null,null,null,null,null,null,null,null,198,4.9253553438174696E-2,4.4154972373285055,2.1707948780250574]
[200,-1,-1,-1,-1,-1,-1,-1,null,null,null,null,null,null,null,null,null,null,null,null,null,null,null,null,null,null,null,null,null,null,null,null,null,null,null,null,null,null,null,null,null,null,null,null,199,4.9502308758569522E-2,4.440372769367988,2.1903613474428765]
[201,-1,-1,-1,-1,-1,-1,-1,null,null,null,null,null,null,null,null,null,null,null,null,null,null,null,null,null,null,null,null,null,null,null,null,null,null,null,null,null,null,null,null,null,null,null,null,200,4.975106407896434E-2,4.4652483014074695,2.2099738395290531]
[202,-1,-1,-1,-1,-1,-1,-1,null,null,null,null,null,null,null,null,null,null,null,null,null,null,null,null,null,null,null,null,null,null,null,null,null,null,null,null,null,null,null,null,null,null,null,null,{"$f":"AS231+1","v":201},4.9999819399359165E-2,4.4901238334469529,2.2296319553269059]
[203,-1,-1,-1,-1,-1,-1,-1,null,null,null,null,null,null,null,null,null,null,null,null,null,null,null,null,null,null,null,null,null,null,null,null,null,null,null,null,null,null,null,null,null,null,null,null,202,5.0248574719753983E-2,4.5149993654864344,2.2493352993381901]
[204,-1,-1,-1,-1,-1,-1,-1,null,null,null,null,null,null,null,null,null,null,null,null,null,null,null,null,null,null,null,null,null,null,null,null,null,null,null,null,null,null,null,null,null,null,null,null,203,5.0497330040148808E-2,4.5398748975259169,2.2690834794931152]
[205,-1,-1,-1,-1,-1,-1,-1,null,null,null,null,null,null,null,null,null,null,null,null,null,null,null,null,null,null,null,null,null,null,null,null,null,null,null,null,null,null,null,null,null,null,null,null,204,5.0746085360543626E-2,4.5647504295653984,2.2888761071206263]
[206,-1,-1,-1,-1,-1,-1,-1,null,null,null,null,null,null,null,null,null,null,null,null,null,null,null,null,null,null,null,null,null,null,null,null,null,null,null,null,null,null,null,null,null,null,null,null,205,5.0994840680938451E-2,4.5896259616048809,2.3087127969189418]
[207,-1,-1,-1,-1,-1,-1,-1,null,null,null,null,null,null,null,null,null,null,null,null,null,null,null,null,null,null,null,null,null,null,null,null,null,null,null,null,null,null,null,null,null,null,null,null,206,5.1243596001333269E-2,4.6145014936443625,2.3285931669263444]
[208,-1,-1,-1,-1,-1,-1,-1,null,null,null,null,null,null,null,null,null,null,null,null,null,null,null,null,null,null,null,null,null,null,null,null,null,null,null,null,null,null,null,null,null,null,null,null,207,5.1492351321728094E-2,4.6393770256838449,2.3485168384922281]
[209,-1,-1,-1,-1,-1,-1,-1,null,null,null,null,null,null,null,null,null,null,null,null,null,null,null,null,null,null,null,null,null,null,null,null,null,null,null,null,null,null,null,null,null,null,null,null,208,5.1741106642122912E-2,4.6642525577233274,2.3684834362483964]
[210,-1,-1,-1,-1,-1,-1,-1,null,null,null,null,null,null,null,null,null,null,null,null,null,null,null,null,null,null,null,null,null,null,null,null,null,null,null,null,null,null,null,null,null,null,null,null,209,5.1989861962517737E-2,4.6891280897628098,2.3884925880806058]
[211,-1,-1,-1,-1,-1,-1,-1,null,null,null,null,null,null,null,null,null,null,null,null,null,null,null,null,null,null,null,null,null,null,null,null,null,null,null,null,null,null,null,null,null,null,null,null,210,5.2238617282912556E-2,4.7140036218022914,2.4085439251003602]
[212,-1,-1,-1,-1,-1,-1,-1,null,null,null,null,null,null,null,null,null,null,null,null,null,null,null,null,null,null,null,null,null,null,null,null,null,null,null,null,null,null,null,null,null,null,null,null,211,5.2487372603307381E-2,4.7388791538417738,2.4286370816169458]
[213,-1,-1,-1,-1,-1,-1,-1,null,null,null,null,null,null,null,null,null,null,null,null,null,null,null,null,null,null,null,null,null,null,null,null,null,null,null,null,null,null,null,null,null,null,null,null,212,5.2736127923702199E-2,4.7637546858812554,2.4487716951097123]
[214,-1,-1,-1,-1,-1,-1,-1,null,null,null,null,null,null,null,null,null,null,null,null,null,null,null,null,null,null,null,null,null,null,null,null,null,null,null,null,null,null,null,null,null,null,null,null,213,5.2984883244097024E-2,4.7886302179207378,2.4689474062005923]
[215,-1,-1,-1,-1,-1,-1,-1,null,null,null,null,null,null,null,null,null,null,null,null,null,null,null,null,null,null,null,null,null,null,null,null,null,null,null,null,null,null,null,null,null,null,null,null,214,5.3233638564491842E-2,4.8135057499602203,2.489163858626859]
[216,-1,-1,-1,-1,-1,-1,-1,null,null,null,null,null,null,null,null,null,null,null,null,null,null,null,null,null,null,null,null,null,null,null,null,null,null,null,null,null,null,null,null,null,null,null,null,215,5.3482393884886667E-2,4.8383812819997027,2.5094206992141199]
[217,-1,-1,-1,-1,-1,-1,-1,null,null,null,null,null,null,null,null,null,null,null,null,null,null,null,null,null,null,null,null,null,null,null,null,null,null,null,null,null,null,null,null,null,null,null,null,216,5.3731149205281485E-2,4.8632568140391843,2.529717577849544]
[218,-1,-1,-1,-1,-1,-1,-1,null,null,null,null,null,null,null,null,null,null,null,null,null,null,null,null,null,null,null,null,null,null,null,null,null,null,null,null,null,null,null,null,null,null,null,null,217,5.397990452567631E-2,4.8881323460786668,2.5500541474553255]
[219,-1,-1,-1,-1,-1,-1,-1,null,null,null,null,null,null,null,null,null,null,null,null,null,null,null,null,null,null,null,null,null,null,null,null,null,null,null,null,null,null,null,null,null,null,null,null,218,5.4228659846071128E-2,4.9130078781181483,2.5704300639623696]
[220,-1,-1,-1,-1,-1,-1,-1,null,null,null,null,null,null,null,null,null,null,null,null,null,null,null,null,null,null,null,null,null,null,null,null,null,null,null,null,null,null,null,null,null,null,null,null,219,5.4477415166465953E-2,4.9378834101576308,2.5908449862842144]
[221,-1,-1,-1,-1,-1,-1,-1,null,null,null,null,null,null,null,null,null,null,null,null,null,null,null,null,null,null,null,null,null,null,null,null,null,null,null,null,null,null,null,null,null,null,null,null,220,5.4726170486860772E-2,4.9627589421971132,2.6112985762911736]
[222,-1,-1,-1,-1,-1,-1,-1,null,null,null,null,null,null,null,null,null,null,null,null,null,null,null,null,null,null,null,null,null,null,null,null,null,null,null,null,null,null,null,null,null,null,null,null,221,5.4974925807255597E-2,4.9876344742365957,2.6317904987847056]
[223,-1,-1,-1,-1,-1,-1,-1,null,null,null,null,null,null,null,null,null,null,null,null,null,null,null,null,null,null,null,null,null,null,null,null,null,null,null,null,null,null,null,null,null,null,null,null,222,5.5223681127650415E-2,5.0125100062760772,2.652320421472004]
[224,-1,-1,-1,-1,-1,-1,-1,null,null,null,null,null,null,null,null,null,null,null,null,null,null,null,null,null,null,null,null,null,null,null,null,null,null,null,null,null,null,null,null,null,null,null,null,223,5.547243644804524E-2,5.0373855383155597,2.672888014940809]
[225,-1,-1,-1,-1,-1,-1,-1,null,null,null,null,null,null,null,null,null,null,null,null,null,null,null,null,null,null,null,null,null,null,null,null,null,null,null,null,null,null,null,null,null,null,null,null,224,5.5721191768440065E-2,5.0622610703550421,2.6934929526344371]
[null,-1,-1,-1,-1,-1,-1,-1,null,null,null,null,null,null,null,null,null,null,null,null,null,null,null,null,null,null,null,null,null,null,null,null,null,null,null,null,null,null,null,null,null,null,null,null,225,5.5969947088834883E-2,5.0871366023945237,2.7141349108270258]
[null,-1,-1,-1,-1,-1,-1,-1,null,null,null,null,null,null,null,null,null,null,null,null,null,null,null,null,null,null,null,null,null,null,null,null,null,null,null,null,null,null,null,null,null,null,null,null,226,5.6218702409229708E-2,5.1120121344340061,2.7348135685989958]
[null,-1,-1,-1,-1,-1,-1,-1,null,null,null,null,null,null,null,null,null,null,null,null,null,null,null,null,null,null,null,null,null,null,null,null,null,null,null,null,null,null,null,null,null,null,null,null,227,5.6467457729624526E-2,5.1368876664734886,2.7555286078127228]
[null,-1,-1,-1,-1,-1,-1,-1,null,null,null,null,null,null,null,null,null,null,null,null,null,null,null,null,null,null,null,null,null,null,null,null,null,null,null,null,null,null,null,null,null,null,null,null,228,5.6716213050019351E-2,5.1617631985129711,2.7762797130884205]
[null,-1,-1,-1,-1,-1,-1,-1,null,null,null,null,null,null,null,null,null,null,null,null,null,null,null,null,null,null,null,null,null,null,null,null,null,null,null,null,null,null,null,null,null,null,null,null,229,5.6964968370414169E-2,5.1866387305524526,2.7970665717802374]
[null,-1,-1,-1,-1,-1,-1,-1,null,null,null,null,null,null,null,null,null,null,null,null,null,null,null,null,null,null,null,null,null,null,null,null,null,null,null,null,null,null,null,null,null,null,null,null,230,5.7213723690808994E-2,5.2115142625919351,2.8178888739525538]
[null,-1,-1,-1,-1,-1,-1,-1,null,null,null,null,null,null,null,null,null,null,null,null,null,null,null,null,null,null,null,null,null,null,null,null,null,null,null,null,null,null,null,null,null,null,null,null,231,5.7462479011203813E-2,5.2363897946314166,2.8387463123564891]
[null,-1,-1,-1,-1,-1,-1,-1,null,null,null,null,null,null,null,null,null,null,null,null,null,null,null,null,null,null,null,null,null,null,null,null,null,null,null,null,null,null,null,null,null,null,null,null,232,5.7711234331598638E-2,5.2612653266708991,2.8596385824066104]
[null,-1,-1,-1,-1,-1,-1,-1,null,null,null,null,null,null,null,null,null,null,null,null,null,null,null,null,null,null,null,null,null,null,null,null,null,null,null,null,null,null,null,null,null,null,null,null,233,5.7959989651993456E-2,5.2861408587103815,2.8805653821578447]
[null,-1,-1,-1,-1,-1,-1,-1,null,null,null,null,null,null,null,null,null,null,null,null,null,null,null,null,null,null,null,null,null,null,null,null,null,null,null,null,null,null,null,null,null,null,null,null,234,5.8208744972388281E-2,5.311016390749864,2.9015264122825908]
[null,-1,-1,-1,-1,-1,-1,-1,null,null,null,null,null,null,null,null,null,null,null,null,null,null,null,null,null,null,null,null,null,null,null,null,null,null,null,null,null,null,null,null,null,null,null,null,235,5.8457500292783099E-2,5.3358919227893455,2.9225213760480271]
[null,-1,-1,-1,-1,-1,-1,-1,null,null,null,null,null,null,null,null,null,null,null,null,null,null,null,null,null,null,null,null,null,null,null,null,null,null,null,null,null,null,null,null,null,null,null,null,236,5.8706255613177924E-2,5.360767454828828,2.9435499792936208]
[null,-1,-1,-1,-1,-1,-1,-1,null,null,null,null,null,null,null,null,null,null,null,null,null,null,null,null,null,null,null,null,null,null,null,null,null,null,null,null,null,null,null,null,null,null,null,null,237,5.8955010933572742E-2,5.3856429868683096,2.9646119304088274]
[null,-1,-1,-1,-1,-1,-1,-1,null,null,null,null,null,null,null,null,null,null,null,null,null,null,null,null,null,null,null,null,null,null,null,null,null,null,null,null,null,null,null,null,null,null,null,null,238,5.9203766253967567E-2,5.4105185189077929,2.9857069403109877]
[null,-1,-1,-1,-1,-1,-1,-1,null,null,null,null,null,null,null,null,null,null,null,null,null,null,null,null,null,null,null,null,null,null,null,null,null,null,null,null,null,null,null,null,null,null,null,null,239,5.9452521574362385E-2,5.4353940509472745,3.0068347224234122]
[null,-1,-1,-1,-1,-1,-1,-1,null,null,null,null,null,null,null,null,null,null,null,null,null,null,null,null,null,null,null,null,null,null,null,null,null,null,null,null,null,null,null,null,null,null,null,null,240,5.970127689475721E-2,5.4602695829867569,3.0279949926536593]
[null,-1,-1,-1,-1,-1,-1,-1,null,null,null,null,null,null,null,null,null,null,null,null,null,null,null,null,null,null,null,null,null,null,null,null,null,null,null,null,null,null,null,null,null,null,null,null,241,5.9950032215152028E-2,5.4851451150262385,3.0491874693719989]
[null,-1,-1,-1,-1,-1,-1,-1,null,null,null,null,null,null,null,null,null,null,null,null,null,null,null,null,null,null,null,null,null,null,null,null,null,null,null,null,null,null,null,null,null,null,null,null,242,6.0198787535546854E-2,5.5100206470657209,3.0704118733900652]
[null,-1,-1,-1,-1,-1,-1,-1,null,null,null,null,null,null,null,null,null,null,null,null,null,null,null,null,null,null,null,null,null,null,null,null,null,null,null,null,null,null,null,null,null,null,null,null,243,6.0447542855941672E-2,5.5348961791052025,3.091667927939691]
[null,-1,-1,-1,-1,-1,-1,-1,null,null,null,null,null,null,null,null,null,null,null,null,null,null,null,null,null,null,null,null,null,null,null,null,null,null,null,null,null,null,null,null,null,null,null,null,244,6.0696298176336497E-2,5.5597717111446858,3.1129553586519307]
[null,-1,-1,-1,-1,-1,-1,-1,null,null,null,null,null,null,null,null,null,null,null,null,null,null,null,null,null,null,null,null,null,null,null,null,null,null,null,null,null,null,null,null,null,null,null,null,245,6.0945053496731315E-2,5.5846472431841674,3.1342738935362595]
[null,-1,-1,-1,-1,-1,-1,-1,null,null,null,null,null,null,null,null,null,null,null,null,null,null,null,null,null,null,null,null,null,null,null,null,null,null,null,null,null,null,null,null,null,null,null,null,246,6.119380881712614E-2,5.6095227752236498,3.1556232629599568]
[null,-1,-1,-1,-1,-1,-1,-1,null,null,null,null,null,null,null,null,null,null,null,null,null,null,null,null,null,null,null,null,null,null,null,null,null,null,null,null,null,null,null,null,null,null,null,null,247,6.1442564137520958E-2,5.6343983072631314,3.1770031996276682]
[null,-1,-1,-1,-1,-1,-1,-1,null,null,null,null,null,null,null,null,null,null,null,null,null,null,null,null,null,null,null,null,null,null,null,null,null,null,null,null,null,null,null,null,null,null,null,null,248,6.1691319457915783E-2,5.6592738393026139,3.1984134385611411]
[null,-1,-1,-1,-1,-1,-1,-1,null,null,null,null,null,null,null,null,null,null,null,null,null,null,null,null,null,null,null,null,null,null,null,null,null,null,null,null,null,null,null,null,null,null,null,null,249,6.1940074778310601E-2,5.6841493713420963,3.2198537170791406]
[null,-1,-1,-1,-1,-1,-1,-1,null,null,null,null,null,null,null,null,null,null,null,null,null,null,null,null,null,null,null,null,null,null,null,null,null,null,null,null,null,null,null,null,null,null,null,null,250,6.2188830098705426E-2,5.7090249033815788,3.2413237747775354]
[null,-1,-1,-1,-1,-1,-1,-1,null,null,null,null,null,null,null,null,null,null,null,null,null,null,null,null,null,null,null,null,null,null,null,null,null,null,null,null,null,null,null,null,null,null,null,null,251,6.2437585419100244E-2,5.7339004354210603,3.2628233535095608]
[null,-1,-1,-1,-1,-1,-1,-1,null,null,null,null,null,null,null,null,null,null,null,null,null,null,null,null,null,null,null,null,null,null,null,null,null,null,null,null,null,null,null,null,null,null,null,null,{"$f":"AS282+1","v":252},6.2686340739495069E-2,5.7587759674605428,3.2843521973662479]
[null,-1,-1,-1,-1,-1,-1,-1,null,null,null,null,null,null,null,null,null,null,null,null,null,null,null,null,null,null,null,null,null,null,null,null,null,null,null,null,null,null,null,null,null,null,null,null,253,6.2935096059889895E-2,5.7836514995000252,3.3059100526570258]
[null,-1,-1,-1,-1,-1,-1,-1,null,null,null,null,null,null,null,null,null,null,null,null,null,null,null,null,null,null,null,null,null,null,null,null,null,null,null,null,null,null,null,null,null,null,null,null,254,6.3183851380284706E-2,5.8085270315395059,3.3274966678904914]
[null,-1,-1,-1,-1,-1,-1,-1,null,null,null,null,null,null,null,null,null,null,null,null,null,null,null,null,null,null,null,null,null,null,null,null,null,null,null,null,null,null,null,null,null,null,null,null,255,6.3432606700679531E-2,5.8334025635789892,3.3491117937553443]
[null,-1,-1,-1,-1,-1,-1,-1,null,null,null,null,null,null,null,null,null,null,null,null,null,null,null,null,null,null,null,null,null,null,null,null,null,null,null,null,null,null,null,null,null,null,null,null,256,{"$f":"$AP$18/$N$7*AS287","v":6.3681362021074356E-2},5.8582780956184717,3.370755183101489]
[null,-1,-1,-1,-1,-1,-1,-1,null,null,null,null,null,null,null,null,null,null,null,null,null,null,null,null,null,null,null,null,null,null,null,null,null,null,null,null,null,null,null,null,null,null,null,null,257,6.3930117341469181E-2,{"$f":"IF(($N$4*AT288^2/2)<=$AP$13,($N$4*AT288^2/2), IF(($AP$13+$N$6*(AT288-$AP$12))<=$AP$17, ($AP$13+$N$6*(AT288-$AP$12)), IF(AU287<$D$14, ($AP$17+($N$6-$N$5*(AT288-$AP$16)/2)*(AT288-$AP$16)), $D$14)))","v":5.8831536276579541},3.3924265909213007]
[null,-1,-1,-1,-1,-1,-1,-1,null,null,null,null,null,null,null,null,null,null,null,null,null,null,null,null,null,null,null,null,null,null,null,null,null,null,null,null,null,null,null,null,null,null,null,null,258,6.4178872661864006E-2,5.9080291596974366,{"$f":"( $AP$6*AU289 + $AP$7*AU288 + $AP$9*AV288 )/$AP$8","v":3.4141257743310507}]
[null,-1,-1,-1,-1,-1,-1,-1,null,null,null,null,null,null,null,null,null,null,null,null,null,null,null,null,null,null,null,null,null,null,null,null,null,null,null,null,null,null,null,null,null,null,null,null,259,6.4427627982258817E-2,5.9329046917369173,3.4358524925524976]
[null,-1,-1,-1,-1,-1,-1,-1,null,null,null,null,null,null,null,null,null,null,null,null,null,null,null,null,null,null,null,null,null,null,null,null,null,null,null,null,null,null,null,null,null,null,null,null,260,6.4676383302653642E-2,5.9577802237763997,3.4576065068946331]
[null,-1,-1,-1,-1,-1,-1,-1,null,null,null,null,null,null,null,null,null,null,null,null,null,null,null,null,null,null,null,null,null,null,null,null,null,null,null,null,null,null,null,null,null,null,null,null,261,6.4925138623048467E-2,5.9826557558158822,3.4793875807355907]
[null,-1,-1,-1,-1,-1,-1,-1,null,null,null,null,null,null,null,null,null,null,null,null,null,null,null,null,null,null,null,null,null,null,null,null,null,null,null,null,null,null,null,null,null,null,null,null,262,6.5173893943443292E-2,6.0075312878553646,3.5011954795047071]
[null,-1,-1,-1,-1,-1,-1,-1,null,null,null,null,null,null,null,null,null,null,null,null,null,null,null,null,null,null,null,null,null,null,null,null,null,null,null,null,null,null,null,null,null,null,null,null,263,6.5422649263838104E-2,6.0324068198948462,3.5230299706647421]
[null,-1,-1,-1,-1,-1,-1,-1,null,null,null,null,null,null,null,null,null,null,null,null,null,null,null,null,null,null,null,null,null,null,null,null,null,null,null,null,null,null,null,null,null,null,null,null,264,6.5671404584232929E-2,6.0572823519343286,3.5448908236942502]
[null,-1,-1,-1,-1,-1,-1,-1,null,null,null,null,null,null,null,null,null,null,null,null,null,null,null,null,null,null,null,null,null,null,null,null,null,null,null,null,null,null,null,null,null,null,null,null,265,6.5920159904627754E-2,6.0821578839738111,3.5667778100701071]
[null,-1,-1,-1,-1,-1,-1,-1,null,null,null,null,null,null,null,null,null,null,null,null,null,null,null,null,null,null,null,null,null,null,null,null,null,null,null,null,null,null,null,null,null,null,null,null,266,6.6168915225022579E-2,6.1070334160132935,3.5886907032501871]
[null,-1,-1,-1,-1,-1,-1,-1,null,null,null,null,null,null,null,null,null,null,null,null,null,null,null,null,null,null,null,null,null,null,null,null,null,null,null,null,null,null,null,null,null,null,null,null,267,6.641767054541739E-2,6.1319089480527751,3.61062927865619]
[null,-1,-1,-1,-1,-1,-1,-1,null,null,null,null,null,null,null,null,null,null,null,null,null,null,null,null,null,null,null,null,null,null,null,null,null,null,null,null,null,null,null,null,null,null,null,null,268,6.6666425865812215E-2,6.1567844800922575,3.632593313656618]
[null,-1,-1,-1,-1,-1,-1,-1,null,null,null,null,null,null,null,null,null,null,null,null,null,null,null,null,null,null,null,null,null,null,null,null,null,null,null,null,null,null,null,null,null,null,null,null,269,6.691518118620704E-2,6.18166001213174,3.6545825875498981]
[null,-1,-1,-1,-1,-1,-1,-1,null,null,null,null,null,null,null,null,null,null,null,null,null,null,null,null,null,null,null,null,null,null,null,null,null,null,null,null,null,null,null,null,null,null,null,null,270,6.7163936506601865E-2,6.2065355441712224,3.6765968815476526]
[null,-1,-1,-1,-1,-1,-1,-1,null,null,null,null,null,null,null,null,null,null,null,null,null,null,null,null,null,null,null,null,null,null,null,null,null,null,null,null,null,null,null,null,null,null,null,null,271,6.7412691826996676E-2,6.2314110762107031,3.6986359787581153]
[null,-1,-1,-1,-1,-1,-1,-1,null,null,null,null,null,null,null,null,null,null,null,null,null,null,null,null,null,null,null,null,null,null,null,null,null,null,null,null,null,null,null,null,null,null,null,null,272,6.7661447147391501E-2,6.2562866082501856,3.7206996641696888]
[null,-1,-1,-1,-1,-1,-1,-1,null,null,null,null,null,null,null,null,null,null,null,null,null,null,null,null,null,null,null,null,null,null,null,null,null,null,null,null,null,null,null,null,null,null,null,null,273,6.7910202467786326E-2,6.281162140289668,3.7427877246346477]
[null,-1,-1,-1,-1,-1,-1,-1,null,null,null,null,null,null,null,null,null,null,null,null,null,null,null,null,null,null,null,null,null,null,null,null,null,null,null,null,null,null,null,null,null,null,null,null,274,6.8158957788181151E-2,6.3060376723291514,3.7648999488529795]
[null,-1,-1,-1,-1,-1,-1,-1,null,null,null,null,null,null,null,null,null,null,null,null,null,null,null,null,null,null,null,null,null,null,null,null,null,null,null,null,null,null,null,null,null,null,null,null,275,6.8407713108575963E-2,6.330913204368632,3.7870361273563673]
[null,-1,-1,-1,-1,-1,-1,-1,null,null,null,null,null,null,null,null,null,null,null,null,null,null,null,null,null,null,null,null,null,null,null,null,null,null,null,null,null,null,null,null,null,null,null,null,276,6.8656468428970788E-2,6.3557887364081145,3.8091960524923136]
[null,-1,-1,-1,-1,-1,-1,-1,null,null,null,null,null,null,null,null,null,null,null,null,null,null,null,null,null,null,null,null,null,null,null,null,null,null,null,null,null,null,null,null,null,null,null,null,277,6.8905223749365613E-2,6.3806642684475969,3.8313795184083972]
[null,-1,-1,-1,-1,-1,-1,-1,null,null,null,null,null,null,null,null,null,null,null,null,null,null,null,null,null,null,null,null,null,null,null,null,null,null,null,null,null,null,null,null,null,null,null,null,278,6.9153979069760438E-2,6.4055398004870794,3.8535863210366696]
[null,-1,-1,-1,-1,-1,-1,-1,null,null,null,null,null,null,null,null,null,null,null,null,null,null,null,null,null,null,null,null,null,null,null,null,null,null,null,null,null,null,null,null,null,null,null,null,279,6.9402734390155249E-2,6.4304153325265609,3.8758162580781863]
[null,-1,-1,-1,-1,-1,-1,-1,null,null,null,null,null,null,null,null,null,null,null,null,null,null,null,null,null,null,null,null,null,null,null,null,null,null,null,null,null,null,null,null,null,null,null,null,280,6.9651489710550074E-2,6.4552908645660434,3.8980691289876708]
[null,-1,-1,-1,-1,-1,-1,-1,null,null,null,null,null,null,null,null,null,null,null,null,null,null,null,null,null,null,null,null,null,null,null,null,null,null,null,null,null,null,null,null,null,null,null,null,281,6.9900245030944899E-2,6.4801663966055258,3.9203447349583143]
[null,-1,-1,-1,-1,-1,-1,-1,null,null,null,null,null,null,null,null,null,null,null,null,null,null,null,null,null,null,null,null,null,null,null,null,null,null,null,null,null,null,null,null,null,null,null,null,282,7.0149000351339724E-2,6.5050419286450083,3.9426428789067036]
[null,-1,-1,-1,-1,-1,-1,-1,null,null,null,null,null,null,null,null,null,null,null,null,null,null,null,null,null,null,null,null,null,null,null,null,null,null,null,null,null,null,null,null,null,null,null,null,283,7.0397755671734535E-2,6.529917460684489,3.9649633654578835]
[null,-1,-1,-1,-1,-1,-1,-1,null,null,null,null,null,null,null,null,null,null,null,null,null,null,null,null,null,null,null,null,null,null,null,null,null,null,null,null,null,null,null,null,null,null,null,null,284,7.064651099212936E-2,6.5547929927239714,3.9873060009305448]
[null,-1,-1,-1,-1,-1,-1,-1,null,null,null,null,null,null,null,null,null,null,null,null,null,null,null,null,null,null,null,null,null,null,null,null,null,null,null,null,null,null,null,null,null,null,null,null,285,7.0895266312524186E-2,6.5796685247634548,4.0096705933223431]
[null,-1,-1,-1,-1,-1,-1,-1,null,null,null,null,null,null,null,null,null,null,null,null,null,null,null,null,null,null,null,null,null,null,null,null,null,null,null,null,null,null,null,null,null,null,null,null,286,7.1144021632919011E-2,6.6045440568029372,4.0320569522953447]
[null,-1,-1,-1,-1,-1,-1,-1,null,null,null,null,null,null,null,null,null,null,null,null,null,null,null,null,null,null,null,null,null,null,null,null,null,null,null,null,null,null,null,null,null,null,null,null,287,7.1392776953313822E-2,6.6294195888424179,4.0544648891616006]
[null,-1,-1,-1,-1,-1,-1,-1,null,null,null,null,null,null,null,null,null,null,null,null,null,null,null,null,null,null,null,null,null,null,null,null,null,null,null,null,null,null,null,null,null,null,null,null,288,7.1641532273708647E-2,6.6542951208819003,4.076894216868836]
[null,-1,-1,-1,-1,-1,-1,-1,null,null,null,null,null,null,null,null,null,null,null,null,null,null,null,null,null,null,null,null,null,null,null,null,null,null,null,null,null,null,null,null,null,null,null,null,289,7.1890287594103472E-2,6.6791706529213828,4.0993447499862805]
[null,-1,-1,-1,-1,-1,-1,-1,null,null,null,null,null,null,null,null,null,null,null,null,null,null,null,null,null,null,null,null,null,null,null,null,null,null,null,null,null,null,null,null,null,null,null,null,290,7.2139042914498297E-2,6.7040461849608652,4.121816304690606]
[null,-1,-1,-1,-1,-1,-1,-1,null,null,null,null,null,null,null,null,null,null,null,null,null,null,null,null,null,null,null,null,null,null,null,null,null,null,null,null,null,null,null,null,null,null,null,null,291,7.2387798234893122E-2,6.7289217170003477,4.1443086987519928]
[null,-1,-1,-1,-1,-1,-1,-1,null,null,null,null,null,null,null,null,null,null,null,null,null,null,null,null,null,null,null,null,null,null,null,null,null,null,null,null,null,null,null,null,null,null,null,null,292,7.2636553555287933E-2,6.7537972490398293,4.1668217515203185]
[null,-1,-1,-1,-1,-1,-1,-1,null,null,null,null,null,null,null,null,null,null,null,null,null,null,null,null,null,null,null,null,null,null,null,null,null,null,null,null,null,null,null,null,null,null,null,null,293,7.2885308875682758E-2,6.7786727810793117,4.1893552839114587]
[null,-1,-1,-1,-1,-1,-1,-1,null,null,null,null,null,null,null,null,null,null,null,null,null,null,null,null,null,null,null,null,null,null,null,null,null,null,null,null,null,null,null,null,null,null,null,null,294,7.3134064196077583E-2,6.8035483131187942,4.2119091183937192]
[null,-1,-1,-1,-1,-1,-1,-1,null,null,null,null,null,null,null,null,null,null,null,null,null,null,null,null,null,null,null,null,null,null,null,null,null,null,null,null,null,null,null,null,null,null,null,null,295,7.3382819516472408E-2,6.8284238451582766,4.2344830789743746]
[null,-1,-1,-1,-1,-1,-1,-1,null,null,null,null,null,null,null,null,null,null,null,null,null,null,null,null,null,null,null,null,null,null,null,null,null,null,null,null,null,null,null,null,null,null,null,null,296,7.363157483686722E-2,6.8532993771977582,4.2570769911863247]
[null,-1,-1,-1,-1,-1,-1,-1,null,null,null,null,null,null,null,null,null,null,null,null,null,null,null,null,null,null,null,null,null,null,null,null,null,null,null,null,null,null,null,null,null,null,null,null,297,7.3880330157262045E-2,6.8781749092372406,4.2796906820748752]
[null,-1,-1,-1,-1,-1,-1,-1,null,null,null,null,null,null,null,null,null,null,null,null,null,null,null,null,null,null,null,null,null,null,null,null,null,null,null,null,null,null,null,null,null,null,null,null,298,7.412908547765687E-2,6.9030504412767231,4.30232398018462]
[null,-1,-1,-1,-1,-1,-1,-1,null,null,null,null,null,null,null,null,null,null,null,null,null,null,null,null,null,null,null,null,null,null,null,null,null,null,null,null,null,null,null,null,null,null,null,null,299,7.4377840798051695E-2,6.9279259733162055,4.3249767155464536]
[null,-1,-1,-1,-1,-1,-1,-1,null,null,null,null,null,null,null,null,null,null,null,null,null,null,null,null,null,null,null,null,null,null,null,null,null,null,null,null,null,null,null,null,null,null,null,null,300,7.4626596118446506E-2,6.9528015053556862,4.3476487196646785]
[null,-1,-1,-1,-1,-1,-1,-1,null,null,null,null,null,null,null,null,null,null,null,null,null,null,null,null,null,null,null,null,null,null,null,null,null,null,null,null,null,null,null,null,null,null,null,null,301,7.4875351438841331E-2,6.9776770373951686,4.3703398255042361]
[null,-1,-1,-1,-1,-1,-1,-1,null,null,null,null,null,null,null,null,null,null,null,null,null,null,null,null,null,null,null,null,null,null,null,null,null,null,null,null,null,null,null,null,null,null,null,null,302,7.5124106759236156E-2,7.0025525694346511,4.3930498674780445]
[null,-1,-1,-1,-1,-1,-1,-1,null,null,null,null,null,null,null,null,null,null,null,null,null,null,null,null,null,null,null,null,null,null,null,null,null,null,null,null,null,null,null,null,null,null,null,null,303,7.5372862079630981E-2,7.0274281014741335,4.4157786814344462]
[null,-1,-1,-1,-1,-1,-1,-1,null,null,null,null,null,null,null,null,null,null,null,null,null,null,null,null,null,null,null,null,null,null,null,null,null,null,null,null,null,null,null,null,null,null,null,null,304,7.5621617400025792E-2,7.0523036335136151,4.438526104644767]
[null,-1,-1,-1,-1,-1,-1,-1,null,null,null,null,null,null,null,null,null,null,null,null,null,null,null,null,null,null,null,null,null,null,null,null,null,null,null,null,null,null,null,null,null,null,null,null,305,7.5870372720420617E-2,7.0771791655530976,4.4612919757909761]
[null,-1,-1,-1,-1,-1,-1,-1,null,null,null,null,null,null,null,null,null,null,null,null,null,null,null,null,null,null,null,null,null,null,null,null,null,null,null,null,null,null,null,null,null,null,null,null,306,7.6119128040815442E-2,7.10205469759258,4.4840761349534617]
[null,-1,-1,-1,-1,-1,-1,-1,null,null,null,null,null,null,null,null,null,null,null,null,null,null,null,null,null,null,null,null,null,null,null,null,null,null,null,null,null,null,null,null,null,null,null,null,307,7.6367883361210268E-2,7.1269302296320625,4.5068784235989066]
[null,-1,-1,-1,-1,-1,-1,-1,null,null,null,null,null,null,null,null,null,null,null,null,null,null,null,null,null,null,null,null,null,null,null,null,null,null,null,null,null,null,null,null,null,null,null,null,308,7.6616638681605079E-2,7.151805761671544,4.5296986845682712]
[null,-1,-1,-1,-1,-1,-1,-1,null,null,null,null,null,null,null,null,null,null,null,null,null,null,null,null,null,null,null,null,null,null,null,null,null,null,null,null,null,null,null,null,null,null,null,null,309,7.6865394001999904E-2,7.1766812937110265,4.5525367620648813]
[null,-1,-1,-1,-1,-1,-1,-1,null,null,null,null,null,null,null,null,null,null,null,null,null,null,null,null,null,null,null,null,null,null,null,null,null,null,null,null,null,null,null,null,null,null,null,null,310,7.7114149322394729E-2,7.2015568257505089,4.5753925016426154]
[null,-1,-1,-1,-1,-1,-1,-1,null,null,null,null,null,null,null,null,null,null,null,null,null,null,null,null,null,null,null,null,null,null,null,null,null,null,null,null,null,null,null,null,null,null,null,null,311,7.7362904642789554E-2,7.2264323577899914,4.5982657501942015]
[null,-1,-1,-1,-1,-1,-1,-1,null,null,null,null,null,null,null,null,null,null,null,null,null,null,null,null,null,null,null,null,null,null,null,null,null,null,null,null,null,null,null,null,null,null,null,null,312,7.7611659963184365E-2,7.2513078898294721,4.6211563559396067]
[null,-1,-1,-1,-1,-1,-1,-1,null,null,null,null,null,null,null,null,null,null,null,null,null,null,null,null,null,null,null,null,null,null,null,null,null,null,null,null,null,null,null,null,null,null,null,null,313,7.786041528357919E-2,7.2761834218689545,4.6440641684145332]
[null,-1,-1,-1,-1,-1,-1,-1,null,null,null,null,null,null,null,null,null,null,null,null,null,null,null,null,null,null,null,null,null,null,null,null,null,null,null,null,null,null,null,null,null,null,null,null,314,7.8109170603974015E-2,7.301058953908437,4.6669890384590147]
[null,-1,-1,-1,-1,-1,-1,-1,null,null,null,null,null,null,null,null,null,null,null,null,null,null,null,null,null,null,null,null,null,null,null,null,null,null,null,null,null,null,null,null,null,null,null,null,315,7.835792592436884E-2,7.3259344859479194,4.6899308182061068]
[null,-1,-1,-1,-1,-1,-1,-1,null,null,null,null,null,null,null,null,null,null,null,null,null,null,null,null,null,null,null,null,null,null,null,null,null,null,null,null,null,null,null,null,null,null,null,null,{"$f":"AS346+1","v":316},7.8606681244763651E-2,7.350810017987401,4.7128893610706797]
[null,-1,-1,-1,-1,-1,-1,-1,null,null,null,null,null,null,null,null,null,null,null,null,null,null,null,null,null,null,null,null,null,null,null,null,null,null,null,null,null,null,null,null,null,null,null,null,317,7.8855436565158477E-2,7.3756855500268834,4.7358645217383062]
[null,-1,-1,-1,-1,-1,-1,-1,null,null,null,null,null,null,null,null,null,null,null,null,null,null,null,null,null,null,null,null,null,null,null,null,null,null,null,null,null,null,null,null,null,null,null,null,318,7.9104191885553302E-2,7.4005610820663659,4.758856156154244]
[null,-1,-1,-1,-1,-1,-1,-1,null,null,null,null,null,null,null,null,null,null,null,null,null,null,null,null,null,null,null,null,null,null,null,null,null,null,null,null,null,null,null,null,null,null,null,null,319,7.9352947205948127E-2,7.4254366141058483,4.7818641215125206]
[null,-1,-1,-1,-1,-1,-1,-1,null,null,null,null,null,null,null,null,null,null,null,null,null,null,null,null,null,null,null,null,null,null,null,null,null,null,null,null,null,null,null,null,null,null,null,null,320,{"$f":"$AP$18/$N$7*AS351","v":7.9601702526342938E-2},7.4503121461453299,4.8048882762451042]
[null,-1,-1,-1,-1,-1,-1,-1,null,null,null,null,null,null,null,null,null,null,null,null,null,null,null,null,null,null,null,null,null,null,null,null,null,null,null,null,null,null,null,null,null,null,null,null,321,7.9850457846737763E-2,{"$f":"IF(($N$4*AT352^2/2)<=$AP$13,($N$4*AT352^2/2), IF(($AP$13+$N$6*(AT352-$AP$12))<=$AP$17, ($AP$13+$N$6*(AT352-$AP$12)), IF(AU351<$D$14, ($AP$17+($N$6-$N$5*(AT352-$AP$16)/2)*(AT352-$AP$16)), $D$14)))","v":7.4751876781848123},4.8279284800111757]
[null,-1,-1,-1,-1,-1,-1,-1,null,null,null,null,null,null,null,null,null,null,null,null,null,null,null,null,null,null,null,null,null,null,null,null,null,null,null,null,null,null,null,null,null,null,null,null,322,8.0099213167132588E-2,7.5000632102242948,{"$f":"( $AP$6*AU353 + $AP$7*AU352 + $AP$9*AV352 )/$AP$8","v":4.850984593686487}]
[null,-1,-1,-1,-1,-1,-1,-1,null,null,null,null,null,null,null,null,null,null,null,null,null,null,null,null,null,null,null,null,null,null,null,null,null,null,null,null,null,null,null,null,null,null,null,null,323,8.0347968487527413E-2,7.5249387422637772,4.8740564793528138]
[null,-1,-1,-1,-1,-1,-1,-1,null,null,null,null,null,null,null,null,null,null,null,null,null,null,null,null,null,null,null,null,null,null,null,null,null,null,null,null,null,null,null,null,null,null,null,null,324,8.0596723807922238E-2,7.5498142743032597,4.8971440002875077]
[null,-1,-1,-1,-1,-1,-1,-1,null,null,null,null,null,null,null,null,null,null,null,null,null,null,null,null,null,null,null,null,null,null,null,null,null,null,null,null,null,null,null,null,null,null,null,null,325,8.0845479128317049E-2,7.5746898063427404,4.9202470209531262]
[null,-1,-1,-1,-1,-1,-1,-1,null,null,null,null,null,null,null,null,null,null,null,null,null,null,null,null,null,null,null,null,null,null,null,null,null,null,null,null,null,null,null,null,null,null,null,null,326,8.1094234448711874E-2,7.5995653383822228,4.9433654069871587]
[null,-1,-1,-1,-1,-1,-1,-1,null,null,null,null,null,null,null,null,null,null,null,null,null,null,null,null,null,null,null,null,null,null,null,null,null,null,null,null,null,null,null,null,null,null,null,null,327,8.1342989769106699E-2,7.6244408704217053,4.9664990251918457]
[null,-1,-1,-1,-1,-1,-1,-1,null,null,null,null,null,null,null,null,null,null,null,null,null,null,null,null,null,null,null,null,null,null,null,null,null,null,null,null,null,null,null,null,null,null,null,null,328,8.1591745089501524E-2,7.6493164024611886,4.9896477435240767]
[null,-1,-1,-1,-1,-1,-1,-1,null,null,null,null,null,null,null,null,null,null,null,null,null,null,null,null,null,null,null,null,null,null,null,null,null,null,null,null,null,null,null,null,null,null,null,null,329,8.1840500409896336E-2,7.6741919345006693,5.0128114310853835]
[null,-1,-1,-1,-1,-1,-1,-1,null,null,null,null,null,null,null,null,null,null,null,null,null,null,null,null,null,null,null,null,null,null,null,null,null,null,null,null,null,null,null,null,null,null,null,null,330,8.2089255730291161E-2,7.6990674665401517,5.035989958112018]
[null,-1,-1,-1,-1,-1,-1,-1,null,null,null,null,null,null,null,null,null,null,null,null,null,null,null,null,null,null,null,null,null,null,null,null,null,null,null,null,null,null,null,null,null,null,null,null,331,8.2338011050685986E-2,7.7239429985796342,5.0591831959651161]
[null,-1,-1,-1,-1,-1,-1,-1,null,null,null,null,null,null,null,null,null,null,null,null,null,null,null,null,null,null,null,null,null,null,null,null,null,null,null,null,null,null,null,null,null,null,null,null,332,8.2586766371080811E-2,7.7488185306191166,5.0823910171209441]
[null,-1,-1,-1,-1,-1,-1,-1,null,null,null,null,null,null,null,null,null,null,null,null,null,null,null,null,null,null,null,null,null,null,null,null,null,null,null,null,null,null,null,null,null,null,null,null,333,8.2835521691475622E-2,7.7736940626585982,5.1056132951612305]
[null,-1,-1,-1,-1,-1,-1,-1,null,null,null,null,null,null,null,null,null,null,null,null,null,null,null,null,null,null,null,null,null,null,null,null,null,null,null,null,null,null,null,null,null,null,null,null,334,8.3084277011870447E-2,7.7985695946980806,5.1288499047635918]
[null,-1,-1,-1,-1,-1,-1,-1,null,null,null,null,null,null,null,null,null,null,null,null,null,null,null,null,null,null,null,null,null,null,null,null,null,null,null,null,null,null,null,null,null,null,null,null,335,8.3333032332265272E-2,7.8234451267375631,5.1521007216920216]
[null,-1,-1,-1,-1,-1,-1,-1,null,null,null,null,null,null,null,null,null,null,null,null,null,null,null,null,null,null,null,null,null,null,null,null,null,null,null,null,null,null,null,null,null,null,null,null,336,8.3581787652660097E-2,7.8483206587770455,5.1753656227874814]
[null,-1,-1,-1,-1,-1,-1,-1,null,null,null,null,null,null,null,null,null,null,null,null,null,null,null,null,null,null,null,null,null,null,null,null,null,null,null,null,null,null,null,null,null,null,null,null,337,8.3830542973054908E-2,7.8731961908165262,5.1986444859585594]
[null,-1,-1,-1,-1,-1,-1,-1,null,null,null,null,null,null,null,null,null,null,null,null,null,null,null,null,null,null,null,null,null,null,null,null,null,null,null,null,null,null,null,null,null,null,null,null,338,8.4079298293449733E-2,7.8980717228560087,5.2219371901722162]
[null,-1,-1,-1,-1,-1,-1,-1,null,null,null,null,null,null,null,null,null,null,null,null,null,null,null,null,null,null,null,null,null,null,null,null,null,null,null,null,null,null,null,null,null,null,null,null,339,8.4328053613844559E-2,7.922947254895492,5.2452436154446147]
[null,-1,-1,-1,-1,-1,-1,-1,null,null,null,null,null,null,null,null,null,null,null,null,null,null,null,null,null,null,null,null,null,null,null,null,null,null,null,null,null,null,null,null,null,null,null,null,340,8.4576808934239384E-2,7.9478227869349745,5.2685636428320208]
[null,-1,-1,-1,-1,-1,-1,-1,null,null,null,null,null,null,null,null,null,null,null,null,null,null,null,null,null,null,null,null,null,null,null,null,null,null,null,null,null,null,null,null,null,null,null,null,341,8.4825564254634195E-2,7.9726983189744551,5.291897154421787]
[null,-1,-1,-1,-1,-1,-1,-1,null,null,null,null,null,null,null,null,null,null,null,null,null,null,null,null,null,null,null,null,null,null,null,null,null,null,null,null,null,null,null,null,null,null,null,null,342,8.507431957502902E-2,7.9975738510139376,5.3152440333234141]
[null,-1,-1,-1,-1,-1,-1,-1,null,null,null,null,null,null,null,null,null,null,null,null,null,null,null,null,null,null,null,null,null,null,null,null,null,null,null,null,null,null,null,null,null,null,null,null,343,8.5323074895423845E-2,8.02244938305342,5.3386041636596939]
[null,-1,-1,-1,-1,-1,-1,-1,null,null,null,null,null,null,null,null,null,null,null,null,null,null,null,null,null,null,null,null,null,null,null,null,null,null,null,null,null,null,null,null,null,null,null,null,344,8.557183021581867E-2,8.0473249150929025,5.3619774305579222]
[null,-1,-1,-1,-1,-1,-1,-1,null,null,null,null,null,null,null,null,null,null,null,null,null,null,null,null,null,null,null,null,null,null,null,null,null,null,null,null,null,null,null,null,null,null,null,null,345,8.5820585536213481E-2,8.0722004471323849,5.3853637201411901]
[null,-1,-1,-1,-1,-1,-1,-1,null,null,null,null,null,null,null,null,null,null,null,null,null,null,null,null,null,null,null,null,null,null,null,null,null,null,null,null,null,null,null,null,null,null,null,null,346,8.6069340856608306E-2,8.0970759791718674,5.4087629195197557]
[null,-1,-1,-1,-1,-1,-1,-1,null,null,null,null,null,null,null,null,null,null,null,null,null,null,null,null,null,null,null,null,null,null,null,null,null,null,null,null,null,null,null,null,null,null,null,null,347,8.6318096177003131E-2,8.1219515112113498,5.4321749167824818]
[null,-1,-1,-1,-1,-1,-1,-1,null,null,null,null,null,null,null,null,null,null,null,null,null,null,null,null,null,null,null,null,null,null,null,null,null,null,null,null,null,null,null,null,null,null,null,null,348,8.6566851497397956E-2,8.1468270432508323,5.4555996009883581]
[null,-1,-1,-1,-1,-1,-1,-1,null,null,null,null,null,null,null,null,null,null,null,null,null,null,null,null,null,null,null,null,null,null,null,null,null,null,null,null,null,null,null,null,null,null,null,null,349,8.6815606817792768E-2,8.171702575290313,5.4790368621580869]
[null,-1,-1,-1,-1,-1,-1,-1,null,null,null,null,null,null,null,null,null,null,null,null,null,null,null,null,null,null,null,null,null,null,null,null,null,null,null,null,null,null,null,null,null,null,null,null,350,8.7064362138187593E-2,8.1965781073297954,5.5024865912657486]
[null,-1,-1,-1,-1,-1,-1,-1,null,null,null,null,null,null,null,null,null,null,null,null,null,null,null,null,null,null,null,null,null,null,null,null,null,null,null,null,null,null,null,null,null,null,null,null,351,8.7313117458582418E-2,8.2214536393692779,5.5259486802305364]
[null,-1,-1,-1,-1,-1,-1,-1,null,null,null,null,null,null,null,null,null,null,null,null,null,null,null,null,null,null,null,null,null,null,null,null,null,null,null,null,null,null,null,null,null,null,null,null,352,8.7561872778977243E-2,8.2463291714087603,5.5494230219085621]
[null,-1,-1,-1,-1,-1,-1,-1,null,null,null,null,null,null,null,null,null,null,null,null,null,null,null,null,null,null,null,null,null,null,null,null,null,null,null,null,null,null,null,null,null,null,null,null,353,8.7810628099372068E-2,8.2712047034482428,5.5729095100847372]
[null,-1,-1,-1,-1,-1,-1,-1,null,null,null,null,null,null,null,null,null,null,null,null,null,null,null,null,null,null,null,null,null,null,null,null,null,null,null,null,null,null,null,null,null,null,null,null,354,8.8059383419766879E-2,8.2960802354877234,5.5964080394647207]
[null,-1,-1,-1,-1,-1,-1,-1,null,null,null,null,null,null,null,null,null,null,null,null,null,null,null,null,null,null,null,null,null,null,null,null,null,null,null,null,null,null,null,null,null,null,null,null,355,8.8308138740161704E-2,8.3209557675272059,5.6199185056669352]
[null,-1,-1,-1,-1,-1,-1,-1,null,null,null,null,null,null,null,null,null,null,null,null,null,null,null,null,null,null,null,null,null,null,null,null,null,null,null,null,null,null,null,null,null,null,null,null,356,8.8556894060556529E-2,8.3458312995666883,5.643440805214655]
[null,-1,-1,-1,-1,-1,-1,-1,null,null,null,null,null,null,null,null,null,null,null,null,null,null,null,null,null,null,null,null,null,null,null,null,null,null,null,null,null,null,null,null,null,null,null,null,357,8.8805649380951354E-2,8.3707068316061708,5.6669748355281646]
[null,-1,-1,-1,-1,-1,-1,-1,null,null,null,null,null,null,null,null,null,null,null,null,null,null,null,null,null,null,null,null,null,null,null,null,null,null,null,null,null,null,null,null,null,null,null,null,358,8.9054404701346165E-2,8.3955823636456532,5.6905204949169814]
[null,-1,-1,-1,-1,-1,-1,-1,null,null,null,null,null,null,null,null,null,null,null,null,null,null,null,null,null,null,null,null,null,null,null,null,null,null,null,null,null,null,null,null,null,null,null,null,359,8.930316002174099E-2,8.4204578956851357,5.7140776825721451]
[null,-1,-1,-1,-1,-1,-1,-1,null,null,null,null,null,null,null,null,null,null,null,null,null,null,null,null,null,null,null,null,null,null,null,null,null,null,null,null,null,null,null,null,null,null,null,null,360,8.9551915342135816E-2,8.4453334277246181,5.7376462985585803]
[null,-1,-1,-1,-1,-1,-1,-1,null,null,null,null,null,null,null,null,null,null,null,null,null,null,null,null,null,null,null,null,null,null,null,null,null,null,null,null,null,null,null,null,null,null,null,null,361,8.9800670662530641E-2,8.4702089597641006,5.7612262438075179]
[null,-1,-1,-1,-1,-1,-1,-1,null,null,null,null,null,null,null,null,null,null,null,null,null,null,null,null,null,null,null,null,null,null,null,null,null,null,null,null,null,null,null,null,null,null,null,null,362,9.0049425982925452E-2,8.4950844918035813,5.7848174201089853]
[null,-1,-1,-1,-1,-1,-1,-1,null,null,null,null,null,null,null,null,null,null,null,null,null,null,null,null,null,null,null,null,null,null,null,null,null,null,null,null,null,null,null,null,null,null,null,null,363,9.0298181303320277E-2,8.5199600238430637,5.8084197301043634]
[null,-1,-1,-1,-1,-1,-1,-1,null,null,null,null,null,null,null,null,null,null,null,null,null,null,null,null,null,null,null,null,null,null,null,null,null,null,null,null,null,null,null,null,null,null,null,null,364,9.0546936623715102E-2,8.5448355558825462,5.8320330772790063]
[null,-1,-1,-1,-1,-1,-1,-1,null,null,null,null,null,null,null,null,null,null,null,null,null,null,null,null,null,null,null,null,null,null,null,null,null,null,null,null,null,null,null,null,null,null,null,null,365,9.0795691944109927E-2,8.5697110879220286,5.855657365954924]
[null,-1,-1,-1,-1,-1,-1,-1,null,null,null,null,null,null,null,null,null,null,null,null,null,null,null,null,null,null,null,null,null,null,null,null,null,null,null,null,null,null,null,null,null,null,null,null,366,9.1044447264504738E-2,8.5945866199615111,5.8792925012835298]
[null,-1,-1,-1,-1,-1,-1,-1,null,null,null,null,null,null,null,null,null,null,null,null,null,null,null,null,null,null,null,null,null,null,null,null,null,null,null,null,null,null,null,null,null,null,null,null,367,9.1293202584899563E-2,8.6194621520009935,5.9029383892384502]
[null,-1,-1,-1,-1,-1,-1,-1,null,null,null,null,null,null,null,null,null,null,null,null,null,null,null,null,null,null,null,null,null,null,null,null,null,null,null,null,null,null,null,null,null,null,null,null,368,9.1541957905294388E-2,8.644337684040476,5.9265949366084003]
[null,-1,-1,-1,-1,-1,-1,-1,null,null,null,null,null,null,null,null,null,null,null,null,null,null,null,null,null,null,null,null,null,null,null,null,null,null,null,null,null,null,null,null,null,null,null,null,369,9.1790713225689213E-2,8.6692132160799584,5.9502620509901138]
[null,-1,-1,-1,-1,-1,-1,-1,null,null,null,null,null,null,null,null,null,null,null,null,null,null,null,null,null,null,null,null,null,null,null,null,null,null,null,null,null,null,null,null,null,null,null,null,370,9.2039468546084025E-2,8.6940887481194391,5.9739396407813432]
[null,-1,-1,-1,-1,-1,-1,-1,null,null,null,null,null,null,null,null,null,null,null,null,null,null,null,null,null,null,null,null,null,null,null,null,null,null,null,null,null,null,null,null,null,null,null,null,371,9.228822386647885E-2,8.7189642801589216,5.9976276151739096]
[null,-1,-1,-1,-1,-1,-1,-1,null,null,null,null,null,null,null,null,null,null,null,null,null,null,null,null,null,null,null,null,null,null,null,null,null,null,null,null,null,null,null,null,null,null,null,null,372,9.2536979186873675E-2,8.743839812198404,6.0213258841468251]
[null,-1,-1,-1,-1,-1,-1,-1,null,null,null,null,null,null,null,null,null,null,null,null,null,null,null,null,null,null,null,null,null,null,null,null,null,null,null,null,null,null,null,null,null,null,null,null,373,9.27857345072685E-2,8.7687153442378865,6.0450343584594668]
[null,-1,-1,-1,-1,-1,-1,-1,null,null,null,null,null,null,null,null,null,null,null,null,null,null,null,null,null,null,null,null,null,null,null,null,null,null,null,null,null,null,null,null,null,null,null,null,374,9.3034489827663311E-2,8.7935908762773671,6.0687529496448125]
[null,-1,-1,-1,-1,-1,-1,-1,null,null,null,null,null,null,null,null,null,null,null,null,null,null,null,null,null,null,null,null,null,null,null,null,null,null,null,null,null,null,null,null,null,null,null,null,375,9.3283245148058136E-2,8.8184664083168496,6.0924815700027315]
[null,-1,-1,-1,-1,-1,-1,-1,null,null,null,null,null,null,null,null,null,null,null,null,null,null,null,null,null,null,null,null,null,null,null,null,null,null,null,null,null,null,null,null,null,null,null,null,376,9.3532000468452961E-2,8.843341940356332,6.1162201325933419]
[null,-1,-1,-1,-1,-1,-1,-1,null,null,null,null,null,null,null,null,null,null,null,null,null,null,null,null,null,null,null,null,null,null,null,null,null,null,null,null,null,null,null,null,null,null,null,null,377,9.3780755788847786E-2,8.8682174723958145,6.1399685512304156]
[null,-1,-1,-1,-1,-1,-1,-1,null,null,null,null,null,null,null,null,null,null,null,null,null,null,null,null,null,null,null,null,null,null,null,null,null,null,null,null,null,null,null,null,null,null,null,null,378,9.4029511109242597E-2,8.8930930044352969,6.1637267404748481]
[null,-1,-1,-1,-1,-1,-1,-1,null,null,null,null,null,null,null,null,null,null,null,null,null,null,null,null,null,null,null,null,null,null,null,null,null,null,null,null,null,null,null,null,null,null,null,null,379,9.4278266429637422E-2,8.9179685364747794,6.1874946156281814]
[null,-1,-1,-1,-1,-1,-1,-1,null,null,null,null,null,null,null,null,null,null,null,null,null,null,null,null,null,null,null,null,null,null,null,null,null,null,null,null,null,null,null,null,null,null,null,null,{"$f":"AS410+1","v":380},9.4527021750032247E-2,8.9428440685142618,6.2112720927261815]
[null,-1,-1,-1,-1,-1,-1,-1,null,null,null,null,null,null,null,null,null,null,null,null,null,null,null,null,null,null,null,null,null,null,null,null,null,null,null,null,null,null,null,null,null,null,null,null,381,9.4775777070427072E-2,8.9677196005537443,6.2350590885324753]
[null,-1,-1,-1,-1,-1,-1,-1,null,null,null,null,null,null,null,null,null,null,null,null,null,null,null,null,null,null,null,null,null,null,null,null,null,null,null,null,null,null,null,null,null,null,null,null,382,9.5024532390821884E-2,8.992595132593225,6.2588555205322409]
[null,-1,-1,-1,-1,-1,-1,-1,null,null,null,null,null,null,null,null,null,null,null,null,null,null,null,null,null,null,null,null,null,null,null,null,null,null,null,null,null,null,null,null,null,null,null,null,383,9.5273287711216709E-2,9.0174706646327074,6.282661306925954]
[null,-1,-1,-1,-1,-1,-1,-1,null,null,null,null,null,null,null,null,null,null,null,null,null,null,null,null,null,null,null,null,null,null,null,null,null,null,null,null,null,null,null,null,null,null,null,null,384,{"$f":"$AP$18/$N$7*AS415","v":9.5522043031611534E-2},9.0423461966721899,6.3064763666231842]
[null,-1,-1,-1,-1,-1,-1,-1,null,null,null,null,null,null,null,null,null,null,null,null,null,null,null,null,null,null,null,null,null,null,null,null,null,null,null,null,null,null,null,null,null,null,null,null,385,9.5770798352006359E-2,{"$f":"IF(($N$4*AT416^2/2)<=$AP$13,($N$4*AT416^2/2), IF(($AP$13+$N$6*(AT416-$AP$12))<=$AP$17, ($AP$13+$N$6*(AT416-$AP$12)), IF(AU415<$D$14, ($AP$17+($N$6-$N$5*(AT416-$AP$16)/2)*(AT416-$AP$16)), $D$14)))","v":9.0672217287116723},6.3303006192364499]
[null,-1,-1,-1,-1,-1,-1,-1,null,null,null,null,null,null,null,null,null,null,null,null,null,null,null,null,null,null,null,null,null,null,null,null,null,null,null,null,null,null,null,null,null,null,null,null,386,9.6019553672401184E-2,9.0920972607511548,{"$f":"( $AP$6*AU417 + $AP$7*AU416 + $AP$9*AV416 )/$AP$8","v":6.3541339850751255}]
[null,-1,-1,-1,-1,-1,-1,-1,null,null,null,null,null,null,null,null,null,null,null,null,null,null,null,null,null,null,null,null,null,null,null,null,null,null,null,null,null,null,null,null,null,null,null,null,387,9.6268308992795995E-2,9.1169727927906354,6.3779763851393971]
[null,-1,-1,-1,-1,-1,-1,-1,null,null,null,null,null,null,null,null,null,null,null,null,null,null,null,null,null,null,null,null,null,null,null,null,null,null,null,null,null,null,null,null,null,null,null,null,388,9.651706431319082E-2,9.1418483248301179,6.4018277411142792]
[null,-1,-1,-1,-1,-1,-1,-1,null,null,null,null,null,null,null,null,null,null,null,null,null,null,null,null,null,null,null,null,null,null,null,null,null,null,null,null,null,null,null,null,null,null,null,null,389,9.6765819633585645E-2,9.1667238568696003,6.4256879753636742]
[null,-1,-1,-1,-1,-1,-1,-1,null,null,null,null,null,null,null,null,null,null,null,null,null,null,null,null,null,null,null,null,null,null,null,null,null,null,null,null,null,null,null,null,null,null,null,null,390,9.701457495398047E-2,9.1915993889090846,6.4495570109244893]
[null,-1,-1,-1,-1,-1,-1,-1,null,null,null,null,null,null,null,null,null,null,null,null,null,null,null,null,null,null,null,null,null,null,null,null,null,null,null,null,null,null,null,null,null,null,null,null,391,9.7263330274375281E-2,9.2164749209485652,6.4734347715007994]
[null,-1,-1,-1,-1,-1,-1,-1,null,null,null,null,null,null,null,null,null,null,null,null,null,null,null,null,null,null,null,null,null,null,null,null,null,null,null,null,null,null,null,null,null,null,null,null,392,9.7512085594770107E-2,9.2413504529880477,6.4973211814580676]
[null,-1,-1,-1,-1,-1,-1,-1,null,null,null,null,null,null,null,null,null,null,null,null,null,null,null,null,null,null,null,null,null,null,null,null,null,null,null,null,null,null,null,null,null,null,null,null,393,9.7760840915164932E-2,9.2662259850275301,6.5212161658174104]
[null,-1,-1,-1,-1,-1,-1,-1,null,null,null,null,null,null,null,null,null,null,null,null,null,null,null,null,null,null,null,null,null,null,null,null,null,null,null,null,null,null,null,null,null,null,null,null,394,9.8009596235559757E-2,9.2911015170670126,6.5451196502499123]
[null,-1,-1,-1,-1,-1,-1,-1,null,null,null,null,null,null,null,null,null,null,null,null,null,null,null,null,null,null,null,null,null,null,null,null,null,null,null,null,null,null,null,null,null,null,null,null,395,9.8258351555954568E-2,9.3159770491064933,6.569031561070994]
[null,-1,-1,-1,-1,-1,-1,-1,null,null,null,null,null,null,null,null,null,null,null,null,null,null,null,null,null,null,null,null,null,null,null,null,null,null,null,null,null,null,null,null,null,null,null,null,396,9.8507106876349393E-2,9.3408525811459757,6.5929518252348256]
[null,-1,-1,-1,-1,-1,-1,-1,null,null,null,null,null,null,null,null,null,null,null,null,null,null,null,null,null,null,null,null,null,null,null,null,null,null,null,null,null,null,null,null,null,null,null,null,397,9.8755862196744218E-2,9.3657281131854582,6.6168803703287882]
[null,-1,-1,-1,-1,-1,-1,-1,null,null,null,null,null,null,null,null,null,null,null,null,null,null,null,null,null,null,null,null,null,null,null,null,null,null,null,null,null,null,null,null,null,null,null,null,398,9.9004617517139043E-2,9.3906036452249406,6.6408171245679881]
[null,-1,-1,-1,-1,-1,-1,-1,null,null,null,null,null,null,null,null,null,null,null,null,null,null,null,null,null,null,null,null,null,null,null,null,null,null,null,null,null,null,null,null,null,null,null,null,399,9.9253372837533854E-2,9.4154791772644213,6.664762016789811]
[null,-1,-1,-1,-1,-1,-1,-1,null,null,null,null,null,null,null,null,null,null,null,null,null,null,null,null,null,null,null,null,null,null,null,null,null,null,null,null,null,null,null,null,null,null,null,null,400,9.9502128157928679E-2,9.4403547093039037,6.6887149764485327]
[null,-1,-1,-1,-1,-1,-1,-1,null,null,null,null,null,null,null,null,null,null,null,null,null,null,null,null,null,null,null,null,null,null,null,null,null,null,null,null,null,null,null,null,null,null,null,null,{"$f":"AS431+1","v":401},9.9750883478323504E-2,9.4652302413433862,6.7126759336099671]
[null,-1,-1,-1,-1,-1,-1,-1,null,null,null,null,null,null,null,null,null,null,null,null,null,null,null,null,null,null,null,null,null,null,null,null,null,null,null,null,null,null,null,null,null,null,null,null,402,9.9999638798718329E-2,9.4901057733828704,6.7366448189461652]
[null,-1,-1,-1,-1,-1,-1,-1,null,null,null,null,null,null,null,null,null,null,null,null,null,null,null,null,null,null,null,null,null,null,null,null,null,null,null,null,null,null,null,null,null,null,null,null,403,0.10024839411911314,9.5149813054223511,6.7606215637301634]
[null,-1,-1,-1,-1,-1,-1,-1,null,null,null,null,null,null,null,null,null,null,null,null,null,null,null,null,null,null,null,null,null,null,null,null,null,null,null,null,null,null,null,null,null,null,null,null,404,0.10049714943950797,9.5398568374618335,6.7846060998307705]
[null,-1,-1,-1,-1,-1,-1,-1,null,null,null,null,null,null,null,null,null,null,null,null,null,null,null,null,null,null,null,null,null,null,null,null,null,null,null,null,null,null,null,null,null,null,null,null,405,0.10074590475990279,9.564732369501316,6.8085983597074042]
[null,-1,-1,-1,-1,-1,-1,-1,null,null,null,null,null,null,null,null,null,null,null,null,null,null,null,null,null,null,null,null,null,null,null,null,null,null,null,null,null,null,null,null,null,null,null,null,406,0.10099466008029762,9.5896079015407985,6.8325982764049726]
[null,-1,-1,-1,-1,-1,-1,-1,null,null,null,null,null,null,null,null,null,null,null,null,null,null,null,null,null,null,null,null,null,null,null,null,null,null,null,null,null,null,null,null,null,null,null,null,407,0.10124341540069243,9.6144834335802791,6.8566057835487939]
[null,-1,-1,-1,-1,-1,-1,-1,null,null,null,null,null,null,null,null,null,null,null,null,null,null,null,null,null,null,null,null,null,null,null,null,null,null,null,null,null,null,null,null,null,null,null,null,408,0.10149217072108725,9.6393589656197616,6.8806208153395723]
[null,-1,-1,-1,-1,-1,-1,-1,null,null,null,null,null,null,null,null,null,null,null,null,null,null,null,null,null,null,null,null,null,null,null,null,null,null,null,null,null,null,null,null,null,null,null,null,409,0.10174092604148208,9.664234497659244,6.9046433065484045]
[null,-1,-1,-1,-1,-1,-1,-1,null,null,null,null,null,null,null,null,null,null,null,null,null,null,null,null,null,null,null,null,null,null,null,null,null,null,null,null,null,null,null,null,null,null,null,null,410,0.1019896813618769,9.6891100296987265,6.9286731925118374]
[null,-1,-1,-1,-1,-1,-1,-1,null,null,null,null,null,null,null,null,null,null,null,null,null,null,null,null,null,null,null,null,null,null,null,null,null,null,null,null,null,null,null,null,null,null,null,null,411,0.10223843668227171,9.7139855617382072,6.9527104091269649]
[null,-1,-1,-1,-1,-1,-1,-1,null,null,null,null,null,null,null,null,null,null,null,null,null,null,null,null,null,null,null,null,null,null,null,null,null,null,null,null,null,null,null,null,null,null,null,null,412,0.10248719200266654,9.7388610937776914,6.9767548928465706]
[null,-1,-1,-1,-1,-1,-1,-1,null,null,null,null,null,null,null,null,null,null,null,null,null,null,null,null,null,null,null,null,null,null,null,null,null,null,null,null,null,null,null,null,null,null,null,null,413,0.10273594732306136,9.7637366258171738,7.0008065806743094]
[null,-1,-1,-1,-1,-1,-1,-1,null,null,null,null,null,null,null,null,null,null,null,null,null,null,null,null,null,null,null,null,null,null,null,null,null,null,null,null,null,null,null,null,null,null,null,null,414,0.10298470264345619,9.7886121578566563,7.0248654101599337]
[null,-1,-1,-1,-1,-1,-1,-1,null,null,null,null,null,null,null,null,null,null,null,null,null,null,null,null,null,null,null,null,null,null,null,null,null,null,null,null,null,null,null,null,null,null,null,null,415,0.103233457963851,9.813487689896137,7.0489313193945575]
[null,-1,-1,-1,-1,-1,-1,-1,null,null,null,null,null,null,null,null,null,null,null,null,null,null,null,null,null,null,null,null,null,null,null,null,null,null,null,null,null,null,null,null,null,null,null,null,416,0.10348221328424582,9.8383632219356194,7.0730042470059642]
[null,-1,-1,-1,-1,-1,-1,-1,null,null,null,null,null,null,null,null,null,null,null,null,null,null,null,null,null,null,null,null,null,null,null,null,null,null,null,null,null,null,null,null,null,null,null,null,417,0.10373096860464065,9.8632387539751019,7.0970841321539551]
[null,-1,-1,-1,-1,-1,-1,-1,null,null,null,null,null,null,null,null,null,null,null,null,null,null,null,null,null,null,null,null,null,null,null,null,null,null,null,null,null,null,null,null,null,null,null,null,418,0.10397972392503547,9.8881142860145843,7.1211709145257363]
[null,-1,-1,-1,-1,-1,-1,-1,null,null,null,null,null,null,null,null,null,null,null,null,null,null,null,null,null,null,null,null,null,null,null,null,null,null,null,null,null,null,null,null,null,null,null,null,419,0.1042284792454303,9.9129898180540668,7.1452645343313463]
[null,-1,-1,-1,-1,-1,-1,-1,null,null,null,null,null,null,null,null,null,null,null,null,null,null,null,null,null,null,null,null,null,null,null,null,null,null,null,null,null,null,null,null,null,null,null,null,420,0.10447723456582511,9.9378653500935474,7.1693649322991275]
[null,-1,-1,-1,-1,-1,-1,-1,null,null,null,null,null,null,null,null,null,null,null,null,null,null,null,null,null,null,null,null,null,null,null,null,null,null,null,null,null,null,null,null,null,null,null,null,421,0.10472598988621994,9.9627408821330299,7.1934720496712288]
[null,-1,-1,-1,-1,-1,-1,-1,null,null,null,null,null,null,null,null,null,null,null,null,null,null,null,null,null,null,null,null,null,null,null,null,null,null,null,null,null,null,null,null,null,null,null,null,422,0.10497474520661476,9.9876164141725123,7.2175858281991525]
[null,-1,-1,-1,-1,-1,-1,-1,null,null,null,null,null,null,null,null,null,null,null,null,null,null,null,null,null,null,null,null,null,null,null,null,null,null,null,null,null,null,null,null,null,null,null,null,423,0.10522350052700959,10.012491946211995,7.2417062101393412]
[null,-1,-1,-1,-1,-1,-1,-1,null,null,null,null,null,null,null,null,null,null,null,null,null,null,null,null,null,null,null,null,null,null,null,null,null,null,null,null,null,null,null,null,null,null,null,null,424,0.1054722558474044,10.037367478251477,7.2658331382487988]
[null,-1,-1,-1,-1,-1,-1,-1,null,null,null,null,null,null,null,null,null,null,null,null,null,null,null,null,null,null,null,null,null,null,null,null,null,null,null,null,null,null,null,null,null,null,null,null,425,0.10572101116779922,10.06224301029096,7.2899665557807518]
[null,-1,-1,-1,-1,-1,-1,-1,null,null,null,null,null,null,null,null,null,null,null,null,null,null,null,null,null,null,null,null,null,null,null,null,null,null,null,null,null,null,null,null,null,null,null,null,426,0.10596976648819405,10.087118542330442,7.3141064064803469]
[null,-1,-1,-1,-1,-1,-1,-1,null,null,null,null,null,null,null,null,null,null,null,null,null,null,null,null,null,null,null,null,null,null,null,null,null,null,null,null,null,null,null,null,null,null,null,null,427,0.10621852180858887,10.111994074369925,7.3382526345803845]
[null,-1,-1,-1,-1,-1,-1,-1,null,null,null,null,null,null,null,null,null,null,null,null,null,null,null,null,null,null,null,null,null,null,null,null,null,null,null,null,null,null,null,null,null,null,null,null,428,0.10646727712898368,10.136869606409405,7.3624051847970993]
[null,-1,-1,-1,-1,-1,-1,-1,null,null,null,null,null,null,null,null,null,null,null,null,null,null,null,null,null,null,null,null,null,null,null,null,null,null,null,null,null,null,null,null,null,null,null,null,429,0.10671603244937851,10.161745138448888,7.3865640023259616]
[null,-1,-1,-1,-1,-1,-1,-1,null,null,null,null,null,null,null,null,null,null,null,null,null,null,null,null,null,null,null,null,null,null,null,null,null,null,null,null,null,null,null,null,null,null,null,null,430,0.10696478776977333,10.18662067048837,7.4107290328375255]
[null,-1,-1,-1,-1,-1,-1,-1,null,null,null,null,null,null,null,null,null,null,null,null,null,null,null,null,null,null,null,null,null,null,null,null,null,null,null,null,null,null,null,null,null,null,null,null,431,0.10721354309016816,10.211496202527853,7.4349002224733098]
[null,-1,-1,-1,-1,-1,-1,-1,null,null,null,null,null,null,null,null,null,null,null,null,null,null,null,null,null,null,null,null,null,null,null,null,null,null,null,null,null,null,null,null,null,null,null,null,432,0.10746229841056297,10.236371734567333,7.4590775178417186]
[null,-1,-1,-1,-1,-1,-1,-1,null,null,null,null,null,null,null,null,null,null,null,null,null,null,null,null,null,null,null,null,null,null,null,null,null,null,null,null,null,null,null,null,null,null,null,null,433,0.1077110537309578,10.261247266606816,7.4832608660139908]
[null,-1,-1,-1,-1,-1,-1,-1,null,null,null,null,null,null,null,null,null,null,null,null,null,null,null,null,null,null,null,null,null,null,null,null,null,null,null,null,null,null,null,null,null,null,null,null,434,0.10795980905135262,10.286122798646298,7.5074502145201896]
[null,-1,-1,-1,-1,-1,-1,-1,null,null,null,null,null,null,null,null,null,null,null,null,null,null,null,null,null,null,null,null,null,null,null,null,null,null,null,null,null,null,null,null,null,null,null,null,435,0.10820856437174745,10.310998330685781,7.5316455113452232]
[null,-1,-1,-1,-1,-1,-1,-1,null,null,null,null,null,null,null,null,null,null,null,null,null,null,null,null,null,null,null,null,null,null,null,null,null,null,null,null,null,null,null,null,null,null,null,null,436,0.10845731969214226,10.335873862725263,7.5558467049249014]
[null,-1,-1,-1,-1,-1,-1,-1,null,null,null,null,null,null,null,null,null,null,null,null,null,null,null,null,null,null,null,null,null,null,null,null,null,null,null,null,null,null,null,null,null,null,null,null,437,0.10870607501253708,10.360749394764746,7.5800537441420319]
[null,-1,-1,-1,-1,-1,-1,-1,null,null,null,null,null,null,null,null,null,null,null,null,null,null,null,null,null,null,null,null,null,null,null,null,null,null,null,null,null,null,null,null,null,null,null,null,438,0.10895483033293191,10.385624926804228,7.6042665783225409]
[null,-1,-1,-1,-1,-1,-1,-1,null,null,null,null,null,null,null,null,null,null,null,null,null,null,null,null,null,null,null,null,null,null,null,null,null,null,null,null,null,null,null,null,null,null,null,null,439,0.10920358565332673,10.41050045884371,7.6284851572316317]
[null,-1,-1,-1,-1,-1,-1,-1,null,null,null,null,null,null,null,null,null,null,null,null,null,null,null,null,null,null,null,null,null,null,null,null,null,null,null,null,null,null,null,null,null,null,null,null,440,0.10945234097372154,10.435375990883191,7.6527094310699786]
[null,-1,-1,-1,-1,-1,-1,-1,null,null,null,null,null,null,null,null,null,null,null,null,null,null,null,null,null,null,null,null,null,null,null,null,null,null,null,null,null,null,null,null,null,null,null,null,441,0.10970109629411637,10.460251522922674,7.6769393504699508]
[null,-1,-1,-1,-1,-1,-1,-1,null,null,null,null,null,null,null,null,null,null,null,null,null,null,null,null,null,null,null,null,null,null,null,null,null,null,null,null,null,null,null,null,null,null,null,null,442,0.10994985161451119,10.485127054962156,7.701174866491872]
[null,-1,-1,-1,-1,-1,-1,-1,null,null,null,null,null,null,null,null,null,null,null,null,null,null,null,null,null,null,null,null,null,null,null,null,null,null,null,null,null,null,null,null,null,null,null,null,443,0.11019860693490602,10.510002587001638,7.7254159306203078]
[null,-1,-1,-1,-1,-1,-1,-1,null,null,null,null,null,null,null,null,null,null,null,null,null,null,null,null,null,null,null,null,null,null,null,null,null,null,null,null,null,null,null,null,null,null,null,null,444,0.11044736225530083,10.534878119041119,7.7496624947603907]
[null,-1,-1,-1,-1,-1,-1,-1,null,null,null,null,null,null,null,null,null,null,null,null,null,null,null,null,null,null,null,null,null,null,null,null,null,null,null,null,null,null,null,null,null,null,null,null,445,0.11069611757569565,10.559753651080602,7.7739145112341728]
[null,-1,-1,-1,-1,-1,-1,-1,null,null,null,null,null,null,null,null,null,null,null,null,null,null,null,null,null,null,null,null,null,null,null,null,null,null,null,null,null,null,null,null,null,null,null,null,446,0.11094487289609048,10.584629183120084,7.7981719327770103]
[null,-1,-1,-1,-1,-1,-1,-1,null,null,null,null,null,null,null,null,null,null,null,null,null,null,null,null,null,null,null,null,null,null,null,null,null,null,null,null,null,null,null,null,null,null,null,null,447,0.1111936282164853,10.609504715159567,7.822434712533985]
[null,-1,-1,-1,-1,-1,-1,-1,null,null,null,null,null,null,null,null,null,null,null,null,null,null,null,null,null,null,null,null,null,null,null,null,null,null,null,null,null,null,null,null,null,null,null,null,448,{"$f":"$AP$18/$N$7*AS479","v":0.11144238353688013},10.634380247199049,7.8467028040563491]
[null,-1,-1,-1,-1,-1,-1,-1,null,null,null,null,null,null,null,null,null,null,null,null,null,null,null,null,null,null,null,null,null,null,null,null,null,null,null,null,null,null,null,null,null,null,null,null,449,0.11169113885727494,{"$f":"IF(($N$4*AT480^2/2)<=$AP$13,($N$4*AT480^2/2), IF(($AP$13+$N$6*(AT480-$AP$12))<=$AP$17, ($AP$13+$N$6*(AT480-$AP$12)), IF(AU479<$D$14, ($AP$17+($N$6-$N$5*(AT480-$AP$16)/2)*(AT480-$AP$16)), $D$14)))","v":10.659255779238531},7.8709761612980049]
[null,-1,-1,-1,-1,-1,-1,-1,null,null,null,null,null,null,null,null,null,null,null,null,null,null,null,null,null,null,null,null,null,null,null,null,null,null,null,null,null,null,null,null,null,null,null,null,450,0.11193989417766977,10.684131311278014,{"$f":"( $AP$6*AU481 + $AP$7*AU480 + $AP$9*AV480 )/$AP$8","v":7.8952547386120147}]
[null,-1,-1,-1,-1,-1,-1,-1,null,null,null,null,null,null,null,null,null,null,null,null,null,null,null,null,null,null,null,null,null,null,null,null,null,null,null,null,null,null,null,null,null,null,null,null,451,0.11218864949806459,10.709006843317496,7.9195384907471391]
[null,-1,-1,-1,-1,-1,-1,-1,null,null,null,null,null,null,null,null,null,null,null,null,null,null,null,null,null,null,null,null,null,null,null,null,null,null,null,null,null,null,null,null,null,null,null,null,452,0.11243740481845942,10.733882375356979,7.9438273728444093]
[null,-1,-1,-1,-1,-1,-1,-1,null,null,null,null,null,null,null,null,null,null,null,null,null,null,null,null,null,null,null,null,null,null,null,null,null,null,null,null,null,null,null,null,null,null,null,null,453,0.11268616013885423,10.758757907396459,7.9681213404337257]
[null,-1,-1,-1,-1,-1,-1,-1,null,null,null,null,null,null,null,null,null,null,null,null,null,null,null,null,null,null,null,null,null,null,null,null,null,null,null,null,null,null,null,null,null,null,null,null,454,0.11293491545924905,10.783633439435942,7.9924203494304846]
[null,-1,-1,-1,-1,-1,-1,-1,null,null,null,null,null,null,null,null,null,null,null,null,null,null,null,null,null,null,null,null,null,null,null,null,null,null,null,null,null,null,null,null,null,null,null,null,455,0.11318367077964388,10.808508971475424,8.0167243561322419]
[null,-1,-1,-1,-1,-1,-1,-1,null,null,null,null,null,null,null,null,null,null,null,null,null,null,null,null,null,null,null,null,null,null,null,null,null,null,null,null,null,null,null,null,null,null,null,null,456,0.1134324261000387,10.833384503514907,8.0410333172153923]
[null,-1,-1,-1,-1,-1,-1,-1,null,null,null,null,null,null,null,null,null,null,null,null,null,null,null,null,null,null,null,null,null,null,null,null,null,null,null,null,null,null,null,null,null,null,null,null,457,0.11368118142043351,10.858260035554387,8.0653471897318951]
[null,-1,-1,-1,-1,-1,-1,-1,null,null,null,null,null,null,null,null,null,null,null,null,null,null,null,null,null,null,null,null,null,null,null,null,null,null,null,null,null,null,null,null,null,null,null,null,458,0.11392993674082834,10.88313556759387,8.0896659311060102]
[null,-1,-1,-1,-1,-1,-1,-1,null,null,null,null,null,null,null,null,null,null,null,null,null,null,null,null,null,null,null,null,null,null,null,null,null,null,null,null,null,null,null,null,null,null,null,null,459,0.11417869206122316,10.908011099633352,8.1139894991310726]
[null,-1,-1,-1,-1,-1,-1,-1,null,null,null,null,null,null,null,null,null,null,null,null,null,null,null,null,null,null,null,null,null,null,null,null,null,null,null,null,null,null,null,null,null,null,null,null,460,0.11442744738161799,10.932886631672835,8.1383178519662973]
[null,-1,-1,-1,-1,-1,-1,-1,null,null,null,null,null,null,null,null,null,null,null,null,null,null,null,null,null,null,null,null,null,null,null,null,null,null,null,null,null,null,null,null,null,null,null,null,461,0.1146762027020128,10.957762163712317,8.1626509481336011]
[null,-1,-1,-1,-1,-1,-1,-1,null,null,null,null,null,null,null,null,null,null,null,null,null,null,null,null,null,null,null,null,null,null,null,null,null,null,null,null,null,null,null,null,null,null,null,null,462,0.11492495802240763,10.9826376957518,8.1869887465144657]
[null,-1,-1,-1,-1,-1,-1,-1,null,null,null,null,null,null,null,null,null,null,null,null,null,null,null,null,null,null,null,null,null,null,null,null,null,null,null,null,null,null,null,null,null,null,null,null,463,0.11517371334280245,11.007513227791282,8.2113312063468129]
[null,-1,-1,-1,-1,-1,-1,-1,null,null,null,null,null,null,null,null,null,null,null,null,null,null,null,null,null,null,null,null,null,null,null,null,null,null,null,null,null,null,null,null,null,null,null,null,464,0.11542246866319728,11.032388759830765,8.2356782872219227]
[null,-1,-1,-1,-1,-1,-1,-1,null,null,null,null,null,null,null,null,null,null,null,null,null,null,null,null,null,null,null,null,null,null,null,null,null,null,null,null,null,null,null,null,null,null,null,null,{"$f":"AS495+1","v":465},0.11567122398359209,11.057264291870245,8.2600299490813622]
[null,-1,-1,-1,-1,-1,-1,-1,null,null,null,null,null,null,null,null,null,null,null,null,null,null,null,null,null,null,null,null,null,null,null,null,null,null,null,null,null,null,null,null,null,null,null,null,466,0.11591997930398691,11.082139823909728,8.2843861522139584]
[null,-1,-1,-1,-1,-1,-1,-1,null,null,null,null,null,null,null,null,null,null,null,null,null,null,null,null,null,null,null,null,null,null,null,null,null,null,null,null,null,null,null,null,null,null,null,null,467,0.11616873462438174,11.10701535594921,8.3087468572527747]
[null,-1,-1,-1,-1,-1,-1,-1,null,null,null,null,null,null,null,null,null,null,null,null,null,null,null,null,null,null,null,null,null,null,null,null,null,null,null,null,null,null,null,null,null,null,null,null,468,0.11641748994477656,11.131890887988693,8.3331120251721416]
[null,-1,-1,-1,-1,-1,-1,-1,null,null,null,null,null,null,null,null,null,null,null,null,null,null,null,null,null,null,null,null,null,null,null,null,null,null,null,null,null,null,null,null,null,null,null,null,469,0.11666624526517137,11.156766420028173,8.3574816172846891]
[null,-1,-1,-1,-1,-1,-1,-1,null,null,null,null,null,null,null,null,null,null,null,null,null,null,null,null,null,null,null,null,null,null,null,null,null,null,null,null,null,null,null,null,null,null,null,null,470,0.1169150005855662,11.181641952067656,8.3818555952384148]
[null,-1,-1,-1,-1,-1,-1,-1,null,null,null,null,null,null,null,null,null,null,null,null,null,null,null,null,null,null,null,null,null,null,null,null,null,null,null,null,null,null,null,null,null,null,null,null,476,0.11840753250793513,11.33089514430455,8.528189459442622]
[null,-1,-1,-1,-1,-1,-1,-1,null,null,null,null,null,null,null,null,null,null,null,null,null,null,null,null,null,null,null,null,null,null,null,null,null,null,null,null,null,null,null,null,null,null,null,null,481,0.11965130910990925,11.455272804501961,8.650248176673804]
[null,-1,-1,-1,-1,-1,-1,-1,null,null,null,null,null,null,null,null,null,null,null,null,null,null,null,null,null,null,null,null,null,null,null,null,null,null,null,null,null,null,null,null,null,null,null,null,487,0.12114384103227817,11.604525996738854,8.7968486581103438]
[null,-1,-1,-1,-1,-1,-1,-1,null,null,null,null,null,null,null,null,null,null,null,null,null,null,null,null,null,null,null,null,null,null,null,null,null,null,null,null,null,null,null,null,null,null,null,null,495,0.12313388359543674,11.80353025305471,8.9925247959375625]
[null,-1,-1,-1,-1,-1,-1,-1,null,null,null,null,null,null,null,null,null,null,null,null,null,null,null,null,null,null,null,null,null,null,null,null,null,null,null,null,null,null,null,null,null,null,null,null,498,0.1238801495566212,11.878156849173157,9.0659619094067949]
[null,-1,-1,-1,-1,-1,-1,-1,null,null,null,null,null,null,null,null,null,null,null,null,null,null,null,null,null,null,null,null,null,null,null,null,null,null,null,null,null,null,null,null,null,null,null,null,504,0.12537268147899014,12.02741004141005,9.2129273449902911]
[null,-1,-1,-1,-1,-1,-1,-1,null,null,null,null,null,null,null,null,null,null,null,null,null,null,null,null,null,null,null,null,null,null,null,null,null,null,null,null,null,null,null,null,null,null,null,null,509,0.12661645808096425,12.151787701607462,9.3354877454825758]
[null,-1,-1,-1,-1,-1,-1,-1,null,null,null,null,null,null,null,null,null,null,null,null,null,null,null,null,null,null,null,null,null,null,null,null,null,null,null,null,null,null,null,null,null,null,null,null,515,0.12810899000333317,12.301040893844354,9.4826621179653703]
[null,-1,-1,-1,-1,-1,-1,-1,null,null,null,null,null,null,null,null,null,null,null,null,null,null,null,null,null,null,null,null,null,null,null,null,null,null,null,null,null,null,null,null,null,null,null,null,520,0.12935276660530728,12.425418554041766,9.6053884856759968]
[null,-1,-1,-1,-1,-1,-1,-1,null,null,null,null,null,null,null,null,null,null,null,null,null,null,null,null,null,null,null,null,null,null,null,null,null,null,null,null,null,null,null,null,null,null,null,null,526,0.13084529852767621,12.574671746278657,9.7527527132087002]
[null,-1,-1,-1,-1,-1,-1,-1,null,null,null,null,null,null,null,null,null,null,null,null,null,null,null,null,null,null,null,null,null,null,null,null,null,null,null,null,null,null,null,null,null,null,null,null,527,0.13109405384807105,12.599547278318141,9.7773229005029592]
[null,-1,-1,-1,-1,-1,-1,-1,null,null,null,null,null,null,null,null,null,null,null,null,null,null,null,null,null,null,null,null,null,null,null,null,null,null,null,null,null,null,null,null,null,null,null,null,532,0.13233783045004516,12.723924938515552,9.9002130851641592]
[null,-1,-1,-1,-1,-1,-1,-1,null,null,null,null,null,null,null,null,null,null,null,null,null,null,null,null,null,null,null,null,null,null,null,null,null,null,null,null,null,null,null,null,null,null,null,null,537,0.13358160705201924,12.84830259871296,10.023166634081571]
[null,-1,-1,-1,-1,-1,-1,-1,null,null,null,null,null,null,null,null,null,null,null,null,null,null,null,null,null,null,null,null,null,null,null,null,null,null,null,null,null,null,null,null,null,null,null,null,545,0.13557164961517784,13.04730685502882,10.220017415938234]
[null,-1,-1,-1,-1,-1,-1,-1,null,null,null,null,null,null,null,null,null,null,null,null,null,null,null,null,null,null,null,null,null,null,null,null,null,null,null,null,null,null,null,null,null,null,null,null,549,0.13656667089675711,13.146808983186748,10.318497765491159]
[null,-1,-1,-1,-1,-1,-1,-1,null,null,null,null,null,null,null,null,null,null,null,null,null,null,null,null,null,null,null,null,null,null,null,null,null,null,null,null,null,null,null,null,null,null,null,null,555,0.13805920281912604,13.296062175423641,10.466283486511946]
[null,-1,-1,-1,-1,-1,-1,-1,null,null,null,null,null,null,null,null,null,null,null,null,null,null,null,null,null,null,null,null,null,null,null,null,null,null,null,null,null,null,null,null,null,null,null,null,560,0.13930297942110015,13.420439835621051,10.589495473644657]
[null,-1,-1,-1,-1,-1,-1,-1,null,null,null,null,null,null,null,null,null,null,null,null,null,null,null,null,null,null,null,null,null,null,null,null,null,null,null,null,null,null,null,null,null,null,null,null,564,0.14029800070267945,13.519941963778981,10.688100918488214]
[null,-1,-1,-1,-1,-1,-1,-1,null,null,null,null,null,null,null,null,null,null,null,null,null,null,null,null,null,null,null,null,null,null,null,null,null,null,null,null,null,null,null,null,null,null,null,null,572,0.14228804326583802,13.718946220094839,10.885402828799213]
[null,-1,-1,-1,-1,-1,-1,-1,null,null,null,null,null,null,null,null,null,null,null,null,null,null,null,null,null,null,null,null,null,null,null,null,null,null,null,null,null,null,null,null,null,null,null,null,577,0.14353181986781213,{"$f":"IF(($N$4*AT608^2/2)<=$AP$13,($N$4*AT608^2/2), IF(($AP$13+$N$6*(AT608-$AP$12))<=$AP$17, ($AP$13+$N$6*(AT608-$AP$12)), IF(AU607<$D$14, ($AP$17+($N$6-$N$5*(AT608-$AP$16)/2)*(AT608-$AP$16)), $D$14)))","v":13.84332388029225},11.008775186681307]
[null,-1,-1,-1,-1,-1,-1,-1,null,null,null,null,null,null,null,null,null,null,null,null,null,null,null,null,null,null,null,null,null,null,null,null,null,null,null,null,null,null,null,null,null,null,null,null,583,0.14502435179018106,13.992577072529143,11.156878382411904]
[null,-1,-1,-1,-1,-1,-1,-1,null,null,null,null,null,null,null,null,null,null,null,null,null,null,null,null,null,null,null,null,null,null,null,null,null,null,null,null,null,null,null,null,null,null,null,null,588,0.14626812839215517,14.116954732726553,11.280342552833721]
[null,-1,-1,-1,-1,-1,-1,-1,null,null,null,null,null,null,null,null,null,null,null,null,null,null,null,null,null,null,null,null,null,null,null,null,null,null,null,null,null,null,null,null,null,null,null,null,589,0.14651688371254998,14.141830264766034,11.305040110602118]
[null,-1,-1,-1,-1,-1,-1,-1,null,null,null,null,null,null,null,null,null,null,null,null,null,null,null,null,null,null,null,null,null,null,null,null,null,null,null,null,null,null,null,null,null,null,null,null,595,0.1480094156349189,14.291083457002927,11.453257392069998]
[null,-1,-1,-1,-1,-1,-1,-1,null,null,null,null,null,null,null,null,null,null,null,null,null,null,null,null,null,null,null,null,null,null,null,null,null,null,null,null,null,null,null,null,null,null,null,null,600,0.14925319223689301,14.415461117200337,11.576812185510221]
[null,-1,-1,-1,-1,-1,-1,-1,null,null,null,null,null,null,null,null,null,null,null,null,null,null,null,null,null,null,null,null,null,null,null,null,null,null,null,null,null,null,null,null,null,null,null,null,605,0.15049696883886712,14.539838777397749,11.700402031856362]
[null,-1,-1,-1,-1,-1,-1,-1,null,null,null,null,null,null,null,null,null,null,null,null,null,null,null,null,null,null,null,null,null,null,null,null,null,null,null,null,null,null,null,null,null,null,null,null,611,0.15198950076123607,14.689091969634644,11.848754019388196]
[null,-1,-1,-1,-1,-1,-1,-1,null,null,null,null,null,null,null,null,null,null,null,null,null,null,null,null,null,null,null,null,null,null,null,null,null,null,null,null,null,null,null,null,null,null,null,null,620,0.15422829864478946,14.912971757989983,12.071367271642574]
[null,-1,-1,-1,-1,-1,-1,-1,null,null,null,null,null,null,null,null,null,null,null,null,null,null,null,null,null,null,null,null,null,null,null,null,null,null,null,null,null,null,null,null,null,null,null,null,623,0.15497456460597392,14.987598354108428,12.145593268194331]
[null,null,null,null,null,null,null,null,null,null,null,null,null,null,null,null,null,null,null,null,null,null,null,null,null,null,null,null,null,null,null,null,null,null,null,null,null,null,null,null,null,null,null,null,628,0.15621834120794803,15.11197601430584,12.269326081742943]
[null,null,null,null,null,null,null,null,null,null,null,null,null,null,null,null,null,null,null,null,null,null,null,null,null,null,null,null,null,null,null,null,null,null,null,null,null,null,null,null,null,null,null,null,633,0.15746211780992214,15.236353674503251,12.393086364804349]
[null,null,null,null,null,null,null,null,null,null,null,null,null,null,null,null,null,null,null,null,null,null,null,null,null,null,null,null,null,null,null,null,null,null,null,null,null,null,null,null,null,null,null,null,639,0.15895464973229106,15.385606866740144,12.541633320182285]
[null,null,null,null,null,null,null,null,null,null,null,null,null,null,null,null,null,null,null,null,null,null,null,null,null,null,null,null,null,null,null,null,null,null,null,null,null,null,null,null,null,null,null,null,645,0.16044718165465999,15.534860058977035,12.690216221565445]
[null,null,null,null,null,null,null,null,null,null,null,null,null,null,null,null,null,null,null,null,null,null,null,null,null,null,null,null,null,null,null,null,null,null,null,null,null,null,null,null,null,null,null,null,650,0.1616909582566341,15.659237719174447,12.814061442022211]
[null,null,null,null,null,null,null,null,null,null,null,null,null,null,null,null,null,null,null,null,null,null,null,null,null,null,null,null,null,null,null,null,null,null,null,null,null,null,null,null,null,null,null,null,656,0.16318349017900305,15.808490911411342,12.962705559921737]
[null,null,null,null,null,null,null,null,null,null,null,null,null,null,null,null,null,null,null,null,null,null,null,null,null,null,null,null,null,null,null,null,null,null,null,null,null,null,null,null,null,null,null,null,661,0.16442726678097713,15.932868571608751,13.086599407188659]
[null,null,null,null,null,null,null,null,null,null,null,null,null,null,null,null,null,null,null,null,null,null,null,null,null,null,null,null,null,null,null,null,null,null,null,null,null,null,null,null,null,null,null,null,662,0.16467602210137197,15.957744103648233,13.111380678453751]
[null,null,null,null,null,null,null,null,null,null,null,null,null,null,null,null,null,null,null,null,null,null,null,null,null,null,null,null,null,null,null,null,null,null,null,null,null,null,null,null,null,null,null,null,668,0.16616855402374089,16.106997295885126,13.260085219749749]
[null,null,null,null,null,null,null,null,null,null,null,null,null,null,null,null,null,null,null,null,null,null,null,null,null,null,null,null,null,null,null,null,null,null,null,null,null,null,null,null,null,null,null,null,673,0.16741233062571501,16.231374956082536,13.384027063818904]
[null,null,null,null,null,null,null,null,null,null,null,null,null,null,null,null,null,null,null,null,null,null,null,null,null,null,null,null,null,null,null,null,null,null,null,null,null,null,null,null,null,null,null,null,679,0.16890486254808393,16.380628148319428,13.53278171246623]
[null,null,null,null,null,null,null,null,null,null,null,null,null,null,null,null,null,null,null,null,null,null,null,null,null,null,null,null,null,null,null,null,null,null,null,null,null,null,null,null,null,null,null,null,684,0.17014863915005804,16.505005808516838,13.656763358876409]
[null,null,null,null,null,null,null,null,null,null,null,null,null,null,null,null,null,null,null,null,null,null,null,null,null,null,null,null,null,null,null,null,null,null,null,null,null,null,null,null,null,null,null,null,693,0.17238743703361145,16.728885596872178,13.879972349857823]
[null,null,null,null,null,null,null,null,null,null,null,null,null,null,null,null,null,null,null,null,null,null,null,null,null,null,null,null,null,null,null,null,null,null,null,null,null,null,null,null,null,null,null,null,696,0.17313370299479591,16.803512192990627,13.954386775839845]
[null,null,null,null,null,null,null,null,null,null,null,null,null,null,null,null,null,null,null,null,null,null,null,null,null,null,null,null,null,null,null,null,null,null,null,null,null,null,null,null,null,null,null,null,701,0.17437747959677002,16.927889853188038,14.078422904960275]
[null,null,null,null,null,null,null,null,null,null,null,null,null,null,null,null,null,null,null,null,null,null,null,null,null,null,null,null,null,null,null,null,null,null,null,null,null,null,null,null,null,null,null,null,707,0.17587001151913895,17.077143045424929,14.227285409202779]
[null,null,null,null,null,null,null,null,null,null,null,null,null,null,null,null,null,null,null,null,null,null,null,null,null,null,null,null,null,null,null,null,null,null,null,null,null,null,null,null,null,null,null,null,712,0.17711378812111306,17.20152070562234,14.351352729771884]
[null,null,null,null,null,null,null,null,null,null,null,null,null,null,null,null,null,null,null,null,null,null,null,null,null,null,null,null,null,null,null,null,null,null,null,null,null,null,null,null,null,null,null,null,714,0.17761129876190271,17.251271769701304,14.400983391688136]
[null,null,null,null,null,null,null,null,null,null,null,null,null,null,null,null,null,null,null,null,null,null,null,null,null,null,null,null,null,null,null,null,null,null,null,null,null,null,null,null,null,null,null,null,724,0.1800988519658509,17.500027090096125,14.649167169122022]
[null,null,null,null,null,null,null,null,null,null,null,null,null,null,null,null,null,null,null,null,null,null,null,null,null,null,null,null,null,null,null,null,null,null,null,null,null,null,null,null,null,null,null,null,729,0.18134262856782501,17.624404750293536,14.77327718553807]
[null,null,null,null,null,null,null,null,null,null,null,null,null,null,null,null,null,null,null,null,null,null,null,null,null,null,null,null,null,null,null,null,null,null,null,null,null,null,null,null,null,null,null,null,730,0.18159138388821985,17.64928028233302,14.798100572815594]
[null,null,null,null,null,null,null,null,null,null,null,null,null,null,null,null,null,null,null,null,null,null,null,null,null,null,null,null,null,null,null,null,null,null,null,null,null,null,null,null,null,null,null,null,737,0.18333267113098359,17.823409006609392,14.971876723447837]
[null,null,null,null,null,null,null,null,null,null,null,null,null,null,null,null,null,null,null,null,null,null,null,null,null,null,null,null,null,null,null,null,null,null,null,null,null,null,null,null,null,null,null,null,741,0.18432769241256289,17.922911134767325,15.071186821184124]
[null,null,null,null,null,null,null,null,null,null,null,null,null,null,null,null,null,null,null,null,null,null,null,null,null,null,null,null,null,null,null,null,null,null,null,null,null,null,null,null,null,null,null,null,747,0.18582022433493181,18.072164327004216,15.220164220685687]
[null,null,null,null,null,null,null,null,null,null,null,null,null,null,null,null,null,null,null,null,null,null,null,null,null,null,null,null,null,null,null,null,null,null,null,null,null,null,null,null,null,null,null,null,752,0.18706400093690592,18.196541987201627,15.344322807309803]
[null,null,null,null,null,null,null,null,null,null,null,null,null,null,null,null,null,null,null,null,null,null,null,null,null,null,null,null,null,null,null,null,null,null,null,null,null,null,null,null,null,null,null,null,758,0.18855653285927484,18.345795179438518,15.493325394489821]
[null,null,null,null,null,null,null,null,null,null,null,null,null,null,null,null,null,null,null,null,null,null,null,null,null,null,null,null,null,null,null,null,null,null,null,null,null,null,null,null,null,null,null,null,762,0.18955155414085414,18.445297307596448,15.592667579649616]
[null,null,null,null,null,null,null,null,null,null,null,null,null,null,null,null,null,null,null,null,null,null,null,null,null,null,null,null,null,null,null,null,null,null,null,null,null,null,null,null,null,null,null,null,769,0.19129284138361788,{"$f":"IF(($N$4*AT800^2/2)<=$AP$13,($N$4*AT800^2/2), IF(($AP$13+$N$6*(AT800-$AP$12))<=$AP$17, ($AP$13+$N$6*(AT800-$AP$12)), IF(AU799<$D$14, ($AP$17+($N$6-$N$5*(AT800-$AP$16)/2)*(AT800-$AP$16)), $D$14)))","v":18.619426031872823},15.766529463239324]
[null,null,null,null,null,null,null,null,null,null,null,null,null,null,null,null,null,null,null,null,null,null,null,null,null,null,null,null,null,null,null,null,null,null,null,null,null,null,null,null,null,null,null,null,775,0.19278537330598683,18.768679224109718,15.915566528114667]
[null,null,null,null,null,null,null,null,null,null,null,null,null,null,null,null,null,null,null,null,null,null,null,null,null,null,null,null,null,null,null,null,null,null,null,null,null,null,null,null,null,null,null,null,780,0.19402914990796094,18.893056884307128,16.039772509412252]
[null,null,null,null,null,null,null,null,null,null,null,null,null,null,null,null,null,null,null,null,null,null,null,null,null,null,null,null,null,null,null,null,null,null,null,null,null,null,null,null,null,null,null,null,{"$f":"AS815+1","v":785},0.19527292650993502,19.017434544504539,16.163985803976871]
[null,null,null,null,null,null,null,null,null,null,null,null,null,null,null,null,null,null,null,null,null,null,null,null,null,null,null,null,null,null,null,null,null,null,null,null,null,null,null,null,null,null,null,null,787,0.19577043715072467,19.067185608583504,16.213673099281692]
[null,null,null,null,null,null,null,null,null,null,null,null,null,null,null,null,null,null,null,null,null,null,null,null,null,null,null,null,null,null,null,null,null,null,null,null,null,null,null,null,null,null,null,null,797,0.1982579903546729,19.315940928978325,16.462125712539315]
[null,null,null,null,null,null,null,null,null,null,null,null,null,null,null,null,null,null,null,null,null,null,null,null,null,null,null,null,null,null,null,null,null,null,null,null,null,null,null,null,null,null,null,null,798,0.19850674567506771,19.340816461017805,16.486972398261575]
[null,null,null,null,null,null,null,null,null,null,null,null,null,null,null,null,null,null,null,null,null,null,null,null,null,null,null,null,null,null,null,null,null,null,null,null,null,null,null,null,null,null,null,null,803,0.19975052227704182,19.465194121215216,16.611209534700688]
[null,null,null,null,null,null,null,null,null,null,null,null,null,null,null,null,null,null,null,null,null,null,null,null,null,null,null,null,null,null,null,null,null,null,null,null,null,null,null,null,null,null,null,null,808,0.20099429887901593,19.589571781412626,16.735452657243901]
[null,null,null,null,null,null,null,null,null,null,null,null,null,null,null,null,null,null,null,null,null,null,null,null,null,null,null,null,null,null,null,null,null,null,null,null,null,null,null,null,null,null,null,null,818,0.20348185208296415,19.838327101807451,16.983955851508576]
[null,null,null,null,null,null,null,null,null,null,null,null,null,null,null,null,null,null,null,null,null,null,null,null,null,null,null,null,null,null,null,null,null,null,null,null,null,null,null,null,null,null,null,null,820,0.2039793627237538,19.888078165886416,17.033659071410096]
[null,null,null,null,null,null,null,null,null,null,null,null,null,null,null,null,null,null,null,null,null,null,null,null,null,null,null,null,null,null,null,null,null,null,null,null,null,null,null,null,null,null,null,null,825,0.20522313932572792,20.012455826083826,17.157920703349369]
[null,null,null,null,null,null,null,null,null,null,null,null,null,null,null,null,null,null,null,null,null,null,null,null,null,null,null,null,null,null,null,null,null,null,null,null,null,null,null,null,null,null,null,null,831,0.20671567124809684,20.161709018320717,17.307041167262195]
[null,null,null,null,null,null,null,null,null,null,null,null,null,null,null,null,null,null,null,null,null,null,null,null,null,null,null,null,null,null,null,null,null,null,null,null,null,null,null,null,null,null,null,null,837,0.20820820317046576,20.310962210557612,17.456168386774046]
[null,null,null,null,null,null,null,null,null,null,null,null,null,null,null,null,null,null,null,null,null,null,null,null,null,null,null,null,null,null,null,null,null,null,null,null,null,null,null,null,null,null,null,null,843,0.20970073509283468,20.460215402794503,17.605302018038802]
[null,null,null,null,null,null,null,null,null,null,null,null,null,null,null,null,null,null,null,null,null,null,null,null,null,null,null,null,null,null,null,null,null,null,null,null,null,null,null,null,null,null,null,null,848,0.2109445116948088,20.584593062991914,17.729584706012364]
[null,null,null,null,null,null,null,null,null,null,null,null,null,null,null,null,null,null,null,null,null,null,null,null,null,null,null,null,null,null,null,null,null,null,null,null,null,null,null,null,null,null,null,null,853,0.21218828829678291,20.708970723189324,17.8538714396621]
[null,null,null,null,null,null,null,null,null,null,null,null,null,null,null,null,null,null,null,null,null,null,null,null,null,null,null,null,null,null,null,null,null,null,null,null,null,null,null,null,null,null,null,null,859,0.21368082021915183,20.858223915426219,18.003020618200274]
[null,null,null,null,null,null,null,null,null,null,null,null,null,null,null,null,null,null,null,null,null,null,null,null,null,null,null,null,null,null,null,null,null,null,null,null,null,null,null,null,null,null,null,null,862,0.21442708618033632,20.932850511544668,18.077597209921706]
[null,null,null,null,null,null,null,null,null,null,null,null,null,null,null,null,null,null,null,null,null,null,null,null,null,null,null,null,null,null,null,null,null,null,null,null,null,null,null,null,null,null,null,null,866,0.21542210746191559,21.032352639702594,18.177034665170147]
[null,null,null,null,null,null,null,null,null,null,null,null,null,null,null,null,null,null,null,null,null,null,null,null,null,null,null,null,null,null,null,null,null,null,null,null,null,null,null,null,null,null,null,null,871,0.2166658840638897,21.156730299900005,18.30133458806937]
[null,null,null,null,null,null,null,null,null,null,null,null,null,null,null,null,null,null,null,null,null,null,null,null,null,null,null,null,null,null,null,null,null,null,null,null,null,null,null,null,null,null,null,null,876,0.21790966066586381,21.281107960097415,18.425637822462438]
[null,null,null,null,null,null,null,null,null,null,null,null,null,null,null,null,null,null,null,null,null,null,null,null,null,null,null,null,null,null,null,null,null,null,null,null,null,null,null,null,null,null,null,null,882,0.21940219258823274,21.43036115233431,18.574805876712809]
[null,null,null,null,null,null,null,null,null,null,null,null,null,null,null,null,null,null,null,null,null,null,null,null,null,null,null,null,null,null,null,null,null,null,null,null,null,null,null,null,null,null,null,null,887,0.22064596919020685,21.554738812531721,18.69911590828719]
[null,null,null,null,null,null,null,null,null,null,null,null,null,null,null,null,null,null,null,null,null,null,null,null,null,null,null,null,null,null,null,null,null,null,null,null,null,null,null,null,null,null,null,null,893,0.22213850111257577,21.703992004768612,18.848291738044139]
[null,null,null,null,null,null,null,null,null,null,null,null,null,null,null,null,null,null,null,null,null,null,null,null,null,null,null,null,null,null,null,null,null,null,null,null,null,null,null,null,null,null,null,null,899,0.22363103303494472,21.853245197005506,18.99747150539239]
[null,null,null,null,null,null,null,null,null,null,null,null,null,null,null,null,null,null,null,null,null,null,null,null,null,null,null,null,null,null,null,null,null,null,null,null,null,null,null,null,null,null,null,null,904,0.22487480963691883,21.977622857202917,19.121790841164742]
[null,null,null,null,null,null,null,null,null,null,null,null,null,null,null,null,null,null,null,null,null,null,null,null,null,null,null,null,null,null,null,null,null,null,null,null,null,null,null,null,null,null,null,null,910,0.22636734155928775,22.126876049439812,19.270977314282391]
[null,null,null,null,null,null,null,null,null,null,null,null,null,null,null,null,null,null,null,null,null,null,null,null,null,null,null,null,null,null,null,null,null,null,null,null,null,null,null,null,null,null,null,null,916,0.22785987348165668,22.276129241676703,19.420167183266141]
[null,null,null,null,null,null,null,null,null,null,null,null,null,null,null,null,null,null,null,null,null,null,null,null,null,null,null,null,null,null,null,null,null,null,null,null,null,null,null,null,null,null,null,null,921,0.22910365008363079,22.400506901874113,19.544494543185266]
[null,null,null,null,null,null,null,null,null,null,null,null,null,null,null,null,null,null,null,null,null,null,null,null,null,null,null,null,null,null,null,null,null,null,null,null,null,null,null,null,null,null,null,null,927,0.23059618200599971,22.549760094111004,19.693690195373332]
[null,null,null,null,null,null,null,null,null,null,null,null,null,null,null,null,null,null,null,null,null,null,null,null,null,null,null,null,null,null,null,null,null,null,null,null,null,null,null,null,null,null,null,null,932,0.23183995860797382,22.674137754308418,19.818022149130769]
[null,null,null,null,null,null,null,null,null,null,null,null,null,null,null,null,null,null,null,null,null,null,null,null,null,null,null,null,null,null,null,null,null,null,null,null,null,null,null,null,null,null,null,null,937,0.23308373520994793,22.798515414505829,19.942356049914906]
[null,null,null,null,null,null,null,null,null,null,null,null,null,null,null,null,null,null,null,null,null,null,null,null,null,null,null,null,null,null,null,null,null,null,null,null,null,null,null,null,null,null,null,null,939,0.23358124585073758,22.848266478584794,19.992090136697009]
[null,null,null,null,null,null,null,null,null,null,null,null,null,null,null,null,null,null,null,null,null,null,null,null,null,null,null,null,null,null,null,null,null,null,null,null,null,null,null,null,null,null,null,null,944,0.2348250224527117,22.972644138782204,20.116426624775091]
[null,null,null,null,null,null,null,null,null,null,null,null,null,null,null,null,null,null,null,null,null,null,null,null,null,null,null,null,null,null,null,null,null,null,null,null,null,null,null,null,null,null,null,null,950,0.23631755437508062,23.121897331019095,20.265632718947383]
[null,null,null,null,null,null,null,null,null,null,null,null,null,null,null,null,null,null,null,null,null,null,null,null,null,null,null,null,null,null,null,null,null,null,null,null,null,null,null,null,null,null,null,null,955,0.23756133097705473,23.246274991216509,20.389972967204656]
[null,null,null,null,null,null,null,null,null,null,null,null,null,null,null,null,null,null,null,null,null,null,null,null,null,null,null,null,null,null,null,null,null,null,null,null,null,null,null,null,null,null,null,null,962,0.23930261821981849,23.420403715492885,{"$f":"( $AP$6*AU993 + $AP$7*AU992 + $AP$9*AV992 )/$AP$8","v":20.564051976863897}]
[null,null,null,null,null,null,null,null,null,null,null,null,null,null,null,null,null,null,null,null,null,null,null,null,null,null,null,null,null,null,null,null,null,null,null,null,null,null,null,null,null,null,null,null,967,0.24054639482179258,23.544781375690292,20.688395936583547]
[null,null,null,null,null,null,null,null,null,null,null,null,null,null,null,null,null,null,null,null,null,null,null,null,null,null,null,null,null,null,null,null,null,null,null,null,null,null,null,null,null,null,null,null,972,0.24179017142376669,23.669159035887702,20.812741331893669]
[null,null,null,null,null,null,null,null,null,null,null,null,null,null,null,null,null,null,null,null,null,null,null,null,null,null,null,null,null,null,null,null,null,null,null,null,null,null,null,null,null,null,null,null,978,0.24328270334613564,23.818412228124597,20.961957615325041]
[null,null,null,null,null,null,null,null,null,null,null,null,null,null,null,null,null,null,null,null,null,null,null,null,null,null,null,null,null,null,null,null,null,null,null,null,null,null,null,null,null,null,null,null,983,0.24452647994810972,23.942789888322007,21.086305957332094]
[null,null,null,null,null,null,null,null,null,null,null,null,null,null,null,null,null,null,null,null,null,null,null,null,null,null,null,null,null,null,null,null,null,null,null,null,null,null,null,null,null,null,null,null,987,0.24552150122968902,24.042292016479937,21.185785532740969]
[null,null,null,null,null,null,null,null,null,null,null,null,null,null,null,null,null,null,null,null,null,null,null,null,null,null,null,null,null,null,null,null,null,null,null,null,null,null,null,null,null,null,null,null,995,0.24751154379284759,24.241296272795793,21.384746972845544]
[null,null,null,null,null,null,null,null,null,null,null,null,null,null,null,null,null,null,null,null,null,null,null,null,null,null,null,null,null,null,null,null,null,null,null,null,null,null,null,null,null,null,null,null,1000,0.24875532039482171,24.365673932993204,21.509099348385075]
[null,null,null,null,null,null,null,null,null,null,null,null,null,null,null,null,null,null,null,null,null,null,null,null,null,null,null,null,null,null,null,null,null,null,null,null,null,null,null,null,null,null,null,null,1005,0.24999909699679582,24.490051593190618,21.633452801013604]
[null,null,null,null,null,null,null,null,null,null,null,null,null,null,null,null,null,null,null,null,null,null,null,null,null,null,null,null,null,null,null,null,null,null,null,null,null,null,null,null,null,null,null,null,1010,0.2512428735987699,24.614429253388025,21.757807284848738]
[null,null,null,null,null,null,null,null,null,null,null,null,null,null,null,null,null,null,null,null,null,null,null,null,null,null,null,null,null,null,null,null,null,null,null,null,null,null,null,null,null,null,null,null,1012,0.25174038423955958,24.664180317466993,21.807549357217052]
[null,null,null,null,null,null,null,null,null,null,null,null,null,null,null,null,null,null,null,null,null,null,null,null,null,null,null,null,null,null,null,null,null,null,null,null,null,null,null,null,null,null,null,null,1018,0.2532329161619285,24.813433509703884,21.956776494953733]
[null,null,null,null,null,null,null,null,null,null,null,null,null,null,null,null,null,null,null,null,null,null,null,null,null,null,null,null,null,null,null,null,null,null,null,null,null,null,null,null,null,null,null,null,1023,0.25447669276390261,24.937811169901295,22.081133458984301]
[null,null,null,null,null,null,null,null,null,null,null,null,null,null,null,null,null,null,null,null,null,null,null,null,null,null,null,null,null,null,null,null,null,null,null,null,null,null,null,null,null,null,null,null,1028,0.25572046936587672,25.062188830098709,22.205491304640944]
[null,null,null,null,null,null,null,null,null,null,null,null,null,null,null,null,null,null,null,null,null,null,null,null,null,null,null,null,null,null,null,null,null,null,null,null,null,null,null,null,null,null,null,null,1035,0.25746175660864046,25.236317554375081,22.379593698491679]
[null,null,null,null,null,null,null,null,null,null,null,null,null,null,null,null,null,null,null,null,null,null,null,null,null,null,null,null,null,null,null,null,null,null,null,null,null,null,null,null,null,null,null,null,1040,0.25870553321061457,25.360695214572491,22.503953509855602]
[null,null,null,null,null,null,null,null,null,null,null,null,null,null,null,null,null,null,null,null,null,null,null,null,null,null,null,null,null,null,null,null,null,null,null,null,null,null,null,null,null,null,null,null,1046,0.26019806513298349,25.509948406809386,22.65318628425813]
[null,null,null,null,null,null,null,null,null,null,null,null,null,null,null,null,null,null,null,null,null,null,null,null,null,null,null,null,null,null,null,null,null,null,null,null,null,null,null,null,null,null,null,null,1051,0.2614418417349576,25.634326067006796,22.777547725725459]
[null,null,null,null,null,null,null,null,null,null,null,null,null,null,null,null,null,null,null,null,null,null,null,null,null,null,null,null,null,null,null,null,null,null,null,null,null,null,null,null,null,null,null,null,1056,0.26268561833693171,25.758703727204207,22.90190985808669]
[null,null,null,null,null,null,null,null,null,null,null,null,null,null,null,null,null,null,null,null,null,null,null,null,null,null,null,null,null,null,null,null,null,null,null,null,null,null,null,null,null,null,null,null,1060,0.26368063961851101,25.858205855362137,23.001400041599041]
[null,null,null,null,null,null,null,null,null,null,null,null,null,null,null,null,null,null,null,null,null,null,null,null,null,null,null,null,null,null,null,null,null,null,null,null,null,null,null,null,null,null,null,null,1068,0.26567068218166956,26.057210111677989,23.200381621102075]
[null,null,null,null,null,null,null,null,null,null,null,null,null,null,null,null,null,null,null,null,null,null,null,null,null,null,null,null,null,null,null,null,null,null,null,null,null,null,null,null,null,null,null,null,1073,0.26691445878364367,26.181587771875403,23.324745889749021]
[null,null,null,null,null,null,null,null,null,null,null,null,null,null,null,null,null,null,null,null,null,null,null,null,null,null,null,null,null,null,null,null,null,null,null,null,null,null,null,null,null,null,null,null,1074,0.26716321410403848,26.206463303914884,23.349618812726536]
[null,null,null,null,null,null,null,null,null,null,null,null,null,null,null,null,null,null,null,null,null,null,null,null,null,null,null,null,null,null,null,null,null,null,null,null,null,null,null,null,null,null,null,null,1079,0.26840699070601259,26.330840964112294,23.473983762975891]
[null,null,null,null,null,null,null,null,null,null,null,null,null,null,null,null,null,null,null,null,null,null,null,null,null,null,null,null,null,null,null,null,null,null,null,null,null,null,null,null,null,null,null,null,1086,0.27014827794877638,26.504969688388673,23.648095597719156]
[null,null,null,null,null,null,null,null,null,null,null,null,null,null,null,null,null,null,null,null,null,null,null,null,null,null,null,null,null,null,null,null,null,null,null,null,null,null,null,null,null,null,null,null,1091,0.27139205455075049,26.629347348586084,23.772461808862598]
[null,null,null,null,null,null,null,null,null,null,null,null,null,null,null,null,null,null,null,null,null,null,null,null,null,null,null,null,null,null,null,null,null,null,null,null,null,null,null,null,null,null,null,null,1096,0.27263583115272461,26.753725008783494,23.896828507718798]
[null,null,null,null,null,null,null,null,null,null,null,null,null,null,null,null,null,null,null,null,null,null,null,null,null,null,null,null,null,null,null,null,null,null,null,null,null,null,null,null,null,null,null,null,1102,0.27412836307509353,26.902978201020389,24.04606916093741]
[null,null,null,null,null,null,null,null,null,null,null,null,null,null,null,null,null,null,null,null,null,null,null,null,null,null,null,null,null,null,null,null,null,null,null,null,null,null,null,null,null,null,null,null,1110,0.27611840563825207,27.101982457336241,24.245057685670865]
[null,null,null,null,null,null,null,null,null,null,null,null,null,null,null,null,null,null,null,null,null,null,null,null,null,null,null,null,null,null,null,null,null,null,null,null,null,null,null,null,null,null,null,null,1113,0.27686467159943656,27.17660905345469,24.319678659259832]
[null,null,null,null,null,null,null,null,null,null,null,null,null,null,null,null,null,null,null,null,null,null,null,null,null,null,null,null,null,null,null,null,null,null,null,null,null,null,null,null,null,null,null,null,1119,0.27835720352180549,27.325862245691582,24.468921037569153]
[null,null,null,null,null,null,null,null,null,null,null,null,null,null,null,null,null,null,null,null,null,null,null,null,null,null,null,null,null,null,null,null,null,null,null,null,null,null,null,null,null,null,null,null,1124,0.2796009801237796,27.450239905888996,24.593290107816738]
[null,null,null,null,null,null,null,null,null,null,null,null,null,null,null,null,null,null,null,null,null,null,null,null,null,null,null,null,null,null,null,null,null,null,null,null,null,null,null,null,null,null,null,null,1130,0.28109351204614852,27.599493098125887,24.742533473743542]
[null,null,null,null,null,null,null,null,null,null,null,null,null,null,null,null,null,null,null,null,null,null,null,null,null,null,null,null,null,null,null,null,null,null,null,null,null,null,null,null,null,null,null,null,1135,0.28233728864812263,27.723870758323297,24.866903328496555]
[null,null,null,null,null,null,null,null,null,null,null,null,null,null,null,null,null,null,null,null,null,null,null,null,null,null,null,null,null,null,null,null,null,null,null,null,null,null,null,null,null,null,null,null,1141,0.28382982057049155,27.873123950560192,25.016147591843442]
[null,null,null,null,null,null,null,null,null,null,null,null,null,null,null,null,null,null,null,null,null,null,null,null,null,null,null,null,null,null,null,null,null,null,null,null,null,null,null,null,null,null,null,null,1142,0.28407857589088636,27.897999482599673,25.041021680558103]
[null,null,null,null,null,null,null,null,null,null,null,null,null,null,null,null,null,null,null,null,null,null,null,null,null,null,null,null,null,null,null,null,null,null,null,null,null,null,null,null,null,null,null,null,1147,0.28532235249286048,28.022377142797083,25.165392309652489]
[null,null,null,null,null,null,null,null,null,null,null,null,null,null,null,null,null,null,null,null,null,null,null,null,null,null,null,null,null,null,null,null,null,null,null,null,null,null,null,null,null,null,null,null,1153,0.2868148844152294,{"$f":"IF(($N$4*AT1184^2/2)<=$AP$13,($N$4*AT1184^2/2), IF(($AP$13+$N$6*(AT1184-$AP$12))<=$AP$17, ($AP$13+$N$6*(AT1184-$AP$12)), IF(AU1183<$D$14, ($AP$17+($N$6-$N$5*(AT1184-$AP$16)/2)*(AT1184-$AP$16)), $D$14)))","v":28.171630335033974},25.314637458792511]
[null,null,null,null,null,null,null,null,null,null,null,null,null,null,null,null,null,null,null,null,null,null,null,null,null,null,null,null,null,null,null,null,null,null,null,null,null,null,null,null,null,null,null,null,1160,0.28855617165799319,28.345759059310353,25.488757315384174]
[null,null,null,null,null,null,null,null,null,null,null,null,null,null,null,null,null,null,null,null,null,null,null,null,null,null,null,null,null,null,null,null,null,null,null,null,null,null,null,null,null,null,null,null,1164,0.28955119293957249,28.445261187468283,25.588254613727784]
[null,null,null,null,null,null,null,null,null,null,null,null,null,null,null,null,null,null,null,null,null,null,null,null,null,null,null,null,null,null,null,null,null,null,null,null,null,null,null,null,null,null,null,null,1170,0.29104372486194141,28.594514379705174,25.737500869419463]
[null,null,null,null,null,null,null,null,null,null,null,null,null,null,null,null,null,null,null,null,null,null,null,null,null,null,null,null,null,null,null,null,null,null,null,null,null,null,null,null,null,null,null,null,1175,0.29228750146391552,28.718892039902588,25.861873019632199]
[null,null,null,null,null,null,null,null,null,null,null,null,null,null,null,null,null,null,null,null,null,null,null,null,null,null,null,null,null,null,null,null,null,null,null,null,null,null,null,null,null,null,null,null,1179,0.29328252274549477,28.818394168060511,25.961370909284952]
[null,null,null,null,null,null,null,null,null,null,null,null,null,null,null,null,null,null,null,null,null,null,null,null,null,null,null,null,null,null,null,null,null,null,null,null,null,null,null,null,null,null,null,null,1187,0.29527256530865337,29.017398424376371,26.160367118833072]
[null,null,null,null,null,null,null,null,null,null,null,null,null,null,null,null,null,null,null,null,null,null,null,null,null,null,null,null,null,null,null,null,null,null,null,null,null,null,null,null,null,null,null,null,1192,0.29651634191062748,29.141776084573785,26.284740027097445]
[null,null,null,null,null,null,null,null,null,null,null,null,null,null,null,null,null,null,null,null,null,null,null,null,null,null,null,null,null,null,null,null,null,null,null,null,null,null,null,null,null,null,null,null,1198,0.2980088738329964,29.291029276810676,26.433987783450714]
[null,null,null,null,null,null,null,null,null,null,null,null,null,null,null,null,null,null,null,null,null,null,null,null,null,null,null,null,null,null,null,null,null,null,null,null,null,null,null,null,null,null,null,null,1203,0.29925265043497051,29.415406937008086,26.558361125700987]
[null,null,null,null,null,null,null,null,null,null,null,null,null,null,null,null,null,null,null,null,null,null,null,null,null,null,null,null,null,null,null,null,null,null,null,null,null,null,null,null,null,null,null,null,1204,0.29950140575536532,29.440282469047567,26.583235816479281]
[null,null,null,null,null,null,null,null,null,null,null,null,null,null,null,null,null,null,null,null,null,null,null,null,null,null,null,null,null,null,null,null,null,null,null,null,null,null,null,null,null,null,null,null,1210,0.30099393767773425,29.589535661284458,26.732484112100956]
[null,null,null,null,null,null,null,null,null,null,null,null,null,null,null,null,null,null,null,null,null,null,null,null,null,null,null,null,null,null,null,null,null,null,null,null,null,null,null,null,null,null,null,null,1215,0.30223771427970836,29.713913321481872,26.856857882714436]
[null,null,null,null,null,null,null,null,null,null,null,null,null,null,null,null,null,null,null,null,null,null,null,null,null,null,null,null,null,null,null,null,null,null,null,null,null,null,null,null,null,null,null,null,1221,0.30373024620207728,29.863166513718763,27.006106625535594]
[null,null,null,null,null,null,null,null,null,null,null,null,null,null,null,null,null,null,null,null,null,null,null,null,null,null,null,null,null,null,null,null,null,null,null,null,null,null,null,null,null,null,null,null,1226,0.30497402280405139,29.987544173916174,27.130480751378119]
[null,null,null,null,null,null,null,null,null,null,null,null,null,null,null,null,null,null,null,null,null,null,null,null,null,null,null,null,null,null,null,null,null,null,null,null,null,null,null,null,null,null,null,null,1235,0.3072128206876048,30.211423962271514,27.354354552982358]
[null,null,null,null,null,null,null,null,null,null,null,null,null,null,null,null,null,null,null,null,null,null,null,null,null,null,null,null,null,null,null,null,null,null,null,null,null,null,null,null,null,null,null,null,1238,0.30795908664878929,30.286050558389963,27.428979255518858]
[null,null,null,null,null,null,null,null,null,null,null,null,null,null,null,null,null,null,null,null,null,null,null,null,null,null,null,null,null,null,null,null,null,null,null,null,null,null,null,null,null,null,null,null,1243,0.30920286325076335,30.41042821858737,27.553353867610181]
[null,null,null,null,null,null,null,null,null,null,null,null,null,null,null,null,null,null,null,null,null,null,null,null,null,null,null,null,null,null,null,null,null,null,null,null,null,null,null,null,null,null,null,null,1248,0.31044663985273746,30.53480587878478,27.677728609546318]
[null,null,null,null,null,null,null,null,null,null,null,null,null,null,null,null,null,null,null,null,null,null,null,null,null,null,null,null,null,null,null,null,null,null,null,null,null,null,null,null,null,null,null,null,1252,0.31144166113431676,30.63430800694271,27.77722849285853]
[null,null,null,null,null,null,null,null,null,null,null,null,null,null,null,null,null,null,null,null,null,null,null,null,null,null,null,null,null,null,null,null,null,null,null,null,null,null,null,null,null,null,null,null,1260,0.31343170369747536,30.83331226325857,27.976228487352984]
[null,null,null,null,null,null,null,null,null,null,null,null,null,null,null,null,null,null,null,null,null,null,null,null,null,null,null,null,null,null,null,null,null,null,null,null,null,null,null,null,null,null,null,null,1266,0.31492423561984428,30.982565455495465,28.125478672476262]
[null,null,null,null,null,null,null,null,null,null,null,null,null,null,null,null,null,null,null,null,null,null,null,null,null,null,null,null,null,null,null,null,null,null,null,null,null,null,null,null,null,null,null,null,1271,0.3161680122218184,31.106943115692875,28.249853943998989]
[null,null,null,null,null,null,null,null,null,null,null,null,null,null,null,null,null,null,null,null,null,null,null,null,null,null,null,null,null,null,null,null,null,null,null,null,null,null,null,null,null,null,null,null,1276,0.31741178882379251,31.231320775890286,28.374229317275724]
[null,null,null,null,null,null,null,null,null,null,null,null,null,null,null,null,null,null,null,null,null,null,null,null,null,null,null,null,null,null,null,null,null,null,null,null,null,null,null,null,null,null,null,null,1277,0.31766054414418732,31.256196307929766,28.399104403756805]
[null,null,null,null,null,null,null,null,null,null,null,null,null,null,null,null,null,null,null,null,null,null,null,null,null,null,null,null,null,null,null,null,null,null,null,null,null,null,null,null,null,null,null,null,1283,0.31915307606655624,31.405449500166657,28.548355002592189]
[null,null,null,null,null,null,null,null,null,null,null,null,null,null,null,null,null,null,null,null,null,null,null,null,null,null,null,null,null,null,null,null,null,null,null,null,null,null,null,null,null,null,null,null,1288,0.32039685266853035,31.529827160364071,28.672730602743552]
[null,null,null,null,null,null,null,null,null,null,null,null,null,null,null,null,null,null,null,null,null,null,null,null,null,null,null,null,null,null,null,null,null,null,null,null,null,null,null,null,null,null,null,null,1294,0.32188938459089927,31.679080352600963,28.821981438429869]
[null,null,null,null,null,null,null,null,null,null,null,null,null,null,null,null,null,null,null,null,null,null,null,null,null,null,null,null,null,null,null,null,null,null,null,null,null,null,null,null,null,null,null,null,1299,0.32313316119287339,31.803458012798373,28.946357226721716]
[null,null,null,null,null,null,null,null,null,null,null,null,null,null,null,null,null,null,null,null,null,null,null,null,null,null,null,null,null,null,null,null,null,null,null,null,null,null,null,null,null,null,null,null,1308,0.3253719590764268,32.027337801153713,29.170233844305272]
[null,null,null,null,null,null,null,null,null,null,null,null,null,null,null,null,null,null,null,null,null,null,null,null,null,null,null,null,null,null,null,null,null,null,null,null,null,null,null,null,null,null,null,null,1311,0.32611822503761123,32.101964397272162,29.244859437523132]
[null,null,null,null,null,null,null,null,null,null,null,null,null,null,null,null,null,null,null,null,null,null,null,null,null,null,null,null,null,null,null,null,null,null,null,null,null,null,null,null,null,null,null,null,1316,0.32736200163958534,32.226342057469573,29.369235483347648]
[null,null,null,null,null,null,null,null,null,null,null,null,null,null,null,null,null,null,null,null,null,null,null,null,null,null,null,null,null,null,null,null,null,null,null,null,null,null,null,null,null,null,null,null,1322,0.32885453356195427,32.375595249706464,29.518486828853284]
[null,null,null,null,null,null,null,null,null,null,null,null,null,null,null,null,null,null,null,null,null,null,null,null,null,null,null,null,null,null,null,null,null,null,null,null,null,null,null,null,null,null,null,null,1327,0.33009831016392838,32.499972909903875,29.642863022115716]
[null,null,null,null,null,null,null,null,null,null,null,null,null,null,null,null,null,null,null,null,null,null,null,null,null,null,null,null,null,null,null,null,null,null,null,null,null,null,null,null,null,null,null,null,1333,0.33159084208629735,32.649226102140773,29.792114536280177]
[null,null,null,null,null,null,null,null,null,null,null,null,null,null,null,null,null,null,null,null,null,null,null,null,null,null,null,null,null,null,null,null,null,null,null,null,null,null,null,null,null,null,null,null,1339,0.33308337400866628,32.798479294377664,29.941366135855066]
[null,null,null,null,null,null,null,null,null,null,null,null,null,null,null,null,null,null,null,null,null,null,null,null,null,null,null,null,null,null,null,null,null,null,null,null,null,null,null,null,null,null,null,null,1344,{"$f":"$AP$18/$N$7*AS1375","v":0.33432715061064039},32.922856954575074,30.065742530935193]
[null,null,null,null,null,null,null,null,null,null,null,null,null,null,null,null,null,null,null,null,null,null,null,null,null,null,null,null,null,null,null,null,null,null,null,null,null,null,null,null,null,null,null,null,1345,0.3345759059310352,{"$f":"IF(($N$4*AT1376^2/2)<=$AP$13,($N$4*AT1376^2/2), IF(($AP$13+$N$6*(AT1376-$AP$12))<=$AP$17, ($AP$13+$N$6*(AT1376-$AP$12)), IF(AU1375<$D$14, ($AP$17+($N$6-$N$5*(AT1376-$AP$16)/2)*(AT1376-$AP$16)), $D$14)))","v":32.947732486614555},30.090617816493182]
[null,null,null,null,null,null,null,null,null,null,null,null,null,null,null,null,null,null,null,null,null,null,null,null,null,null,null,null,null,null,null,null,null,null,null,null,null,null,null,null,null,null,null,null,1352,0.33631719317379893,33.121861210890927,30.264744874199888]
[null,null,null,null,null,null,null,null,null,null,null,null,null,null,null,null,null,null,null,null,null,null,null,null,null,null,null,null,null,null,null,null,null,null,null,null,null,null,null,null,null,null,null,null,1356,0.33731221445537823,33.221363339048857,30.364246094655041]
[null,null,null,null,null,null,null,null,null,null,null,null,null,null,null,null,null,null,null,null,null,null,null,null,null,null,null,null,null,null,null,null,null,null,null,null,null,null,null,null,null,null,null,null,1362,0.33880474637774716,33.370616531285748,30.513497983255611]
[null,null,null,null,null,null,null,null,null,null,null,null,null,null,null,null,null,null,null,null,null,null,null,null,null,null,null,null,null,null,null,null,null,null,null,null,null,null,null,null,null,null,null,null,1367,0.34004852297972127,33.494994191483158,30.637874607920786]
[null,null,null,null,null,null,null,null,null,null,null,null,null,null,null,null,null,null,null,null,null,null,null,null,null,null,null,null,null,null,null,null,null,null,null,null,null,null,null,null,null,null,null,null,1373,0.34154105490209019,33.644247383720057,30.787126615580245]
[null,null,null,null,null,null,null,null,null,null,null,null,null,null,null,null,null,null,null,null,null,null,null,null,null,null,null,null,null,null,null,null,null,null,null,null,null,null,null,null,null,null,null,null,{"$f":"AS1407+1","v":1377},0.34253607618366949,33.743749511877986,30.886627987708458]
[null,null,null,null,null,null,null,null,null,null,null,null,null,null,null,null,null,null,null,null,null,null,null,null,null,null,null,null,null,null,null,null,null,null,null,null,null,null,null,null,null,null,null,null,1384,0.34427736342643322,33.917878236154358,31.060755450663663]
[null,null,null,null,null,null,null,null,null,null,null,null,null,null,null,null,null,null,null,null,null,null,null,null,null,null,null,null,null,null,null,null,null,null,null,null,null,null,null,null,null,null,null,null,1390,0.34576989534880215,34.067131428391249,31.21000762129469]
[null,null,null,null,null,null,null,null,null,null,null,null,null,null,null,null,null,null,null,null,null,null,null,null,null,null,null,null,null,null,null,null,null,null,null,null,null,null,null,null,null,null,null,null,1395,0.34701367195077626,34.19150908858866,31.334384469988322]
[null,null,null,null,null,null,null,null,null,null,null,null,null,null,null,null,null,null,null,null,null,null,null,null,null,null,null,null,null,null,null,null,null,null,null,null,null,null,null,null,null,null,null,null,1400,0.34825744855275037,34.31588674878607,31.4587613532508]
[null,null,null,null,null,null,null,null,null,null,null,null,null,null,null,null,null,null,null,null,null,null,null,null,null,null,null,null,null,null,null,null,null,null,null,null,null,null,null,null,null,null,null,null,1402,0.34875495919354005,34.365637812865039,31.508512115903081]
[null,null,null,null,null,null,null,null,null,null,null,null,null,null,null,null,null,null,null,null,null,null,null,null,null,null,null,null,null,null,null,null,null,null,null,null,null,null,null,null,null,null,null,null,1412,0.35124251239748827,34.61439313325986,31.757266005440723]
[null,null,null,null,null,null,null,null,null,null,null,null,null,null,null,null,null,null,null,null,null,null,null,null,null,null,null,null,null,null,null,null,null,null,null,null,null,null,null,null,null,null,null,null,1413,0.35149126771788308,34.63926866529934,31.782141401127422]
[null,null,null,null,null,null,null,null,null,null,null,null,null,null,null,null,null,null,null,null,null,null,null,null,null,null,null,null,null,null,null,null,null,null,null,null,null,null,null,null,null,null,null,null,1418,0.35273504431985719,34.763646325496751,31.906518397087339]
[null,null,null,null,null,null,null,null,null,null,null,null,null,null,null,null,null,null,null,null,null,null,null,null,null,null,null,null,null,null,null,null,null,null,null,null,null,null,null,null,null,null,null,null,1427,0.35497384220341055,34.987526113852091,32.130397060308191]
[null,null,null,null,null,null,null,null,null,null,null,null,null,null,null,null,null,null,null,null,null,null,null,null,null,null,null,null,null,null,null,null,null,null,null,null,null,null,null,null,null,null,null,null,1430,0.35572010816459504,35.06215270997054,32.205023300551751]
[null,null,null,null,null,null,null,null,null,null,null,null,null,null,null,null,null,null,null,null,null,null,null,null,null,null,null,null,null,null,null,null,null,null,null,null,null,null,null,null,null,null,null,null,1435,0.35696388476656915,35.186530370167951,32.329400387896001]
[null,null,null,null,null,null,null,null,null,null,null,null,null,null,null,null,null,null,null,null,null,null,null,null,null,null,null,null,null,null,null,null,null,null,null,null,null,null,null,null,null,null,null,null,{"$f":"AS1471+1","v":1441},0.35845641668893807,35.335783562404842,32.478652924828417]
[null,null,null,null,null,null,null,null,null,null,null,null,null,null,null,null,null,null,null,null,null,null,null,null,null,null,null,null,null,null,null,null,null,null,null,null,null,null,null,null,null,null,null,null,1446,0.35970019329091218,35.460161222602252,32.603030064490369]
[null,null,null,null,null,null,null,null,null,null,null,null,null,null,null,null,null,null,null,null,null,null,null,null,null,null,null,null,null,null,null,null,null,null,null,null,null,null,null,null,null,null,null,null,1452,0.36119272521328111,35.609414414839144,32.752282661270606]
[null,null,null,null,null,null,null,null,null,null,null,null,null,null,null,null,null,null,null,null,null,null,null,null,null,null,null,null,null,null,null,null,null,null,null,null,null,null,null,null,null,null,null,null,1458,0.36268525713565003,35.758667607076035,32.901535288358353]
[null,null,null,null,null,null,null,null,null,null,null,null,null,null,null,null,null,null,null,null,null,null,null,null,null,null,null,null,null,null,null,null,null,null,null,null,null,null,null,null,null,null,null,null,1463,0.36392903373762414,35.883045267273452,33.025912499634444]
[null,null,null,null,null,null,null,null,null,null,null,null,null,null,null,null,null,null,null,null,null,null,null,null,null,null,null,null,null,null,null,null,null,null,null,null,null,null,null,null,null,null,null,null,1468,0.36517281033959825,36.007422927470863,33.150289730033911]
[null,null,null,null,null,null,null,null,null,null,null,null,null,null,null,null,null,null,null,null,null,null,null,null,null,null,null,null,null,null,null,null,null,null,null,null,null,null,null,null,null,null,null,null,1474,0.36666534226196718,36.156676119707754,{"$f":"( $AP$6*AU1505 + $AP$7*AU1504 + $AP$9*AV1504 )/$AP$8","v":33.299542430611602}]
[null,null,null,null,null,null,null,null,null,null,null,null,null,null,null,null,null,null,null,null,null,null,null,null,null,null,null,null,null,null,null,null,null,null,null,null,null,null,null,null,null,null,null,null,1477,0.36741160822315166,36.231302715826203,33.374168790365772]
[null,null,null,null,null,null,null,null,null,null,null,null,null,null,null,null,null,null,null,null,null,null,null,null,null,null,null,null,null,null,null,null,null,null,null,null,null,null,null,null,null,null,null,null,1481,0.36840662950473096,36.330804843984133,33.473670612823291]
[null,null,null,null,null,null,null,null,null,null,null,null,null,null,null,null,null,null,null,null,null,null,null,null,null,null,null,null,null,null,null,null,null,null,null,null,null,null,null,null,null,null,null,null,1486,0.36965040610670508,36.455182504181543,33.598047905566624]
[null,null,null,null,null,null,null,null,null,null,null,null,null,null,null,null,null,null,null,null,null,null,null,null,null,null,null,null,null,null,null,null,null,null,null,null,null,null,null,null,null,null,null,null,1491,0.37089418270867913,36.579560164378947,33.72242521396295]
[null,null,null,null,null,null,null,null,null,null,null,null,null,null,null,null,null,null,null,null,null,null,null,null,null,null,null,null,null,null,null,null,null,null,null,null,null,null,null,null,null,null,null,null,1497,0.37238671463104811,36.728813356615845,33.871678003763677]
[null,null,null,null,null,null,null,null,null,null,null,null,null,null,null,null,null,null,null,null,null,null,null,null,null,null,null,null,null,null,null,null,null,null,null,null,null,null,null,null,null,null,null,null,1502,0.37363049123302222,36.853191016813255,33.996055344289402]
[null,null,null,null,null,null,null,null,null,null,null,null,null,null,null,null,null,null,null,null,null,null,null,null,null,null,null,null,null,null,null,null,null,null,null,null,null,null,null,null,null,null,null,null,1509,0.37537177847578596,37.027319741089627,34.170183643772091]
[null,null,null,null,null,null,null,null,null,null,null,null,null,null,null,null,null,null,null,null,null,null,null,null,null,null,null,null,null,null,null,null,null,null,null,null,null,null,null,null,null,null,null,null,1514,0.37661555507776007,37.151697401287045,34.294561016010938]
[null,null,null,null,null,null,null,null,null,null,null,null,null,null,null,null,null,null,null,null,null,null,null,null,null,null,null,null,null,null,null,null,null,null,null,null,null,null,null,null,null,null,null,null,1519,0.37785933167973418,37.276075061484455,34.418938400516389]
[null,null,null,null,null,null,null,null,null,null,null,null,null,null,null,null,null,null,null,null,null,null,null,null,null,null,null,null,null,null,null,null,null,null,null,null,null,null,null,null,null,null,null,null,1525,0.3793518636021031,37.425328253721347,34.568191277380699]
[null,null,null,null,null,null,null,null,null,null,null,null,null,null,null,null,null,null,null,null,null,null,null,null,null,null,null,null,null,null,null,null,null,null,null,null,null,null,null,null,null,null,null,null,1531,0.38084439552447202,37.574581445958238,34.717444170296815]
[null,null,null,null,null,null,null,null,null,null,null,null,null,null,null,null,null,null,null,null,null,null,null,null,null,null,null,null,null,null,null,null,null,null,null,null,null,null,null,null,null,null,null,null,1536,{"$f":"$AP$18/$N$7*AS1567","v":0.38208817212644614},37.698959106155648,34.841821592731364]
[null,null,null,null,null,null,null,null,null,null,null,null,null,null,null,null,null,null,null,null,null,null,null,null,null,null,null,null,null,null,null,null,null,null,null,null,null,null,null,null,null,null,null,null,1542,0.38358070404881506,37.848212298392539,34.99107451298395]
[null,null,null,null,null,null,null,null,null,null,null,null,null,null,null,null,null,null,null,null,null,null,null,null,null,null,null,null,null,null,null,null,null,null,null,null,null,null,null,null,null,null,null,null,1547,0.38482448065078917,37.97258995858995,35.115451957132962]
[null,null,null,null,null,null,null,null,null,null,null,null,null,null,null,null,null,null,null,null,null,null,null,null,null,null,null,null,null,null,null,null,null,null,null,null,null,null,null,null,null,null,null,null,1550,0.38557074661197366,38.047216554708399,35.190078428065462]
[null,null,null,null,null,null,null,null,null,null,null,null,null,null,null,null,null,null,null,null,null,null,null,null,null,null,null,null,null,null,null,null,null,null,null,null,null,null,null,null,null,null,null,null,1554,0.3865657678935529,38.146718682866322,35.289580394314832]
[null,null,null,null,null,null,null,null,null,null,null,null,null,null,null,null,null,null,null,null,null,null,null,null,null,null,null,null,null,null,null,null,null,null,null,null,null,null,null,null,null,null,null,null,1559,0.38780954449552701,38.271096343063739,35.413957859896996]
[null,null,null,null,null,null,null,null,null,null,null,null,null,null,null,null,null,null,null,null,null,null,null,null,null,null,null,null,null,null,null,null,null,null,null,null,null,null,null,null,null,null,null,null,1565,0.38930207641789594,38.42034953530063,35.563210829507476]
[null,null,null,null,null,null,null,null,null,null,null,null,null,null,null,null,null,null,null,null,null,null,null,null,null,null,null,null,null,null,null,null,null,null,null,null,null,null,null,null,null,null,null,null,1570,0.39054585301987005,38.544727195498041,35.687588312863518]
[null,null,null,null,null,null,null,null,null,null,null,null,null,null,null,null,null,null,null,null,null,null,null,null,null,null,null,null,null,null,null,null,null,null,null,null,null,null,null,null,null,null,null,null,1577,0.39228714026263384,38.71885591977442,35.861716802145381]
[null,null,null,null,null,null,null,null,null,null,null,null,null,null,null,null,null,null,null,null,null,null,null,null,null,null,null,null,null,null,null,null,null,null,null,null,null,null,null,null,null,null,null,null,1582,0.39353091686460795,38.84323357997183,35.986094303045036]
[null,null,null,null,null,null,null,null,null,null,null,null,null,null,null,null,null,null,null,null,null,null,null,null,null,null,null,null,null,null,null,null,null,null,null,null,null,null,null,null,null,null,null,null,1587,0.39477469346658206,38.967611240169241,36.110471810730523]
[null,null,null,null,null,null,null,null,null,null,null,null,null,null,null,null,null,null,null,null,null,null,null,null,null,null,null,null,null,null,null,null,null,null,null,null,null,null,null,null,null,null,null,null,1593,0.39626722538895098,39.116864432406132,36.259724828504311]
[null,null,null,null,null,null,null,null,null,null,null,null,null,null,null,null,null,null,null,null,null,null,null,null,null,null,null,null,null,null,null,null,null,null,null,null,null,null,null,null,null,null,null,null,1600,{"$f":"$AP$18/$N$7*AS1631","v":0.39800851263171472},39.290993156682504,36.433853360431414]
[null,null,null,null,null,null,null,null,null,null,null,null,null,null,null,null,null,null,null,null,null,null,null,null,null,null,null,null,null,null,null,null,null,null,null,null,null,null,null,null,null,null,null,null,1604,0.39900353391329402,39.390495284840433,36.533355383825651]
[null,null,null,null,null,null,null,null,null,null,null,null,null,null,null,null,null,null,null,null,null,null,null,null,null,null,null,null,null,null,null,null,null,null,null,null,null,null,null,null,null,null,null,null,1610,0.40049606583566294,39.539748477077332,36.682608425601671]
[null,null,null,null,null,null,null,null,null,null,null,null,null,null,null,null,null,null,null,null,null,null,null,null,null,null,null,null,null,null,null,null,null,null,null,null,null,null,null,null,null,null,null,null,1615,0.40173984243763705,39.664126137274742,36.8069859662818]
[null,null,null,null,null,null,null,null,null,null,null,null,null,null,null,null,null,null,null,null,null,null,null,null,null,null,null,null,null,null,null,null,null,null,null,null,null,null,null,null,null,null,null,null,1616,0.40198859775803186,39.689001669314223,36.831861475035858]
[null,null,null,null,null,null,null,null,null,null,null,null,null,null,null,null,null,null,null,null,null,null,null,null,null,null,null,null,null,null,null,null,null,null,null,null,null,null,null,null,null,null,null,null,1625,0.40422739564158527,39.912881457669563,37.055741062698949]
[null,null,null,null,null,null,null,null,null,null,null,null,null,null,null,null,null,null,null,null,null,null,null,null,null,null,null,null,null,null,null,null,null,null,null,null,null,null,null,null,null,null,null,null,1627,0.4047249062823749,39.962632521748525,37.105492084275269]
[null,null,null,null,null,null,null,null,null,null,null,null,null,null,null,null,null,null,null,null,null,null,null,null,null,null,null,null,null,null,null,null,null,null,null,null,null,null,null,null,null,null,null,null,1633,0.40621743820474382,40.111885713985416,37.254745153355927]
[null,null,null,null,null,null,null,null,null,null,null,null,null,null,null,null,null,null,null,null,null,null,null,null,null,null,null,null,null,null,null,null,null,null,null,null,null,null,null,null,null,null,null,null,1638,0.40746121480671793,40.236263374182826,37.379122715725266]
[null,null,null,null,null,null,null,null,null,null,null,null,null,null,null,null,null,null,null,null,null,null,null,null,null,null,null,null,null,null,null,null,null,null,null,null,null,null,null,null,null,null,null,null,1643,0.40870499140869204,40.360641034380237,37.503500282261918]
[null,null,null,null,null,null,null,null,null,null,null,null,null,null,null,null,null,null,null,null,null,null,null,null,null,null,null,null,null,null,null,null,null,null,null,null,null,null,null,null,null,null,null,null,1650,0.41044627865145583,40.534769758656616,37.677628882077784]
[null,null,null,null,null,null,null,null,null,null,null,null,null,null,null,null,null,null,null,null,null,null,null,null,null,null,null,null,null,null,null,null,null,null,null,null,null,null,null,null,null,null,null,null,1655,0.41169005525342994,40.659147418854026,37.802006457906089]
[null,null,null,null,null,null,null,null,null,null,null,null,null,null,null,null,null,null,null,null,null,null,null,null,null,null,null,null,null,null,null,null,null,null,null,null,null,null,null,null,null,null,null,null,1661,0.41318258717579887,40.808400611090924,37.951259553630535]
[null,null,null,null,null,null,null,null,null,null,null,null,null,null,null,null,null,null,null,null,null,null,null,null,null,null,null,null,null,null,null,null,null,null,null,null,null,null,null,null,null,null,null,null,1666,0.41442636377777298,40.932778271288335,{"$f":"( $AP$6*AU1697 + $AP$7*AU1696 + $AP$9*AV1696 )/$AP$8","v":38.075637137164122}]
[null,null,null,null,null,null,null,null,null,null,null,null,null,null,null,null,null,null,null,null,null,null,null,null,null,null,null,null,null,null,null,null,null,null,null,null,null,null,null,null,null,null,null,null,1671,0.41567014037974709,41.057155931485745,38.200014723963477]
[null,null,null,null,null,null,null,null,null,null,null,null,null,null,null,null,null,null,null,null,null,null,null,null,null,null,null,null,null,null,null,null,null,null,null,null,null,null,null,null,null,null,null,null,1675,0.41666516166132633,41.156658059643668,38.299516795660622]
[null,null,null,null,null,null,null,null,null,null,null,null,null,null,null,null,null,null,null,null,null,null,null,null,null,null,null,null,null,null,null,null,null,null,null,null,null,null,null,null,null,null,null,null,1683,0.41865520422448493,41.355662315959528,38.498520944786151]
[null,null,null,null,null,null,null,null,null,null,null,null,null,null,null,null,null,null,null,null,null,null,null,null,null,null,null,null,null,null,null,null,null,null,null,null,null,null,null,null,null,null,null,null,1688,0.41989898082645905,41.480039976156938,38.62289854168344]
[null,null,null,null,null,null,null,null,null,null,null,null,null,null,null,null,null,null,null,null,null,null,null,null,null,null,null,null,null,null,null,null,null,null,null,null,null,null,null,null,null,null,null,null,1689,0.42014773614685386,41.504915508196419,38.64777406139023]
[null,null,null,null,null,null,null,null,null,null,null,null,null,null,null,null,null,null,null,null,null,null,null,null,null,null,null,null,null,null,null,null,null,null,null,null,null,null,null,null,null,null,null,null,1694,0.42139151274882797,41.629293168393829,38.772151661509376]
[null,null,null,null,null,null,null,null,null,null,null,null,null,null,null,null,null,null,null,null,null,null,null,null,null,null,null,null,null,null,null,null,null,null,null,null,null,null,null,null,null,null,null,null,1701,0.4231327999915917,41.803421892670208,38.946280305951127]
[null,null,null,null,null,null,null,null,null,null,null,null,null,null,null,null,null,null,null,null,null,null,null,null,null,null,null,null,null,null,null,null,null,null,null,null,null,null,null,null,null,null,null,null,1706,0.42437657659356581,41.927799552867619,39.070657912030342]
[null,null,null,null,null,null,null,null,null,null,null,null,null,null,null,null,null,null,null,null,null,null,null,null,null,null,null,null,null,null,null,null,null,null,null,null,null,null,null,null,null,null,null,null,1711,0.42562035319553992,42.052177213065029,39.195035520414912]
[null,null,null,null,null,null,null,null,null,null,null,null,null,null,null,null,null,null,null,null,null,null,null,null,null,null,null,null,null,null,null,null,null,null,null,null,null,null,null,null,null,null,null,null,1717,0.42711288511790885,42.20143040530192,39.344288653381511]
[null,null,null,null,null,null,null,null,null,null,null,null,null,null,null,null,null,null,null,null,null,null,null,null,null,null,null,null,null,null,null,null,null,null,null,null,null,null,null,null,null,null,null,null,1725,0.42910292768106745,42.40043466161778,39.543292835336217]
[null,null,null,null,null,null,null,null,null,null,null,null,null,null,null,null,null,null,null,null,null,null,null,null,null,null,null,null,null,null,null,null,null,null,null,null,null,null,null,null,null,null,null,null,{"$f":"AS1759+1","v":1729},0.43009794896264675,{"$f":"IF(($N$4*AT1760^2/2)<=$AP$13,($N$4*AT1760^2/2), IF(($AP$13+$N$6*(AT1760-$AP$12))<=$AP$17, ($AP$13+$N$6*(AT1760-$AP$12)), IF(AU1759<$D$14, ($AP$17+($N$6-$N$5*(AT1760-$AP$16)/2)*(AT1760-$AP$16)), $D$14)))","v":42.49993678977571},39.642794928211337]
[null,null,null,null,null,null,null,null,null,null,null,null,null,null,null,null,null,null,null,null,null,null,null,null,null,null,null,null,null,null,null,null,null,null,null,null,null,null,null,null,null,null,null,null,1734,0.43134172556462086,42.62431444997312,39.767172545998569]
[null,null,null,null,null,null,null,null,null,null,null,null,null,null,null,null,null,null,null,null,null,null,null,null,null,null,null,null,null,null,null,null,null,null,null,null,null,null,null,null,null,null,null,null,1739,0.43258550216659492,42.748692110170524,39.891550165592413]
[null,null,null,null,null,null,null,null,null,null,null,null,null,null,null,null,null,null,null,null,null,null,null,null,null,null,null,null,null,null,null,null,null,null,null,null,null,null,null,null,null,null,null,null,1745,0.43407803408896389,42.897945302407422,40.040803311381616]
[null,null,null,null,null,null,null,null,null,null,null,null,null,null,null,null,null,null,null,null,null,null,null,null,null,null,null,null,null,null,null,null,null,null,null,null,null,null,null,null,null,null,null,null,1750,0.435321810690938,43.022322962604832,40.165180934683711]
[null,null,null,null,null,null,null,null,null,null,null,null,null,null,null,null,null,null,null,null,null,null,null,null,null,null,null,null,null,null,null,null,null,null,null,null,null,null,null,null,null,null,null,null,1756,0.43681434261330693,43.17157615484173,40.314434084714904]
[null,null,null,null,null,null,null,null,null,null,null,null,null,null,null,null,null,null,null,null,null,null,null,null,null,null,null,null,null,null,null,null,null,null,null,null,null,null,null,null,null,null,null,null,1757,0.43706309793370174,43.196451686881211,40.339309609931973]
[null,null,null,null,null,null,null,null,null,null,null,null,null,null,null,null,null,null,null,null,null,null,null,null,null,null,null,null,null,null,null,null,null,null,null,null,null,null,null,null,null,null,null,null,1762,0.43830687453567585,43.320829347078622,40.463687236894273]
[null,null,null,null,null,null,null,null,null,null,null,null,null,null,null,null,null,null,null,null,null,null,null,null,null,null,null,null,null,null,null,null,null,null,null,null,null,null,null,null,null,null,null,null,1767,0.43955065113764996,43.445207007276032,40.588064865272344]
[null,null,null,null,null,null,null,null,null,null,null,null,null,null,null,null,null,null,null,null,null,null,null,null,null,null,null,null,null,null,null,null,null,null,null,null,null,null,null,null,null,null,null,null,1774,0.4412919383804137,43.619335731552404,40.762193547265781]
[null,null,null,null,null,null,null,null,null,null,null,null,null,null,null,null,null,null,null,null,null,null,null,null,null,null,null,null,null,null,null,null,null,null,null,null,null,null,null,null,null,null,null,null,1779,0.44253571498238781,43.743713391749814,40.886571178800502]
[null,null,null,null,null,null,null,null,null,null,null,null,null,null,null,null,null,null,null,null,null,null,null,null,null,null,null,null,null,null,null,null,null,null,null,null,null,null,null,null,null,null,null,null,1785,0.44402824690475673,43.892966583986706,41.035824338249249]
[null,null,null,null,null,null,null,null,null,null,null,null,null,null,null,null,null,null,null,null,null,null,null,null,null,null,null,null,null,null,null,null,null,null,null,null,null,null,null,null,null,null,null,null,1790,0.44527202350673084,44.017344244184116,41.16020197240168]
[null,null,null,null,null,null,null,null,null,null,null,null,null,null,null,null,null,null,null,null,null,null,null,null,null,null,null,null,null,null,null,null,null,null,null,null,null,null,null,null,null,null,null,null,1798,0.44726206606988944,44.216348500499976,41.359206189333541]
[null,null,null,null,null,null,null,null,null,null,null,null,null,null,null,null,null,null,null,null,null,null,null,null,null,null,null,null,null,null,null,null,null,null,null,null,null,null,null,null,null,null,null,null,1802,0.44825708735146869,44.315850628657905,41.458708298804588]
[null,null,null,null,null,null,null,null,null,null,null,null,null,null,null,null,null,null,null,null,null,null,null,null,null,null,null,null,null,null,null,null,null,null,null,null,null,null,null,null,null,null,null,null,1807,0.4495008639534428,44.440228288855316,41.583085936540229]
[null,null,null,null,null,null,null,null,null,null,null,null,null,null,null,null,null,null,null,null,null,null,null,null,null,null,null,null,null,null,null,null,null,null,null,null,null,null,null,null,null,null,null,null,1813,0.45099339587581172,44.589481481092207,41.73233910308241]
[null,null,null,null,null,null,null,null,null,null,null,null,null,null,null,null,null,null,null,null,null,null,null,null,null,null,null,null,null,null,null,null,null,null,null,null,null,null,null,null,null,null,null,null,1818,0.45223717247778583,44.713859141289618,41.856716742869452]
[null,null,null,null,null,null,null,null,null,null,null,null,null,null,null,null,null,null,null,null,null,null,null,null,null,null,null,null,null,null,null,null,null,null,null,null,null,null,null,null,null,null,null,null,1819,0.4524859277981807,44.738734673329105,41.881592270932401]
[null,null,null,null,null,null,null,null,null,null,null,null,null,null,null,null,null,null,null,null,null,null,null,null,null,null,null,null,null,null,null,null,null,null,null,null,null,null,null,null,null,null,null,null,1825,0.45397845972054962,44.887987865565997,42.030845440023619]
[null,null,null,null,null,null,null,null,null,null,null,null,null,null,null,null,null,null,null,null,null,null,null,null,null,null,null,null,null,null,null,null,null,null,null,null,null,null,null,null,null,null,null,null,1830,0.45522223632252373,45.012365525763407,42.155223081835466]
[null,null,null,null,null,null,null,null,null,null,null,null,null,null,null,null,null,null,null,null,null,null,null,null,null,null,null,null,null,null,null,null,null,null,null,null,null,null,null,null,null,null,null,null,1836,0.45671476824489265,45.161618718000298,42.304476253040555]
[null,null,null,null,null,null,null,null,null,null,null,null,null,null,null,null,null,null,null,null,null,null,null,null,null,null,null,null,null,null,null,null,null,null,null,null,null,null,null,null,null,null,null,null,1841,0.45795854484686677,45.285996378197709,42.428853896531528]
[null,null,null,null,null,null,null,null,null,null,null,null,null,null,null,null,null,null,null,null,null,null,null,null,null,null,null,null,null,null,null,null,null,null,null,null,null,null,null,null,null,null,null,null,1850,0.46019734273042012,45.509876166553049,42.652733656588261]
[null,null,null,null,null,null,null,null,null,null,null,null,null,null,null,null,null,null,null,null,null,null,null,null,null,null,null,null,null,null,null,null,null,null,null,null,null,null,null,null,null,null,null,null,1853,0.46094360869160461,45.584502762671498,42.727360243755996]
[null,null,null,null,null,null,null,null,null,null,null,null,null,null,null,null,null,null,null,null,null,null,null,null,null,null,null,null,null,null,null,null,null,null,null,null,null,null,null,null,null,null,null,null,1858,0.46218738529357872,45.708880422868909,{"$f":"( $AP$6*AU1889 + $AP$7*AU1888 + $AP$9*AV1888 )/$AP$8","v":42.851737889545412}]
[null,null,null,null,null,null,null,null,null,null,null,null,null,null,null,null,null,null,null,null,null,null,null,null,null,null,null,null,null,null,null,null,null,null,null,null,null,null,null,null,null,null,null,null,1863,0.46343116189555283,45.833258083066319,42.976115535948573]
[null,null,null,null,null,null,null,null,null,null,null,null,null,null,null,null,null,null,null,null,null,null,null,null,null,null,null,null,null,null,null,null,null,null,null,null,null,null,null,null,null,null,null,null,1867,0.46442618317713213,45.932760211224249,43.075617653495414]
[null,null,null,null,null,null,null,null,null,null,null,null,null,null,null,null,null,null,null,null,null,null,null,null,null,null,null,null,null,null,null,null,null,null,null,null,null,null,null,null,null,null,null,null,1875,0.46641622574029068,46.131764467540101,43.274621889666193]
[null,null,null,null,null,null,null,null,null,null,null,null,null,null,null,null,null,null,null,null,null,null,null,null,null,null,null,null,null,null,null,null,null,null,null,null,null,null,null,null,null,null,null,null,1881,0.4679087576626596,46.281017659776992,43.423875067688847]
[null,null,null,null,null,null,null,null,null,null,null,null,null,null,null,null,null,null,null,null,null,null,null,null,null,null,null,null,null,null,null,null,null,null,null,null,null,null,null,null,null,null,null,null,1886,0.46915253426463371,46.405395319974403,43.548252716595293]
[null,null,null,null,null,null,null,null,null,null,null,null,null,null,null,null,null,null,null,null,null,null,null,null,null,null,null,null,null,null,null,null,null,null,null,null,null,null,null,null,null,null,null,null,1891,0.47039631086660783,46.529772980171821,43.672630365982727]
[null,null,null,null,null,null,null,null,null,null,null,null,null,null,null,null,null,null,null,null,null,null,null,null,null,null,null,null,null,null,null,null,null,null,null,null,null,null,null,null,null,null,null,null,1892,0.47064506618700264,46.554648512211301,43.697505895916109]
[null,null,null,null,null,null,null,null,null,null,null,null,null,null,null,null,null,null,null,null,null,null,null,null,null,null,null,null,null,null,null,null,null,null,null,null,null,null,null,null,null,null,null,null,1898,0.47213759810937161,46.703901704448199,43.84675907589434]
[null,null,null,null,null,null,null,null,null,null,null,null,null,null,null,null,null,null,null,null,null,null,null,null,null,null,null,null,null,null,null,null,null,null,null,null,null,null,null,null,null,null,null,null,1904,0.47363013003174054,46.853154896685091,43.996012256496499]
[null,null,null,null,null,null,null,null,null,null,null,null,null,null,null,null,null,null,null,null,null,null,null,null,null,null,null,null,null,null,null,null,null,null,null,null,null,null,null,null,null,null,null,null,1909,0.47487390663371465,46.977532556882501,44.120389907451958]
[null,null,null,null,null,null,null,null,null,null,null,null,null,null,null,null,null,null,null,null,null,null,null,null,null,null,null,null,null,null,null,null,null,null,null,null,null,null,null,null,null,null,null,null,1914,0.47611768323568876,47.101910217079912,44.244767558801129]
[null,null,null,null,null,null,null,null,null,null,null,null,null,null,null,null,null,null,null,null,null,null,null,null,null,null,null,null,null,null,null,null,null,null,null,null,null,null,null,null,null,null,null,null,1923,0.47835648111924212,47.325790005435245,44.468647332168629]
[null,null,null,null,null,null,null,null,null,null,null,null,null,null,null,null,null,null,null,null,null,null,null,null,null,null,null,null,null,null,null,null,null,null,null,null,null,null,null,null,null,null,null,null,1926,0.47910274708042661,47.400416601553694,44.543273923546494]
[null,null,null,null,null,null,null,null,null,null,null,null,null,null,null,null,null,null,null,null,null,null,null,null,null,null,null,null,null,null,null,null,null,null,null,null,null,null,null,null,null,null,null,null,1931,0.48034652368240072,47.524794261751104,44.667651576112981]
[null,null,null,null,null,null,null,null,null,null,null,null,null,null,null,null,null,null,null,null,null,null,null,null,null,null,null,null,null,null,null,null,null,null,null,null,null,null,null,null,null,null,null,null,1937,0.48183905560476964,47.674047453987995,44.816904759620613]
[null,null,null,null,null,null,null,null,null,null,null,null,null,null,null,null,null,null,null,null,null,null,null,null,null,null,null,null,null,null,null,null,null,null,null,null,null,null,null,null,null,null,null,null,1942,0.48308283220674375,47.798425114185413,44.941282412884]
[null,null,null,null,null,null,null,null,null,null,null,null,null,null,null,null,null,null,null,null,null,null,null,null,null,null,null,null,null,null,null,null,null,null,null,null,null,null,null,null,null,null,null,null,1948,0.48457536412911267,47.947678306422304,45.090535597188861]
[null,null,null,null,null,null,null,null,null,null,null,null,null,null,null,null,null,null,null,null,null,null,null,null,null,null,null,null,null,null,null,null,null,null,null,null,null,null,null,null,null,null,null,null,1954,0.4860678960514816,48.096931498659195,45.239788781897452]
[null,null,null,null,null,null,null,null,null,null,null,null,null,null,null,null,null,null,null,null,null,null,null,null,null,null,null,null,null,null,null,null,null,null,null,null,null,null,null,null,null,null,null,null,1959,0.48731167265345571,48.221309158856606,45.364166436114814]
[null,null,null,null,null,null,null,null,null,null,null,null,null,null,null,null,null,null,null,null,null,null,null,null,null,null,null,null,null,null,null,null,null,null,null,null,null,null,null,null,null,null,null,null,1960,0.48756042797385052,48.246184690896087,45.389041966989204]
[null,null,null,null,null,null,null,null,null,null,null,null,null,null,null,null,null,null,null,null,null,null,null,null,null,null,null,null,null,null,null,null,null,null,null,null,null,null,null,null,null,null,null,null,1967,0.48930171521661431,48.420313415172465,45.563170683387916]
[null,null,null,null,null,null,null,null,null,null,null,null,null,null,null,null,null,null,null,null,null,null,null,null,null,null,null,null,null,null,null,null,null,null,null,null,null,null,null,null,null,null,null,null,1972,0.49054549181858842,48.544691075369876,45.687548338245229]
[null,null,null,null,null,null,null,null,null,null,null,null,null,null,null,null,null,null,null,null,null,null,null,null,null,null,null,null,null,null,null,null,null,null,null,null,null,null,null,null,null,null,null,null,1977,0.49178926842056253,48.669068735567286,45.811925993330014]
[null,null,null,null,null,null,null,null,null,null,null,null,null,null,null,null,null,null,null,null,null,null,null,null,null,null,null,null,null,null,null,null,null,null,null,null,null,null,null,null,null,null,null,null,1982,0.49303304502253659,48.793446395764697,45.936303648632595]
[null,null,null,null,null,null,null,null,null,null,null,null,null,null,null,null,null,null,null,null,null,null,null,null,null,null,null,null,null,null,null,null,null,null,null,null,null,null,null,null,null,null,null,null,1988,0.49452557694490556,48.942699588001588,46.085556835270147]
[null,null,null,null,null,null,null,null,null,null,null,null,null,null,null,null,null,null,null,null,null,null,null,null,null,null,null,null,null,null,null,null,null,null,null,null,null,null,null,null,null,null,null,null,1992,0.49552059822648481,49.042201716159518,46.185058959854416]
[null,null,null,null,null,null,null,null,null,null,null,null,null,null,null,null,null,null,null,null,null,null,null,null,null,null,null,null,null,null,null,null,null,null,null,null,null,null,null,null,null,null,null,null,1999,0.4972618854692486,49.216330440435897,46.359187678168709]
[null,null,null,null,null,null,null,null,null,null,null,null,null,null,null,null,null,null,null,null,null,null,null,null,null,null,null,null,null,null,null,null,null,null,null,null,null,null,null,null,null,null,null,null,2005,0.49875441739161752,49.365583632672788,46.508440865576603]
[null,null,null,null,null,null,null,null,null,null,null,null,null,null,null,null,null,null,null,null,null,null,null,null,null,null,null,null,null,null,null,null,null,null,null,null,null,null,null,null,null,null,null,null,2010,0.49999819399359163,49.489961292870198,46.632818521938141]
[null,null,null,null,null,null,null,null,null,null,null,null,null,null,null,null,null,null,null,null,null,null,null,null,null,null,null,null,null,null,null,null,null,null,null,null,null,null,null,null,null,null,null,null,2016,0.50149072591596056,49.628318003673172,46.781882139376457]
[null,null,null,null,null,null,null,null,null,null,null,null,null,null,null,null,null,null,null,null,null,null,null,null,null,null,null,null,null,null,null,null,null,null,null,null,null,null,null,null,null,null,null,null,2017,0.50173948123635537,49.649253561017296,46.806647778484397]
[null,null,null,null,null,null,null,null,null,null,null,null,null,null,null,null,null,null,null,null,null,null,null,null,null,null,null,null,null,null,null,null,null,null,null,null,null,null,null,null,null,null,null,null,2027,0.50422703444030359,49.825233608257754,47.051530681793523]
[null,null,null,null,null,null,null,null,null,null,null,null,null,null,null,null,null,null,null,null,null,null,null,null,null,null,null,null,null,null,null,null,null,null,null,null,null,null,null,null,null,null,null,null,2028,0.5044757897606984,49.839494060361723,47.075636888680862]
[null,null,null,null,null,null,null,null,null,null,null,null,null,null,null,null,null,null,null,null,null,null,null,null,null,null,null,null,null,null,null,null,null,null,null,null,null,null,null,null,null,null,null,null,2033,0.50571956636267257,49.901693904644986,47.194758849851958]
[null,null,null,null,null,null,null,null,null,null,null,null,null,null,null,null,null,null,null,null,null,null,null,null,null,null,null,null,null,null,null,null,null,null,null,null,null,null,null,null,null,null,null,null,2042,0.50795836424622587,49.975423476161247,47.401891626385463]
[null,null,null,null,null,null,null,null,null,null,null,null,null,null,null,null,null,null,null,null,null,null,null,null,null,null,null,null,null,null,null,null,null,null,null,null,null,null,null,null,null,null,null,null,2045,0.50870463020741041,49.989077100516113,47.468427765864163]
[null,null,null,null,null,null,null,null,null,null,null,null,null,null,null,null,null,null,null,null,null,null,null,null,null,null,null,null,null,null,null,null,null,null,null,null,null,null,null,null,null,null,null,null,2050,0.50994840680938447,49.999696586125452,{"$f":"( $AP$6*AU2081 + $AP$7*AU2080 + $AP$9*AV2080 )/$AP$8","v":47.576083157811325}]
[null,null,null,null,null,null,null,null,null,null,null,null,null,null,null,null,null,null,null,null,null,null,null,null,null,null,null,null,null,null,null,null,null,null,null,null,null,null,null,null,null,null,null,null,2056,0.51144093873175345,50,47.699454286299762]
[null,null,null,null,null,null,null,null,null,null,null,null,null,null,null,null,null,null,null,null,null,null,null,null,null,null,null,null,null,null,null,null,null,null,null,null,null,null,null,null,null,null,null,null,2061,0.5126847153337275,50,47.797454128645278]
[null,null,null,null,null,null,null,null,null,null,null,null,null,null,null,null,null,null,null,null,null,null,null,null,null,null,null,null,null,null,null,null,null,null,null,null,null,null,null,null,null,null,null,null,2067,0.51417724725609648,50,47.909559188583565]
[null,null,null,null,null,null,null,null,null,null,null,null,null,null,null,null,null,null,null,null,null,null,null,null,null,null,null,null,null,null,null,null,null,null,null,null,null,null,null,null,null,null,null,null,2073,0.51566977917846535,50,48.015958331279812]
[null,null,null,null,null,null,null,null,null,null,null,null,null,null,null,null,null,null,null,null,null,null,null,null,null,null,null,null,null,null,null,null,null,null,null,null,null,null,null,null,null,null,null,null,2078,0.51691355578043952,50,48.100475569769607]
[null,null,null,null,null,null,null,null,null,null,null,null,null,null,null,null,null,null,null,null,null,null,null,null,null,null,null,null,null,null,null,null,null,null,null,null,null,null,null,null,null,null,null,null,2084,0.51840608770280838,50,48.19715746088238]
[null,null,null,null,null,null,null,null,null,null,null,null,null,null,null,null,null,null,null,null,null,null,null,null,null,null,null,null,null,null,null,null,null,null,null,null,null,null,null,null,null,null,null,null,2089,0.51964986430478255,50,48.273955884645552]
[null,null,null,null,null,null,null,null,null,null,null,null,null,null,null,null,null,null,null,null,null,null,null,null,null,null,null,null,null,null,null,null,null,null,null,null,null,null,null,null,null,null,null,null,2092,0.52039613026596698,50,48.318455564424738]
[null,null,null,null,null,null,null,null,null,null,null,null,null,null,null,null,null,null,null,null,null,null,null,null,null,null,null,null,null,null,null,null,null,null,null,null,null,null,null,null,null,null,null,null,2096,0.52139115154754634,50,48.376008978396158]
[null,null,null,null,null,null,null,null,null,null,null,null,null,null,null,null,null,null,null,null,null,null,null,null,null,null,null,null,null,null,null,null,null,null,null,null,null,null,null,null,null,null,null,null,2101,0.52263492814952039,50,48.445188592232952]
[null,null,null,null,null,null,null,null,null,null,null,null,null,null,null,null,null,null,null,null,null,null,null,null,null,null,null,null,null,null,null,null,null,null,null,null,null,null,null,null,null,null,null,null,2106,0.52387870475149445,50,48.511421256913671]
[null,null,null,null,null,null,null,null,null,null,null,null,null,null,null,null,null,null,null,null,null,null,null,null,null,null,null,null,null,null,null,null,null,null,null,null,null,null,null,null,null,null,null,null,2112,{"$f":"$AP$18/$N$7*AS2143","v":0.52537123667386343},50,48.587186856798262]
[null,null,null,null,null,null,null,null,null,null,null,null,null,null,null,null,null,null,null,null,null,null,null,null,null,null,null,null,null,null,null,null,null,null,null,null,null,null,null,null,null,null,null,null,2117,0.5266150132758376,50,48.647370605581372]
[null,null,null,null,null,null,null,null,null,null,null,null,null,null,null,null,null,null,null,null,null,null,null,null,null,null,null,null,null,null,null,null,null,null,null,null,null,null,null,null,null,null,null,null,2124,0.52835630051860127,50,48.727345394852655]
[null,null,null,null,null,null,null,null,null,null,null,null,null,null,null,null,null,null,null,null,null,null,null,null,null,null,null,null,null,null,null,null,null,null,null,null,null,null,null,null,null,null,null,null,2129,0.52960007712057544,50,48.781558597364544]
[null,null,null,null,null,null,null,null,null,null,null,null,null,null,null,null,null,null,null,null,null,null,null,null,null,null,null,null,null,null,null,null,null,null,null,null,null,null,null,null,null,null,null,null,2134,0.5308438537225495,50,48.83346239769088]
[null,null,null,null,null,null,null,null,null,null,null,null,null,null,null,null,null,null,null,null,null,null,null,null,null,null,null,null,null,null,null,null,null,null,null,null,null,null,null,null,null,null,null,null,2140,0.53233638564491848,50,48.892836765111731]
[null,null,null,null,null,null,null,null,null,null,null,null,null,null,null,null,null,null,null,null,null,null,null,null,null,null,null,null,null,null,null,null,null,null,null,null,null,null,null,null,null,null,null,null,2146,0.53382891756728734,50,48.949189099209647]
[null,null,null,null,null,null,null,null,null,null,null,null,null,null,null,null,null,null,null,null,null,null,null,null,null,null,null,null,null,null,null,null,null,null,null,null,null,null,null,null,null,null,null,null,2151,0.53507269416926151,50,48.993952088268763]
[null,null,null,null,null,null,null,null,null,null,null,null,null,null,null,null,null,null,null,null,null,null,null,null,null,null,null,null,null,null,null,null,null,null,null,null,null,null,null,null,null,null,null,null,2157,0.53656522609163038,50,49.045157860149473]
[null,null,null,null,null,null,null,null,null,null,null,null,null,null,null,null,null,null,null,null,null,null,null,null,null,null,null,null,null,null,null,null,null,null,null,null,null,null,null,null,null,null,null,null,2162,0.53780900269360454,50,49.085832722036777]
[null,null,null,null,null,null,null,null,null,null,null,null,null,null,null,null,null,null,null,null,null,null,null,null,null,null,null,null,null,null,null,null,null,null,null,null,null,null,null,null,null,null,null,null,2165,0.53855526865478898,50,49.109401152746095]
[null,null,null,null,null,null,null,null,null,null,null,null,null,null,null,null,null,null,null,null,null,null,null,null,null,null,null,null,null,null,null,null,null,null,null,null,null,null,null,null,null,null,null,null,2169,0.53955028993636822,50,49.139883251853348]
[null,null,null,null,null,null,null,null,null,null,null,null,null,null,null,null,null,null,null,null,null,null,null,null,null,null,null,null,null,null,null,null,null,null,null,null,null,null,null,null,null,null,null,null,2174,0.54079406653834239,50,49.176522952257955]
[null,null,null,null,null,null,null,null,null,null,null,null,null,null,null,null,null,null,null,null,null,null,null,null,null,null,null,null,null,null,null,null,null,null,null,null,null,null,null,null,null,null,null,null,2180,0.54228659846071137,50,49.21843624223547]
[null,null,null,null,null,null,null,null,null,null,null,null,null,null,null,null,null,null,null,null,null,null,null,null,null,null,null,null,null,null,null,null,null,null,null,null,null,null,null,null,null,null,null,null,2185,0.54353037506268542,50,49.251729701516766]
[null,null,null,null,null,null,null,null,null,null,null,null,null,null,null,null,null,null,null,null,null,null,null,null,null,null,null,null,null,null,null,null,null,null,null,null,null,null,null,null,null,null,null,null,2190,0.54477415166465948,50,49.283604908710622]
[null,null,null,null,null,null,null,null,null,null,null,null,null,null,null,null,null,null,null,null,null,null,null,null,null,null,null,null,null,null,null,null,null,null,null,null,null,null,null,null,null,null,null,null,2197,0.54651543890742327,50,49.325962073723616]
[null,null,null,null,null,null,null,null,null,null,null,null,null,null,null,null,null,null,null,null,null,null,null,null,null,null,null,null,null,null,null,null,null,null,null,null,null,null,null,null,null,null,null,null,2202,0.54775921550939743,50,49.354675091733462]
[null,null,null,null,null,null,null,null,null,null,null,null,null,null,null,null,null,null,null,null,null,null,null,null,null,null,null,null,null,null,null,null,null,null,null,null,null,null,null,null,null,null,null,null,2208,0.5492517474317663,50,49.38752080380771]
[null,null,null,null,null,null,null,null,null,null,null,null,null,null,null,null,null,null,null,null,null,null,null,null,null,null,null,null,null,null,null,null,null,null,null,null,null,null,null,null,null,null,null,null,2215,0.55099303467453009,50,49.42373389724677]
[null,null,null,null,null,null,null,null,null,null,null,null,null,null,null,null,null,null,null,null,null,null,null,null,null,null,null,null,null,null,null,null,null,null,null,null,null,null,null,null,null,null,null,null,2219,0.55198805595610934,50,49.443457480440749]
[null,null,null,null,null,null,null,null,null,null,null,null,null,null,null,null,null,null,null,null,null,null,null,null,null,null,null,null,null,null,null,null,null,null,null,null,null,null,null,null,null,null,null,null,2225,0.55348058787847831,50,49.471784351324473]
[null,null,null,null,null,null,null,null,null,null,null,null,null,null,null,null,null,null,null,null,null,null,null,null,null,null,null,null,null,null,null,null,null,null,null,null,null,null,null,null,null,null,null,null,2230,0.55472436448045237,50,49.494285556141378]
[null,null,null,null,null,null,null,null,null,null,null,null,null,null,null,null,null,null,null,null,null,null,null,null,null,null,null,null,null,null,null,null,null,null,null,null,null,null,null,null,null,null,null,null,2231,0.55497311980084718,50,49.498669442674995]
[null,null,null,null,null,null,null,null,null,null,null,null,null,null,null,null,null,null,null,null,null,null,null,null,null,null,null,null,null,null,null,null,null,null,null,null,null,null,null,null,null,null,null,null,2240,{"$f":"$AP$18/$N$7*AS2271","v":0.55721191768440059},50,49.53645324316124]
[null,null,null,null,null,null,null,null,null,null,null,null,null,null,null,null,null,null,null,null,null,null,null,null,null,null,null,null,null,null,null,null,null,null,null,null,null,null,null,null,null,null,null,null,2242,0.55770942832519022,50,{"$f":"( $AP$6*AU2273 + $AP$7*AU2272 + $AP$9*AV2272 )/$AP$8","v":49.54445510436878}]
[null,null,null,null,null,null,null,null,null,null,null,null,null,null,null,null,null,null,null,null,null,null,null,null,null,null,null,null,null,null,null,null,null,null,null,null,null,null,null,null,null,null,null,null,2248,0.55920196024755919,50,49.567641403684227]
[null,null,null,null,null,null,null,null,null,null,null,null,null,null,null,null,null,null,null,null,null,null,null,null,null,null,null,null,null,null,null,null,null,null,null,null,null,null,null,null,null,null,null,null,2253,0.56044573684953325,50,49.586059239949464]
[null,null,null,null,null,null,null,null,null,null,null,null,null,null,null,null,null,null,null,null,null,null,null,null,null,null,null,null,null,null,null,null,null,null,null,null,null,null,null,null,null,null,null,null,2259,0.56193826877190223,50,49.607127974235475]
[null,null,null,null,null,null,null,null,null,null,null,null,null,null,null,null,null,null,null,null,null,null,null,null,null,null,null,null,null,null,null,null,null,null,null,null,null,null,null,null,null,null,null,null,2265,0.56343080069427121,50,49.627124353229966]
[null,null,null,null,null,null,null,null,null,null,null,null,null,null,null,null,null,null,null,null,null,null,null,null,null,null,null,null,null,null,null,null,null,null,null,null,null,null,null,null,null,null,null,null,2270,0.56467457729624526,50,49.643008303885807]
[null,null,null,null,null,null,null,null,null,null,null,null,null,null,null,null,null,null,null,null,null,null,null,null,null,null,null,null,null,null,null,null,null,null,null,null,null,null,null,null,null,null,null,null,2276,0.56616710921861424,50,49.661178447813704]
[null,null,null,null,null,null,null,null,null,null,null,null,null,null,null,null,null,null,null,null,null,null,null,null,null,null,null,null,null,null,null,null,null,null,null,null,null,null,null,null,null,null,null,null,2281,0.5674108858205883,50,49.675611744444033]
[null,null,null,null,null,null,null,null,null,null,null,null,null,null,null,null,null,null,null,null,null,null,null,null,null,null,null,null,null,null,null,null,null,null,null,null,null,null,null,null,null,null,null,null,2286,0.56865466242256246,50,49.68943020400075]
[null,null,null,null,null,null,null,null,null,null,null,null,null,null,null,null,null,null,null,null,null,null,null,null,null,null,null,null,null,null,null,null,null,null,null,null,null,null,null,null,null,null,null,null,2290,0.56964968370414171,50,49.700059927282496]
[null,null,null,null,null,null,null,null,null,null,null,null,null,null,null,null,null,null,null,null,null,null,null,null,null,null,null,null,null,null,null,null,null,null,null,null,null,null,null,null,null,null,null,null,2298,0.57163972626730031,50,49.720240370780772]
[null,null,null,null,null,null,null,null,null,null,null,null,null,null,null,null,null,null,null,null,null,null,null,null,null,null,null,null,null,null,null,null,null,null,null,null,null,null,null,null,null,null,null,null,2299,0.57188848158769512,50,49.722665522931514]
[null,null,null,null,null,null,null,null,null,null,null,null,null,null,null,null,null,null,null,null,null,null,null,null,null,null,null,null,null,null,null,null,null,null,null,null,null,null,null,null,null,null,null,null,2304,{"$f":"$AP$18/$N$7*AS2335","v":0.57313225818966917},50,49.73447956116938]
[null,null,null,null,null,null,null,null,null,null,null,null,null,null,null,null,null,null,null,null,null,null,null,null,null,null,null,null,null,null,null,null,null,null,null,null,null,null,null,null,null,null,null,null,2309,0.57437603479164334,50,49.745790338864389]
[null,null,null,null,null,null,null,null,null,null,null,null,null,null,null,null,null,null,null,null,null,null,null,null,null,null,null,null,null,null,null,null,null,null,null,null,null,null,null,null,null,null,null,null,2316,0.57611732203440702,50,49.760820593392268]
[null,null,null,null,null,null,null,null,null,null,null,null,null,null,null,null,null,null,null,null,null,null,null,null,null,null,null,null,null,null,null,null,null,null,null,null,null,null,null,null,null,null,null,null,2321,0.57736109863638119,50,49.771009282102177]
[null,null,null,null,null,null,null,null,null,null,null,null,null,null,null,null,null,null,null,null,null,null,null,null,null,null,null,null,null,null,null,null,null,null,null,null,null,null,null,null,null,null,null,null,2326,0.57860487523835524,50,49.780763947753414]
[null,null,null,null,null,null,null,null,null,null,null,null,null,null,null,null,null,null,null,null,null,null,null,null,null,null,null,null,null,null,null,null,null,null,null,null,null,null,null,null,null,null,null,null,2332,0.58009740716072422,50,49.791922612413842]
[null,null,null,null,null,null,null,null,null,null,null,null,null,null,null,null,null,null,null,null,null,null,null,null,null,null,null,null,null,null,null,null,null,null,null,null,null,null,null,null,null,null,null,null,2340,0.58208744972388282,50,49.805922388853858]
[null,null,null,null,null,null,null,null,null,null,null,null,null,null,null,null,null,null,null,null,null,null,null,null,null,null,null,null,null,null,null,null,null,null,null,null,null,null,null,null,null,null,null,null,2344,0.58308247100546207,50,49.812564990060544]
[null,null,null,null,null,null,null,null,null,null,null,null,null,null,null,null,null,null,null,null,null,null,null,null,null,null,null,null,null,null,null,null,null,null,null,null,null,null,null,null,null,null,null,null,2349,0.58432624760743623,50,49.820549444059715]
[null,null,null,null,null,null,null,null,null,null,null,null,null,null,null,null,null,null,null,null,null,null,null,null,null,null,null,null,null,null,null,null,null,null,null,null,null,null,null,null,null,null,null,null,2354,0.58557002420941029,50,49.828193772136395]
[null,null,null,null,null,null,null,null,null,null,null,null,null,null,null,null,null,null,null,null,null,null,null,null,null,null,null,null,null,null,null,null,null,null,null,null,null,null,null,null,null,null,null,null,2360,0.58706255613177927,50,49.836938356175636]
[null,null,null,null,null,null,null,null,null,null,null,null,null,null,null,null,null,null,null,null,null,null,null,null,null,null,null,null,null,null,null,null,null,null,null,null,null,null,null,null,null,null,null,null,2365,0.58830633273375332,50,49.843884540853551]
[null,null,null,null,null,null,null,null,null,null,null,null,null,null,null,null,null,null,null,null,null,null,null,null,null,null,null,null,null,null,null,null,null,null,null,null,null,null,null,null,null,null,null,null,2367,0.58880384337454295,50,49.846579445343778]
[null,null,null,null,null,null,null,null,null,null,null,null,null,null,null,null,null,null,null,null,null,null,null,null,null,null,null,null,null,null,null,null,null,null,null,null,null,null,null,null,null,null,null,null,2372,0.59004761997651711,50,49.853114933892989]
[null,null,null,null,null,null,null,null,null,null,null,null,null,null,null,null,null,null,null,null,null,null,null,null,null,null,null,null,null,null,null,null,null,null,null,null,null,null,null,null,null,null,null,null,2377,0.59129139657849117,50,49.859372020303233]
[null,null,null,null,null,null,null,null,null,null,null,null,null,null,null,null,null,null,null,null,null,null,null,null,null,null,null,null,null,null,null,null,null,null,null,null,null,null,null,null,null,null,null,null,2382,0.59253517318046534,50,49.865362564093566]
[null,null,null,null,null,null,null,null,null,null,null,null,null,null,null,null,null,null,null,null,null,null,null,null,null,null,null,null,null,null,null,null,null,null,null,null,null,null,null,null,null,null,null,null,2389,0.59427646042322901,50,49.873323059857611]
[null,null,null,null,null,null,null,null,null,null,null,null,null,null,null,null,null,null,null,null,null,null,null,null,null,null,null,null,null,null,null,null,null,null,null,null,null,null,null,null,null,null,null,null,2394,0.59552023702520318,50,49.878719310012002]
[null,null,null,null,null,null,null,null,null,null,null,null,null,null,null,null,null,null,null,null,null,null,null,null,null,null,null,null,null,null,null,null,null,null,null,null,null,null,null,null,null,null,null,null,2400,0.59701276894757205,50,49.88489224797312]
[null,null,null,null,null,null,null,null,null,null,null,null,null,null,null,null,null,null,null,null,null,null,null,null,null,null,null,null,null,null,null,null,null,null,null,null,null,null,null,null,null,null,null,null,2405,0.59825654554954621,50,49.88979566783744]
[null,null,null,null,null,null,null,null,null,null,null,null,null,null,null,null,null,null,null,null,null,null,null,null,null,null,null,null,null,null,null,null,null,null,null,null,null,null,null,null,null,null,null,null,2413,0.60024658811270482,50,49.897210389979485]
[null,null,null,null,null,null,null,null,null,null,null,null,null,null,null,null,null,null,null,null,null,null,null,null,null,null,null,null,null,null,null,null,null,null,null,null,null,null,null,null,null,null,null,null,2417,0.60124160939428406,50,49.900728520605284]
[null,null,null,null,null,null,null,null,null,null,null,null,null,null,null,null,null,null,null,null,null,null,null,null,null,null,null,null,null,null,null,null,null,null,null,null,null,null,null,null,null,null,null,null,2422,0.60248538599625812,50,49.904957338694878]
[null,null,null,null,null,null,null,null,null,null,null,null,null,null,null,null,null,null,null,null,null,null,null,null,null,null,null,null,null,null,null,null,null,null,null,null,null,null,null,null,null,null,null,null,2428,0.60397791791862709,50,49.909794814899492]
[null,null,null,null,null,null,null,null,null,null,null,null,null,null,null,null,null,null,null,null,null,null,null,null,null,null,null,null,null,null,null,null,null,null,null,null,null,null,null,null,null,null,null,null,{"$f":"AS2463+1","v":2433},0.60522169452060115,{"$f":"IF(($N$4*AT2464^2/2)<=$AP$13,($N$4*AT2464^2/2), IF(($AP$13+$N$6*(AT2464-$AP$12))<=$AP$17, ($AP$13+$N$6*(AT2464-$AP$12)), IF(AU2463<$D$14, ($AP$17+($N$6-$N$5*(AT2464-$AP$16)/2)*(AT2464-$AP$16)), $D$14)))","v":50},49.913637422271258]
[null,null,null,null,null,null,null,null,null,null,null,null,null,null,null,null,null,null,null,null,null,null,null,null,null,null,null,null,null,null,null,null,null,null,null,null,null,null,null,null,null,null,null,null,2438,0.60646547112257532,50,49.917316340256455]
[null,null,null,null,null,null,null,null,null,null,null,null,null,null,null,null,null,null,null,null,null,null,null,null,null,null,null,null,null,null,null,null,null,null,null,null,null,null,null,null,null,null,null,null,2440,0.60696298176336494,50,49.918743646476671]
[null,null,null,null,null,null,null,null,null,null,null,null,null,null,null,null,null,null,null,null,null,null,null,null,null,null,null,null,null,null,null,null,null,null,null,null,null,null,null,null,null,null,null,null,2445,0.60820675836533911,50,49.922205046868498]
[null,null,null,null,null,null,null,null,null,null,null,null,null,null,null,null,null,null,null,null,null,null,null,null,null,null,null,null,null,null,null,null,null,null,null,null,null,null,null,null,null,null,null,null,2451,0.60969929028770797,50,49.9261646501608]
[null,null,null,null,null,null,null,null,null,null,null,null,null,null,null,null,null,null,null,null,null,null,null,null,null,null,null,null,null,null,null,null,null,null,null,null,null,null,null,null,null,null,null,null,2456,0.61094306688968214,50,49.929309926779567]
[null,null,null,null,null,null,null,null,null,null,null,null,null,null,null,null,null,null,null,null,null,null,null,null,null,null,null,null,null,null,null,null,null,null,null,null,null,null,null,null,null,null,null,null,2465,0.61318186477323555,50,49.934637628400523]
[null,null,null,null,null,null,null,null,null,null,null,null,null,null,null,null,null,null,null,null,null,null,null,null,null,null,null,null,null,null,null,null,null,null,null,null,null,null,null,null,null,null,null,null,2468,0.61392813073441999,50,49.936322756016835]
[null,null,null,null,null,null,null,null,null,null,null,null,null,null,null,null,null,null,null,null,null,null,null,null,null,null,null,null,null,null,null,null,null,null,null,null,null,null,null,null,null,null,null,null,2473,0.61517190733639404,50,49.939035312361241]
[null,null,null,null,null,null,null,null,null,null,null,null,null,null,null,null,null,null,null,null,null,null,null,null,null,null,null,null,null,null,null,null,null,null,null,null,null,null,null,null,null,null,null,null,2479,0.61666443925876302,50,49.94213828971607]
[null,null,null,null,null,null,null,null,null,null,null,null,null,null,null,null,null,null,null,null,null,null,null,null,null,null,null,null,null,null,null,null,null,null,null,null,null,null,null,null,null,null,null,null,2482,0.61741070521994745,50,49.943630040451865]
[null,null,null,null,null,null,null,null,null,null,null,null,null,null,null,null,null,null,null,null,null,null,null,null,null,null,null,null,null,null,null,null,null,null,null,null,null,null,null,null,null,null,null,null,2490,0.61940074778310605,50,49.947422700676782]
[null,null,null,null,null,null,null,null,null,null,null,null,null,null,null,null,null,null,null,null,null,null,null,null,null,null,null,null,null,null,null,null,null,null,null,null,null,null,null,null,null,null,null,null,2496,{"$f":"$AP$18/$N$7*AS2527","v":0.62089327970547492},50,49.950098777197418]
[null,null,null,null,null,null,null,null,null,null,null,null,null,null,null,null,null,null,null,null,null,null,null,null,null,null,null,null,null,null,null,null,null,null,null,null,null,null,null,null,null,null,null,null,2501,0.62213705630744909,50,49.95222449542954]
[null,null,null,null,null,null,null,null,null,null,null,null,null,null,null,null,null,null,null,null,null,null,null,null,null,null,null,null,null,null,null,null,null,null,null,null,null,null,null,null,null,null,null,null,2506,0.62338083290942314,50,49.954259661211253]
[null,null,null,null,null,null,null,null,null,null,null,null,null,null,null,null,null,null,null,null,null,null,null,null,null,null,null,null,null,null,null,null,null,null,null,null,null,null,null,null,null,null,null,null,2507,0.62362958822981795,50,49.954656170462059]
[null,null,null,null,null,null,null,null,null,null,null,null,null,null,null,null,null,null,null,null,null,null,null,null,null,null,null,null,null,null,null,null,null,null,null,null,null,null,null,null,null,null,null,null,2513,0.62512212015218693,50,49.956964078231074]
[null,null,null,null,null,null,null,null,null,null,null,null,null,null,null,null,null,null,null,null,null,null,null,null,null,null,null,null,null,null,null,null,null,null,null,null,null,null,null,null,null,null,null,null,2519,0.62661465207455591,50,49.959154518236019]
[null,null,null,null,null,null,null,null,null,null,null,null,null,null,null,null,null,null,null,null,null,null,null,null,null,null,null,null,null,null,null,null,null,null,null,null,null,null,null,null,null,null,null,null,2524,0.62785842867652997,50,49.960894475303377]
[null,null,null,null,null,null,null,null,null,null,null,null,null,null,null,null,null,null,null,null,null,null,null,null,null,null,null,null,null,null,null,null,null,null,null,null,null,null,null,null,null,null,null,null,2529,0.62910220527850413,50,49.96256031277499]
[null,null,null,null,null,null,null,null,null,null,null,null,null,null,null,null,null,null,null,null,null,null,null,null,null,null,null,null,null,null,null,null,null,null,null,null,null,null,null,null,null,null,null,null,2538,0.63134100316205743,50,49.965382031203461]
[null,null,null,null,null,null,null,null,null,null,null,null,null,null,null,null,null,null,null,null,null,null,null,null,null,null,null,null,null,null,null,null,null,null,null,null,null,null,null,null,null,null,null,null,2541,0.63208726912324198,50,49.96627452781599]
[null,null,null,null,null,null,null,null,null,null,null,null,null,null,null,null,null,null,null,null,null,null,null,null,null,null,null,null,null,null,null,null,null,null,null,null,null,null,null,null,null,null,null,null,2547,0.63357980104561085,50,49.967991085064469]
[null,null,null,null,null,null,null,null,null,null,null,null,null,null,null,null,null,null,null,null,null,null,null,null,null,null,null,null,null,null,null,null,null,null,null,null,null,null,null,null,null,null,null,null,2552,0.63482357764758501,50,49.96935461746402]
[null,null,null,null,null,null,null,null,null,null,null,null,null,null,null,null,null,null,null,null,null,null,null,null,null,null,null,null,null,null,null,null,null,null,null,null,null,null,null,null,null,null,null,null,2557,0.63606735424955907,50,49.970660065401539]
[null,null,null,null,null,null,null,null,null,null,null,null,null,null,null,null,null,null,null,null,null,null,null,null,null,null,null,null,null,null,null,null,null,null,null,null,null,null,null,null,null,null,null,null,2564,0.63780864149232286,50,49.972394801535749]
[null,null,null,null,null,null,null,null,null,null,null,null,null,null,null,null,null,null,null,null,null,null,null,null,null,null,null,null,null,null,null,null,null,null,null,null,null,null,null,null,null,null,null,null,2569,0.63905241809429691,50,49.973570742131606]
[null,null,null,null,null,null,null,null,null,null,null,null,null,null,null,null,null,null,null,null,null,null,null,null,null,null,null,null,null,null,null,null,null,null,null,null,null,null,null,null,null,null,null,null,2574,0.64029619469627108,50,49.97469658939859]
[null,null,null,null,null,null,null,null,null,null,null,null,null,null,null,null,null,null,null,null,null,null,null,null,null,null,null,null,null,null,null,null,null,null,null,null,null,null,null,null,null,null,null,null,2575,0.64054495001666589,50,49.974915937060764]
[null,null,null,null,null,null,null,null,null,null,null,null,null,null,null,null,null,null,null,null,null,null,null,null,null,null,null,null,null,null,null,null,null,null,null,null,null,null,null,null,null,null,null,null,2582,0.64228623725942968,50,49.976399042969788]
[null,null,null,null,null,null,null,null,null,null,null,null,null,null,null,null,null,null,null,null,null,null,null,null,null,null,null,null,null,null,null,null,null,null,null,null,null,null,null,null,null,null,null,null,2587,0.64353001386140374,50,49.97740440880726]
[null,null,null,null,null,null,null,null,null,null,null,null,null,null,null,null,null,null,null,null,null,null,null,null,null,null,null,null,null,null,null,null,null,null,null,null,null,null,null,null,null,null,null,null,2592,0.6447737904633779,50,49.97836694754811]
[null,null,null,null,null,null,null,null,null,null,null,null,null,null,null,null,null,null,null,null,null,null,null,null,null,null,null,null,null,null,null,null,null,null,null,null,null,null,null,null,null,null,null,null,2597,0.64601756706535196,50,49.979288483563259]
[null,null,null,null,null,null,null,null,null,null,null,null,null,null,null,null,null,null,null,null,null,null,null,null,null,null,null,null,null,null,null,null,null,null,null,null,null,null,null,null,null,null,null,null,2603,0.64751009898772094,50,49.980342657200083]
[null,null,null,null,null,null,null,null,null,null,null,null,null,null,null,null,null,null,null,null,null,null,null,null,null,null,null,null,null,null,null,null,null,null,null,null,null,null,null,null,null,null,null,null,2607,0.64850512026930018,50,49.981015459633234]
[null,null,null,null,null,null,null,null,null,null,null,null,null,null,null,null,null,null,null,null,null,null,null,null,null,null,null,null,null,null,null,null,null,null,null,null,null,null,null,null,null,null,null,null,2614,0.65024640751206397,50,49.982137928671293]
[null,null,null,null,null,null,null,null,null,null,null,null,null,null,null,null,null,null,null,null,null,null,null,null,null,null,null,null,null,null,null,null,null,null,null,null,null,null,null,null,null,null,null,null,2620,0.65173893943443284,50,49.983047071406034]
[null,null,null,null,null,null,null,null,null,null,null,null,null,null,null,null,null,null,null,null,null,null,null,null,null,null,null,null,null,null,null,null,null,null,null,null,null,null,null,null,null,null,null,null,{"$f":"AS2655+1","v":2625},0.65298271603640701,{"$f":"IF(($N$4*AT2656^2/2)<=$AP$13,($N$4*AT2656^2/2), IF(($AP$13+$N$6*(AT2656-$AP$12))<=$AP$17, ($AP$13+$N$6*(AT2656-$AP$12)), IF(AU2655<$D$14, ($AP$17+($N$6-$N$5*(AT2656-$AP$16)/2)*(AT2656-$AP$16)), $D$14)))","v":50},49.983769241071933]
[null,null,null,null,null,null,null,null,null,null,null,null,null,null,null,null,null,null,null,null,null,null,null,null,null,null,null,null,null,null,null,null,null,null,null,null,null,null,null,null,null,null,null,null,2631,0.65447524795877587,50,49.984595353356838]
[null,null,null,null,null,null,null,null,null,null,null,null,null,null,null,null,null,null,null,null,null,null,null,null,null,null,null,null,null,null,null,null,null,null,null,null,null,null,null,null,null,null,null,null,2632,0.65472400327917069,50,49.984728891609087]
[null,null,null,null,null,null,null,null,null,null,null,null,null,null,null,null,null,null,null,null,null,null,null,null,null,null,null,null,null,null,null,null,null,null,null,null,null,null,null,null,null,null,null,null,2642,0.65721155648311891,50,49.986002233367216]
[null,null,null,null,null,null,null,null,null,null,null,null,null,null,null,null,null,null,null,null,null,null,null,null,null,null,null,null,null,null,null,null,null,null,null,null,null,null,null,null,null,null,null,null,2643,0.65746031180351372,50,49.986123575799461]
[null,null,null,null,null,null,null,null,null,null,null,null,null,null,null,null,null,null,null,null,null,null,null,null,null,null,null,null,null,null,null,null,null,null,null,null,null,null,null,null,null,null,null,null,2648,0.65870408840548789,50,49.98671469093177]
[null,null,null,null,null,null,null,null,null,null,null,null,null,null,null,null,null,null,null,null,null,null,null,null,null,null,null,null,null,null,null,null,null,null,null,null,null,null,null,null,null,null,null,null,2655,0.66044537564825156,50,49.987500190490977]
[null,null,null,null,null,null,null,null,null,null,null,null,null,null,null,null,null,null,null,null,null,null,null,null,null,null,null,null,null,null,null,null,null,null,null,null,null,null,null,null,null,null,null,null,2660,0.66168915225022573,50,49.988032663874954]
[null,null,null,null,null,null,null,null,null,null,null,null,null,null,null,null,null,null,null,null,null,null,null,null,null,null,null,null,null,null,null,null,null,null,null,null,null,null,null,null,null,null,null,null,2665,0.66293292885219979,50,49.988542454680903]
[null,null,null,null,null,null,null,null,null,null,null,null,null,null,null,null,null,null,null,null,null,null,null,null,null,null,null,null,null,null,null,null,null,null,null,null,null,null,null,null,null,null,null,null,2671,0.66442546077456877,50,49.989125620199196]
[null,null,null,null,null,null,null,null,null,null,null,null,null,null,null,null,null,null,null,null,null,null,null,null,null,null,null,null,null,null,null,null,null,null,null,null,null,null,null,null,null,null,null,null,2676,0.66566923737654282,50,49.989588852683426]
[null,null,null,null,null,null,null,null,null,null,null,null,null,null,null,null,null,null,null,null,null,null,null,null,null,null,null,null,null,null,null,null,null,null,null,null,null,null,null,null,null,null,null,null,2682,0.6671617692989118,50,49.990118758693129]
[null,null,null,null,null,null,null,null,null,null,null,null,null,null,null,null,null,null,null,null,null,null,null,null,null,null,null,null,null,null,null,null,null,null,null,null,null,null,null,null,null,null,null,null,2688,{"$f":"$AP$18/$N$7*AS2719","v":0.66865430122128078},50,49.990621693575584]
[null,null,null,null,null,null,null,null,null,null,null,null,null,null,null,null,null,null,null,null,null,null,null,null,null,null,null,null,null,null,null,null,null,null,null,null,null,null,null,null,null,null,null,null,2693,0.66989807782325483,50,49.991021195548321]
[null,null,null,null,null,null,null,null,null,null,null,null,null,null,null,null,null,null,null,null,null,null,null,null,null,null,null,null,null,null,null,null,null,null,null,null,null,null,null,null,null,null,null,null,2699,0.67139060974562381,50,49.991478198248821]
[null,null,null,null,null,null,null,null,null,null,null,null,null,null,null,null,null,null,null,null,null,null,null,null,null,null,null,null,null,null,null,null,null,null,null,null,null,null,null,null,null,null,null,null,2704,0.67263438634759787,50,49.991841214390206]
[null,null,null,null,null,null,null,null,null,null,null,null,null,null,null,null,null,null,null,null,null,null,null,null,null,null,null,null,null,null,null,null,null,null,null,null,null,null,null,null,null,null,null,null,2707,0.6733806523087823,50,49.992051558577685]
[null,null,null,null,null,null,null,null,null,null,null,null,null,null,null,null,null,null,null,null,null,null,null,null,null,null,null,null,null,null,null,null,null,null,null,null,null,null,null,null,null,null,null,null,2711,0.67437567359036166,50,49.992323606065632]
[null,null,null,null,null,null,null,null,null,null,null,null,null,null,null,null,null,null,null,null,null,null,null,null,null,null,null,null,null,null,null,null,null,null,null,null,null,null,null,null,null,null,null,null,2716,0.67561945019233571,50,49.992650609085317]
[null,null,null,null,null,null,null,null,null,null,null,null,null,null,null,null,null,null,null,null,null,null,null,null,null,null,null,null,null,null,null,null,null,null,null,null,null,null,null,null,null,null,null,null,2722,0.67711198211470469,50,49.993024677984252]
[null,null,null,null,null,null,null,null,null,null,null,null,null,null,null,null,null,null,null,null,null,null,null,null,null,null,null,null,null,null,null,null,null,null,null,null,null,null,null,null,null,null,null,null,2730,0.67910202467786329,50,49.993493988705332]
[null,null,null,null,null,null,null,null,null,null,null,null,null,null,null,null,null,null,null,null,null,null,null,null,null,null,null,null,null,null,null,null,null,null,null,null,null,null,null,null,null,null,null,null,2733,0.67984829063904773,50,49.993661722204529]
[null,null,null,null,null,null,null,null,null,null,null,null,null,null,null,null,null,null,null,null,null,null,null,null,null,null,null,null,null,null,null,null,null,null,null,null,null,null,null,null,null,null,null,null,2739,0.68134082256141659,50,49.993984327522917]
[null,null,null,null,null,null,null,null,null,null,null,null,null,null,null,null,null,null,null,null,null,null,null,null,null,null,null,null,null,null,null,null,null,null,null,null,null,null,null,null,null,null,null,null,2744,0.68258459916339076,50,49.994240586266564]
[null,null,null,null,null,null,null,null,null,null,null,null,null,null,null,null,null,null,null,null,null,null,null,null,null,null,null,null,null,null,null,null,null,null,null,null,null,null,null,null,null,null,null,null,2749,0.68382837576536482,50,49.994485928767013]
[null,null,null,null,null,null,null,null,null,null,null,null,null,null,null,null,null,null,null,null,null,null,null,null,null,null,null,null,null,null,null,null,null,null,null,null,null,null,null,null,null,null,null,null,2755,0.68532090768773379,50,49.994766583664635]
[null,null,null,null,null,null,null,null,null,null,null,null,null,null,null,null,null,null,null,null,null,null,null,null,null,null,null,null,null,null,null,null,null,null,null,null,null,null,null,null,null,null,null,null,2761,0.68681343961010277,50,49.995032953804539]
[null,null,null,null,null,null,null,null,null,null,null,null,null,null,null,null,null,null,null,null,null,null,null,null,null,null,null,null,null,null,null,null,null,null,null,null,null,null,null,null,null,null,null,null,2767,0.68830597153247164,50,49.995285766251541]
[null,null,null,null,null,null,null,null,null,null,null,null,null,null,null,null,null,null,null,null,null,null,null,null,null,null,null,null,null,null,null,null,null,null,null,null,null,null,null,null,null,null,null,null,2772,0.68954974813444581,50,49.995486585631618]
[null,null,null,null,null,null,null,null,null,null,null,null,null,null,null,null,null,null,null,null,null,null,null,null,null,null,null,null,null,null,null,null,null,null,null,null,null,null,null,null,null,null,null,null,2777,0.69079352473641986,50,49.995678850403337]
[null,null,null,null,null,null,null,null,null,null,null,null,null,null,null,null,null,null,null,null,null,null,null,null,null,null,null,null,null,null,null,null,null,null,null,null,null,null,null,null,null,null,null,null,2780,0.6915397906976043,50,49.995790255304051]
[null,null,null,null,null,null,null,null,null,null,null,null,null,null,null,null,null,null,null,null,null,null,null,null,null,null,null,null,null,null,null,null,null,null,null,null,null,null,null,null,null,null,null,null,2784,0.69253481197918365,50,49.995934340214355]
[null,null,null,null,null,null,null,null,null,null,null,null,null,null,null,null,null,null,null,null,null,null,null,null,null,null,null,null,null,null,null,null,null,null,null,null,null,null,null,null,null,null,null,null,2789,0.69377858858115771,50,49.996107531303579]
[null,null,null,null,null,null,null,null,null,null,null,null,null,null,null,null,null,null,null,null,null,null,null,null,null,null,null,null,null,null,null,null,null,null,null,null,null,null,null,null,null,null,null,null,2795,0.69527112050352669,50,49.996305649963503]
[null,null,null,null,null,null,null,null,null,null,null,null,null,null,null,null,null,null,null,null,null,null,null,null,null,null,null,null,null,null,null,null,null,null,null,null,null,null,null,null,null,null,null,null,2800,0.69651489710550074,50,49.996463023806989]
[null,null,null,null,null,null,null,null,null,null,null,null,null,null,null,null,null,null,null,null,null,null,null,null,null,null,null,null,null,null,null,null,null,null,null,null,null,null,null,null,null,null,null,null,2805,0.69775867370747491,50,49.996613693757681]
[null,null,null,null,null,null,null,null,null,null,null,null,null,null,null,null,null,null,null,null,null,null,null,null,null,null,null,null,null,null,null,null,null,null,null,null,null,null,null,null,null,null,null,null,2812,0.69949996095023859,50,49.996813910557059]
[null,null,null,null,null,null,null,null,null,null,null,null,null,null,null,null,null,null,null,null,null,null,null,null,null,null,null,null,null,null,null,null,null,null,null,null,null,null,null,null,null,null,null,null,{"$f":"AS2847+1","v":2817},0.70074373755221275,{"$f":"IF(($N$4*AT2848^2/2)<=$AP$13,($N$4*AT2848^2/2), IF(($AP$13+$N$6*(AT2848-$AP$12))<=$AP$17, ($AP$13+$N$6*(AT2848-$AP$12)), IF(AU2847<$D$14, ($AP$17+($N$6-$N$5*(AT2848-$AP$16)/2)*(AT2848-$AP$16)), $D$14)))","v":50},49.996949633251546]
[null,null,null,null,null,null,null,null,null,null,null,null,null,null,null,null,null,null,null,null,null,null,null,null,null,null,null,null,null,null,null,null,null,null,null,null,null,null,null,null,null,null,null,null,2823,0.70223626947458162,50,49.997104890652331]
[null,null,null,null,null,null,null,null,null,null,null,null,null,null,null,null,null,null,null,null,null,null,null,null,null,null,null,null,null,null,null,null,null,null,null,null,null,null,null,null,null,null,null,null,2830,0.70397755671734541,50,49.997276065226025]
[null,null,null,null,null,null,null,null,null,null,null,null,null,null,null,null,null,null,null,null,null,null,null,null,null,null,null,null,null,null,null,null,null,null,null,null,null,null,null,null,null,null,null,null,2835,0.70522133331931958,50,49.997392100815645]
[null,null,null,null,null,null,null,null,null,null,null,null,null,null,null,null,null,null,null,null,null,null,null,null,null,null,null,null,null,null,null,null,null,null,null,null,null,null,null,null,null,null,null,null,2840,0.70646510992129363,50,49.997503193460901]
[null,null,null,null,null,null,null,null,null,null,null,null,null,null,null,null,null,null,null,null,null,null,null,null,null,null,null,null,null,null,null,null,null,null,null,null,null,null,null,null,null,null,null,null,2845,0.70770888652326769,50,49.99760955372389]
[null,null,null,null,null,null,null,null,null,null,null,null,null,null,null,null,null,null,null,null,null,null,null,null,null,null,null,null,null,null,null,null,null,null,null,null,null,null,null,null,null,null,null,null,2846,0.70795764184366261,50,49.99763027578426]
[null,null,null,null,null,null,null,null,null,null,null,null,null,null,null,null,null,null,null,null,null,null,null,null,null,null,null,null,null,null,null,null,null,null,null,null,null,null,null,null,null,null,null,null,2855,0.71019643972721591,50,49.997808874885472]
[null,null,null,null,null,null,null,null,null,null,null,null,null,null,null,null,null,null,null,null,null,null,null,null,null,null,null,null,null,null,null,null,null,null,null,null,null,null,null,null,null,null,null,null,2857,0.71069395036800564,50,49.997846698640664]
[null,null,null,null,null,null,null,null,null,null,null,null,null,null,null,null,null,null,null,null,null,null,null,null,null,null,null,null,null,null,null,null,null,null,null,null,null,null,null,null,null,null,null,null,2863,0.71218648229037451,50,49.997956297256081]
[null,null,null,null,null,null,null,null,null,null,null,null,null,null,null,null,null,null,null,null,null,null,null,null,null,null,null,null,null,null,null,null,null,null,null,null,null,null,null,null,null,null,null,null,2868,0.71343025889234868,50,49.998043355968043]
[null,null,null,null,null,null,null,null,null,null,null,null,null,null,null,null,null,null,null,null,null,null,null,null,null,null,null,null,null,null,null,null,null,null,null,null,null,null,null,null,null,null,null,null,2874,0.71492279081471755,50,49.998142945129501]
[null,null,null,null,null,null,null,null,null,null,null,null,null,null,null,null,null,null,null,null,null,null,null,null,null,null,null,null,null,null,null,null,null,null,null,null,null,null,null,null,null,null,null,null,2880,{"$f":"$AP$18/$N$7*AS2911","v":0.71641532273708652},50,49.998237465407243]
[null,null,null,null,null,null,null,null,null,null,null,null,null,null,null,null,null,null,null,null,null,null,null,null,null,null,null,null,null,null,null,null,null,null,null,null,null,null,null,null,null,null,null,null,2885,0.71765909933906058,50,49.998312546772127]
[null,null,null,null,null,null,null,null,null,null,null,null,null,null,null,null,null,null,null,null,null,null,null,null,null,null,null,null,null,null,null,null,null,null,null,null,null,null,null,null,null,null,null,null,2891,0.71915163126142956,50,49.998398434674698]
[null,null,null,null,null,null,null,null,null,null,null,null,null,null,null,null,null,null,null,null,null,null,null,null,null,null,null,null,null,null,null,null,null,null,null,null,null,null,null,null,null,null,null,null,2896,0.72039540786340361,50,49.998466658987027]
[null,null,null,null,null,null,null,null,null,null,null,null,null,null,null,null,null,null,null,null,null,null,null,null,null,null,null,null,null,null,null,null,null,null,null,null,null,null,null,null,null,null,null,null,2899,0.72114167382458816,50,49.998506190528225]
[null,null,null,null,null,null,null,null,null,null,null,null,null,null,null,null,null,null,null,null,null,null,null,null,null,null,null,null,null,null,null,null,null,null,null,null,null,null,null,null,null,null,null,null,2908,0.72338047170814146,50,49.998618774527344]
[null,null,null,null,null,null,null,null,null,null,null,null,null,null,null,null,null,null,null,null,null,null,null,null,null,null,null,null,null,null,null,null,null,null,null,null,null,null,null,null,null,null,null,null,2913,0.72462424831011563,50,49.998677612688091]
[null,null,null,null,null,null,null,null,null,null,null,null,null,null,null,null,null,null,null,null,null,null,null,null,null,null,null,null,null,null,null,null,null,null,null,null,null,null,null,null,null,null,null,null,2914,0.72487300363051044,50,49.998689076066285]
[null,null,null,null,null,null,null,null,null,null,null,null,null,null,null,null,null,null,null,null,null,null,null,null,null,null,null,null,null,null,null,null,null,null,null,null,null,null,null,null,null,null,null,null,2919,0.7261167802324846,50,49.998744919485539]
[null,null,null,null,null,null,null,null,null,null,null,null,null,null,null,null,null,null,null,null,null,null,null,null,null,null,null,null,null,null,null,null,null,null,null,null,null,null,null,null,null,null,null,null,2924,0.72736055683445866,50,49.998798384057771]
[null,null,null,null,null,null,null,null,null,null,null,null,null,null,null,null,null,null,null,null,null,null,null,null,null,null,null,null,null,null,null,null,null,null,null,null,null,null,null,null,null,null,null,null,2931,0.72910184407722245,50,49.998869430112308]
[null,null,null,null,null,null,null,null,null,null,null,null,null,null,null,null,null,null,null,null,null,null,null,null,null,null,null,null,null,null,null,null,null,null,null,null,null,null,null,null,null,null,null,null,2936,0.73034562067919651,50,49.998917590716125]
[null,null,null,null,null,null,null,null,null,null,null,null,null,null,null,null,null,null,null,null,null,null,null,null,null,null,null,null,null,null,null,null,null,null,null,null,null,null,null,null,null,null,null,null,2942,0.73183815260156548,50,49.998972683124933]
[null,null,null,null,null,null,null,null,null,null,null,null,null,null,null,null,null,null,null,null,null,null,null,null,null,null,null,null,null,null,null,null,null,null,null,null,null,null,null,null,null,null,null,null,2947,0.73308192920353954,50,49.999016445303241]
[null,null,null,null,null,null,null,null,null,null,null,null,null,null,null,null,null,null,null,null,null,null,null,null,null,null,null,null,null,null,null,null,null,null,null,null,null,null,null,null,null,null,null,null,2955,0.73507197176669814,50,49.999082620422143]
[null,null,null,null,null,null,null,null,null,null,null,null,null,null,null,null,null,null,null,null,null,null,null,null,null,null,null,null,null,null,null,null,null,null,null,null,null,null,null,null,null,null,null,null,2959,0.73606699304827738,50,49.999114019132442]
[null,null,null,null,null,null,null,null,null,null,null,null,null,null,null,null,null,null,null,null,null,null,null,null,null,null,null,null,null,null,null,null,null,null,null,null,null,null,null,null,null,null,null,null,2964,0.73731076965025155,50,49.999151760606026]
[null,null,null,null,null,null,null,null,null,null,null,null,null,null,null,null,null,null,null,null,null,null,null,null,null,null,null,null,null,null,null,null,null,null,null,null,null,null,null,null,null,null,null,null,2969,0.73855454625222561,50,49.999187894348701]
[null,null,null,null,null,null,null,null,null,null,null,null,null,null,null,null,null,null,null,null,null,null,null,null,null,null,null,null,null,null,null,null,null,null,null,null,null,null,null,null,null,null,null,null,2975,0.74004707817459459,50,49.999229228857935]
[null,null,null,null,null,null,null,null,null,null,null,null,null,null,null,null,null,null,null,null,null,null,null,null,null,null,null,null,null,null,null,null,null,null,null,null,null,null,null,null,null,null,null,null,2980,0.74129085477656864,50,49.999262062567738]
[null,null,null,null,null,null,null,null,null,null,null,null,null,null,null,null,null,null,null,null,null,null,null,null,null,null,null,null,null,null,null,null,null,null,null,null,null,null,null,null,null,null,null,null,2982,0.74178836541735826,50,49.999274801030083]
[null,null,null,null,null,null,null,null,null,null,null,null,null,null,null,null,null,null,null,null,null,null,null,null,null,null,null,null,null,null,null,null,null,null,null,null,null,null,null,null,null,null,null,null,2987,0.74303214201933243,50,49.99930569343281]
[null,null,null,null,null,null,null,null,null,null,null,null,null,null,null,null,null,null,null,null,null,null,null,null,null,null,null,null,null,null,null,null,null,null,null,null,null,null,null,null,null,null,null,null,2992,0.74427591862130649,50,49.999335269864901]
[null,null,null,null,null,null,null,null,null,null,null,null,null,null,null,null,null,null,null,null,null,null,null,null,null,null,null,null,null,null,null,null,null,null,null,null,null,null,null,null,null,null,null,null,2997,0.74551969522328065,50,49.999363586384753]
[null,null,null,null,null,null,null,null,null,null,null,null,null,null,null,null,null,null,null,null,null,null,null,null,null,null,null,null,null,null,null,null,null,null,null,null,null,null,null,null,null,null,null,null,3004,0.74726098246604444,50,49.999401214610891]
[null,null,null,null,null,null,null,null,null,null,null,null,null,null,null,null,null,null,null,null,null,null,null,null,null,null,null,null,null,null,null,null,null,null,null,null,null,null,null,null,null,null,null,null,3010,0.74875351438841331,50,{"$f":"( $AP$6*AU3041 + $AP$7*AU3040 + $AP$9*AV3040 )/$AP$8","v":49.999431691557021}]
[null,null,null,null,null,null,null,null,null,null,null,null,null,null,null,null,null,null,null,null,null,null,null,null,null,null,null,null,null,null,null,null,null,null,null,null,null,null,null,null,null,null,null,null,3015,0.74999729099038748,50,49.999455900655505]
[null,null,null,null,null,null,null,null,null,null,null,null,null,null,null,null,null,null,null,null,null,null,null,null,null,null,null,null,null,null,null,null,null,null,null,null,null,null,null,null,null,null,null,null,3020,0.75124106759236153,50,49.999479078482224]
[null,null,null,null,null,null,null,null,null,null,null,null,null,null,null,null,null,null,null,null,null,null,null,null,null,null,null,null,null,null,null,null,null,null,null,null,null,null,null,null,null,null,null,null,3028,0.75323111015552013,50,49.999514126907563]
[null,null,null,null,null,null,null,null,null,null,null,null,null,null,null,null,null,null,null,null,null,null,null,null,null,null,null,null,null,null,null,null,null,null,null,null,null,null,null,null,null,null,null,null,3032,0.75422613143709938,50,49.999530756652575]
[null,null,null,null,null,null,null,null,null,null,null,null,null,null,null,null,null,null,null,null,null,null,null,null,null,null,null,null,null,null,null,null,null,null,null,null,null,null,null,null,null,null,null,null,3037,0.75546990803907355,50,49.999550745724619]
[null,null,null,null,null,null,null,null,null,null,null,null,null,null,null,null,null,null,null,null,null,null,null,null,null,null,null,null,null,null,null,null,null,null,null,null,null,null,null,null,null,null,null,null,3043,0.75696243996144241,50,49.999573611844248]
[null,null,null,null,null,null,null,null,null,null,null,null,null,null,null,null,null,null,null,null,null,null,null,null,null,null,null,null,null,null,null,null,null,null,null,null,null,null,null,null,null,null,null,null,3048,0.75820621656341658,50,49.999591775348556]
[null,null,null,null,null,null,null,null,null,null,null,null,null,null,null,null,null,null,null,null,null,null,null,null,null,null,null,null,null,null,null,null,null,null,null,null,null,null,null,null,null,null,null,null,3053,0.75944999316539064,50,49.999609165114471]
[null,null,null,null,null,null,null,null,null,null,null,null,null,null,null,null,null,null,null,null,null,null,null,null,null,null,null,null,null,null,null,null,null,null,null,null,null,null,null,null,null,null,null,null,3055,0.75994750380618026,50,49.999615911804973]
[null,null,null,null,null,null,null,null,null,null,null,null,null,null,null,null,null,null,null,null,null,null,null,null,null,null,null,null,null,null,null,null,null,null,null,null,null,null,null,null,null,null,null,null,3060,0.76119128040815442,50,49.999632273393566]
[null,null,null,null,null,null,null,null,null,null,null,null,null,null,null,null,null,null,null,null,null,null,null,null,null,null,null,null,null,null,null,null,null,null,null,null,null,null,null,null,null,null,null,null,3066,0.76268381233052329,50,49.999650989922344]
[null,null,null,null,null,null,null,null,null,null,null,null,null,null,null,null,null,null,null,null,null,null,null,null,null,null,null,null,null,null,null,null,null,null,null,null,null,null,null,null,null,null,null,null,3072,{"$f":"$AP$18/$N$7*AS3103","v":0.76417634425289227},50,49.999668753818256]
[null,null,null,null,null,null,null,null,null,null,null,null,null,null,null,null,null,null,null,null,null,null,null,null,null,null,null,null,null,null,null,null,null,null,null,null,null,null,null,null,null,null,null,null,3076,0.76517136553447151,50,49.999680091222238]
[null,null,null,null,null,null,null,null,null,null,null,null,null,null,null,null,null,null,null,null,null,null,null,null,null,null,null,null,null,null,null,null,null,null,null,null,null,null,null,null,null,null,null,null,3077,0.76542012085486633,50,49.999682864415284]
[null,null,null,null,null,null,null,null,null,null,null,null,null,null,null,null,null,null,null,null,null,null,null,null,null,null,null,null,null,null,null,null,null,null,null,null,null,null,null,null,null,null,null,null,3078,0.76566887617526125,50,49.999685613568353]
[null,null,null,null,null,null,null,null,null,null,null,null,null,null,null,null,null,null,null,null,null,null,null,null,null,null,null,null,null,null,null,null,null,null,null,null,null,null,null,null,null,null,null,null,3079,0.76591763149565606,50,49.99968833888984]
[null,null,null,null,null,null,null,null,null,null,null,null,null,null,null,null,null,null,null,null,null,null,null,null,null,null,null,null,null,null,null,null,null,null,null,null,null,null,null,null,null,null,null,null,3080,0.76616638681605087,50,49.999691040586335]
[null,null,null,null,null,null,null,null,null,null,null,null,null,null,null,null,null,null,null,null,null,null,null,null,null,null,null,null,null,null,null,null,null,null,null,null,null,null,null,null,null,null,null,null,3081,0.76641514213644568,50,49.999693718862638]
[null,null,null,null,null,null,null,null,null,null,null,null,null,null,null,null,null,null,null,null,null,null,null,null,null,null,null,null,null,null,null,null,null,null,null,null,null,null,null,null,null,null,null,null,3082,0.76666389745684049,50,49.999696373921772]
[null,null,null,null,null,null,null,null,null,null,null,null,null,null,null,null,null,null,null,null,null,null,null,null,null,null,null,null,null,null,null,null,null,null,null,null,null,null,null,null,null,null,null,null,3083,0.7669126527772353,50,49.999699005964992]
[null,null,null,null,null,null,null,null,null,null,null,null,null,null,null,null,null,null,null,null,null,null,null,null,null,null,null,null,null,null,null,null,null,null,null,null,null,null,null,null,null,null,null,null,3084,0.76716140809763012,50,49.999701615191817]
[null,null,null,null,null,null,null,null,null,null,null,null,null,null,null,null,null,null,null,null,null,null,null,null,null,null,null,null,null,null,null,null,null,null,null,null,null,null,null,null,null,null,null,null,3085,0.76741016341802493,50,49.999704201800043]
[null,null,null,null,null,null,null,null,null,null,null,null,null,null,null,null,null,null,null,null,null,null,null,null,null,null,null,null,null,null,null,null,null,null,null,null,null,null,null,null,null,null,null,null,3086,0.76765891873841974,50,49.999706765985742]
[null,null,null,null,null,null,null,null,null,null,null,null,null,null,null,null,null,null,null,null,null,null,null,null,null,null,null,null,null,null,null,null,null,null,null,null,null,null,null,null,null,null,null,null,3087,0.76790767405881455,50,49.999709307943277]
[null,null,null,null,null,null,null,null,null,null,null,null,null,null,null,null,null,null,null,null,null,null,null,null,null,null,null,null,null,null,null,null,null,null,null,null,null,null,null,null,null,null,null,null,3088,0.76815642937920947,50,49.999711827865347]
[null,null,null,null,null,null,null,null,null,null,null,null,null,null,null,null,null,null,null,null,null,null,null,null,null,null,null,null,null,null,null,null,null,null,null,null,null,null,null,null,null,null,null,null,3089,0.76840518469960428,50,49.999714325942975]
[null,null,null,null,null,null,null,null,null,null,null,null,null,null,null,null,null,null,null,null,null,null,null,null,null,null,null,null,null,null,null,null,null,null,null,null,null,null,null,null,null,null,null,null,3090,0.76865394001999909,50,49.999716802365519]
[null,null,null,null,null,null,null,null,null,null,null,null,null,null,null,null,null,null,null,null,null,null,null,null,null,null,null,null,null,null,null,null,null,null,null,null,null,null,null,null,null,null,null,null,3091,0.7689026953403939,50,49.999719257320699]
[null,null,null,null,null,null,null,null,null,null,null,null,null,null,null,null,null,null,null,null,null,null,null,null,null,null,null,null,null,null,null,null,null,null,null,null,null,null,null,null,null,null,null,null,3092,0.76915145066078872,50,49.999721690994612]
[null,null,null,null,null,null,null,null,null,null,null,null,null,null,null,null,null,null,null,null,null,null,null,null,null,null,null,null,null,null,null,null,null,null,null,null,null,null,null,null,null,null,null,null,3093,0.76940020598118353,50,49.999724103571737]
[null,null,null,null,null,null,null,null,null,null,null,null,null,null,null,null,null,null,null,null,null,null,null,null,null,null,null,null,null,null,null,null,null,null,null,null,null,null,null,null,null,null,null,null,3094,0.76964896130157834,50,49.999726495234952]
[null,null,null,null,null,null,null,null,null,null,null,null,null,null,null,null,null,null,null,null,null,null,null,null,null,null,null,null,null,null,null,null,null,null,null,null,null,null,null,null,null,null,null,null,3095,0.76989771662197315,50,49.999728866165562]
[null,null,null,null,null,null,null,null,null,null,null,null,null,null,null,null,null,null,null,null,null,null,null,null,null,null,null,null,null,null,null,null,null,null,null,null,null,null,null,null,null,null,null,null,3096,0.77014647194236796,50,49.999731216543282]
[null,null,null,null,null,null,null,null,null,null,null,null,null,null,null,null,null,null,null,null,null,null,null,null,null,null,null,null,null,null,null,null,null,null,null,null,null,null,null,null,null,null,null,null,3097,0.77039522726276277,50,49.999733546546288]
[null,null,null,null,null,null,null,null,null,null,null,null,null,null,null,null,null,null,null,null,null,null,null,null,null,null,null,null,null,null,null,null,null,null,null,null,null,null,null,null,null,null,null,null,3098,0.77064398258315758,50,49.999735856351201]
[null,null,null,null,null,null,null,null,null,null,null,null,null,null,null,null,null,null,null,null,null,null,null,null,null,null,null,null,null,null,null,null,null,null,null,null,null,null,null,null,null,null,null,null,3099,0.77089273790355251,50,49.999738146133105]
[null,null,null,null,null,null,null,null,null,null,null,null,null,null,null,null,null,null,null,null,null,null,null,null,null,null,null,null,null,null,null,null,null,null,null,null,null,null,null,null,null,null,null,null,3100,0.77114149322394732,50,49.999740416065578]
[null,null,null,null,null,null,null,null,null,null,null,null,null,null,null,null,null,null,null,null,null,null,null,null,null,null,null,null,null,null,null,null,null,null,null,null,null,null,null,null,null,null,null,null,3101,0.77139024854434213,50,49.999742666320685]
[null,null,null,null,null,null,null,null,null,null,null,null,null,null,null,null,null,null,null,null,null,null,null,null,null,null,null,null,null,null,null,null,null,null,null,null,null,null,null,null,null,null,null,null,3102,0.77163900386473694,50,49.999744897069014]
[null,null,null,null,null,null,null,null,null,null,null,null,null,null,null,null,null,null,null,null,null,null,null,null,null,null,null,null,null,null,null,null,null,null,null,null,null,null,null,null,null,null,null,null,3103,0.77188775918513175,50,49.999747108479653]
[null,null,null,null,null,null,null,null,null,null,null,null,null,null,null,null,null,null,null,null,null,null,null,null,null,null,null,null,null,null,null,null,null,null,null,null,null,null,null,null,null,null,null,null,3104,0.77213651450552656,50,49.999749300720232]
[null,null,null,null,null,null,null,null,null,null,null,null,null,null,null,null,null,null,null,null,null,null,null,null,null,null,null,null,null,null,null,null,null,null,null,null,null,null,null,null,null,null,null,null,3105,0.77238526982592137,50,49.999751473956941]
[null,null,null,null,null,null,null,null,null,null,null,null,null,null,null,null,null,null,null,null,null,null,null,null,null,null,null,null,null,null,null,null,null,null,null,null,null,null,null,null,null,null,null,null,3106,0.77263402514631618,50,49.999753628354519]
[null,null,null,null,null,null,null,null,null,null,null,null,null,null,null,null,null,null,null,null,null,null,null,null,null,null,null,null,null,null,null,null,null,null,null,null,null,null,null,null,null,null,null,null,3107,0.77288278046671099,50,49.999755764076262]
[null,null,null,null,null,null,null,null,null,null,null,null,null,null,null,null,null,null,null,null,null,null,null,null,null,null,null,null,null,null,null,null,null,null,null,null,null,null,null,null,null,null,null,null,3108,0.77313153578710581,50,49.999757881284083]
[null,null,null,null,null,null,null,null,null,null,null,null,null,null,null,null,null,null,null,null,null,null,null,null,null,null,null,null,null,null,null,null,null,null,null,null,null,null,null,null,null,null,null,null,3109,0.77338029110750073,50,49.999759980138457]
[null,null,null,null,null,null,null,null,null,null,null,null,null,null,null,null,null,null,null,null,null,null,null,null,null,null,null,null,null,null,null,null,null,null,null,null,null,null,null,null,null,null,null,null,3110,0.77362904642789554,50,49.999762060798496]
[null,null,null,null,null,null,null,null,null,null,null,null,null,null,null,null,null,null,null,null,null,null,null,null,null,null,null,null,null,null,null,null,null,null,null,null,null,null,null,null,null,null,null,null,3111,0.77387780174829035,50,49.999764123421919]
[null,null,null,null,null,null,null,null,null,null,null,null,null,null,null,null,null,null,null,null,null,null,null,null,null,null,null,null,null,null,null,null,null,null,null,null,null,null,null,null,null,null,null,null,3112,0.77412655706868516,50,49.999766168165081]
[null,null,null,null,null,null,null,null,null,null,null,null,null,null,null,null,null,null,null,null,null,null,null,null,null,null,null,null,null,null,null,null,null,null,null,null,null,null,null,null,null,null,null,null,3113,0.77437531238907997,50,49.99976819518298]
[null,null,null,null,null,null,null,null,null,null,null,null,null,null,null,null,null,null,null,null,null,null,null,null,null,null,null,null,null,null,null,null,null,null,null,null,null,null,null,null,null,null,null,null,3114,0.77462406770947478,50,49.999770204629272]
[null,null,null,null,null,null,null,null,null,null,null,null,null,null,null,null,null,null,null,null,null,null,null,null,null,null,null,null,null,null,null,null,null,null,null,null,null,null,null,null,null,null,null,null,3115,0.7748728230298696,50,49.999772196656281]
[null,null,null,null,null,null,null,null,null,null,null,null,null,null,null,null,null,null,null,null,null,null,null,null,null,null,null,null,null,null,null,null,null,null,null,null,null,null,null,null,null,null,null,null,3116,0.77512157835026441,50,49.999774171414998]
[null,null,null,null,null,null,null,null,null,null,null,null,null,null,null,null,null,null,null,null,null,null,null,null,null,null,null,null,null,null,null,null,null,null,null,null,null,null,null,null,null,null,null,null,3117,0.77537033367065922,50,49.999776129055128]
[null,null,null,null,null,null,null,null,null,null,null,null,null,null,null,null,null,null,null,null,null,null,null,null,null,null,null,null,null,null,null,null,null,null,null,null,null,null,null,null,null,null,null,null,3118,0.77561908899105403,50,49.999778069725068]
[null,null,null,null,null,null,null,null,null,null,null,null,null,null,null,null,null,null,null,null,null,null,null,null,null,null,null,null,null,null,null,null,null,null,null,null,null,null,null,null,null,null,null,null,3119,0.77586784431144884,50,49.99977999357192]
[null,null,null,null,null,null,null,null,null,null,null,null,null,null,null,null,null,null,null,null,null,null,null,null,null,null,null,null,null,null,null,null,null,null,null,null,null,null,null,null,null,null,null,null,3120,0.77611659963184376,50,49.999781900741517]
[null,null,null,null,null,null,null,null,null,null,null,null,null,null,null,null,null,null,null,null,null,null,null,null,null,null,null,null,null,null,null,null,null,null,null,null,null,null,null,null,null,null,null,null,3121,0.77636535495223857,50,49.999783791378441]
[null,null,null,null,null,null,null,null,null,null,null,null,null,null,null,null,null,null,null,null,null,null,null,null,null,null,null,null,null,null,null,null,null,null,null,null,null,null,null,null,null,null,null,null,3122,0.77661411027263338,50,49.999785665626]
[null,null,null,null,null,null,null,null,null,null,null,null,null,null,null,null,null,null,null,null,null,null,null,null,null,null,null,null,null,null,null,null,null,null,null,null,null,null,null,null,null,null,null,null,3123,0.7768628655930282,50,49.999787523626267]
[null,null,null,null,null,null,null,null,null,null,null,null,null,null,null,null,null,null,null,null,null,null,null,null,null,null,null,null,null,null,null,null,null,null,null,null,null,null,null,null,null,null,null,null,3124,0.77711162091342301,50,49.999789365520094]
[null,null,null,null,null,null,null,null,null,null,null,null,null,null,null,null,null,null,null,null,null,null,null,null,null,null,null,null,null,null,null,null,null,null,null,null,null,null,null,null,null,null,null,null,3125,0.77736037623381782,50,49.999791191447088]
[null,null,null,null,null,null,null,null,null,null,null,null,null,null,null,null,null,null,null,null,null,null,null,null,null,null,null,null,null,null,null,null,null,null,null,null,null,null,null,null,null,null,null,null,3126,0.77760913155421263,50,49.999793001545676]
[null,null,null,null,null,null,null,null,null,null,null,null,null,null,null,null,null,null,null,null,null,null,null,null,null,null,null,null,null,null,null,null,null,null,null,null,null,null,null,null,null,null,null,null,3127,0.77785788687460744,50,49.999794795953058]
[null,null,null,null,null,null,null,null,null,null,null,null,null,null,null,null,null,null,null,null,null,null,null,null,null,null,null,null,null,null,null,null,null,null,null,null,null,null,null,null,null,null,null,null,3128,0.77810664219500225,50,49.999796574805266]
[null,null,null,null,null,null,null,null,null,null,null,null,null,null,null,null,null,null,null,null,null,null,null,null,null,null,null,null,null,null,null,null,null,null,null,null,null,null,null,null,null,null,null,null,3129,0.77835539751539706,50,49.999798338237142]
[null,null,null,null,null,null,null,null,null,null,null,null,null,null,null,null,null,null,null,null,null,null,null,null,null,null,null,null,null,null,null,null,null,null,null,null,null,null,null,null,null,null,null,null,3130,0.77860415283579187,50,49.999800086382358]
[null,null,null,null,null,null,null,null,null,null,null,null,null,null,null,null,null,null,null,null,null,null,null,null,null,null,null,null,null,null,null,null,null,null,null,null,null,null,null,null,null,null,null,null,3131,0.7788529081561868,50,49.999801819373424]
[null,null,null,null,null,null,null,null,null,null,null,null,null,null,null,null,null,null,null,null,null,null,null,null,null,null,null,null,null,null,null,null,null,null,null,null,null,null,null,null,null,null,null,null,3132,0.77910166347658161,50,49.999803537341712]
[null,null,null,null,null,null,null,null,null,null,null,null,null,null,null,null,null,null,null,null,null,null,null,null,null,null,null,null,null,null,null,null,null,null,null,null,null,null,null,null,null,null,null,null,3133,0.77935041879697642,50,49.999805240417444]
[null,null,null,null,null,null,null,null,null,null,null,null,null,null,null,null,null,null,null,null,null,null,null,null,null,null,null,null,null,null,null,null,null,null,null,null,null,null,null,null,null,null,null,null,3134,0.77959917411737123,50,49.999806928729726]
[null,null,null,null,null,null,null,null,null,null,null,null,null,null,null,null,null,null,null,null,null,null,null,null,null,null,null,null,null,null,null,null,null,null,null,null,null,null,null,null,null,null,null,null,3135,0.77984792943776604,50,49.999808602406539]
[null,null,null,null,null,null,null,null,null,null,null,null,null,null,null,null,null,null,null,null,null,null,null,null,null,null,null,null,null,null,null,null,null,null,null,null,null,null,null,null,null,null,null,null,3136,{"$f":"$AP$18/$N$7*AS3167","v":0.78009668475816085},50,49.999810261574751]
[null,null,null,null,null,null,null,null,null,null,null,null,null,null,null,null,null,null,null,null,null,null,null,null,null,null,null,null,null,null,null,null,null,null,null,null,null,null,null,null,null,null,null,null,{"$f":"AS3167+1","v":3137},0.78034544007855566,{"$f":"IF(($N$4*AT3168^2/2)<=$AP$13,($N$4*AT3168^2/2), IF(($AP$13+$N$6*(AT3168-$AP$12))<=$AP$17, ($AP$13+$N$6*(AT3168-$AP$12)), IF(AU3167<$D$14, ($AP$17+($N$6-$N$5*(AT3168-$AP$16)/2)*(AT3168-$AP$16)), $D$14)))","v":50},49.999811906360129]
[null,null,null,null,null,null,null,null,null,null,null,null,null,null,null,null,null,null,null,null,null,null,null,null,null,null,null,null,null,null,null,null,null,null,null,null,null,null,null,null,null,null,null,null,3138,0.78059419539895047,50,{"$f":"( $AP$6*AU3169 + $AP$7*AU3168 + $AP$9*AV3168 )/$AP$8","v":49.999813536887359}]
[null,null,null,null,null,null,null,null,null,null,null,null,null,null,null,null,null,null,null,null,null,null,null,null,null,null,null,null,null,null,null,null,null,null,null,null,null,null,null,null,null,null,null,null,3139,0.78084295071934529,50,49.999815153280039]
[null,null,null,null,null,null,null,null,null,null,null,null,null,null,null,null,null,null,null,null,null,null,null,null,null,null,null,null,null,null,null,null,null,null,null,null,null,null,null,null,null,null,null,null,3140,0.7810917060397401,50,49.999816755660696]
[null,null,null,null,null,null,null,null,null,null,null,null,null,null,null,null,null,null,null,null,null,null,null,null,null,null,null,null,null,null,null,null,null,null,null,null,null,null,null,null,null,null,null,null,3141,0.78134046136013502,50,49.999818344150796]
[null,null,null,null,null,null,null,null,null,null,null,null,null,null,null,null,null,null,null,null,null,null,null,null,null,null,null,null,null,null,null,null,null,null,null,null,null,null,null,null,null,null,null,null,3142,0.78158921668052983,50,49.999819918870756]
[null,null,null,null,null,null,null,null,null,null,null,null,null,null,null,null,null,null,null,null,null,null,null,null,null,null,null,null,null,null,null,null,null,null,null,null,null,null,null,null,null,null,null,null,3143,0.78183797200092464,50,49.999821479939946]
[null,null,null,null,null,null,null,null,null,null,null,null,null,null,null,null,null,null,null,null,null,null,null,null,null,null,null,null,null,null,null,null,null,null,null,null,null,null,null,null,null,null,null,null,3144,0.78208672732131945,50,49.999823027476687]
[null,null,null,null,null,null,null,null,null,null,null,null,null,null,null,null,null,null,null,null,null,null,null,null,null,null,null,null,null,null,null,null,null,null,null,null,null,null,null,null,null,null,null,null,3145,0.78233548264171426,50,49.999824561598302]
[null,null,null,null,null,null,null,null,null,null,null,null,null,null,null,null,null,null,null,null,null,null,null,null,null,null,null,null,null,null,null,null,null,null,null,null,null,null,null,null,null,null,null,null,3146,0.78258423796210907,50,49.99982608242108]
[null,null,null,null,null,null,null,null,null,null,null,null,null,null,null,null,null,null,null,null,null,null,null,null,null,null,null,null,null,null,null,null,null,null,null,null,null,null,null,null,null,null,null,null,3147,0.78283299328250389,50,49.999827590060299]
[null,null,null,null,null,null,null,null,null,null,null,null,null,null,null,null,null,null,null,null,null,null,null,null,null,null,null,null,null,null,null,null,null,null,null,null,null,null,null,null,null,null,null,null,3148,0.7830817486028987,50,49.99982908463025]
[null,null,null,null,null,null,null,null,null,null,null,null,null,null,null,null,null,null,null,null,null,null,null,null,null,null,null,null,null,null,null,null,null,null,null,null,null,null,null,null,null,null,null,null,3149,0.78333050392329351,50,49.999830566244221]
[null,null,null,null,null,null,null,null,null,null,null,null,null,null,null,null,null,null,null,null,null,null,null,null,null,null,null,null,null,null,null,null,null,null,null,null,null,null,null,null,null,null,null,null,3150,0.78357925924368832,50,49.999832035014521]
[null,null,null,null,null,null,null,null,null,null,null,null,null,null,null,null,null,null,null,null,null,null,null,null,null,null,null,null,null,null,null,null,null,null,null,null,null,null,null,null,null,null,null,null,3151,0.78382801456408313,50,49.999833491052499]
[null,null,null,null,null,null,null,null,null,null,null,null,null,null,null,null,null,null,null,null,null,null,null,null,null,null,null,null,null,null,null,null,null,null,null,null,null,null,null,null,null,null,null,null,3152,0.78407676988447805,50,49.999834934468517]
[null,null,null,null,null,null,null,null,null,null,null,null,null,null,null,null,null,null,null,null,null,null,null,null,null,null,null,null,null,null,null,null,null,null,null,null,null,null,null,null,null,null,null,null,3153,0.78432552520487286,50,49.999836365371998]
[null,null,null,null,null,null,null,null,null,null,null,null,null,null,null,null,null,null,null,null,null,null,null,null,null,null,null,null,null,null,null,null,null,null,null,null,null,null,null,null,null,null,null,null,3154,0.78457428052526768,50,49.999837783871406]
[null,null,null,null,null,null,null,null,null,null,null,null,null,null,null,null,null,null,null,null,null,null,null,null,null,null,null,null,null,null,null,null,null,null,null,null,null,null,null,null,null,null,null,null,3155,0.78482303584566249,50,49.999839190074269]
[null,null,null,null,null,null,null,null,null,null,null,null,null,null,null,null,null,null,null,null,null,null,null,null,null,null,null,null,null,null,null,null,null,null,null,null,null,null,null,null,null,null,null,null,3156,0.7850717911660573,50,49.999840584087181]
[null,null,null,null,null,null,null,null,null,null,null,null,null,null,null,null,null,null,null,null,null,null,null,null,null,null,null,null,null,null,null,null,null,null,null,null,null,null,null,null,null,null,null,null,3157,0.78532054648645211,50,49.999841966015815]
[null,null,null,null,null,null,null,null,null,null,null,null,null,null,null,null,null,null,null,null,null,null,null,null,null,null,null,null,null,null,null,null,null,null,null,null,null,null,null,null,null,null,null,null,3158,0.78556930180684692,50,49.999843335964925]
[null,null,null,null,null,null,null,null,null,null,null,null,null,null,null,null,null,null,null,null,null,null,null,null,null,null,null,null,null,null,null,null,null,null,null,null,null,null,null,null,null,null,null,null,3159,0.78581805712724173,50,49.999844694038359]
[null,null,null,null,null,null,null,null,null,null,null,null,null,null,null,null,null,null,null,null,null,null,null,null,null,null,null,null,null,null,null,null,null,null,null,null,null,null,null,null,null,null,null,null,3160,0.78606681244763654,50,49.999846040339058]
[null,null,null,null,null,null,null,null,null,null,null,null,null,null,null,null,null,null,null,null,null,null,null,null,null,null,null,null,null,null,null,null,null,null,null,null,null,null,null,null,null,null,null,null,3161,0.78631556776803135,50,49.999847374969086]
[null,null,null,null,null,null,null,null,null,null,null,null,null,null,null,null,null,null,null,null,null,null,null,null,null,null,null,null,null,null,null,null,null,null,null,null,null,null,null,null,null,null,null,null,3162,0.78656432308842628,50,49.999848698029602]
[null,null,null,null,null,null,null,null,null,null,null,null,null,null,null,null,null,null,null,null,null,null,null,null,null,null,null,null,null,null,null,null,null,null,null,null,null,null,null,null,null,null,null,null,3163,0.78681307840882109,50,49.999850009620907]
[null,null,null,null,null,null,null,null,null,null,null,null,null,null,null,null,null,null,null,null,null,null,null,null,null,null,null,null,null,null,null,null,null,null,null,null,null,null,null,null,null,null,null,null,3164,0.7870618337292159,50,49.99985130984242]
[null,null,null,null,null,null,null,null,null,null,null,null,null,null,null,null,null,null,null,null,null,null,null,null,null,null,null,null,null,null,null,null,null,null,null,null,null,null,null,null,null,null,null,null,3165,0.78731058904961071,50,49.999852598792707]
[null,null,null,null,null,null,null,null,null,null,null,null,null,null,null,null,null,null,null,null,null,null,null,null,null,null,null,null,null,null,null,null,null,null,null,null,null,null,null,null,null,null,null,null,3166,0.78755934437000552,50,49.999853876569475]
[null,null,null,null,null,null,null,null,null,null,null,null,null,null,null,null,null,null,null,null,null,null,null,null,null,null,null,null,null,null,null,null,null,null,null,null,null,null,null,null,null,null,null,null,3167,0.78780809969040033,50,49.999855143269578]
[null,null,null,null,null,null,null,null,null,null,null,null,null,null,null,null,null,null,null,null,null,null,null,null,null,null,null,null,null,null,null,null,null,null,null,null,null,null,null,null,null,null,null,null,3168,0.78805685501079514,50,49.999856398989039]
[null,null,null,null,null,null,null,null,null,null,null,null,null,null,null,null,null,null,null,null,null,null,null,null,null,null,null,null,null,null,null,null,null,null,null,null,null,null,null,null,null,null,null,null,3169,0.78830561033118995,50,49.999857643823049]
[null,null,null,null,null,null,null,null,null,null,null,null,null,null,null,null,null,null,null,null,null,null,null,null,null,null,null,null,null,null,null,null,null,null,null,null,null,null,null,null,null,null,null,null,3170,0.78855436565158477,50,49.999858877865961]
[null,null,null,null,null,null,null,null,null,null,null,null,null,null,null,null,null,null,null,null,null,null,null,null,null,null,null,null,null,null,null,null,null,null,null,null,null,null,null,null,null,null,null,null,3171,0.78880312097197958,50,49.999860101211326]
[null,null,null,null,null,null,null,null,null,null,null,null,null,null,null,null,null,null,null,null,null,null,null,null,null,null,null,null,null,null,null,null,null,null,null,null,null,null,null,null,null,null,null,null,3172,0.78905187629237439,50,49.999861313951875]
[null,null,null,null,null,null,null,null,null,null,null,null,null,null,null,null,null,null,null,null,null,null,null,null,null,null,null,null,null,null,null,null,null,null,null,null,null,null,null,null,null,null,null,null,3173,0.78930063161276931,50,49.999862516179547]
[null,null,null,null,null,null,null,null,null,null,null,null,null,null,null,null,null,null,null,null,null,null,null,null,null,null,null,null,null,null,null,null,null,null,null,null,null,null,null,null,null,null,null,null,3174,0.78954938693316412,50,49.999863707985469]
[null,null,null,null,null,null,null,null,null,null,null,null,null,null,null,null,null,null,null,null,null,null,null,null,null,null,null,null,null,null,null,null,null,null,null,null,null,null,null,null,null,null,null,null,3175,0.78979814225355893,50,49.999864889459978]
[null,null,null,null,null,null,null,null,null,null,null,null,null,null,null,null,null,null,null,null,null,null,null,null,null,null,null,null,null,null,null,null,null,null,null,null,null,null,null,null,null,null,null,null,3176,0.79004689757395374,50,49.999866060692639]
[null,null,null,null,null,null,null,null,null,null,null,null,null,null,null,null,null,null,null,null,null,null,null,null,null,null,null,null,null,null,null,null,null,null,null,null,null,null,null,null,null,null,null,null,3177,0.79029565289434855,50,49.999867221772242]
[null,null,null,null,null,null,null,null,null,null,null,null,null,null,null,null,null,null,null,null,null,null,null,null,null,null,null,null,null,null,null,null,null,null,null,null,null,null,null,null,null,null,null,null,3178,0.79054440821474337,50,49.999868372786793]
[null,null,null,null,null,null,null,null,null,null,null,null,null,null,null,null,null,null,null,null,null,null,null,null,null,null,null,null,null,null,null,null,null,null,null,null,null,null,null,null,null,null,null,null,3179,0.79079316353513818,50,49.999869513823541]
[null,null,null,null,null,null,null,null,null,null,null,null,null,null,null,null,null,null,null,null,null,null,null,null,null,null,null,null,null,null,null,null,null,null,null,null,null,null,null,null,null,null,null,null,3180,0.79104191885553299,50,49.999870644968986]
[null,null,null,null,null,null,null,null,null,null,null,null,null,null,null,null,null,null,null,null,null,null,null,null,null,null,null,null,null,null,null,null,null,null,null,null,null,null,null,null,null,null,null,null,3181,0.7912906741759278,50,49.999871766308864]
[null,null,null,null,null,null,null,null,null,null,null,null,null,null,null,null,null,null,null,null,null,null,null,null,null,null,null,null,null,null,null,null,null,null,null,null,null,null,null,null,null,null,null,null,3182,0.79153942949632261,50,49.99987287792819]
[null,null,null,null,null,null,null,null,null,null,null,null,null,null,null,null,null,null,null,null,null,null,null,null,null,null,null,null,null,null,null,null,null,null,null,null,null,null,null,null,null,null,null,null,3183,0.79178818481671753,50,49.999873979911222]
[null,null,null,null,null,null,null,null,null,null,null,null,null,null,null,null,null,null,null,null,null,null,null,null,null,null,null,null,null,null,null,null,null,null,null,null,null,null,null,null,null,null,null,null,3184,0.79203694013711234,50,49.999875072341489]
[null,null,null,null,null,null,null,null,null,null,null,null,null,null,null,null,null,null,null,null,null,null,null,null,null,null,null,null,null,null,null,null,null,null,null,null,null,null,null,null,null,null,null,null,3185,0.79228569545750716,50,49.999876155301813]
[null,null,null,null,null,null,null,null,null,null,null,null,null,null,null,null,null,null,null,null,null,null,null,null,null,null,null,null,null,null,null,null,null,null,null,null,null,null,null,null,null,null,null,null,3186,0.79253445077790197,50,49.999877228874283]
[null,null,null,null,null,null,null,null,null,null,null,null,null,null,null,null,null,null,null,null,null,null,null,null,null,null,null,null,null,null,null,null,null,null,null,null,null,null,null,null,null,null,null,null,3187,0.79278320609829678,50,49.999878293140277]
[null,null,null,null,null,null,null,null,null,null,null,null,null,null,null,null,null,null,null,null,null,null,null,null,null,null,null,null,null,null,null,null,null,null,null,null,null,null,null,null,null,null,null,null,3188,0.79303196141869159,50,49.999879348180464]
[null,null,null,null,null,null,null,null,null,null,null,null,null,null,null,null,null,null,null,null,null,null,null,null,null,null,null,null,null,null,null,null,null,null,null,null,null,null,null,null,null,null,null,null,3189,0.7932807167390864,50,49.999880394074822]
[null,null,null,null,null,null,null,null,null,null,null,null,null,null,null,null,null,null,null,null,null,null,null,null,null,null,null,null,null,null,null,null,null,null,null,null,null,null,null,null,null,null,null,null,3190,0.79352947205948121,50,49.99988143090264]
[null,null,null,null,null,null,null,null,null,null,null,null,null,null,null,null,null,null,null,null,null,null,null,null,null,null,null,null,null,null,null,null,null,null,null,null,null,null,null,null,null,null,null,null,3191,0.79377822737987602,50,49.999882458742512]
[null,null,null,null,null,null,null,null,null,null,null,null,null,null,null,null,null,null,null,null,null,null,null,null,null,null,null,null,null,null,null,null,null,null,null,null,null,null,null,null,null,null,null,null,3192,0.79402698270027083,50,49.999883477672341]
[null,null,null,null,null,null,null,null,null,null,null,null,null,null,null,null,null,null,null,null,null,null,null,null,null,null,null,null,null,null,null,null,null,null,null,null,null,null,null,null,null,null,null,null,3193,0.79427573802066564,50,49.999884487769378]
[null,null,null,null,null,null,null,null,null,null,null,null,null,null,null,null,null,null,null,null,null,null,null,null,null,null,null,null,null,null,null,null,null,null,null,null,null,null,null,null,null,null,null,null,3194,0.79452449334106057,50,49.999885489110191]
[null,null,null,null,null,null,null,null,null,null,null,null,null,null,null,null,null,null,null,null,null,null,null,null,null,null,null,null,null,null,null,null,null,null,null,null,null,null,null,null,null,null,null,null,3195,0.79477324866145538,50,49.999886481770673]
[null,null,null,null,null,null,null,null,null,null,null,null,null,null,null,null,null,null,null,null,null,null,null,null,null,null,null,null,null,null,null,null,null,null,null,null,null,null,null,null,null,null,null,null,3196,0.79502200398185019,50,49.999887465826085]
[null,null,null,null,null,null,null,null,null,null,null,null,null,null,null,null,null,null,null,null,null,null,null,null,null,null,null,null,null,null,null,null,null,null,null,null,null,null,null,null,null,null,null,null,3197,0.795270759302245,50,49.999888441351018]
[null,null,null,null,null,null,null,null,null,null,null,null,null,null,null,null,null,null,null,null,null,null,null,null,null,null,null,null,null,null,null,null,null,null,null,null,null,null,null,null,null,null,null,null,3198,0.79551951462263981,50,49.999889408419421]
[null,null,null,null,null,null,null,null,null,null,null,null,null,null,null,null,null,null,null,null,null,null,null,null,null,null,null,null,null,null,null,null,null,null,null,null,null,null,null,null,null,null,null,null,3199,0.79576826994303462,50,49.999890367104591]
[null,null,null,null,null,null,null,null,null,null,null,null,null,null,null,null,null,null,null,null,null,null,null,null,null,null,null,null,null,null,null,null,null,null,null,null,null,null,null,null,null,null,null,null,3200,{"$f":"$AP$18/$N$7*AS3231","v":0.79601702526342943},50,49.999891317479204]

{"sheet":"DataSerch","index":1,"n_rows":338,"n_cols":20,"rows_kept":338,"cut":false,"hidden":true,"merged":[[112,14,112,18],[124,17,124,18],[23,1,23,2],[57,1,57,2],[23,3,23,4]]}
["選択型式","メカ機種データレコード",null,null,null,null,null,null,null,null,null,null,":$158","：「メカ機種データ」範囲検索"]
[{"$f":"CycleTime!C6","v":"RCP6-SA8C"},"№",{"$f":"ModelData!$B$2","v":"ｱｸﾁｭｴｰﾀ型式"},null,null,null,null,{"$f":"ModelData!$C$2","v":"最小ｽﾄﾛｰｸ"},{"$f":"ModelData!$D$2","v":"最大ｽﾄﾛｰｸ"},{"$f":"ModelData!$E$2","v":"動作種別"},null,null,":$43","：「モータ機種データ」範囲検索"]
[null,{"$f":"MATCH(A2,ModelData!$B$4:$B$158,0)","v":60},{"$f":"LOOKUP(B3,ModelData!$A$4:$A$158,ModelData!$B$4:$B$158)","v":"RCP6-SA8C"},null,null,null,null,{"$f":"LOOKUP(B3,ModelData!$A$4:$A$158,ModelData!$C$4:$C$158)","v":50},{"$f":"LOOKUP(B3,ModelData!$A$4:$A$158,ModelData!$D$4:$D$158)","v":1100},{"$f":"LOOKUP(B3,ModelData!$A$4:$A$158,ModelData!$E$4:$E$158)","v":0},null,null,":$427","：「リードデータ」範囲検索"]
["リード",null,null,null,"[kg]","[mm]","[mm]","[mm]","[mm]","0/1","[K]",null,":$1380","：「ストロークデータ」範囲検索"]
[{"$f":"CycleTime!C8","v":5},null,null,null,{"$f":"E3/10","v":0},{"$f":"F3/10","v":0},{"$f":"G3","v":0},{"$f":"H3","v":50},{"$f":"I3","v":1100},{"$f":"J3","v":0},null,null,":$5048","：「搬送負荷データ」範囲検索"]
[null,null,null,null,null,null,null,null,null,null,null,null,":$6129","：「加減速・速度データ」範囲検索"]
["ストローク","モータ機種レコード"]
[{"$f":"CycleTime!C10","v":50}]
[]
["設置姿勢",null,null,"[Nm/A]","[A]","[kgm^2]","[Nm]","[Nm]","[rad/s]","[rad/s]","[rad/s]","[Nm/(rad/s)]","[K]","[K]","[s]"]
[{"$f":"IF(CycleTime!C12=CycleTime!AE20,0,1)","v":0},null,null,{"$f":"D9/10000","v":0},{"$f":"E9/1000","v":0},{"$f":"F9*0.000000001","v":0},{"$f":"G9/1000","v":0},{"$f":"H9/1000","v":0},{"$f":"I9/1000","v":0},{"$f":"J9/1000","v":0},{"$f":"K9/1000","v":0},{"$f":"L9*0.000001","v":0},{"$f":"M9/10","v":0},{"$f":"N9/10","v":0},{"$f":"O9/100","v":0}]
[]
["搬送負荷質量","リレーション",null,null,null,"リードデータレコード",null,null,{"$f":"LOOKUP(C15,LeadData!$A$4:$A$427,LeadData!$J$4:$J$427)","v":0.1}]
[{"$f":"CycleTime!B31","v":5},null,"ﾘｰﾄﾞ№","ｽﾄﾛｰｸ№","負荷№",{"$f":"LeadData!$B$2","v":"ﾘｰﾄﾞ長"},null,{"$f":"LeadData!$C$2","v":"水平定格加速度"},{"$f":"LeadData!$D$2","v":"垂直定格加速度"},{"$f":"LeadData!$E$2","v":"水平最大加速度"},{"$f":"LeadData!$F$2","v":"垂直最大加速度"},null,null,null,{"$f":"LeadData!$G$2","v":"ｷﾞｱ比分子"},{"$f":"LeadData!$H$2","v":"ｷﾞｱ比分母"},null,{"$f":"LeadData!$I$2","v":"ｽﾄﾛｰｸ刻み"},{"$f":"LeadData!$J$2","v":"位置決め幅\n初期値"}]
[null,{"$f":"ModelData!$F$2","v":"リンク[0]"},{"$f":"LOOKUP(B3,ModelData!$A$4:$A$158,ModelData!$F$4:$F$158)","v":165},{"$f":"LOOKUP(B3,ModelData!$A$4:$A$158,ModelData!$G$4:$G$158)","v":471},{"$f":"LOOKUP(B3,ModelData!$A$4:$A$158,ModelData!$H$4:$H$158)","v":1402},{"$f":"LOOKUP(C15,LeadData!$A$4:$A$427,LeadData!$B$4:$B$427)","v":5000},null,{"$f":"LOOKUP(C15,LeadData!$A$4:$A$427,LeadData!$C$4:$C$427)","v":2941995},{"$f":"LOOKUP(C15,LeadData!$A$4:$A$427,LeadData!$D$4:$D$427)","v":2941995},{"$f":"LOOKUP(C15,LeadData!$A$4:$A$427,LeadData!$E$4:$E$427)","v":9806650},{"$f":"LOOKUP(C15,LeadData!$A$4:$A$427,LeadData!$F$4:$F$427)","v":4903325},null,null,null,{"$f":"LOOKUP(C15,LeadData!$A$4:$A$427,LeadData!$G$4:$G$427)","v":1},{"$f":"LOOKUP(C15,LeadData!$A$4:$A$427,LeadData!$H$4:$H$427)","v":1},null,{"$f":"LOOKUP(C15,LeadData!$A$4:$A$427,LeadData!$I$4:$I$427)","v":50},{"$f":"LOOKUP(C15,LeadData!$A$4:$A$427,LeadData!$J$4:$J$427)","v":0.1}]
[null,{"$f":"ModelData!$I$2","v":"リンク[1]"},{"$f":"LOOKUP(B3,ModelData!$A$4:$A$158,ModelData!$I$4:$I$158)","v":166},{"$f":"LOOKUP(B3,ModelData!$A$4:$A$158,ModelData!$J$4:$J$158)","v":481},{"$f":"LOOKUP(B3,ModelData!$A$4:$A$158,ModelData!$K$4:$K$158)","v":1421},{"$f":"LOOKUP(C16,LeadData!$A$4:$A$427,LeadData!$B$4:$B$427)","v":10000},null,{"$f":"LOOKUP(C16,LeadData!$A$4:$A$427,LeadData!$C$4:$C$427)","v":2941995},{"$f":"LOOKUP(C16,LeadData!$A$4:$A$427,LeadData!$D$4:$D$427)","v":2941995},{"$f":"LOOKUP(C16,LeadData!$A$4:$A$427,LeadData!$E$4:$E$427)","v":9806650},{"$f":"LOOKUP(C16,LeadData!$A$4:$A$427,LeadData!$F$4:$F$427)","v":4903325},null,null,null,{"$f":"LOOKUP(C16,LeadData!$A$4:$A$427,LeadData!$G$4:$G$427)","v":1},{"$f":"LOOKUP(C16,LeadData!$A$4:$A$427,LeadData!$H$4:$H$427)","v":1},null,{"$f":"LOOKUP(C16,LeadData!$A$4:$A$427,LeadData!$I$4:$I$427)","v":50},{"$f":"LOOKUP(C16,LeadData!$A$4:$A$427,LeadData!$J$4:$J$427)","v":0.1}]
[null,{"$f":"ModelData!$L$2","v":"リンク[2]"},{"$f":"LOOKUP(B3,ModelData!$A$4:$A$158,ModelData!$L$4:$L$158)","v":167},{"$f":"LOOKUP(B3,ModelData!$A$4:$A$158,ModelData!$M$4:$M$158)","v":491},{"$f":"LOOKUP(B3,ModelData!$A$4:$A$158,ModelData!$N$4:$N$158)","v":1444},{"$f":"LOOKUP(C17,LeadData!$A$4:$A$427,LeadData!$B$4:$B$427)","v":20000},null,{"$f":"LOOKUP(C17,LeadData!$A$4:$A$427,LeadData!$C$4:$C$427)","v":2941995},{"$f":"LOOKUP(C17,LeadData!$A$4:$A$427,LeadData!$D$4:$D$427)","v":2941995},{"$f":"LOOKUP(C17,LeadData!$A$4:$A$427,LeadData!$E$4:$E$427)","v":9806650},{"$f":"LOOKUP(C17,LeadData!$A$4:$A$427,LeadData!$F$4:$F$427)","v":4903325},null,null,null,{"$f":"LOOKUP(C17,LeadData!$A$4:$A$427,LeadData!$G$4:$G$427)","v":1},{"$f":"LOOKUP(C17,LeadData!$A$4:$A$427,LeadData!$H$4:$H$427)","v":1},null,{"$f":"LOOKUP(C17,LeadData!$A$4:$A$427,LeadData!$I$4:$I$427)","v":50},{"$f":"LOOKUP(C17,LeadData!$A$4:$A$427,LeadData!$J$4:$J$427)","v":0.1}]
[null,{"$f":"ModelData!$O$2","v":"リンク[3]"},{"$f":"LOOKUP(B3,ModelData!$A$4:$A$158,ModelData!$O$4:$O$158)","v":168},{"$f":"LOOKUP(B3,ModelData!$A$4:$A$158,ModelData!$P$4:$P$158)","v":501},{"$f":"LOOKUP(B3,ModelData!$A$4:$A$158,ModelData!$Q$4:$Q$158)","v":1470},{"$f":"LOOKUP(C18,LeadData!$A$4:$A$427,LeadData!$B$4:$B$427)","v":30000},null,{"$f":"LOOKUP(C18,LeadData!$A$4:$A$427,LeadData!$C$4:$C$427)","v":2941995},{"$f":"LOOKUP(C18,LeadData!$A$4:$A$427,LeadData!$D$4:$D$427)","v":2941995},{"$f":"LOOKUP(C18,LeadData!$A$4:$A$427,LeadData!$E$4:$E$427)","v":9806650},{"$f":"LOOKUP(C18,LeadData!$A$4:$A$427,LeadData!$F$4:$F$427)","v":4903325},null,null,null,{"$f":"LOOKUP(C18,LeadData!$A$4:$A$427,LeadData!$G$4:$G$427)","v":1},{"$f":"LOOKUP(C18,LeadData!$A$4:$A$427,LeadData!$H$4:$H$427)","v":1},null,{"$f":"LOOKUP(C18,LeadData!$A$4:$A$427,LeadData!$I$4:$I$427)","v":50},{"$f":"LOOKUP(C18,LeadData!$A$4:$A$427,LeadData!$J$4:$J$427)","v":0.1}]
[null,{"$f":"ModelData!$R$2","v":"リンク[4]"},{"$f":"LOOKUP(B3,ModelData!$A$4:$A$158,ModelData!$R$4:$R$158)","v":-1},{"$f":"LOOKUP(B3,ModelData!$A$4:$A$158,ModelData!$S$4:$S$158)","v":-1},{"$f":"LOOKUP(B3,ModelData!$A$4:$A$158,ModelData!$T$4:$T$158)","v":-1},{"$f":"LOOKUP(C19,LeadData!$A$4:$A$427,LeadData!$B$4:$B$427)","v":{"$error":"#N/A"}},null,{"$f":"LOOKUP(C19,LeadData!$A$4:$A$427,LeadData!$C$4:$C$427)","v":{"$error":"#N/A"}},{"$f":"LOOKUP(C19,LeadData!$A$4:$A$427,LeadData!$D$4:$D$427)","v":{"$error":"#N/A"}},{"$f":"LOOKUP(C19,LeadData!$A$4:$A$427,LeadData!$E$4:$E$427)","v":{"$error":"#N/A"}},{"$f":"LOOKUP(C19,LeadData!$A$4:$A$427,LeadData!$F$4:$F$427)","v":{"$error":"#N/A"}},null,null,null,{"$f":"LOOKUP(C19,LeadData!$A$4:$A$427,LeadData!$G$4:$G$427)","v":{"$error":"#N/A"}},{"$f":"LOOKUP(C19,LeadData!$A$4:$A$427,LeadData!$H$4:$H$427)","v":{"$error":"#N/A"}},null,{"$f":"LOOKUP(C19,LeadData!$A$4:$A$427,LeadData!$I$4:$I$427)","v":{"$error":"#N/A"}},{"$f":"LOOKUP(C19,LeadData!$A$4:$A$427,LeadData!$J$4:$J$427)","v":{"$error":"#N/A"}}]
[null,{"$f":"ModelData!$U$2","v":"リンク[5]"},{"$f":"LOOKUP(B3,ModelData!$A$4:$A$158,ModelData!$U$4:$U$158)","v":-1},{"$f":"LOOKUP(B3,ModelData!$A$4:$A$158,ModelData!$V$4:$V$158)","v":-1},{"$f":"LOOKUP(B3,ModelData!$A$4:$A$158,ModelData!$W$4:$W$158)","v":-1},{"$f":"LOOKUP(C20,LeadData!$A$4:$A$427,LeadData!$B$4:$B$427)","v":{"$error":"#N/A"}},null,{"$f":"LOOKUP(C20,LeadData!$A$4:$A$427,LeadData!$C$4:$C$427)","v":{"$error":"#N/A"}},{"$f":"LOOKUP(C20,LeadData!$A$4:$A$427,LeadData!$D$4:$D$427)","v":{"$error":"#N/A"}},{"$f":"LOOKUP(C20,LeadData!$A$4:$A$427,LeadData!$E$4:$E$427)","v":{"$error":"#N/A"}},{"$f":"LOOKUP(C20,LeadData!$A$4:$A$427,LeadData!$F$4:$F$427)","v":{"$error":"#N/A"}},null,null,null,{"$f":"LOOKUP(C20,LeadData!$A$4:$A$427,LeadData!$G$4:$G$427)","v":{"$error":"#N/A"}},{"$f":"LOOKUP(C20,LeadData!$A$4:$A$427,LeadData!$H$4:$H$427)","v":{"$error":"#N/A"}},null,{"$f":"LOOKUP(C20,LeadData!$A$4:$A$427,LeadData!$I$4:$I$427)","v":{"$error":"#N/A"}},{"$f":"LOOKUP(C20,LeadData!$A$4:$A$427,LeadData!$J$4:$J$427)","v":{"$error":"#N/A"}}]
[null,{"$f":"ModelData!$X$2","v":"リンク[6]"},{"$f":"LOOKUP(B3,ModelData!$A$4:$A$158,ModelData!$X$4:$X$158)","v":-1},{"$f":"LOOKUP(B3,ModelData!$A$4:$A$158,ModelData!$Y$4:$Y$158)","v":-1},{"$f":"LOOKUP(B3,ModelData!$A$4:$A$158,ModelData!$Z$4:$Z$158)","v":-1},{"$f":"LOOKUP(C21,LeadData!$A$4:$A$427,LeadData!$B$4:$B$427)","v":{"$error":"#N/A"}},null,{"$f":"LOOKUP(C21,LeadData!$A$4:$A$427,LeadData!$C$4:$C$427)","v":{"$error":"#N/A"}},{"$f":"LOOKUP(C21,LeadData!$A$4:$A$427,LeadData!$D$4:$D$427)","v":{"$error":"#N/A"}},{"$f":"LOOKUP(C21,LeadData!$A$4:$A$427,LeadData!$E$4:$E$427)","v":{"$error":"#N/A"}},{"$f":"LOOKUP(C21,LeadData!$A$4:$A$427,LeadData!$F$4:$F$427)","v":{"$error":"#N/A"}},null,null,null,{"$f":"LOOKUP(C21,LeadData!$A$4:$A$427,LeadData!$G$4:$G$427)","v":{"$error":"#N/A"}},{"$f":"LOOKUP(C21,LeadData!$A$4:$A$427,LeadData!$H$4:$H$427)","v":{"$error":"#N/A"}},null,{"$f":"LOOKUP(C21,LeadData!$A$4:$A$427,LeadData!$I$4:$I$427)","v":{"$error":"#N/A"}},{"$f":"LOOKUP(C21,LeadData!$A$4:$A$427,LeadData!$J$4:$J$427)","v":{"$error":"#N/A"}}]
[null,{"$f":"ModelData!$AA$2","v":"リンク[7]"},{"$f":"LOOKUP(B3,ModelData!$A$4:$A$158,ModelData!$AA$4:$AA$158)","v":-1},{"$f":"LOOKUP(B3,ModelData!$A$4:$A$158,ModelData!$AB$4:$AB$158)","v":-1},{"$f":"LOOKUP(B3,ModelData!$A$4:$A$158,ModelData!$AC$4:$AC$158)","v":-1},{"$f":"LOOKUP(C22,LeadData!$A$4:$A$427,LeadData!$B$4:$B$427)","v":{"$error":"#N/A"}},null,{"$f":"LOOKUP(C22,LeadData!$A$4:$A$427,LeadData!$C$4:$C$427)","v":{"$error":"#N/A"}},{"$f":"LOOKUP(C22,LeadData!$A$4:$A$427,LeadData!$D$4:$D$427)","v":{"$error":"#N/A"}},{"$f":"LOOKUP(C22,LeadData!$A$4:$A$427,LeadData!$E$4:$E$427)","v":{"$error":"#N/A"}},{"$f":"LOOKUP(C22,LeadData!$A$4:$A$427,LeadData!$F$4:$F$427)","v":{"$error":"#N/A"}},null,null,null,{"$f":"LOOKUP(C22,LeadData!$A$4:$A$427,LeadData!$G$4:$G$427)","v":{"$error":"#N/A"}},{"$f":"LOOKUP(C22,LeadData!$A$4:$A$427,LeadData!$H$4:$H$427)","v":{"$error":"#N/A"}},null,{"$f":"LOOKUP(C22,LeadData!$A$4:$A$427,LeadData!$I$4:$I$427)","v":{"$error":"#N/A"}},{"$f":"LOOKUP(C22,LeadData!$A$4:$A$427,LeadData!$J$4:$J$427)","v":{"$error":"#N/A"}}]
[null,"リードリストとリレーション",null,null,null,"リードデータレコードの物理量変換"]
[null,"ﾘｰﾄﾞﾘｽﾄ",null,"リンク",null,{"$f":"LeadData!$B$2","v":"ﾘｰﾄﾞ長"},null,{"$f":"LeadData!$C$2","v":"水平定格加速度"},{"$f":"LeadData!$D$2","v":"垂直定格加速度"},{"$f":"LeadData!$E$2","v":"水平最大加速度"},{"$f":"LeadData!$F$2","v":"垂直最大加速度"},null,null,null,{"$f":"LeadData!$G$2","v":"ｷﾞｱ比分子"},{"$f":"LeadData!$H$2","v":"ｷﾞｱ比分母"},null,{"$f":"LeadData!$I$2","v":"ｽﾄﾛｰｸ刻み"},{"$f":"LeadData!$J$2","v":"位置決め幅\n初期値"}]
[null,"№","ﾃﾞｰﾀ",{"$f":"D14","v":"ｽﾄﾛｰｸ№"},{"$f":"E14","v":"負荷№"},"[mm]","[kgm^2]","[m/s^2]","[m/s^2]","[m/s^2]","[m/s^2]","[Nm]","[Nms]","[Nm]",null,null,null,"[mm]","[mm]"]
[null,1,{"$f":"IF(C15=-1,\"- - -\",IF(F26<=0,P26/O26,F26))","v":5},{"$f":"D15","v":471},1402,{"$f":"F15/1000","v":5},{"$f":"G15*0.000000001","v":0},{"$f":"H15*0.000001","v":2.9419949999999999},2.9419949999999999,9.8066499999999994,4.9033249999999997,null,null,null,{"$f":"O15","v":1},{"$f":"P15","v":1},null,{"$f":"R15","v":50},{"$f":"S15","v":0.1}]
[null,{"$f":"B26+1","v":2},10,481,1421,10,0,2.9419949999999999,2.9419949999999999,9.8066499999999994,4.9033249999999997,null,null,null,{"$f":"O16","v":1},1,null,{"$f":"R16","v":50},{"$f":"S16","v":0.1}]
[null,{"$f":"B27+1","v":3},20,491,1444,20,0,2.9419949999999999,2.9419949999999999,9.8066499999999994,4.9033249999999997,null,null,null,1,1,null,50,{"$f":"S17","v":0.1}]
[null,4,30,501,1470,30,0,2.9419949999999999,2.9419949999999999,9.8066499999999994,4.9033249999999997,null,null,null,1,1,null,50,{"$f":"S18","v":0.1}]
[null,5,"- - -",-1,-1,{"$error":"#N/A"},0,{"$error":"#N/A"},{"$error":"#N/A"},{"$error":"#N/A"},{"$error":"#N/A"},null,null,null,{"$error":"#N/A"},{"$error":"#N/A"},null,{"$error":"#N/A"},{"$error":"#N/A"}]
[null,6,"- - -",-1,-1,{"$error":"#N/A"},0,{"$error":"#N/A"},{"$error":"#N/A"},{"$error":"#N/A"},{"$error":"#N/A"},null,null,null,{"$error":"#N/A"},{"$error":"#N/A"},null,{"$error":"#N/A"},{"$error":"#N/A"}]
[null,7,"- - -",-1,-1,{"$error":"#N/A"},0,{"$error":"#N/A"},{"$error":"#N/A"},{"$error":"#N/A"},{"$error":"#N/A"},null,null,null,{"$error":"#N/A"},{"$error":"#N/A"},null,{"$error":"#N/A"},{"$error":"#N/A"}]
[null,8,"- - -",-1,-1,{"$error":"#N/A"},0,{"$error":"#N/A"},{"$error":"#N/A"},{"$error":"#N/A"},{"$error":"#N/A"},null,null,null,{"$error":"#N/A"},{"$error":"#N/A"},null,{"$error":"#N/A"},{"$error":"#N/A"}]
[]
[null,"リードリスト選択№",null,{"$f":"MATCH(A5,C26:C33,0)","v":1},"ストロークデータレコード",null,null,{"$f":"LOOKUP(C37,StrokeData!$A$4:$A$1380,StrokeData!$M$4:$M$1380)","v":"RCP6-SA8C-5"}]
[null,"№","stﾚｺｰﾄﾞ№",{"$f":"StrokeData!$B$2","v":"ｽﾄﾛｰｸ長"},{"$f":"StrokeData!$C$2","v":"有効ｽﾄﾛｰｸ補正"},null,{"$f":"StrokeData!$D$2","v":"基準ｹﾞｲﾝ用搬送質量"},{"$f":"StrokeData!$E$2","v":"水平可搬質量"},{"$f":"StrokeData!$F$2","v":"垂直可搬質量"},{"$f":"StrokeData!$G$2","v":"最大速度"},{"$f":"StrokeData!$H$2","v":"位置ｹﾞｲﾝ"},{"$f":"StrokeData!$I$2","v":"FFｹﾞｲﾝ"},{"$f":"StrokeData!$J$2","v":"速度制御帯域"},null,null,null,null,null,{"$f":"StrokeData!$K$2","v":"前ﾃﾞｰﾀ№"},{"$f":"StrokeData!$L$2","v":"次ﾃﾞｰﾀ№"}]
[null,1,{"$f":"LOOKUP(D35,B26:B33,D26:D33)","v":471},{"$f":"LOOKUP(C37,StrokeData!$A$4:$A$1380,StrokeData!$B$4:$B$1380)","v":650},{"$f":"LOOKUP(C37,StrokeData!$A$4:$A$1380,StrokeData!$C$4:$C$1380)","v":0},null,{"$f":"LOOKUP(C37,StrokeData!$A$4:$A$1380,StrokeData!$D$4:$D$1380)","v":80000},{"$f":"LOOKUP(C37,StrokeData!$A$4:$A$1380,StrokeData!$E$4:$E$1380)","v":80000},{"$f":"LOOKUP(C37,StrokeData!$A$4:$A$1380,StrokeData!$F$4:$F$1380)","v":55000},{"$f":"LOOKUP(C37,StrokeData!$A$4:$A$1380,StrokeData!$G$4:$G$1380)","v":250},{"$f":"LOOKUP(C37,StrokeData!$A$4:$A$1380,StrokeData!$H$4:$H$1380)","v":35},{"$f":"LOOKUP(C37,StrokeData!$A$4:$A$1380,StrokeData!$I$4:$I$1380)","v":0},{"$f":"LOOKUP(C37,StrokeData!$A$4:$A$1380,StrokeData!$J$4:$J$1380)","v":170},null,null,null,null,null,{"$f":"LOOKUP(C37,StrokeData!$A$4:$A$1380,StrokeData!$K$4:$K$1380)","v":-1},{"$f":"LOOKUP(C37,StrokeData!$A$4:$A$1380,StrokeData!$L$4:$L$1380)","v":472}]
[null,{"$f":"B37+1","v":2},{"$f":"IF(C37=-1,-1,LOOKUP(C37,StrokeData!$A$4:$A$1380,StrokeData!$L$4:$L$1380))","v":472},{"$f":"LOOKUP(C38,StrokeData!$A$4:$A$1380,StrokeData!$B$4:$B$1380)","v":700},{"$f":"LOOKUP(C38,StrokeData!$A$4:$A$1380,StrokeData!$C$4:$C$1380)","v":0},null,{"$f":"LOOKUP(C38,StrokeData!$A$4:$A$1380,StrokeData!$D$4:$D$1380)","v":80000},{"$f":"LOOKUP(C38,StrokeData!$A$4:$A$1380,StrokeData!$E$4:$E$1380)","v":80000},{"$f":"LOOKUP(C38,StrokeData!$A$4:$A$1380,StrokeData!$F$4:$F$1380)","v":55000},{"$f":"LOOKUP(C38,StrokeData!$A$4:$A$1380,StrokeData!$G$4:$G$1380)","v":240},{"$f":"LOOKUP(C38,StrokeData!$A$4:$A$1380,StrokeData!$H$4:$H$1380)","v":35},{"$f":"LOOKUP(C38,StrokeData!$A$4:$A$1380,StrokeData!$I$4:$I$1380)","v":0},{"$f":"LOOKUP(C38,StrokeData!$A$4:$A$1380,StrokeData!$J$4:$J$1380)","v":170},null,null,null,null,null,{"$f":"LOOKUP(C38,StrokeData!$A$4:$A$1380,StrokeData!$K$4:$K$1380)","v":471},{"$f":"LOOKUP(C38,StrokeData!$A$4:$A$1380,StrokeData!$L$4:$L$1380)","v":473}]
[null,{"$f":"B38+1","v":3},{"$f":"IF(C38=-1,-1,LOOKUP(C38,StrokeData!$A$4:$A$1380,StrokeData!$L$4:$L$1380))","v":473},{"$f":"LOOKUP(C39,StrokeData!$A$4:$A$1380,StrokeData!$B$4:$B$1380)","v":750},{"$f":"LOOKUP(C39,StrokeData!$A$4:$A$1380,StrokeData!$C$4:$C$1380)","v":0},null,{"$f":"LOOKUP(C39,StrokeData!$A$4:$A$1380,StrokeData!$D$4:$D$1380)","v":80000},{"$f":"LOOKUP(C39,StrokeData!$A$4:$A$1380,StrokeData!$E$4:$E$1380)","v":80000},{"$f":"LOOKUP(C39,StrokeData!$A$4:$A$1380,StrokeData!$F$4:$F$1380)","v":55000},{"$f":"LOOKUP(C39,StrokeData!$A$4:$A$1380,StrokeData!$G$4:$G$1380)","v":215},{"$f":"LOOKUP(C39,StrokeData!$A$4:$A$1380,StrokeData!$H$4:$H$1380)","v":35},{"$f":"LOOKUP(C39,StrokeData!$A$4:$A$1380,StrokeData!$I$4:$I$1380)","v":0},{"$f":"LOOKUP(C39,StrokeData!$A$4:$A$1380,StrokeData!$J$4:$J$1380)","v":170},null,null,null,null,null,{"$f":"LOOKUP(C39,StrokeData!$A$4:$A$1380,StrokeData!$K$4:$K$1380)","v":472},{"$f":"LOOKUP(C39,StrokeData!$A$4:$A$1380,StrokeData!$L$4:$L$1380)","v":474}]
[null,4,{"$f":"IF(C39=-1,-1,LOOKUP(C39,StrokeData!$A$4:$A$1380,StrokeData!$L$4:$L$1380))","v":474},{"$f":"LOOKUP(C40,StrokeData!$A$4:$A$1380,StrokeData!$B$4:$B$1380)","v":800},{"$f":"LOOKUP(C40,StrokeData!$A$4:$A$1380,StrokeData!$C$4:$C$1380)","v":0},null,{"$f":"LOOKUP(C40,StrokeData!$A$4:$A$1380,StrokeData!$D$4:$D$1380)","v":80000},{"$f":"LOOKUP(C40,StrokeData!$A$4:$A$1380,StrokeData!$E$4:$E$1380)","v":80000},{"$f":"LOOKUP(C40,StrokeData!$A$4:$A$1380,StrokeData!$F$4:$F$1380)","v":55000},{"$f":"LOOKUP(C40,StrokeData!$A$4:$A$1380,StrokeData!$G$4:$G$1380)","v":190},{"$f":"LOOKUP(C40,StrokeData!$A$4:$A$1380,StrokeData!$H$4:$H$1380)","v":35},{"$f":"LOOKUP(C40,StrokeData!$A$4:$A$1380,StrokeData!$I$4:$I$1380)","v":0},{"$f":"LOOKUP(C40,StrokeData!$A$4:$A$1380,StrokeData!$J$4:$J$1380)","v":170},null,null,null,null,null,{"$f":"LOOKUP(C40,StrokeData!$A$4:$A$1380,StrokeData!$K$4:$K$1380)","v":473},{"$f":"LOOKUP(C40,StrokeData!$A$4:$A$1380,StrokeData!$L$4:$L$1380)","v":475}]
[null,5,{"$f":"IF(C40=-1,-1,LOOKUP(C40,StrokeData!$A$4:$A$1380,StrokeData!$L$4:$L$1380))","v":475},{"$f":"LOOKUP(C41,StrokeData!$A$4:$A$1380,StrokeData!$B$4:$B$1380)","v":850},{"$f":"LOOKUP(C41,StrokeData!$A$4:$A$1380,StrokeData!$C$4:$C$1380)","v":0},null,{"$f":"LOOKUP(C41,StrokeData!$A$4:$A$1380,StrokeData!$D$4:$D$1380)","v":80000},{"$f":"LOOKUP(C41,StrokeData!$A$4:$A$1380,StrokeData!$E$4:$E$1380)","v":80000},{"$f":"LOOKUP(C41,StrokeData!$A$4:$A$1380,StrokeData!$F$4:$F$1380)","v":55000},{"$f":"LOOKUP(C41,StrokeData!$A$4:$A$1380,StrokeData!$G$4:$G$1380)","v":175},{"$f":"LOOKUP(C41,StrokeData!$A$4:$A$1380,StrokeData!$H$4:$H$1380)","v":35},{"$f":"LOOKUP(C41,StrokeData!$A$4:$A$1380,StrokeData!$I$4:$I$1380)","v":0},{"$f":"LOOKUP(C41,StrokeData!$A$4:$A$1380,StrokeData!$J$4:$J$1380)","v":170},null,null,null,null,null,{"$f":"LOOKUP(C41,StrokeData!$A$4:$A$1380,StrokeData!$K$4:$K$1380)","v":474},{"$f":"LOOKUP(C41,StrokeData!$A$4:$A$1380,StrokeData!$L$4:$L$1380)","v":476}]
[null,6,{"$f":"IF(C41=-1,-1,LOOKUP(C41,StrokeData!$A$4:$A$1380,StrokeData!$L$4:$L$1380))","v":476},{"$f":"LOOKUP(C42,StrokeData!$A$4:$A$1380,StrokeData!$B$4:$B$1380)","v":900},{"$f":"LOOKUP(C42,StrokeData!$A$4:$A$1380,StrokeData!$C$4:$C$1380)","v":0},null,{"$f":"LOOKUP(C42,StrokeData!$A$4:$A$1380,StrokeData!$D$4:$D$1380)","v":80000},{"$f":"LOOKUP(C42,StrokeData!$A$4:$A$1380,StrokeData!$E$4:$E$1380)","v":80000},{"$f":"LOOKUP(C42,StrokeData!$A$4:$A$1380,StrokeData!$F$4:$F$1380)","v":55000},{"$f":"LOOKUP(C42,StrokeData!$A$4:$A$1380,StrokeData!$G$4:$G$1380)","v":155},{"$f":"LOOKUP(C42,StrokeData!$A$4:$A$1380,StrokeData!$H$4:$H$1380)","v":35},{"$f":"LOOKUP(C42,StrokeData!$A$4:$A$1380,StrokeData!$I$4:$I$1380)","v":0},{"$f":"LOOKUP(C42,StrokeData!$A$4:$A$1380,StrokeData!$J$4:$J$1380)","v":170},null,null,null,null,null,{"$f":"LOOKUP(C42,StrokeData!$A$4:$A$1380,StrokeData!$K$4:$K$1380)","v":475},{"$f":"LOOKUP(C42,StrokeData!$A$4:$A$1380,StrokeData!$L$4:$L$1380)","v":477}]
[null,7,{"$f":"IF(C42=-1,-1,LOOKUP(C42,StrokeData!$A$4:$A$1380,StrokeData!$L$4:$L$1380))","v":477},{"$f":"LOOKUP(C43,StrokeData!$A$4:$A$1380,StrokeData!$B$4:$B$1380)","v":950},{"$f":"LOOKUP(C43,StrokeData!$A$4:$A$1380,StrokeData!$C$4:$C$1380)","v":0},null,{"$f":"LOOKUP(C43,StrokeData!$A$4:$A$1380,StrokeData!$D$4:$D$1380)","v":80000},{"$f":"LOOKUP(C43,StrokeData!$A$4:$A$1380,StrokeData!$E$4:$E$1380)","v":80000},{"$f":"LOOKUP(C43,StrokeData!$A$4:$A$1380,StrokeData!$F$4:$F$1380)","v":55000},{"$f":"LOOKUP(C43,StrokeData!$A$4:$A$1380,StrokeData!$G$4:$G$1380)","v":140},{"$f":"LOOKUP(C43,StrokeData!$A$4:$A$1380,StrokeData!$H$4:$H$1380)","v":35},{"$f":"LOOKUP(C43,StrokeData!$A$4:$A$1380,StrokeData!$I$4:$I$1380)","v":0},{"$f":"LOOKUP(C43,StrokeData!$A$4:$A$1380,StrokeData!$J$4:$J$1380)","v":170},null,null,null,null,null,{"$f":"LOOKUP(C43,StrokeData!$A$4:$A$1380,StrokeData!$K$4:$K$1380)","v":476},{"$f":"LOOKUP(C43,StrokeData!$A$4:$A$1380,StrokeData!$L$4:$L$1380)","v":478}]
[null,8,{"$f":"IF(C43=-1,-1,LOOKUP(C43,StrokeData!$A$4:$A$1380,StrokeData!$L$4:$L$1380))","v":478},{"$f":"LOOKUP(C44,StrokeData!$A$4:$A$1380,StrokeData!$B$4:$B$1380)","v":1000},{"$f":"LOOKUP(C44,StrokeData!$A$4:$A$1380,StrokeData!$C$4:$C$1380)","v":0},null,{"$f":"LOOKUP(C44,StrokeData!$A$4:$A$1380,StrokeData!$D$4:$D$1380)","v":80000},{"$f":"LOOKUP(C44,StrokeData!$A$4:$A$1380,StrokeData!$E$4:$E$1380)","v":80000},{"$f":"LOOKUP(C44,StrokeData!$A$4:$A$1380,StrokeData!$F$4:$F$1380)","v":55000},{"$f":"LOOKUP(C44,StrokeData!$A$4:$A$1380,StrokeData!$G$4:$G$1380)","v":130},{"$f":"LOOKUP(C44,StrokeData!$A$4:$A$1380,StrokeData!$H$4:$H$1380)","v":35},{"$f":"LOOKUP(C44,StrokeData!$A$4:$A$1380,StrokeData!$I$4:$I$1380)","v":0},{"$f":"LOOKUP(C44,StrokeData!$A$4:$A$1380,StrokeData!$J$4:$J$1380)","v":170},null,null,null,null,null,{"$f":"LOOKUP(C44,StrokeData!$A$4:$A$1380,StrokeData!$K$4:$K$1380)","v":477},{"$f":"LOOKUP(C44,StrokeData!$A$4:$A$1380,StrokeData!$L$4:$L$1380)","v":479}]
[null,9,{"$f":"IF(C44=-1,-1,LOOKUP(C44,StrokeData!$A$4:$A$1380,StrokeData!$L$4:$L$1380))","v":479},{"$f":"LOOKUP(C45,StrokeData!$A$4:$A$1380,StrokeData!$B$4:$B$1380)","v":1050},{"$f":"LOOKUP(C45,StrokeData!$A$4:$A$1380,StrokeData!$C$4:$C$1380)","v":0},null,{"$f":"LOOKUP(C45,StrokeData!$A$4:$A$1380,StrokeData!$D$4:$D$1380)","v":80000},{"$f":"LOOKUP(C45,StrokeData!$A$4:$A$1380,StrokeData!$E$4:$E$1380)","v":80000},{"$f":"LOOKUP(C45,StrokeData!$A$4:$A$1380,StrokeData!$F$4:$F$1380)","v":55000},{"$f":"LOOKUP(C45,StrokeData!$A$4:$A$1380,StrokeData!$G$4:$G$1380)","v":120},{"$f":"LOOKUP(C45,StrokeData!$A$4:$A$1380,StrokeData!$H$4:$H$1380)","v":35},{"$f":"LOOKUP(C45,StrokeData!$A$4:$A$1380,StrokeData!$I$4:$I$1380)","v":0},{"$f":"LOOKUP(C45,StrokeData!$A$4:$A$1380,StrokeData!$J$4:$J$1380)","v":170},null,null,null,null,null,{"$f":"LOOKUP(C45,StrokeData!$A$4:$A$1380,StrokeData!$K$4:$K$1380)","v":478},{"$f":"LOOKUP(C45,StrokeData!$A$4:$A$1380,StrokeData!$L$4:$L$1380)","v":480}]
[null,10,{"$f":"IF(C45=-1,-1,LOOKUP(C45,StrokeData!$A$4:$A$1380,StrokeData!$L$4:$L$1380))","v":480},{"$f":"LOOKUP(C46,StrokeData!$A$4:$A$1380,StrokeData!$B$4:$B$1380)","v":1100},{"$f":"LOOKUP(C46,StrokeData!$A$4:$A$1380,StrokeData!$C$4:$C$1380)","v":0},null,{"$f":"LOOKUP(C46,StrokeData!$A$4:$A$1380,StrokeData!$D$4:$D$1380)","v":80000},{"$f":"LOOKUP(C46,StrokeData!$A$4:$A$1380,StrokeData!$E$4:$E$1380)","v":80000},{"$f":"LOOKUP(C46,StrokeData!$A$4:$A$1380,StrokeData!$F$4:$F$1380)","v":55000},{"$f":"LOOKUP(C46,StrokeData!$A$4:$A$1380,StrokeData!$G$4:$G$1380)","v":110},{"$f":"LOOKUP(C46,StrokeData!$A$4:$A$1380,StrokeData!$H$4:$H$1380)","v":35},{"$f":"LOOKUP(C46,StrokeData!$A$4:$A$1380,StrokeData!$I$4:$I$1380)","v":0},{"$f":"LOOKUP(C46,StrokeData!$A$4:$A$1380,StrokeData!$J$4:$J$1380)","v":170},null,null,null,null,null,{"$f":"LOOKUP(C46,StrokeData!$A$4:$A$1380,StrokeData!$K$4:$K$1380)","v":479},{"$f":"LOOKUP(C46,StrokeData!$A$4:$A$1380,StrokeData!$L$4:$L$1380)","v":-1}]
[null,11,{"$f":"IF(C46=-1,-1,LOOKUP(C46,StrokeData!$A$4:$A$1380,StrokeData!$L$4:$L$1380))","v":-1},{"$f":"LOOKUP(C47,StrokeData!$A$4:$A$1380,StrokeData!$B$4:$B$1380)","v":{"$error":"#N/A"}},{"$f":"LOOKUP(C47,StrokeData!$A$4:$A$1380,StrokeData!$C$4:$C$1380)","v":{"$error":"#N/A"}},null,{"$f":"LOOKUP(C47,StrokeData!$A$4:$A$1380,StrokeData!$D$4:$D$1380)","v":{"$error":"#N/A"}},{"$f":"LOOKUP(C47,StrokeData!$A$4:$A$1380,StrokeData!$E$4:$E$1380)","v":{"$error":"#N/A"}},{"$f":"LOOKUP(C47,StrokeData!$A$4:$A$1380,StrokeData!$F$4:$F$1380)","v":{"$error":"#N/A"}},{"$f":"LOOKUP(C47,StrokeData!$A$4:$A$1380,StrokeData!$G$4:$G$1380)","v":{"$error":"#N/A"}},{"$f":"LOOKUP(C47,StrokeData!$A$4:$A$1380,StrokeData!$H$4:$H$1380)","v":{"$error":"#N/A"}},{"$f":"LOOKUP(C47,StrokeData!$A$4:$A$1380,StrokeData!$I$4:$I$1380)","v":{"$error":"#N/A"}},{"$f":"LOOKUP(C47,StrokeData!$A$4:$A$1380,StrokeData!$J$4:$J$1380)","v":{"$error":"#N/A"}},null,null,null,null,null,{"$f":"LOOKUP(C47,StrokeData!$A$4:$A$1380,StrokeData!$K$4:$K$1380)","v":{"$error":"#N/A"}},{"$f":"LOOKUP(C47,StrokeData!$A$4:$A$1380,StrokeData!$L$4:$L$1380)","v":{"$error":"#N/A"}}]
[null,12,{"$f":"IF(C47=-1,-1,LOOKUP(C47,StrokeData!$A$4:$A$1380,StrokeData!$L$4:$L$1380))","v":-1},{"$f":"LOOKUP(C48,StrokeData!$A$4:$A$1380,StrokeData!$B$4:$B$1380)","v":{"$error":"#N/A"}},{"$f":"LOOKUP(C48,StrokeData!$A$4:$A$1380,StrokeData!$C$4:$C$1380)","v":{"$error":"#N/A"}},null,{"$f":"LOOKUP(C48,StrokeData!$A$4:$A$1380,StrokeData!$D$4:$D$1380)","v":{"$error":"#N/A"}},{"$f":"LOOKUP(C48,StrokeData!$A$4:$A$1380,StrokeData!$E$4:$E$1380)","v":{"$error":"#N/A"}},{"$f":"LOOKUP(C48,StrokeData!$A$4:$A$1380,StrokeData!$F$4:$F$1380)","v":{"$error":"#N/A"}},{"$f":"LOOKUP(C48,StrokeData!$A$4:$A$1380,StrokeData!$G$4:$G$1380)","v":{"$error":"#N/A"}},{"$f":"LOOKUP(C48,StrokeData!$A$4:$A$1380,StrokeData!$H$4:$H$1380)","v":{"$error":"#N/A"}},{"$f":"LOOKUP(C48,StrokeData!$A$4:$A$1380,StrokeData!$I$4:$I$1380)","v":{"$error":"#N/A"}},{"$f":"LOOKUP(C48,StrokeData!$A$4:$A$1380,StrokeData!$J$4:$J$1380)","v":{"$error":"#N/A"}},null,null,null,null,null,{"$f":"LOOKUP(C48,StrokeData!$A$4:$A$1380,StrokeData!$K$4:$K$1380)","v":{"$error":"#N/A"}},{"$f":"LOOKUP(C48,StrokeData!$A$4:$A$1380,StrokeData!$L$4:$L$1380)","v":{"$error":"#N/A"}}]
[null,13,{"$f":"IF(C48=-1,-1,LOOKUP(C48,StrokeData!$A$4:$A$1380,StrokeData!$L$4:$L$1380))","v":-1},{"$f":"LOOKUP(C49,StrokeData!$A$4:$A$1380,StrokeData!$B$4:$B$1380)","v":{"$error":"#N/A"}},{"$f":"LOOKUP(C49,StrokeData!$A$4:$A$1380,StrokeData!$C$4:$C$1380)","v":{"$error":"#N/A"}},null,{"$f":"LOOKUP(C49,StrokeData!$A$4:$A$1380,StrokeData!$D$4:$D$1380)","v":{"$error":"#N/A"}},{"$f":"LOOKUP(C49,StrokeData!$A$4:$A$1380,StrokeData!$E$4:$E$1380)","v":{"$error":"#N/A"}},{"$f":"LOOKUP(C49,StrokeData!$A$4:$A$1380,StrokeData!$F$4:$F$1380)","v":{"$error":"#N/A"}},{"$f":"LOOKUP(C49,StrokeData!$A$4:$A$1380,StrokeData!$G$4:$G$1380)","v":{"$error":"#N/A"}},{"$f":"LOOKUP(C49,StrokeData!$A$4:$A$1380,StrokeData!$H$4:$H$1380)","v":{"$error":"#N/A"}},{"$f":"LOOKUP(C49,StrokeData!$A$4:$A$1380,StrokeData!$I$4:$I$1380)","v":{"$error":"#N/A"}},{"$f":"LOOKUP(C49,StrokeData!$A$4:$A$1380,StrokeData!$J$4:$J$1380)","v":{"$error":"#N/A"}},null,null,null,null,null,{"$f":"LOOKUP(C49,StrokeData!$A$4:$A$1380,StrokeData!$K$4:$K$1380)","v":{"$error":"#N/A"}},{"$f":"LOOKUP(C49,StrokeData!$A$4:$A$1380,StrokeData!$L$4:$L$1380)","v":{"$error":"#N/A"}}]
[null,14,{"$f":"IF(C49=-1,-1,LOOKUP(C49,StrokeData!$A$4:$A$1380,StrokeData!$L$4:$L$1380))","v":-1},{"$f":"LOOKUP(C50,StrokeData!$A$4:$A$1380,StrokeData!$B$4:$B$1380)","v":{"$error":"#N/A"}},{"$f":"LOOKUP(C50,StrokeData!$A$4:$A$1380,StrokeData!$C$4:$C$1380)","v":{"$error":"#N/A"}},null,{"$f":"LOOKUP(C50,StrokeData!$A$4:$A$1380,StrokeData!$D$4:$D$1380)","v":{"$error":"#N/A"}},{"$f":"LOOKUP(C50,StrokeData!$A$4:$A$1380,StrokeData!$E$4:$E$1380)","v":{"$error":"#N/A"}},{"$f":"LOOKUP(C50,StrokeData!$A$4:$A$1380,StrokeData!$F$4:$F$1380)","v":{"$error":"#N/A"}},{"$f":"LOOKUP(C50,StrokeData!$A$4:$A$1380,StrokeData!$G$4:$G$1380)","v":{"$error":"#N/A"}},{"$f":"LOOKUP(C50,StrokeData!$A$4:$A$1380,StrokeData!$H$4:$H$1380)","v":{"$error":"#N/A"}},{"$f":"LOOKUP(C50,StrokeData!$A$4:$A$1380,StrokeData!$I$4:$I$1380)","v":{"$error":"#N/A"}},{"$f":"LOOKUP(C50,StrokeData!$A$4:$A$1380,StrokeData!$J$4:$J$1380)","v":{"$error":"#N/A"}},null,null,null,null,null,{"$f":"LOOKUP(C50,StrokeData!$A$4:$A$1380,StrokeData!$K$4:$K$1380)","v":{"$error":"#N/A"}},{"$f":"LOOKUP(C50,StrokeData!$A$4:$A$1380,StrokeData!$L$4:$L$1380)","v":{"$error":"#N/A"}}]
[null,15,{"$f":"IF(C50=-1,-1,LOOKUP(C50,StrokeData!$A$4:$A$1380,StrokeData!$L$4:$L$1380))","v":-1},{"$f":"LOOKUP(C51,StrokeData!$A$4:$A$1380,StrokeData!$B$4:$B$1380)","v":{"$error":"#N/A"}},{"$f":"LOOKUP(C51,StrokeData!$A$4:$A$1380,StrokeData!$C$4:$C$1380)","v":{"$error":"#N/A"}},null,{"$f":"LOOKUP(C51,StrokeData!$A$4:$A$1380,StrokeData!$D$4:$D$1380)","v":{"$error":"#N/A"}},{"$f":"LOOKUP(C51,StrokeData!$A$4:$A$1380,StrokeData!$E$4:$E$1380)","v":{"$error":"#N/A"}},{"$f":"LOOKUP(C51,StrokeData!$A$4:$A$1380,StrokeData!$F$4:$F$1380)","v":{"$error":"#N/A"}},{"$f":"LOOKUP(C51,StrokeData!$A$4:$A$1380,StrokeData!$G$4:$G$1380)","v":{"$error":"#N/A"}},{"$f":"LOOKUP(C51,StrokeData!$A$4:$A$1380,StrokeData!$H$4:$H$1380)","v":{"$error":"#N/A"}},{"$f":"LOOKUP(C51,StrokeData!$A$4:$A$1380,StrokeData!$I$4:$I$1380)","v":{"$error":"#N/A"}},{"$f":"LOOKUP(C51,StrokeData!$A$4:$A$1380,StrokeData!$J$4:$J$1380)","v":{"$error":"#N/A"}},null,null,null,null,null,{"$f":"LOOKUP(C51,StrokeData!$A$4:$A$1380,StrokeData!$K$4:$K$1380)","v":{"$error":"#N/A"}},{"$f":"LOOKUP(C51,StrokeData!$A$4:$A$1380,StrokeData!$L$4:$L$1380)","v":{"$error":"#N/A"}}]
[null,16,{"$f":"IF(C51=-1,-1,LOOKUP(C51,StrokeData!$A$4:$A$1380,StrokeData!$L$4:$L$1380))","v":-1},{"$f":"LOOKUP(C52,StrokeData!$A$4:$A$1380,StrokeData!$B$4:$B$1380)","v":{"$error":"#N/A"}},{"$f":"LOOKUP(C52,StrokeData!$A$4:$A$1380,StrokeData!$C$4:$C$1380)","v":{"$error":"#N/A"}},null,{"$f":"LOOKUP(C52,StrokeData!$A$4:$A$1380,StrokeData!$D$4:$D$1380)","v":{"$error":"#N/A"}},{"$f":"LOOKUP(C52,StrokeData!$A$4:$A$1380,StrokeData!$E$4:$E$1380)","v":{"$error":"#N/A"}},{"$f":"LOOKUP(C52,StrokeData!$A$4:$A$1380,StrokeData!$F$4:$F$1380)","v":{"$error":"#N/A"}},{"$f":"LOOKUP(C52,StrokeData!$A$4:$A$1380,StrokeData!$G$4:$G$1380)","v":{"$error":"#N/A"}},{"$f":"LOOKUP(C52,StrokeData!$A$4:$A$1380,StrokeData!$H$4:$H$1380)","v":{"$error":"#N/A"}},{"$f":"LOOKUP(C52,StrokeData!$A$4:$A$1380,StrokeData!$I$4:$I$1380)","v":{"$error":"#N/A"}},{"$f":"LOOKUP(C52,StrokeData!$A$4:$A$1380,StrokeData!$J$4:$J$1380)","v":{"$error":"#N/A"}},null,null,null,null,null,{"$f":"LOOKUP(C52,StrokeData!$A$4:$A$1380,StrokeData!$K$4:$K$1380)","v":{"$error":"#N/A"}},{"$f":"LOOKUP(C52,StrokeData!$A$4:$A$1380,StrokeData!$L$4:$L$1380)","v":{"$error":"#N/A"}}]
[null,17,{"$f":"IF(C52=-1,-1,LOOKUP(C52,StrokeData!$A$4:$A$1380,StrokeData!$L$4:$L$1380))","v":-1},{"$f":"LOOKUP(C53,StrokeData!$A$4:$A$1380,StrokeData!$B$4:$B$1380)","v":{"$error":"#N/A"}},{"$f":"LOOKUP(C53,StrokeData!$A$4:$A$1380,StrokeData!$C$4:$C$1380)","v":{"$error":"#N/A"}},null,{"$f":"LOOKUP(C53,StrokeData!$A$4:$A$1380,StrokeData!$D$4:$D$1380)","v":{"$error":"#N/A"}},{"$f":"LOOKUP(C53,StrokeData!$A$4:$A$1380,StrokeData!$E$4:$E$1380)","v":{"$error":"#N/A"}},{"$f":"LOOKUP(C53,StrokeData!$A$4:$A$1380,StrokeData!$F$4:$F$1380)","v":{"$error":"#N/A"}},{"$f":"LOOKUP(C53,StrokeData!$A$4:$A$1380,StrokeData!$G$4:$G$1380)","v":{"$error":"#N/A"}},{"$f":"LOOKUP(C53,StrokeData!$A$4:$A$1380,StrokeData!$H$4:$H$1380)","v":{"$error":"#N/A"}},{"$f":"LOOKUP(C53,StrokeData!$A$4:$A$1380,StrokeData!$I$4:$I$1380)","v":{"$error":"#N/A"}},{"$f":"LOOKUP(C53,StrokeData!$A$4:$A$1380,StrokeData!$J$4:$J$1380)","v":{"$error":"#N/A"}},null,null,null,null,null,{"$f":"LOOKUP(C53,StrokeData!$A$4:$A$1380,StrokeData!$K$4:$K$1380)","v":{"$error":"#N/A"}},{"$f":"LOOKUP(C53,StrokeData!$A$4:$A$1380,StrokeData!$L$4:$L$1380)","v":{"$error":"#N/A"}}]
[null,18,{"$f":"IF(C53=-1,-1,LOOKUP(C53,StrokeData!$A$4:$A$1380,StrokeData!$L$4:$L$1380))","v":-1},{"$f":"LOOKUP(C54,StrokeData!$A$4:$A$1380,StrokeData!$B$4:$B$1380)","v":{"$error":"#N/A"}},{"$f":"LOOKUP(C54,StrokeData!$A$4:$A$1380,StrokeData!$C$4:$C$1380)","v":{"$error":"#N/A"}},null,{"$f":"LOOKUP(C54,StrokeData!$A$4:$A$1380,StrokeData!$D$4:$D$1380)","v":{"$error":"#N/A"}},{"$f":"LOOKUP(C54,StrokeData!$A$4:$A$1380,StrokeData!$E$4:$E$1380)","v":{"$error":"#N/A"}},{"$f":"LOOKUP(C54,StrokeData!$A$4:$A$1380,StrokeData!$F$4:$F$1380)","v":{"$error":"#N/A"}},{"$f":"LOOKUP(C54,StrokeData!$A$4:$A$1380,StrokeData!$G$4:$G$1380)","v":{"$error":"#N/A"}},{"$f":"LOOKUP(C54,StrokeData!$A$4:$A$1380,StrokeData!$H$4:$H$1380)","v":{"$error":"#N/A"}},{"$f":"LOOKUP(C54,StrokeData!$A$4:$A$1380,StrokeData!$I$4:$I$1380)","v":{"$error":"#N/A"}},{"$f":"LOOKUP(C54,StrokeData!$A$4:$A$1380,StrokeData!$J$4:$J$1380)","v":{"$error":"#N/A"}},null,null,null,null,null,{"$f":"LOOKUP(C54,StrokeData!$A$4:$A$1380,StrokeData!$K$4:$K$1380)","v":{"$error":"#N/A"}},{"$f":"LOOKUP(C54,StrokeData!$A$4:$A$1380,StrokeData!$L$4:$L$1380)","v":{"$error":"#N/A"}}]
[null,19,{"$f":"IF(C54=-1,-1,LOOKUP(C54,StrokeData!$A$4:$A$1380,StrokeData!$L$4:$L$1380))","v":-1},{"$f":"LOOKUP(C55,StrokeData!$A$4:$A$1380,StrokeData!$B$4:$B$1380)","v":{"$error":"#N/A"}},{"$f":"LOOKUP(C55,StrokeData!$A$4:$A$1380,StrokeData!$C$4:$C$1380)","v":{"$error":"#N/A"}},null,{"$f":"LOOKUP(C55,StrokeData!$A$4:$A$1380,StrokeData!$D$4:$D$1380)","v":{"$error":"#N/A"}},{"$f":"LOOKUP(C55,StrokeData!$A$4:$A$1380,StrokeData!$E$4:$E$1380)","v":{"$error":"#N/A"}},{"$f":"LOOKUP(C55,StrokeData!$A$4:$A$1380,StrokeData!$F$4:$F$1380)","v":{"$error":"#N/A"}},{"$f":"LOOKUP(C55,StrokeData!$A$4:$A$1380,StrokeData!$G$4:$G$1380)","v":{"$error":"#N/A"}},{"$f":"LOOKUP(C55,StrokeData!$A$4:$A$1380,StrokeData!$H$4:$H$1380)","v":{"$error":"#N/A"}},{"$f":"LOOKUP(C55,StrokeData!$A$4:$A$1380,StrokeData!$I$4:$I$1380)","v":{"$error":"#N/A"}},{"$f":"LOOKUP(C55,StrokeData!$A$4:$A$1380,StrokeData!$J$4:$J$1380)","v":{"$error":"#N/A"}},null,null,null,null,null,{"$f":"LOOKUP(C55,StrokeData!$A$4:$A$1380,StrokeData!$K$4:$K$1380)","v":{"$error":"#N/A"}},{"$f":"LOOKUP(C55,StrokeData!$A$4:$A$1380,StrokeData!$L$4:$L$1380)","v":{"$error":"#N/A"}}]
[null,20,{"$f":"IF(C55=-1,-1,LOOKUP(C55,StrokeData!$A$4:$A$1380,StrokeData!$L$4:$L$1380))","v":-1},{"$f":"LOOKUP(C56,StrokeData!$A$4:$A$1380,StrokeData!$B$4:$B$1380)","v":{"$error":"#N/A"}},{"$f":"LOOKUP(C56,StrokeData!$A$4:$A$1380,StrokeData!$C$4:$C$1380)","v":{"$error":"#N/A"}},null,{"$f":"LOOKUP(C56,StrokeData!$A$4:$A$1380,StrokeData!$D$4:$D$1380)","v":{"$error":"#N/A"}},{"$f":"LOOKUP(C56,StrokeData!$A$4:$A$1380,StrokeData!$E$4:$E$1380)","v":{"$error":"#N/A"}},{"$f":"LOOKUP(C56,StrokeData!$A$4:$A$1380,StrokeData!$F$4:$F$1380)","v":{"$error":"#N/A"}},{"$f":"LOOKUP(C56,StrokeData!$A$4:$A$1380,StrokeData!$G$4:$G$1380)","v":{"$error":"#N/A"}},{"$f":"LOOKUP(C56,StrokeData!$A$4:$A$1380,StrokeData!$H$4:$H$1380)","v":{"$error":"#N/A"}},{"$f":"LOOKUP(C56,StrokeData!$A$4:$A$1380,StrokeData!$I$4:$I$1380)","v":{"$error":"#N/A"}},{"$f":"LOOKUP(C56,StrokeData!$A$4:$A$1380,StrokeData!$J$4:$J$1380)","v":{"$error":"#N/A"}},null,null,null,null,null,{"$f":"LOOKUP(C56,StrokeData!$A$4:$A$1380,StrokeData!$K$4:$K$1380)","v":{"$error":"#N/A"}},{"$f":"LOOKUP(C56,StrokeData!$A$4:$A$1380,StrokeData!$L$4:$L$1380)","v":{"$error":"#N/A"}}]
[null,null,null,"ストローク",{"$f":"H5","v":50},"mm","～",{"$f":"I5","v":1100},"mm",null,"刻み",{"$f":"LOOKUP(D35,B26:B33,R26:R33)","v":50},"mm",null,"慣性係数",{"$f":"IF($J$5=1,0.000001,0.001)","v":1E-3},"有効桁数",{"$f":"IF($J$5=1,6,3)","v":3}]
[null,"stﾘｽﾄ検索用(降順)",null,"№",{"$f":"StrokeData!$B$2","v":"ｽﾄﾛｰｸ長"},"stﾘｽﾄ№",{"$f":"StrokeData!$C$2","v":"有効ｽﾄﾛｰｸ補正"},null,{"$f":"StrokeData!$D$2","v":"基準ｹﾞｲﾝ用搬送質量"},{"$f":"StrokeData!$E$2","v":"水平可搬質量"},{"$f":"StrokeData!$F$2","v":"垂直可搬質量"},{"$f":"StrokeData!$G$2","v":"最大速度"},{"$f":"StrokeData!$H$2","v":"位置ｹﾞｲﾝ"},{"$f":"StrokeData!$I$2","v":"FFｹﾞｲﾝ"},{"$f":"StrokeData!$J$2","v":"速度制御帯域"}]
[null,{"$f":"B36","v":"№"},{"$f":"D36","v":"ｽﾄﾛｰｸ長"},0,{"$f":"H4","v":"[mm]"},null,"[mm]","[kg/mm]",{"$f":"IF(J5=1,\"[kgm^2]\",\"[kg]\")","v":"[kg]"},{"$f":"IF(J5=1,\"[kgm^2]\",\"[kg]\")","v":"[kg]"},{"$f":"IF(J5=1,\"[kgm^2]\",\"[kg]\")","v":"[kg]"},"[mm/s]","[1/s]","[%]","[rad/s]",null,"[s]",null,null,"[Nm/rad]"]
[null,{"$f":"B56","v":20},{"$f":"D56","v":{"$error":"#N/A"}},1,{"$f":"IF( (E57+L57*D59)<=H57,(E57+L57*D59),\"- - -\")","v":50},{"$f":"(B60+1)-MATCH(E60,C60:C79,-1)","v":1},{"$f":"LOOKUP(F60,B37:B56,E37:E56)","v":0},{"$f":"LOOKUP(F60,$B$37:$B$56,$F$37:$F$56)*0.001","v":0},{"$f":"LOOKUP(F60,B37:B56,G37:G56)*$P$57","v":80},{"$f":"LOOKUP(F60,B37:B56,H37:H56)*$P$57","v":80},{"$f":"LOOKUP(F60,B37:B56,I37:I56)*$P$57","v":55},{"$f":"LOOKUP(F60,B37:B56,J37:J56)","v":250},{"$f":"LOOKUP(F60,B37:B56,K37:K56)","v":35},{"$f":"LOOKUP(F60,B37:B56,L37:L56)","v":0},{"$f":"LOOKUP(F60,B37:B56,M37:M56)","v":170},{"$f":"LOOKUP(F60,$B$37:$B$56,$N$37:$N$56)","v":0},{"$f":"LOOKUP(F60,$B$37:$B$56,$O$37:$O$56)","v":0},{"$f":"LOOKUP(F60,$B$37:$B$56,$P$37:$P$56)","v":0},{"$f":"LOOKUP(F60,$B$37:$B$56,$Q$37:$Q$56)","v":0},{"$f":"LOOKUP(F60,$B$37:$B$56,$R$37:$R$56)","v":0}]
[null,{"$f":"B55","v":19},{"$f":"D55","v":{"$error":"#N/A"}},{"$f":"D60+1","v":2},{"$f":"IF( (E57+L57*D60)<=H57,(E57+L57*D60),\"- - -\")","v":100},{"$f":"(B60+1)-MATCH(E61,C60:C79,-1)","v":1},{"$f":"LOOKUP(F61,B37:B56,E37:E56)","v":0},0,{"$f":"LOOKUP(F61,B37:B56,G37:G56)*$P$57","v":80},{"$f":"LOOKUP(F61,B37:B56,H37:H56)*$P$57","v":80},{"$f":"LOOKUP(F61,B37:B56,I37:I56)*$P$57","v":55},{"$f":"LOOKUP(F61,B37:B56,J37:J56)","v":250},{"$f":"LOOKUP(F61,B37:B56,K37:K56)","v":35},{"$f":"LOOKUP(F61,B37:B56,L37:L56)","v":0},{"$f":"LOOKUP(F61,B37:B56,M37:M56)","v":170},0,0,0,0,0]
[null,{"$f":"B54","v":18},{"$f":"D54","v":{"$error":"#N/A"}},{"$f":"D61+1","v":3},{"$f":"IF( (E57+L57*D61)<=H57,(E57+L57*D61),\"- - -\")","v":150},{"$f":"(B60+1)-MATCH(E62,C60:C79,-1)","v":1},{"$f":"LOOKUP(F62,B37:B56,E37:E56)","v":0},0,{"$f":"LOOKUP(F62,B37:B56,G37:G56)*$P$57","v":80},{"$f":"LOOKUP(F62,B37:B56,H37:H56)*$P$57","v":80},{"$f":"LOOKUP(F62,B37:B56,I37:I56)*$P$57","v":55},{"$f":"LOOKUP(F62,B37:B56,J37:J56)","v":250},{"$f":"LOOKUP(F62,B37:B56,K37:K56)","v":35},{"$f":"LOOKUP(F62,B37:B56,L37:L56)","v":0},{"$f":"LOOKUP(F62,B37:B56,M37:M56)","v":170},0,0,0,0,0]
[null,{"$f":"B53","v":17},{"$f":"D53","v":{"$error":"#N/A"}},4,{"$f":"IF( (E57+L57*D62)<=H57,(E57+L57*D62),\"- - -\")","v":200},{"$f":"(B60+1)-MATCH(E63,C60:C79,-1)","v":1},{"$f":"LOOKUP(F63,B37:B56,E37:E56)","v":0},0,{"$f":"LOOKUP(F63,B37:B56,G37:G56)*$P$57","v":80},{"$f":"LOOKUP(F63,B37:B56,H37:H56)*$P$57","v":80},{"$f":"LOOKUP(F63,B37:B56,I37:I56)*$P$57","v":55},{"$f":"LOOKUP(F63,B37:B56,J37:J56)","v":250},{"$f":"LOOKUP(F63,B37:B56,K37:K56)","v":35},{"$f":"LOOKUP(F63,B37:B56,L37:L56)","v":0},{"$f":"LOOKUP(F63,B37:B56,M37:M56)","v":170},0,0,0,0,0]
[null,{"$f":"B52","v":16},{"$f":"D52","v":{"$error":"#N/A"}},5,{"$f":"IF( (E57+L57*D63)<=H57,(E57+L57*D63),\"- - -\")","v":250},{"$f":"(B60+1)-MATCH(E64,C60:C79,-1)","v":1},{"$f":"LOOKUP(F64,B37:B56,E37:E56)","v":0},0,{"$f":"LOOKUP(F64,B37:B56,G37:G56)*$P$57","v":80},{"$f":"LOOKUP(F64,B37:B56,H37:H56)*$P$57","v":80},{"$f":"LOOKUP(F64,B37:B56,I37:I56)*$P$57","v":55},{"$f":"LOOKUP(F64,B37:B56,J37:J56)","v":250},{"$f":"LOOKUP(F64,B37:B56,K37:K56)","v":35},{"$f":"LOOKUP(F64,B37:B56,L37:L56)","v":0},{"$f":"LOOKUP(F64,B37:B56,M37:M56)","v":170},0,0,0,0,0]
[null,{"$f":"B51","v":15},{"$f":"D51","v":{"$error":"#N/A"}},6,{"$f":"IF( (E57+L57*D64)<=H57,(E57+L57*D64),\"- - -\")","v":300},{"$f":"(B60+1)-MATCH(E65,C60:C79,-1)","v":1},{"$f":"LOOKUP(F65,B37:B56,E37:E56)","v":0},0,{"$f":"LOOKUP(F65,B37:B56,G37:G56)*$P$57","v":80},{"$f":"LOOKUP(F65,B37:B56,H37:H56)*$P$57","v":80},{"$f":"LOOKUP(F65,B37:B56,I37:I56)*$P$57","v":55},{"$f":"LOOKUP(F65,B37:B56,J37:J56)","v":250},{"$f":"LOOKUP(F65,B37:B56,K37:K56)","v":35},{"$f":"LOOKUP(F65,B37:B56,L37:L56)","v":0},{"$f":"LOOKUP(F65,B37:B56,M37:M56)","v":170},0,0,0,0,0]
[null,{"$f":"B50","v":14},{"$f":"D50","v":{"$error":"#N/A"}},7,{"$f":"IF( (E57+L57*D65)<=H57,(E57+L57*D65),\"- - -\")","v":350},{"$f":"(B60+1)-MATCH(E66,C60:C79,-1)","v":1},{"$f":"LOOKUP(F66,B37:B56,E37:E56)","v":0},0,{"$f":"LOOKUP(F66,B37:B56,G37:G56)*$P$57","v":80},{"$f":"LOOKUP(F66,B37:B56,H37:H56)*$P$57","v":80},{"$f":"LOOKUP(F66,B37:B56,I37:I56)*$P$57","v":55},{"$f":"LOOKUP(F66,B37:B56,J37:J56)","v":250},{"$f":"LOOKUP(F66,B37:B56,K37:K56)","v":35},{"$f":"LOOKUP(F66,B37:B56,L37:L56)","v":0},{"$f":"LOOKUP(F66,B37:B56,M37:M56)","v":170},0,0,0,0,0]
[null,{"$f":"B49","v":13},{"$f":"D49","v":{"$error":"#N/A"}},8,{"$f":"IF( (E57+L57*D66)<=H57,(E57+L57*D66),\"- - -\")","v":400},{"$f":"(B60+1)-MATCH(E67,C60:C79,-1)","v":1},{"$f":"LOOKUP(F67,B37:B56,E37:E56)","v":0},0,{"$f":"LOOKUP(F67,B37:B56,G37:G56)*$P$57","v":80},{"$f":"LOOKUP(F67,B37:B56,H37:H56)*$P$57","v":80},{"$f":"LOOKUP(F67,B37:B56,I37:I56)*$P$57","v":55},{"$f":"LOOKUP(F67,B37:B56,J37:J56)","v":250},{"$f":"LOOKUP(F67,B37:B56,K37:K56)","v":35},{"$f":"LOOKUP(F67,B37:B56,L37:L56)","v":0},{"$f":"LOOKUP(F67,B37:B56,M37:M56)","v":170},0,0,0,0,0]
[null,{"$f":"B48","v":12},{"$f":"D48","v":{"$error":"#N/A"}},9,{"$f":"IF( (E57+L57*D67)<=H57,(E57+L57*D67),\"- - -\")","v":450},{"$f":"(B60+1)-MATCH(E68,C60:C79,-1)","v":1},{"$f":"LOOKUP(F68,B37:B56,E37:E56)","v":0},0,{"$f":"LOOKUP(F68,B37:B56,G37:G56)*$P$57","v":80},{"$f":"LOOKUP(F68,B37:B56,H37:H56)*$P$57","v":80},{"$f":"LOOKUP(F68,B37:B56,I37:I56)*$P$57","v":55},{"$f":"LOOKUP(F68,B37:B56,J37:J56)","v":250},{"$f":"LOOKUP(F68,B37:B56,K37:K56)","v":35},{"$f":"LOOKUP(F68,B37:B56,L37:L56)","v":0},{"$f":"LOOKUP(F68,B37:B56,M37:M56)","v":170},0,0,0,0,0]
[null,{"$f":"B47","v":11},{"$f":"D47","v":{"$error":"#N/A"}},10,{"$f":"IF( (E57+L57*D68)<=H57,(E57+L57*D68),\"- - -\")","v":500},{"$f":"(B60+1)-MATCH(E69,C60:C79,-1)","v":1},{"$f":"LOOKUP(F69,B37:B56,E37:E56)","v":0},0,{"$f":"LOOKUP(F69,B37:B56,G37:G56)*$P$57","v":80},{"$f":"LOOKUP(F69,B37:B56,H37:H56)*$P$57","v":80},{"$f":"LOOKUP(F69,B37:B56,I37:I56)*$P$57","v":55},{"$f":"LOOKUP(F69,B37:B56,J37:J56)","v":250},{"$f":"LOOKUP(F69,B37:B56,K37:K56)","v":35},{"$f":"LOOKUP(F69,B37:B56,L37:L56)","v":0},{"$f":"LOOKUP(F69,B37:B56,M37:M56)","v":170},0,0,0,0,0]
[null,{"$f":"B46","v":10},{"$f":"D46","v":1100},11,{"$f":"IF( (E57+L57*D69)<=H57,(E57+L57*D69),\"- - -\")","v":550},{"$f":"(B60+1)-MATCH(E70,C60:C79,-1)","v":1},{"$f":"LOOKUP(F70,B37:B56,E37:E56)","v":0},0,{"$f":"LOOKUP(F70,B37:B56,G37:G56)*$P$57","v":80},{"$f":"LOOKUP(F70,B37:B56,H37:H56)*$P$57","v":80},{"$f":"LOOKUP(F70,B37:B56,I37:I56)*$P$57","v":55},{"$f":"LOOKUP(F70,B37:B56,J37:J56)","v":250},{"$f":"LOOKUP(F70,B37:B56,K37:K56)","v":35},{"$f":"LOOKUP(F70,B37:B56,L37:L56)","v":0},{"$f":"LOOKUP(F70,B37:B56,M37:M56)","v":170},0,0,0,0,0]
[null,{"$f":"B45","v":9},{"$f":"D45","v":1050},12,{"$f":"IF( (E57+L57*D70)<=H57,(E57+L57*D70),\"- - -\")","v":600},{"$f":"(B60+1)-MATCH(E71,C60:C79,-1)","v":1},{"$f":"LOOKUP(F71,B37:B56,E37:E56)","v":0},0,{"$f":"LOOKUP(F71,B37:B56,G37:G56)*$P$57","v":80},{"$f":"LOOKUP(F71,B37:B56,H37:H56)*$P$57","v":80},{"$f":"LOOKUP(F71,B37:B56,I37:I56)*$P$57","v":55},{"$f":"LOOKUP(F71,B37:B56,J37:J56)","v":250},{"$f":"LOOKUP(F71,B37:B56,K37:K56)","v":35},{"$f":"LOOKUP(F71,B37:B56,L37:L56)","v":0},{"$f":"LOOKUP(F71,B37:B56,M37:M56)","v":170},0,0,0,0,0]
[null,{"$f":"B44","v":8},{"$f":"D44","v":1000},13,{"$f":"IF( (E57+L57*D71)<=H57,(E57+L57*D71),\"- - -\")","v":650},{"$f":"(B60+1)-MATCH(E72,C60:C79,-1)","v":1},{"$f":"LOOKUP(F72,B37:B56,E37:E56)","v":0},0,{"$f":"LOOKUP(F72,B37:B56,G37:G56)*$P$57","v":80},{"$f":"LOOKUP(F72,B37:B56,H37:H56)*$P$57","v":80},{"$f":"LOOKUP(F72,B37:B56,I37:I56)*$P$57","v":55},{"$f":"LOOKUP(F72,B37:B56,J37:J56)","v":250},{"$f":"LOOKUP(F72,B37:B56,K37:K56)","v":35},{"$f":"LOOKUP(F72,B37:B56,L37:L56)","v":0},{"$f":"LOOKUP(F72,B37:B56,M37:M56)","v":170},0,0,0,0,0]
[null,{"$f":"B43","v":7},{"$f":"D43","v":950},14,{"$f":"IF( (E57+L57*D72)<=H57,(E57+L57*D72),\"- - -\")","v":700},{"$f":"(B60+1)-MATCH(E73,C60:C79,-1)","v":2},{"$f":"LOOKUP(F73,B37:B56,E37:E56)","v":0},0,{"$f":"LOOKUP(F73,B37:B56,G37:G56)*$P$57","v":80},{"$f":"LOOKUP(F73,B37:B56,H37:H56)*$P$57","v":80},{"$f":"LOOKUP(F73,B37:B56,I37:I56)*$P$57","v":55},{"$f":"LOOKUP(F73,B37:B56,J37:J56)","v":240},{"$f":"LOOKUP(F73,B37:B56,K37:K56)","v":35},{"$f":"LOOKUP(F73,B37:B56,L37:L56)","v":0},{"$f":"LOOKUP(F73,B37:B56,M37:M56)","v":170},0,0,0,0,0]
[null,{"$f":"B42","v":6},{"$f":"D42","v":900},15,{"$f":"IF( (E57+L57*D73)<=H57,(E57+L57*D73),\"- - -\")","v":750},{"$f":"(B60+1)-MATCH(E74,C60:C79,-1)","v":3},{"$f":"LOOKUP(F74,B37:B56,E37:E56)","v":0},0,{"$f":"LOOKUP(F74,B37:B56,G37:G56)*$P$57","v":80},{"$f":"LOOKUP(F74,B37:B56,H37:H56)*$P$57","v":80},{"$f":"LOOKUP(F74,B37:B56,I37:I56)*$P$57","v":55},{"$f":"LOOKUP(F74,B37:B56,J37:J56)","v":215},{"$f":"LOOKUP(F74,B37:B56,K37:K56)","v":35},{"$f":"LOOKUP(F74,B37:B56,L37:L56)","v":0},{"$f":"LOOKUP(F74,B37:B56,M37:M56)","v":170},0,0,0,0,0]
[null,{"$f":"B41","v":5},{"$f":"D41","v":850},16,{"$f":"IF( (E57+L57*D74)<=H57,(E57+L57*D74),\"- - -\")","v":800},{"$f":"(B60+1)-MATCH(E75,C60:C79,-1)","v":4},{"$f":"LOOKUP(F75,B37:B56,E37:E56)","v":0},0,{"$f":"LOOKUP(F75,B37:B56,G37:G56)*$P$57","v":80},{"$f":"LOOKUP(F75,B37:B56,H37:H56)*$P$57","v":80},{"$f":"LOOKUP(F75,B37:B56,I37:I56)*$P$57","v":55},{"$f":"LOOKUP(F75,B37:B56,J37:J56)","v":190},{"$f":"LOOKUP(F75,B37:B56,K37:K56)","v":35},{"$f":"LOOKUP(F75,B37:B56,L37:L56)","v":0},{"$f":"LOOKUP(F75,B37:B56,M37:M56)","v":170},0,0,0,0,0]
[null,{"$f":"B40","v":4},{"$f":"D40","v":800},17,{"$f":"IF( (E57+L57*D75)<=H57,(E57+L57*D75),\"- - -\")","v":850},{"$f":"(B60+1)-MATCH(E76,C60:C79,-1)","v":5},{"$f":"LOOKUP(F76,B37:B56,E37:E56)","v":0},0,{"$f":"LOOKUP(F76,B37:B56,G37:G56)*$P$57","v":80},{"$f":"LOOKUP(F76,B37:B56,H37:H56)*$P$57","v":80},{"$f":"LOOKUP(F76,B37:B56,I37:I56)*$P$57","v":55},{"$f":"LOOKUP(F76,B37:B56,J37:J56)","v":175},{"$f":"LOOKUP(F76,B37:B56,K37:K56)","v":35},{"$f":"LOOKUP(F76,B37:B56,L37:L56)","v":0},{"$f":"LOOKUP(F76,B37:B56,M37:M56)","v":170},0,0,0,0,0]
[null,{"$f":"B39","v":3},{"$f":"D39","v":750},18,{"$f":"IF( (E57+L57*D76)<=H57,(E57+L57*D76),\"- - -\")","v":900},{"$f":"(B60+1)-MATCH(E77,C60:C79,-1)","v":6},{"$f":"LOOKUP(F77,B37:B56,E37:E56)","v":0},0,{"$f":"LOOKUP(F77,B37:B56,G37:G56)*$P$57","v":80},{"$f":"LOOKUP(F77,B37:B56,H37:H56)*$P$57","v":80},{"$f":"LOOKUP(F77,B37:B56,I37:I56)*$P$57","v":55},{"$f":"LOOKUP(F77,B37:B56,J37:J56)","v":155},{"$f":"LOOKUP(F77,B37:B56,K37:K56)","v":35},{"$f":"LOOKUP(F77,B37:B56,L37:L56)","v":0},{"$f":"LOOKUP(F77,B37:B56,M37:M56)","v":170},0,0,0,0,0]
[null,{"$f":"B38","v":2},{"$f":"D38","v":700},19,{"$f":"IF( (E57+L57*D77)<=H57,(E57+L57*D77),\"- - -\")","v":950},{"$f":"(B60+1)-MATCH(E78,C60:C79,-1)","v":7},{"$f":"LOOKUP(F78,B37:B56,E37:E56)","v":0},0,{"$f":"LOOKUP(F78,B37:B56,G37:G56)*$P$57","v":80},{"$f":"LOOKUP(F78,B37:B56,H37:H56)*$P$57","v":80},{"$f":"LOOKUP(F78,B37:B56,I37:I56)*$P$57","v":55},{"$f":"LOOKUP(F78,B37:B56,J37:J56)","v":140},{"$f":"LOOKUP(F78,B37:B56,K37:K56)","v":35},{"$f":"LOOKUP(F78,B37:B56,L37:L56)","v":0},{"$f":"LOOKUP(F78,B37:B56,M37:M56)","v":170},0,0,0,0,0]
[null,{"$f":"B37","v":1},{"$f":"D37","v":650},20,{"$f":"IF( (E57+L57*D78)<=H57,(E57+L57*D78),\"- - -\")","v":1000},{"$f":"(B60+1)-MATCH(E79,C60:C79,-1)","v":8},{"$f":"LOOKUP(F79,B37:B56,E37:E56)","v":0},0,{"$f":"LOOKUP(F79,B37:B56,G37:G56)*$P$57","v":80},{"$f":"LOOKUP(F79,B37:B56,H37:H56)*$P$57","v":80},{"$f":"LOOKUP(F79,B37:B56,I37:I56)*$P$57","v":55},{"$f":"LOOKUP(F79,B37:B56,J37:J56)","v":130},{"$f":"LOOKUP(F79,B37:B56,K37:K56)","v":35},{"$f":"LOOKUP(F79,B37:B56,L37:L56)","v":0},{"$f":"LOOKUP(F79,B37:B56,M37:M56)","v":170},0,0,0,0,0]
[null,null,null,21,{"$f":"IF( (E57+L57*D79)<=H57,(E57+L57*D79),\"- - -\")","v":1050},{"$f":"(B60+1)-MATCH(E80,C60:C79,-1)","v":9},{"$f":"LOOKUP(F80,B37:B56,E37:E56)","v":0},0,{"$f":"LOOKUP(F80,B37:B56,G37:G56)*$P$57","v":80},{"$f":"LOOKUP(F80,B37:B56,H37:H56)*$P$57","v":80},{"$f":"LOOKUP(F80,B37:B56,I37:I56)*$P$57","v":55},{"$f":"LOOKUP(F80,B37:B56,J37:J56)","v":120},{"$f":"LOOKUP(F80,B37:B56,K37:K56)","v":35},{"$f":"LOOKUP(F80,B37:B56,L37:L56)","v":0},{"$f":"LOOKUP(F80,B37:B56,M37:M56)","v":170},0,0,0,0,0]
[null,null,null,22,{"$f":"IF( (E57+L57*D80)<=H57,(E57+L57*D80),\"- - -\")","v":1100},{"$f":"(B60+1)-MATCH(E81,C60:C79,-1)","v":10},{"$f":"LOOKUP(F81,B37:B56,E37:E56)","v":0},0,{"$f":"LOOKUP(F81,B37:B56,G37:G56)*$P$57","v":80},{"$f":"LOOKUP(F81,B37:B56,H37:H56)*$P$57","v":80},{"$f":"LOOKUP(F81,B37:B56,I37:I56)*$P$57","v":55},{"$f":"LOOKUP(F81,B37:B56,J37:J56)","v":110},{"$f":"LOOKUP(F81,B37:B56,K37:K56)","v":35},{"$f":"LOOKUP(F81,B37:B56,L37:L56)","v":0},{"$f":"LOOKUP(F81,B37:B56,M37:M56)","v":170},0,0,0,0,0]
[null,null,null,23,{"$f":"IF( (E57+L57*D81)<=H57,(E57+L57*D81),\"- - -\")","v":"- - -"},{"$f":"(B60+1)-MATCH(E82,C60:C79,-1)","v":{"$error":"#N/A"}},{"$f":"LOOKUP(F82,B37:B56,E37:E56)","v":{"$error":"#N/A"}},{"$error":"#N/A"},{"$f":"LOOKUP(F82,B37:B56,G37:G56)*$P$57","v":{"$error":"#N/A"}},{"$f":"LOOKUP(F82,B37:B56,H37:H56)*$P$57","v":{"$error":"#N/A"}},{"$f":"LOOKUP(F82,B37:B56,I37:I56)*$P$57","v":{"$error":"#N/A"}},{"$f":"LOOKUP(F82,B37:B56,J37:J56)","v":{"$error":"#N/A"}},{"$f":"LOOKUP(F82,B37:B56,K37:K56)","v":{"$error":"#N/A"}},{"$f":"LOOKUP(F82,B37:B56,L37:L56)","v":{"$error":"#N/A"}},{"$f":"LOOKUP(F82,B37:B56,M37:M56)","v":{"$error":"#N/A"}},{"$error":"#N/A"},{"$error":"#N/A"},{"$error":"#N/A"},{"$error":"#N/A"},{"$error":"#N/A"}]
[null,null,null,24,{"$f":"IF( (E57+L57*D82)<=H57,(E57+L57*D82),\"- - -\")","v":"- - -"},{"$f":"(B60+1)-MATCH(E83,C60:C79,-1)","v":{"$error":"#N/A"}},{"$f":"LOOKUP(F83,B37:B56,E37:E56)","v":{"$error":"#N/A"}},{"$error":"#N/A"},{"$f":"LOOKUP(F83,B37:B56,G37:G56)*$P$57","v":{"$error":"#N/A"}},{"$f":"LOOKUP(F83,B37:B56,H37:H56)*$P$57","v":{"$error":"#N/A"}},{"$f":"LOOKUP(F83,B37:B56,I37:I56)*$P$57","v":{"$error":"#N/A"}},{"$f":"LOOKUP(F83,B37:B56,J37:J56)","v":{"$error":"#N/A"}},{"$f":"LOOKUP(F83,B37:B56,K37:K56)","v":{"$error":"#N/A"}},{"$f":"LOOKUP(F83,B37:B56,L37:L56)","v":{"$error":"#N/A"}},{"$f":"LOOKUP(F83,B37:B56,M37:M56)","v":{"$error":"#N/A"}},{"$error":"#N/A"},{"$error":"#N/A"},{"$error":"#N/A"},{"$error":"#N/A"},{"$error":"#N/A"}]
[null,null,null,25,{"$f":"IF( (E57+L57*D83)<=H57,(E57+L57*D83),\"- - -\")","v":"- - -"},{"$f":"(B60+1)-MATCH(E84,C60:C79,-1)","v":{"$error":"#N/A"}},{"$f":"LOOKUP(F84,B37:B56,E37:E56)","v":{"$error":"#N/A"}},{"$error":"#N/A"},{"$f":"LOOKUP(F84,B37:B56,G37:G56)*$P$57","v":{"$error":"#N/A"}},{"$f":"LOOKUP(F84,B37:B56,H37:H56)*$P$57","v":{"$error":"#N/A"}},{"$f":"LOOKUP(F84,B37:B56,I37:I56)*$P$57","v":{"$error":"#N/A"}},{"$f":"LOOKUP(F84,B37:B56,J37:J56)","v":{"$error":"#N/A"}},{"$f":"LOOKUP(F84,B37:B56,K37:K56)","v":{"$error":"#N/A"}},{"$f":"LOOKUP(F84,B37:B56,L37:L56)","v":{"$error":"#N/A"}},{"$f":"LOOKUP(F84,B37:B56,M37:M56)","v":{"$error":"#N/A"}},{"$error":"#N/A"},{"$error":"#N/A"},{"$error":"#N/A"},{"$error":"#N/A"},{"$error":"#N/A"}]
[null,null,null,26,{"$f":"IF( (E57+L57*D84)<=H57,(E57+L57*D84),\"- - -\")","v":"- - -"},{"$f":"(B60+1)-MATCH(E85,C60:C79,-1)","v":{"$error":"#N/A"}},{"$f":"LOOKUP(F85,B37:B56,E37:E56)","v":{"$error":"#N/A"}},{"$error":"#N/A"},{"$f":"LOOKUP(F85,B37:B56,G37:G56)*$P$57","v":{"$error":"#N/A"}},{"$f":"LOOKUP(F85,B37:B56,H37:H56)*$P$57","v":{"$error":"#N/A"}},{"$f":"LOOKUP(F85,B37:B56,I37:I56)*$P$57","v":{"$error":"#N/A"}},{"$f":"LOOKUP(F85,B37:B56,J37:J56)","v":{"$error":"#N/A"}},{"$f":"LOOKUP(F85,B37:B56,K37:K56)","v":{"$error":"#N/A"}},{"$f":"LOOKUP(F85,B37:B56,L37:L56)","v":{"$error":"#N/A"}},{"$f":"LOOKUP(F85,B37:B56,M37:M56)","v":{"$error":"#N/A"}},{"$error":"#N/A"},{"$error":"#N/A"},{"$error":"#N/A"},{"$error":"#N/A"},{"$error":"#N/A"}]
[null,null,null,27,{"$f":"IF( (E57+L57*D85)<=H57,(E57+L57*D85),\"- - -\")","v":"- - -"},{"$f":"(B60+1)-MATCH(E86,C60:C79,-1)","v":{"$error":"#N/A"}},{"$f":"LOOKUP(F86,B37:B56,E37:E56)","v":{"$error":"#N/A"}},{"$error":"#N/A"},{"$f":"LOOKUP(F86,B37:B56,G37:G56)*$P$57","v":{"$error":"#N/A"}},{"$f":"LOOKUP(F86,B37:B56,H37:H56)*$P$57","v":{"$error":"#N/A"}},{"$f":"LOOKUP(F86,B37:B56,I37:I56)*$P$57","v":{"$error":"#N/A"}},{"$f":"LOOKUP(F86,B37:B56,J37:J56)","v":{"$error":"#N/A"}},{"$f":"LOOKUP(F86,B37:B56,K37:K56)","v":{"$error":"#N/A"}},{"$f":"LOOKUP(F86,B37:B56,L37:L56)","v":{"$error":"#N/A"}},{"$f":"LOOKUP(F86,B37:B56,M37:M56)","v":{"$error":"#N/A"}},{"$error":"#N/A"},{"$error":"#N/A"},{"$error":"#N/A"},{"$error":"#N/A"},{"$error":"#N/A"}]
[null,null,null,28,{"$f":"IF( (E57+L57*D86)<=H57,(E57+L57*D86),\"- - -\")","v":"- - -"},{"$f":"(B60+1)-MATCH(E87,C60:C79,-1)","v":{"$error":"#N/A"}},{"$f":"LOOKUP(F87,B37:B56,E37:E56)","v":{"$error":"#N/A"}},{"$error":"#N/A"},{"$f":"LOOKUP(F87,B37:B56,G37:G56)*$P$57","v":{"$error":"#N/A"}},{"$f":"LOOKUP(F87,B37:B56,H37:H56)*$P$57","v":{"$error":"#N/A"}},{"$f":"LOOKUP(F87,B37:B56,I37:I56)*$P$57","v":{"$error":"#N/A"}},{"$f":"LOOKUP(F87,B37:B56,J37:J56)","v":{"$error":"#N/A"}},{"$f":"LOOKUP(F87,B37:B56,K37:K56)","v":{"$error":"#N/A"}},{"$f":"LOOKUP(F87,B37:B56,L37:L56)","v":{"$error":"#N/A"}},{"$f":"LOOKUP(F87,B37:B56,M37:M56)","v":{"$error":"#N/A"}},{"$error":"#N/A"},{"$error":"#N/A"},{"$error":"#N/A"},{"$error":"#N/A"},{"$error":"#N/A"}]
[null,null,null,29,{"$f":"IF( (E57+L57*D87)<=H57,(E57+L57*D87),\"- - -\")","v":"- - -"},{"$f":"(B60+1)-MATCH(E88,C60:C79,-1)","v":{"$error":"#N/A"}},{"$f":"LOOKUP(F88,B37:B56,E37:E56)","v":{"$error":"#N/A"}},{"$error":"#N/A"},{"$f":"LOOKUP(F88,B37:B56,G37:G56)*$P$57","v":{"$error":"#N/A"}},{"$f":"LOOKUP(F88,B37:B56,H37:H56)*$P$57","v":{"$error":"#N/A"}},{"$f":"LOOKUP(F88,B37:B56,I37:I56)*$P$57","v":{"$error":"#N/A"}},{"$f":"LOOKUP(F88,B37:B56,J37:J56)","v":{"$error":"#N/A"}},{"$f":"LOOKUP(F88,B37:B56,K37:K56)","v":{"$error":"#N/A"}},{"$f":"LOOKUP(F88,B37:B56,L37:L56)","v":{"$error":"#N/A"}},{"$f":"LOOKUP(F88,B37:B56,M37:M56)","v":{"$error":"#N/A"}},{"$error":"#N/A"},{"$error":"#N/A"},{"$error":"#N/A"},{"$error":"#N/A"},{"$error":"#N/A"}]
[null,null,null,30,{"$f":"IF( (E57+L57*D88)<=H57,(E57+L57*D88),\"- - -\")","v":"- - -"},{"$f":"(B60+1)-MATCH(E89,C60:C79,-1)","v":{"$error":"#N/A"}},{"$f":"LOOKUP(F89,B37:B56,E37:E56)","v":{"$error":"#N/A"}},{"$error":"#N/A"},{"$f":"LOOKUP(F89,B37:B56,G37:G56)*$P$57","v":{"$error":"#N/A"}},{"$f":"LOOKUP(F89,B37:B56,H37:H56)*$P$57","v":{"$error":"#N/A"}},{"$f":"LOOKUP(F89,B37:B56,I37:I56)*$P$57","v":{"$error":"#N/A"}},{"$f":"LOOKUP(F89,B37:B56,J37:J56)","v":{"$error":"#N/A"}},{"$f":"LOOKUP(F89,B37:B56,K37:K56)","v":{"$error":"#N/A"}},{"$f":"LOOKUP(F89,B37:B56,L37:L56)","v":{"$error":"#N/A"}},{"$f":"LOOKUP(F89,B37:B56,M37:M56)","v":{"$error":"#N/A"}},{"$error":"#N/A"},{"$error":"#N/A"},{"$error":"#N/A"},{"$error":"#N/A"},{"$error":"#N/A"}]
[null,null,null,{"$f":"D89+1","v":31},{"$f":"IF( (E57+L57*D89)<=H57,(E57+L57*D89),\"- - -\")","v":"- - -"},{"$f":"(B60+1)-MATCH(E90,C60:C79,-1)","v":{"$error":"#N/A"}},{"$f":"LOOKUP(F90,B37:B56,E37:E56)","v":{"$error":"#N/A"}},{"$error":"#N/A"},{"$f":"LOOKUP(F90,B37:B56,G37:G56)*$P$57","v":{"$error":"#N/A"}},{"$f":"LOOKUP(F90,B37:B56,H37:H56)*$P$57","v":{"$error":"#N/A"}},{"$f":"LOOKUP(F90,B37:B56,I37:I56)*$P$57","v":{"$error":"#N/A"}},{"$f":"LOOKUP(F90,B37:B56,J37:J56)","v":{"$error":"#N/A"}},{"$f":"LOOKUP(F90,B37:B56,K37:K56)","v":{"$error":"#N/A"}},{"$f":"LOOKUP(F90,B37:B56,L37:L56)","v":{"$error":"#N/A"}},{"$f":"LOOKUP(F90,B37:B56,M37:M56)","v":{"$error":"#N/A"}},{"$error":"#N/A"},{"$error":"#N/A"},{"$error":"#N/A"},{"$error":"#N/A"},{"$error":"#N/A"}]
[null,null,null,32,{"$f":"IF( (E57+L57*D90)<=H57,(E57+L57*D90),\"- - -\")","v":"- - -"},{"$f":"(B60+1)-MATCH(E91,C60:C79,-1)","v":{"$error":"#N/A"}},{"$f":"LOOKUP(F91,B37:B56,E37:E56)","v":{"$error":"#N/A"}},{"$error":"#N/A"},{"$f":"LOOKUP(F91,B37:B56,G37:G56)*$P$57","v":{"$error":"#N/A"}},{"$f":"LOOKUP(F91,B37:B56,H37:H56)*$P$57","v":{"$error":"#N/A"}},{"$f":"LOOKUP(F91,B37:B56,I37:I56)*$P$57","v":{"$error":"#N/A"}},{"$f":"LOOKUP(F91,B37:B56,J37:J56)","v":{"$error":"#N/A"}},{"$f":"LOOKUP(F91,B37:B56,K37:K56)","v":{"$error":"#N/A"}},{"$f":"LOOKUP(F91,B37:B56,L37:L56)","v":{"$error":"#N/A"}},{"$f":"LOOKUP(F91,B37:B56,M37:M56)","v":{"$error":"#N/A"}},{"$error":"#N/A"},{"$error":"#N/A"},{"$error":"#N/A"},{"$error":"#N/A"},{"$error":"#N/A"}]
[null,null,null,33,{"$f":"IF( (E57+L57*D91)<=H57,(E57+L57*D91),\"- - -\")","v":"- - -"},{"$f":"(B60+1)-MATCH(E92,C60:C79,-1)","v":{"$error":"#N/A"}},{"$f":"LOOKUP(F92,B37:B56,E37:E56)","v":{"$error":"#N/A"}},{"$f":"LOOKUP(F92,$B$37:$B$56,$F$37:$F$56)*0.001","v":{"$error":"#N/A"}},{"$f":"LOOKUP(F92,B37:B56,G37:G56)*$P$57","v":{"$error":"#N/A"}},{"$f":"LOOKUP(F92,B37:B56,H37:H56)*$P$57","v":{"$error":"#N/A"}},{"$f":"LOOKUP(F92,B37:B56,I37:I56)*$P$57","v":{"$error":"#N/A"}},{"$f":"LOOKUP(F92,B37:B56,J37:J56)","v":{"$error":"#N/A"}},{"$f":"LOOKUP(F92,B37:B56,K37:K56)","v":{"$error":"#N/A"}},{"$f":"LOOKUP(F92,B37:B56,L37:L56)","v":{"$error":"#N/A"}},{"$f":"LOOKUP(F92,B37:B56,M37:M56)","v":{"$error":"#N/A"}},{"$f":"LOOKUP(F92,$B$37:$B$56,$N$37:$N$56)","v":{"$error":"#N/A"}},{"$f":"LOOKUP(F92,$B$37:$B$56,$O$37:$O$56)","v":{"$error":"#N/A"}},{"$f":"LOOKUP(F92,$B$37:$B$56,$P$37:$P$56)","v":{"$error":"#N/A"}},{"$f":"LOOKUP(F92,$B$37:$B$56,$Q$37:$Q$56)","v":{"$error":"#N/A"}},{"$f":"LOOKUP(F92,$B$37:$B$56,$R$37:$R$56)","v":{"$error":"#N/A"}}]
[null,null,null,34,{"$f":"IF( (E57+L57*D92)<=H57,(E57+L57*D92),\"- - -\")","v":"- - -"},{"$f":"(B60+1)-MATCH(E93,C60:C79,-1)","v":{"$error":"#N/A"}},{"$f":"LOOKUP(F93,B37:B56,E37:E56)","v":{"$error":"#N/A"}},{"$error":"#N/A"},{"$f":"LOOKUP(F93,B37:B56,G37:G56)*$P$57","v":{"$error":"#N/A"}},{"$f":"LOOKUP(F93,B37:B56,H37:H56)*$P$57","v":{"$error":"#N/A"}},{"$f":"LOOKUP(F93,B37:B56,I37:I56)*$P$57","v":{"$error":"#N/A"}},{"$f":"LOOKUP(F93,B37:B56,J37:J56)","v":{"$error":"#N/A"}},{"$f":"LOOKUP(F93,B37:B56,K37:K56)","v":{"$error":"#N/A"}},{"$f":"LOOKUP(F93,B37:B56,L37:L56)","v":{"$error":"#N/A"}},{"$f":"LOOKUP(F93,B37:B56,M37:M56)","v":{"$error":"#N/A"}},{"$error":"#N/A"},{"$error":"#N/A"},{"$error":"#N/A"},{"$error":"#N/A"},{"$error":"#N/A"}]
[null,null,null,35,{"$f":"IF( (E57+L57*D93)<=H57,(E57+L57*D93),\"- - -\")","v":"- - -"},{"$f":"(B60+1)-MATCH(E94,C60:C79,-1)","v":{"$error":"#N/A"}},{"$f":"LOOKUP(F94,B37:B56,E37:E56)","v":{"$error":"#N/A"}},{"$error":"#N/A"},{"$f":"LOOKUP(F94,B37:B56,G37:G56)*$P$57","v":{"$error":"#N/A"}},{"$f":"LOOKUP(F94,B37:B56,H37:H56)*$P$57","v":{"$error":"#N/A"}},{"$f":"LOOKUP(F94,B37:B56,I37:I56)*$P$57","v":{"$error":"#N/A"}},{"$f":"LOOKUP(F94,B37:B56,J37:J56)","v":{"$error":"#N/A"}},{"$f":"LOOKUP(F94,B37:B56,K37:K56)","v":{"$error":"#N/A"}},{"$f":"LOOKUP(F94,B37:B56,L37:L56)","v":{"$error":"#N/A"}},{"$f":"LOOKUP(F94,B37:B56,M37:M56)","v":{"$error":"#N/A"}},{"$error":"#N/A"},{"$error":"#N/A"},{"$error":"#N/A"},{"$error":"#N/A"},{"$error":"#N/A"}]
[null,null,null,36,{"$f":"IF( (E57+L57*D94)<=H57,(E57+L57*D94),\"- - -\")","v":"- - -"},{"$f":"(B60+1)-MATCH(E95,C60:C79,-1)","v":{"$error":"#N/A"}},{"$f":"LOOKUP(F95,B37:B56,E37:E56)","v":{"$error":"#N/A"}},{"$error":"#N/A"},{"$f":"LOOKUP(F95,B37:B56,G37:G56)*$P$57","v":{"$error":"#N/A"}},{"$f":"LOOKUP(F95,B37:B56,H37:H56)*$P$57","v":{"$error":"#N/A"}},{"$f":"LOOKUP(F95,B37:B56,I37:I56)*$P$57","v":{"$error":"#N/A"}},{"$f":"LOOKUP(F95,B37:B56,J37:J56)","v":{"$error":"#N/A"}},{"$f":"LOOKUP(F95,B37:B56,K37:K56)","v":{"$error":"#N/A"}},{"$f":"LOOKUP(F95,B37:B56,L37:L56)","v":{"$error":"#N/A"}},{"$f":"LOOKUP(F95,B37:B56,M37:M56)","v":{"$error":"#N/A"}},{"$error":"#N/A"},{"$error":"#N/A"},{"$error":"#N/A"},{"$error":"#N/A"},{"$error":"#N/A"}]
[null,null,null,37,{"$f":"IF( (E57+L57*D95)<=H57,(E57+L57*D95),\"- - -\")","v":"- - -"},{"$f":"(B60+1)-MATCH(E96,C60:C79,-1)","v":{"$error":"#N/A"}},{"$f":"LOOKUP(F96,B37:B56,E37:E56)","v":{"$error":"#N/A"}},{"$error":"#N/A"},{"$f":"LOOKUP(F96,B37:B56,G37:G56)*$P$57","v":{"$error":"#N/A"}},{"$f":"LOOKUP(F96,B37:B56,H37:H56)*$P$57","v":{"$error":"#N/A"}},{"$f":"LOOKUP(F96,B37:B56,I37:I56)*$P$57","v":{"$error":"#N/A"}},{"$f":"LOOKUP(F96,B37:B56,J37:J56)","v":{"$error":"#N/A"}},{"$f":"LOOKUP(F96,B37:B56,K37:K56)","v":{"$error":"#N/A"}},{"$f":"LOOKUP(F96,B37:B56,L37:L56)","v":{"$error":"#N/A"}},{"$f":"LOOKUP(F96,B37:B56,M37:M56)","v":{"$error":"#N/A"}},{"$error":"#N/A"},{"$error":"#N/A"},{"$error":"#N/A"},{"$error":"#N/A"},{"$error":"#N/A"}]
[null,null,null,38,{"$f":"IF( (E57+L57*D96)<=H57,(E57+L57*D96),\"- - -\")","v":"- - -"},{"$f":"(B60+1)-MATCH(E97,C60:C79,-1)","v":{"$error":"#N/A"}},{"$f":"LOOKUP(F97,B37:B56,E37:E56)","v":{"$error":"#N/A"}},{"$error":"#N/A"},{"$f":"LOOKUP(F97,B37:B56,G37:G56)*$P$57","v":{"$error":"#N/A"}},{"$f":"LOOKUP(F97,B37:B56,H37:H56)*$P$57","v":{"$error":"#N/A"}},{"$f":"LOOKUP(F97,B37:B56,I37:I56)*$P$57","v":{"$error":"#N/A"}},{"$f":"LOOKUP(F97,B37:B56,J37:J56)","v":{"$error":"#N/A"}},{"$f":"LOOKUP(F97,B37:B56,K37:K56)","v":{"$error":"#N/A"}},{"$f":"LOOKUP(F97,B37:B56,L37:L56)","v":{"$error":"#N/A"}},{"$f":"LOOKUP(F97,B37:B56,M37:M56)","v":{"$error":"#N/A"}},{"$error":"#N/A"},{"$error":"#N/A"},{"$error":"#N/A"},{"$error":"#N/A"},{"$error":"#N/A"}]
[null,null,null,39,{"$f":"IF( (E57+L57*D97)<=H57,(E57+L57*D97),\"- - -\")","v":"- - -"},{"$f":"(B60+1)-MATCH(E98,C60:C79,-1)","v":{"$error":"#N/A"}},{"$f":"LOOKUP(F98,B37:B56,E37:E56)","v":{"$error":"#N/A"}},{"$error":"#N/A"},{"$f":"LOOKUP(F98,B37:B56,G37:G56)*$P$57","v":{"$error":"#N/A"}},{"$f":"LOOKUP(F98,B37:B56,H37:H56)*$P$57","v":{"$error":"#N/A"}},{"$f":"LOOKUP(F98,B37:B56,I37:I56)*$P$57","v":{"$error":"#N/A"}},{"$f":"LOOKUP(F98,B37:B56,J37:J56)","v":{"$error":"#N/A"}},{"$f":"LOOKUP(F98,B37:B56,K37:K56)","v":{"$error":"#N/A"}},{"$f":"LOOKUP(F98,B37:B56,L37:L56)","v":{"$error":"#N/A"}},{"$f":"LOOKUP(F98,B37:B56,M37:M56)","v":{"$error":"#N/A"}},{"$error":"#N/A"},{"$error":"#N/A"},{"$error":"#N/A"},{"$error":"#N/A"},{"$error":"#N/A"}]
[null,null,null,40,{"$f":"IF( (E57+L57*D98)<=H57,(E57+L57*D98),\"- - -\")","v":"- - -"},{"$f":"(B60+1)-MATCH(E99,C60:C79,-1)","v":{"$error":"#N/A"}},{"$f":"LOOKUP(F99,B37:B56,E37:E56)","v":{"$error":"#N/A"}},{"$error":"#N/A"},{"$f":"LOOKUP(F99,B37:B56,G37:G56)*$P$57","v":{"$error":"#N/A"}},{"$f":"LOOKUP(F99,B37:B56,H37:H56)*$P$57","v":{"$error":"#N/A"}},{"$f":"LOOKUP(F99,B37:B56,I37:I56)*$P$57","v":{"$error":"#N/A"}},{"$f":"LOOKUP(F99,B37:B56,J37:J56)","v":{"$error":"#N/A"}},{"$f":"LOOKUP(F99,B37:B56,K37:K56)","v":{"$error":"#N/A"}},{"$f":"LOOKUP(F99,B37:B56,L37:L56)","v":{"$error":"#N/A"}},{"$f":"LOOKUP(F99,B37:B56,M37:M56)","v":{"$error":"#N/A"}},{"$error":"#N/A"},{"$error":"#N/A"},{"$error":"#N/A"},{"$error":"#N/A"},{"$error":"#N/A"}]
[null,null,null,41,{"$f":"IF( (E57+L57*D99)<=H57,(E57+L57*D99),\"- - -\")","v":"- - -"},{"$f":"(B60+1)-MATCH(E100,C60:C79,-1)","v":{"$error":"#N/A"}},{"$f":"LOOKUP(F100,B37:B56,E37:E56)","v":{"$error":"#N/A"}},{"$error":"#N/A"},{"$f":"LOOKUP(F100,B37:B56,G37:G56)*$P$57","v":{"$error":"#N/A"}},{"$f":"LOOKUP(F100,B37:B56,H37:H56)*$P$57","v":{"$error":"#N/A"}},{"$f":"LOOKUP(F100,B37:B56,I37:I56)*$P$57","v":{"$error":"#N/A"}},{"$f":"LOOKUP(F100,B37:B56,J37:J56)","v":{"$error":"#N/A"}},{"$f":"LOOKUP(F100,B37:B56,K37:K56)","v":{"$error":"#N/A"}},{"$f":"LOOKUP(F100,B37:B56,L37:L56)","v":{"$error":"#N/A"}},{"$f":"LOOKUP(F100,B37:B56,M37:M56)","v":{"$error":"#N/A"}},{"$error":"#N/A"},{"$error":"#N/A"},{"$error":"#N/A"},{"$error":"#N/A"},{"$error":"#N/A"}]
[null,null,null,42,{"$f":"IF( (E57+L57*D100)<=H57,(E57+L57*D100),\"- - -\")","v":"- - -"},{"$f":"(B60+1)-MATCH(E101,C60:C79,-1)","v":{"$error":"#N/A"}},{"$f":"LOOKUP(F101,B37:B56,E37:E56)","v":{"$error":"#N/A"}},{"$error":"#N/A"},{"$f":"LOOKUP(F101,B37:B56,G37:G56)*$P$57","v":{"$error":"#N/A"}},{"$f":"LOOKUP(F101,B37:B56,H37:H56)*$P$57","v":{"$error":"#N/A"}},{"$f":"LOOKUP(F101,B37:B56,I37:I56)*$P$57","v":{"$error":"#N/A"}},{"$f":"LOOKUP(F101,B37:B56,J37:J56)","v":{"$error":"#N/A"}},{"$f":"LOOKUP(F101,B37:B56,K37:K56)","v":{"$error":"#N/A"}},{"$f":"LOOKUP(F101,B37:B56,L37:L56)","v":{"$error":"#N/A"}},{"$f":"LOOKUP(F101,B37:B56,M37:M56)","v":{"$error":"#N/A"}},{"$error":"#N/A"},{"$error":"#N/A"},{"$error":"#N/A"},{"$error":"#N/A"},{"$error":"#N/A"}]
[null,null,null,43,{"$f":"IF( (E57+L57*D101)<=H57,(E57+L57*D101),\"- - -\")","v":"- - -"},{"$f":"(B60+1)-MATCH(E102,C60:C79,-1)","v":{"$error":"#N/A"}},{"$f":"LOOKUP(F102,B37:B56,E37:E56)","v":{"$error":"#N/A"}},{"$error":"#N/A"},{"$f":"LOOKUP(F102,B37:B56,G37:G56)*$P$57","v":{"$error":"#N/A"}},{"$f":"LOOKUP(F102,B37:B56,H37:H56)*$P$57","v":{"$error":"#N/A"}},{"$f":"LOOKUP(F102,B37:B56,I37:I56)*$P$57","v":{"$error":"#N/A"}},{"$f":"LOOKUP(F102,B37:B56,J37:J56)","v":{"$error":"#N/A"}},{"$f":"LOOKUP(F102,B37:B56,K37:K56)","v":{"$error":"#N/A"}},{"$f":"LOOKUP(F102,B37:B56,L37:L56)","v":{"$error":"#N/A"}},{"$f":"LOOKUP(F102,B37:B56,M37:M56)","v":{"$error":"#N/A"}},{"$error":"#N/A"},{"$error":"#N/A"},{"$error":"#N/A"},{"$error":"#N/A"},{"$error":"#N/A"}]
[null,null,null,44,{"$f":"IF( (E57+L57*D102)<=H57,(E57+L57*D102),\"- - -\")","v":"- - -"},{"$f":"(B60+1)-MATCH(E103,C60:C79,-1)","v":{"$error":"#N/A"}},{"$f":"LOOKUP(F103,B37:B56,E37:E56)","v":{"$error":"#N/A"}},{"$error":"#N/A"},{"$f":"LOOKUP(F103,B37:B56,G37:G56)*$P$57","v":{"$error":"#N/A"}},{"$f":"LOOKUP(F103,B37:B56,H37:H56)*$P$57","v":{"$error":"#N/A"}},{"$f":"LOOKUP(F103,B37:B56,I37:I56)*$P$57","v":{"$error":"#N/A"}},{"$f":"LOOKUP(F103,B37:B56,J37:J56)","v":{"$error":"#N/A"}},{"$f":"LOOKUP(F103,B37:B56,K37:K56)","v":{"$error":"#N/A"}},{"$f":"LOOKUP(F103,B37:B56,L37:L56)","v":{"$error":"#N/A"}},{"$f":"LOOKUP(F103,B37:B56,M37:M56)","v":{"$error":"#N/A"}},{"$error":"#N/A"},{"$error":"#N/A"},{"$error":"#N/A"},{"$error":"#N/A"},{"$error":"#N/A"}]
[null,null,null,45,{"$f":"IF( (E57+L57*D103)<=H57,(E57+L57*D103),\"- - -\")","v":"- - -"},{"$f":"(B60+1)-MATCH(E104,C60:C79,-1)","v":{"$error":"#N/A"}},{"$f":"LOOKUP(F104,B37:B56,E37:E56)","v":{"$error":"#N/A"}},{"$error":"#N/A"},{"$f":"LOOKUP(F104,B37:B56,G37:G56)*$P$57","v":{"$error":"#N/A"}},{"$f":"LOOKUP(F104,B37:B56,H37:H56)*$P$57","v":{"$error":"#N/A"}},{"$f":"LOOKUP(F104,B37:B56,I37:I56)*$P$57","v":{"$error":"#N/A"}},{"$f":"LOOKUP(F104,B37:B56,J37:J56)","v":{"$error":"#N/A"}},{"$f":"LOOKUP(F104,B37:B56,K37:K56)","v":{"$error":"#N/A"}},{"$f":"LOOKUP(F104,B37:B56,L37:L56)","v":{"$error":"#N/A"}},{"$f":"LOOKUP(F104,B37:B56,M37:M56)","v":{"$error":"#N/A"}},{"$error":"#N/A"},{"$error":"#N/A"},{"$error":"#N/A"},{"$error":"#N/A"},{"$error":"#N/A"}]
[null,null,null,46,{"$f":"IF( (E57+L57*D104)<=H57,(E57+L57*D104),\"- - -\")","v":"- - -"},{"$f":"(B60+1)-MATCH(E105,C60:C79,-1)","v":{"$error":"#N/A"}},{"$f":"LOOKUP(F105,B37:B56,E37:E56)","v":{"$error":"#N/A"}},{"$error":"#N/A"},{"$f":"LOOKUP(F105,B37:B56,G37:G56)*$P$57","v":{"$error":"#N/A"}},{"$f":"LOOKUP(F105,B37:B56,H37:H56)*$P$57","v":{"$error":"#N/A"}},{"$f":"LOOKUP(F105,B37:B56,I37:I56)*$P$57","v":{"$error":"#N/A"}},{"$f":"LOOKUP(F105,B37:B56,J37:J56)","v":{"$error":"#N/A"}},{"$f":"LOOKUP(F105,B37:B56,K37:K56)","v":{"$error":"#N/A"}},{"$f":"LOOKUP(F105,B37:B56,L37:L56)","v":{"$error":"#N/A"}},{"$f":"LOOKUP(F105,B37:B56,M37:M56)","v":{"$error":"#N/A"}},{"$error":"#N/A"},{"$error":"#N/A"},{"$error":"#N/A"},{"$error":"#N/A"},{"$error":"#N/A"}]
[null,null,null,47,{"$f":"IF( (E57+L57*D105)<=H57,(E57+L57*D105),\"- - -\")","v":"- - -"},{"$f":"(B60+1)-MATCH(E106,C60:C79,-1)","v":{"$error":"#N/A"}},{"$f":"LOOKUP(F106,B37:B56,E37:E56)","v":{"$error":"#N/A"}},{"$error":"#N/A"},{"$f":"LOOKUP(F106,B37:B56,G37:G56)*$P$57","v":{"$error":"#N/A"}},{"$f":"LOOKUP(F106,B37:B56,H37:H56)*$P$57","v":{"$error":"#N/A"}},{"$f":"LOOKUP(F106,B37:B56,I37:I56)*$P$57","v":{"$error":"#N/A"}},{"$f":"LOOKUP(F106,B37:B56,J37:J56)","v":{"$error":"#N/A"}},{"$f":"LOOKUP(F106,B37:B56,K37:K56)","v":{"$error":"#N/A"}},{"$f":"LOOKUP(F106,B37:B56,L37:L56)","v":{"$error":"#N/A"}},{"$f":"LOOKUP(F106,B37:B56,M37:M56)","v":{"$error":"#N/A"}},{"$error":"#N/A"},{"$error":"#N/A"},{"$error":"#N/A"},{"$error":"#N/A"},{"$error":"#N/A"}]
[null,null,null,48,{"$f":"IF( (E57+L57*D106)<=H57,(E57+L57*D106),\"- - -\")","v":"- - -"},{"$f":"(B60+1)-MATCH(E107,C60:C79,-1)","v":{"$error":"#N/A"}},{"$f":"LOOKUP(F107,B37:B56,E37:E56)","v":{"$error":"#N/A"}},{"$error":"#N/A"},{"$f":"LOOKUP(F107,B37:B56,G37:G56)*$P$57","v":{"$error":"#N/A"}},{"$f":"LOOKUP(F107,B37:B56,H37:H56)*$P$57","v":{"$error":"#N/A"}},{"$f":"LOOKUP(F107,B37:B56,I37:I56)*$P$57","v":{"$error":"#N/A"}},{"$f":"LOOKUP(F107,B37:B56,J37:J56)","v":{"$error":"#N/A"}},{"$f":"LOOKUP(F107,B37:B56,K37:K56)","v":{"$error":"#N/A"}},{"$f":"LOOKUP(F107,B37:B56,L37:L56)","v":{"$error":"#N/A"}},{"$f":"LOOKUP(F107,B37:B56,M37:M56)","v":{"$error":"#N/A"}},{"$error":"#N/A"},{"$error":"#N/A"},{"$error":"#N/A"},{"$error":"#N/A"},{"$error":"#N/A"}]
[null,null,null,49,{"$f":"IF( (E57+L57*D107)<=H57,(E57+L57*D107),\"- - -\")","v":"- - -"},{"$f":"(B60+1)-MATCH(E108,C60:C79,-1)","v":{"$error":"#N/A"}},{"$f":"LOOKUP(F108,B37:B56,E37:E56)","v":{"$error":"#N/A"}},{"$error":"#N/A"},{"$f":"LOOKUP(F108,B37:B56,G37:G56)*$P$57","v":{"$error":"#N/A"}},{"$f":"LOOKUP(F108,B37:B56,H37:H56)*$P$57","v":{"$error":"#N/A"}},{"$f":"LOOKUP(F108,B37:B56,I37:I56)*$P$57","v":{"$error":"#N/A"}},{"$f":"LOOKUP(F108,B37:B56,J37:J56)","v":{"$error":"#N/A"}},{"$f":"LOOKUP(F108,B37:B56,K37:K56)","v":{"$error":"#N/A"}},{"$f":"LOOKUP(F108,B37:B56,L37:L56)","v":{"$error":"#N/A"}},{"$f":"LOOKUP(F108,B37:B56,M37:M56)","v":{"$error":"#N/A"}},{"$error":"#N/A"},{"$error":"#N/A"},{"$error":"#N/A"},{"$error":"#N/A"},{"$error":"#N/A"}]
[null,null,null,50,{"$f":"IF( (E57+L57*D108)<=H57,(E57+L57*D108),\"- - -\")","v":"- - -"},{"$f":"(B60+1)-MATCH(E109,C60:C79,-1)","v":{"$error":"#N/A"}},{"$f":"LOOKUP(F109,B37:B56,E37:E56)","v":{"$error":"#N/A"}},{"$error":"#N/A"},{"$f":"LOOKUP(F109,B37:B56,G37:G56)*$P$57","v":{"$error":"#N/A"}},{"$f":"LOOKUP(F109,B37:B56,H37:H56)*$P$57","v":{"$error":"#N/A"}},{"$f":"LOOKUP(F109,B37:B56,I37:I56)*$P$57","v":{"$error":"#N/A"}},{"$f":"LOOKUP(F109,B37:B56,J37:J56)","v":{"$error":"#N/A"}},{"$f":"LOOKUP(F109,B37:B56,K37:K56)","v":{"$error":"#N/A"}},{"$f":"LOOKUP(F109,B37:B56,L37:L56)","v":{"$error":"#N/A"}},{"$f":"LOOKUP(F109,B37:B56,M37:M56)","v":{"$error":"#N/A"}},{"$error":"#N/A"},{"$error":"#N/A"},{"$error":"#N/A"},{"$error":"#N/A"},{"$error":"#N/A"}]
[]
[]
[null,"搬送負荷データレコード",null,null,{"$f":"LOOKUP(C114,MassDataLink!$A$4:$A$5048,MassDataLink!$G$4:$G$5048)","v":"RCP6-SA8C-5-水平"},null,null,null,null,"設置姿勢で絞込み",null,"- - -",null,"加減速・速度データレコード"]
[null,"№","Ldﾚｺｰﾄﾞ№",{"$f":"MassDataLink!B2","v":"ｱｸﾁｭｴｰﾀ姿勢"},{"$f":"MassDataLink!C2","v":"搬送負荷質量"},{"$f":"MassDataLink!D2","v":"加減速・速度ﾃﾞｰﾀ"},{"$f":"MassDataLink!E2","v":"前ﾃﾞｰﾀ№"},{"$f":"MassDataLink!F2","v":"次ﾃﾞｰﾀ№"},null,"№","搬送負荷質量","avﾚｺｰﾄﾞ№",null,"備考",{"$f":"LOOKUP(O115,AccVelDataLink!$A$4:$A$6129,AccVelDataLink!$F$4:$F$6129)","v":"RCP6-SA8C-5-水平"}]
[null,1,{"$f":"LOOKUP(D35,B26:B33,E26:E33)","v":1402},{"$f":"LOOKUP(C114,MassDataLink!$A$4:$A$5048,MassDataLink!$B$4:$B$5048)","v":0},{"$f":"LOOKUP(C114,MassDataLink!$A$4:$A$5048,MassDataLink!$C$4:$C$5048)","v":5000},{"$f":"LOOKUP(C114,MassDataLink!$A$4:$A$5048,MassDataLink!$D$4:$D$5048)","v":1770},{"$f":"LOOKUP(C114,MassDataLink!$A$4:$A$5048,MassDataLink!$E$4:$E$5048)","v":-1},{"$f":"LOOKUP(C114,MassDataLink!$A$4:$A$5048,MassDataLink!$F$4:$F$5048)","v":1403},null,1,{"$f":"IF(C114=-1,$L$112,IF($A$11=D114,ROUND((E114*$P$57),$R$57),$L$112))","v":5},{"$f":"IF(K114=$L$112,$L$112,F114)","v":1770},null,"№","avﾚｺｰﾄﾞ№","加速度","速度","前ﾃﾞｰﾀ","次ﾃﾞｰﾀ"]
[null,{"$f":"B114+1","v":2},{"$f":"IF(C114=-1,-1,H114)","v":1403},{"$f":"LOOKUP(C115,MassDataLink!$A$4:$A$5048,MassDataLink!$B$4:$B$5048)","v":0},{"$f":"LOOKUP(C115,MassDataLink!$A$4:$A$5048,MassDataLink!$C$4:$C$5048)","v":10000},{"$f":"LOOKUP(C115,MassDataLink!$A$4:$A$5048,MassDataLink!$D$4:$D$5048)","v":1772},{"$f":"LOOKUP(C115,MassDataLink!$A$4:$A$5048,MassDataLink!$E$4:$E$5048)","v":1402},{"$f":"LOOKUP(C115,MassDataLink!$A$4:$A$5048,MassDataLink!$F$4:$F$5048)","v":1404},null,{"$f":"J114+1","v":2},{"$f":"IF(C115=-1,$L$112,IF($A$11=D115,ROUND((E115*$P$57),$R$57),$L$112))","v":10},{"$f":"IF(K115=$L$112,$L$112,F115)","v":1772},null,1,{"$f":"LOOKUP(A14,K114:K163,L114:L163)","v":1770},{"$f":"LOOKUP(O115,AccVelDataLink!$A$4:$A$6129,AccVelDataLink!$B$4:$B$6129)","v":4903325},{"$f":"LOOKUP(O115,AccVelDataLink!$A$4:$A$6129,AccVelDataLink!$C$4:$C$6129)","v":225},{"$f":"LOOKUP(O115,AccVelDataLink!$A$4:$A$6129,AccVelDataLink!$D$4:$D$6129)","v":-1},{"$f":"LOOKUP(O115,AccVelDataLink!$A$4:$A$6129,AccVelDataLink!$E$4:$E$6129)","v":1771}]
[null,{"$f":"B115+1","v":3},{"$f":"IF(C115=-1,-1,H115)","v":1404},{"$f":"LOOKUP(C116,MassDataLink!$A$4:$A$5048,MassDataLink!$B$4:$B$5048)","v":0},{"$f":"LOOKUP(C116,MassDataLink!$A$4:$A$5048,MassDataLink!$C$4:$C$5048)","v":20000},{"$f":"LOOKUP(C116,MassDataLink!$A$4:$A$5048,MassDataLink!$D$4:$D$5048)","v":1773},{"$f":"LOOKUP(C116,MassDataLink!$A$4:$A$5048,MassDataLink!$E$4:$E$5048)","v":1403},{"$f":"LOOKUP(C116,MassDataLink!$A$4:$A$5048,MassDataLink!$F$4:$F$5048)","v":1405},null,{"$f":"J115+1","v":3},20,1773,null,{"$f":"N115+1","v":2},{"$f":"IF(O115=-1,-1,S115)","v":1771},{"$f":"LOOKUP(O116,AccVelDataLink!$A$4:$A$6129,AccVelDataLink!$B$4:$B$6129)","v":9806650},{"$f":"LOOKUP(O116,AccVelDataLink!$A$4:$A$6129,AccVelDataLink!$C$4:$C$6129)","v":200},{"$f":"LOOKUP(O116,AccVelDataLink!$A$4:$A$6129,AccVelDataLink!$D$4:$D$6129)","v":1770},{"$f":"LOOKUP(O116,AccVelDataLink!$A$4:$A$6129,AccVelDataLink!$E$4:$E$6129)","v":-1}]
[null,{"$f":"B116+1","v":4},{"$f":"IF(C116=-1,-1,H116)","v":1405},{"$f":"LOOKUP(C117,MassDataLink!$A$4:$A$5048,MassDataLink!$B$4:$B$5048)","v":0},{"$f":"LOOKUP(C117,MassDataLink!$A$4:$A$5048,MassDataLink!$C$4:$C$5048)","v":25000},{"$f":"LOOKUP(C117,MassDataLink!$A$4:$A$5048,MassDataLink!$D$4:$D$5048)","v":1775},{"$f":"LOOKUP(C117,MassDataLink!$A$4:$A$5048,MassDataLink!$E$4:$E$5048)","v":1404},{"$f":"LOOKUP(C117,MassDataLink!$A$4:$A$5048,MassDataLink!$F$4:$F$5048)","v":1406},null,{"$f":"J116+1","v":4},25,1775,null,3,{"$f":"IF(O116=-1,-1,S116)","v":-1},{"$f":"LOOKUP(O117,AccVelDataLink!$A$4:$A$6129,AccVelDataLink!$B$4:$B$6129)","v":{"$error":"#N/A"}},{"$f":"LOOKUP(O117,AccVelDataLink!$A$4:$A$6129,AccVelDataLink!$C$4:$C$6129)","v":{"$error":"#N/A"}},{"$f":"LOOKUP(O117,AccVelDataLink!$A$4:$A$6129,AccVelDataLink!$D$4:$D$6129)","v":{"$error":"#N/A"}},{"$f":"LOOKUP(O117,AccVelDataLink!$A$4:$A$6129,AccVelDataLink!$E$4:$E$6129)","v":{"$error":"#N/A"}}]
[null,{"$f":"B117+1","v":5},{"$f":"IF(C117=-1,-1,H117)","v":1406},{"$f":"LOOKUP(C118,MassDataLink!$A$4:$A$5048,MassDataLink!$B$4:$B$5048)","v":0},{"$f":"LOOKUP(C118,MassDataLink!$A$4:$A$5048,MassDataLink!$C$4:$C$5048)","v":30000},{"$f":"LOOKUP(C118,MassDataLink!$A$4:$A$5048,MassDataLink!$D$4:$D$5048)","v":1776},{"$f":"LOOKUP(C118,MassDataLink!$A$4:$A$5048,MassDataLink!$E$4:$E$5048)","v":1405},{"$f":"LOOKUP(C118,MassDataLink!$A$4:$A$5048,MassDataLink!$F$4:$F$5048)","v":1407},null,{"$f":"J117+1","v":5},30,1776,null,4,-1,{"$f":"LOOKUP(O118,AccVelDataLink!$A$4:$A$6129,AccVelDataLink!$B$4:$B$6129)","v":{"$error":"#N/A"}},{"$f":"LOOKUP(O118,AccVelDataLink!$A$4:$A$6129,AccVelDataLink!$C$4:$C$6129)","v":{"$error":"#N/A"}},{"$f":"LOOKUP(O118,AccVelDataLink!$A$4:$A$6129,AccVelDataLink!$D$4:$D$6129)","v":{"$error":"#N/A"}},{"$f":"LOOKUP(O118,AccVelDataLink!$A$4:$A$6129,AccVelDataLink!$E$4:$E$6129)","v":{"$error":"#N/A"}}]
[null,{"$f":"B118+1","v":6},{"$f":"IF(C118=-1,-1,H118)","v":1407},{"$f":"LOOKUP(C119,MassDataLink!$A$4:$A$5048,MassDataLink!$B$4:$B$5048)","v":0},{"$f":"LOOKUP(C119,MassDataLink!$A$4:$A$5048,MassDataLink!$C$4:$C$5048)","v":40000},{"$f":"LOOKUP(C119,MassDataLink!$A$4:$A$5048,MassDataLink!$D$4:$D$5048)","v":1777},{"$f":"LOOKUP(C119,MassDataLink!$A$4:$A$5048,MassDataLink!$E$4:$E$5048)","v":1406},{"$f":"LOOKUP(C119,MassDataLink!$A$4:$A$5048,MassDataLink!$F$4:$F$5048)","v":1408},null,{"$f":"J118+1","v":6},40,1777,null,5,-1,{"$f":"LOOKUP(O119,AccVelDataLink!$A$4:$A$6129,AccVelDataLink!$B$4:$B$6129)","v":{"$error":"#N/A"}},{"$f":"LOOKUP(O119,AccVelDataLink!$A$4:$A$6129,AccVelDataLink!$C$4:$C$6129)","v":{"$error":"#N/A"}},{"$f":"LOOKUP(O119,AccVelDataLink!$A$4:$A$6129,AccVelDataLink!$D$4:$D$6129)","v":{"$error":"#N/A"}},{"$f":"LOOKUP(O119,AccVelDataLink!$A$4:$A$6129,AccVelDataLink!$E$4:$E$6129)","v":{"$error":"#N/A"}}]
[null,7,1408,{"$f":"LOOKUP(C120,MassDataLink!$A$4:$A$5048,MassDataLink!$B$4:$B$5048)","v":0},{"$f":"LOOKUP(C120,MassDataLink!$A$4:$A$5048,MassDataLink!$C$4:$C$5048)","v":50000},{"$f":"LOOKUP(C120,MassDataLink!$A$4:$A$5048,MassDataLink!$D$4:$D$5048)","v":1778},{"$f":"LOOKUP(C120,MassDataLink!$A$4:$A$5048,MassDataLink!$E$4:$E$5048)","v":1407},{"$f":"LOOKUP(C120,MassDataLink!$A$4:$A$5048,MassDataLink!$F$4:$F$5048)","v":1409},null,7,50,1778,null,6,-1,{"$f":"LOOKUP(O120,AccVelDataLink!$A$4:$A$6129,AccVelDataLink!$B$4:$B$6129)","v":{"$error":"#N/A"}},{"$f":"LOOKUP(O120,AccVelDataLink!$A$4:$A$6129,AccVelDataLink!$C$4:$C$6129)","v":{"$error":"#N/A"}},{"$f":"LOOKUP(O120,AccVelDataLink!$A$4:$A$6129,AccVelDataLink!$D$4:$D$6129)","v":{"$error":"#N/A"}},{"$f":"LOOKUP(O120,AccVelDataLink!$A$4:$A$6129,AccVelDataLink!$E$4:$E$6129)","v":{"$error":"#N/A"}}]
[null,8,1409,{"$f":"LOOKUP(C121,MassDataLink!$A$4:$A$5048,MassDataLink!$B$4:$B$5048)","v":0},{"$f":"LOOKUP(C121,MassDataLink!$A$4:$A$5048,MassDataLink!$C$4:$C$5048)","v":70000},{"$f":"LOOKUP(C121,MassDataLink!$A$4:$A$5048,MassDataLink!$D$4:$D$5048)","v":1779},{"$f":"LOOKUP(C121,MassDataLink!$A$4:$A$5048,MassDataLink!$E$4:$E$5048)","v":1408},{"$f":"LOOKUP(C121,MassDataLink!$A$4:$A$5048,MassDataLink!$F$4:$F$5048)","v":1410},null,8,70,1779,null,7,-1,{"$f":"LOOKUP(O121,AccVelDataLink!$A$4:$A$6129,AccVelDataLink!$B$4:$B$6129)","v":{"$error":"#N/A"}},{"$f":"LOOKUP(O121,AccVelDataLink!$A$4:$A$6129,AccVelDataLink!$C$4:$C$6129)","v":{"$error":"#N/A"}},{"$f":"LOOKUP(O121,AccVelDataLink!$A$4:$A$6129,AccVelDataLink!$D$4:$D$6129)","v":{"$error":"#N/A"}},{"$f":"LOOKUP(O121,AccVelDataLink!$A$4:$A$6129,AccVelDataLink!$E$4:$E$6129)","v":{"$error":"#N/A"}}]
[null,9,1410,{"$f":"LOOKUP(C122,MassDataLink!$A$4:$A$5048,MassDataLink!$B$4:$B$5048)","v":0},{"$f":"LOOKUP(C122,MassDataLink!$A$4:$A$5048,MassDataLink!$C$4:$C$5048)","v":80000},{"$f":"LOOKUP(C122,MassDataLink!$A$4:$A$5048,MassDataLink!$D$4:$D$5048)","v":1781},{"$f":"LOOKUP(C122,MassDataLink!$A$4:$A$5048,MassDataLink!$E$4:$E$5048)","v":1409},{"$f":"LOOKUP(C122,MassDataLink!$A$4:$A$5048,MassDataLink!$F$4:$F$5048)","v":1411},null,9,80,1781,null,8,-1,{"$f":"LOOKUP(O122,AccVelDataLink!$A$4:$A$6129,AccVelDataLink!$B$4:$B$6129)","v":{"$error":"#N/A"}},{"$f":"LOOKUP(O122,AccVelDataLink!$A$4:$A$6129,AccVelDataLink!$C$4:$C$6129)","v":{"$error":"#N/A"}},{"$f":"LOOKUP(O122,AccVelDataLink!$A$4:$A$6129,AccVelDataLink!$D$4:$D$6129)","v":{"$error":"#N/A"}},{"$f":"LOOKUP(O122,AccVelDataLink!$A$4:$A$6129,AccVelDataLink!$E$4:$E$6129)","v":{"$error":"#N/A"}}]
[null,10,1411,{"$f":"LOOKUP(C123,MassDataLink!$A$4:$A$5048,MassDataLink!$B$4:$B$5048)","v":1},{"$f":"LOOKUP(C123,MassDataLink!$A$4:$A$5048,MassDataLink!$C$4:$C$5048)","v":1000},{"$f":"LOOKUP(C123,MassDataLink!$A$4:$A$5048,MassDataLink!$D$4:$D$5048)","v":1784},{"$f":"LOOKUP(C123,MassDataLink!$A$4:$A$5048,MassDataLink!$E$4:$E$5048)","v":1410},{"$f":"LOOKUP(C123,MassDataLink!$A$4:$A$5048,MassDataLink!$F$4:$F$5048)","v":1412},null,10,"- - -","- - -",null,9,-1,{"$f":"LOOKUP(O123,AccVelDataLink!$A$4:$A$6129,AccVelDataLink!$B$4:$B$6129)","v":{"$error":"#N/A"}},{"$f":"LOOKUP(O123,AccVelDataLink!$A$4:$A$6129,AccVelDataLink!$C$4:$C$6129)","v":{"$error":"#N/A"}},{"$f":"LOOKUP(O123,AccVelDataLink!$A$4:$A$6129,AccVelDataLink!$D$4:$D$6129)","v":{"$error":"#N/A"}},{"$f":"LOOKUP(O123,AccVelDataLink!$A$4:$A$6129,AccVelDataLink!$E$4:$E$6129)","v":{"$error":"#N/A"}}]
[null,11,1412,{"$f":"LOOKUP(C124,MassDataLink!$A$4:$A$5048,MassDataLink!$B$4:$B$5048)","v":1},{"$f":"LOOKUP(C124,MassDataLink!$A$4:$A$5048,MassDataLink!$C$4:$C$5048)","v":5000},{"$f":"LOOKUP(C124,MassDataLink!$A$4:$A$5048,MassDataLink!$D$4:$D$5048)","v":1785},{"$f":"LOOKUP(C124,MassDataLink!$A$4:$A$5048,MassDataLink!$E$4:$E$5048)","v":1411},{"$f":"LOOKUP(C124,MassDataLink!$A$4:$A$5048,MassDataLink!$F$4:$F$5048)","v":1413},null,11,"- - -","- - -",null,10,-1,{"$f":"LOOKUP(O124,AccVelDataLink!$A$4:$A$6129,AccVelDataLink!$B$4:$B$6129)","v":{"$error":"#N/A"}},{"$f":"LOOKUP(O124,AccVelDataLink!$A$4:$A$6129,AccVelDataLink!$C$4:$C$6129)","v":{"$error":"#N/A"}},{"$f":"LOOKUP(O124,AccVelDataLink!$A$4:$A$6129,AccVelDataLink!$D$4:$D$6129)","v":{"$error":"#N/A"}},{"$f":"LOOKUP(O124,AccVelDataLink!$A$4:$A$6129,AccVelDataLink!$E$4:$E$6129)","v":{"$error":"#N/A"}}]
[null,12,1413,{"$f":"LOOKUP(C125,MassDataLink!$A$4:$A$5048,MassDataLink!$B$4:$B$5048)","v":1},{"$f":"LOOKUP(C125,MassDataLink!$A$4:$A$5048,MassDataLink!$C$4:$C$5048)","v":6000},{"$f":"LOOKUP(C125,MassDataLink!$A$4:$A$5048,MassDataLink!$D$4:$D$5048)","v":1787},{"$f":"LOOKUP(C125,MassDataLink!$A$4:$A$5048,MassDataLink!$E$4:$E$5048)","v":1412},{"$f":"LOOKUP(C125,MassDataLink!$A$4:$A$5048,MassDataLink!$F$4:$F$5048)","v":1414},null,12,"- - -","- - -",null,null,"加速度系数",9.9999999999999995E-7]
[null,13,1414,{"$f":"LOOKUP(C126,MassDataLink!$A$4:$A$5048,MassDataLink!$B$4:$B$5048)","v":1},{"$f":"LOOKUP(C126,MassDataLink!$A$4:$A$5048,MassDataLink!$C$4:$C$5048)","v":7000},{"$f":"LOOKUP(C126,MassDataLink!$A$4:$A$5048,MassDataLink!$D$4:$D$5048)","v":1788},{"$f":"LOOKUP(C126,MassDataLink!$A$4:$A$5048,MassDataLink!$E$4:$E$5048)","v":1413},{"$f":"LOOKUP(C126,MassDataLink!$A$4:$A$5048,MassDataLink!$F$4:$F$5048)","v":1415},null,13,"- - -","- - -",null,"G","№","加速度","速度"]
[null,14,1415,{"$f":"LOOKUP(C127,MassDataLink!$A$4:$A$5048,MassDataLink!$B$4:$B$5048)","v":1},{"$f":"LOOKUP(C127,MassDataLink!$A$4:$A$5048,MassDataLink!$C$4:$C$5048)","v":10000},{"$f":"LOOKUP(C127,MassDataLink!$A$4:$A$5048,MassDataLink!$D$4:$D$5048)","v":1789},{"$f":"LOOKUP(C127,MassDataLink!$A$4:$A$5048,MassDataLink!$E$4:$E$5048)","v":1414},{"$f":"LOOKUP(C127,MassDataLink!$A$4:$A$5048,MassDataLink!$F$4:$F$5048)","v":1416},null,14,"- - -","- - -",null,{"$f":"LeadData!A1","v":9.8066499999999994},1,{"$f":"IF(O115=-1,$L$112,(P115/$N$127)*$P$125)","v":0.5},{"$f":"IF(O115=-1,$L$112,Q115)","v":225}]
[null,15,1416,{"$f":"LOOKUP(C128,MassDataLink!$A$4:$A$5048,MassDataLink!$B$4:$B$5048)","v":1},{"$f":"LOOKUP(C128,MassDataLink!$A$4:$A$5048,MassDataLink!$C$4:$C$5048)","v":12000},{"$f":"LOOKUP(C128,MassDataLink!$A$4:$A$5048,MassDataLink!$D$4:$D$5048)","v":1791},{"$f":"LOOKUP(C128,MassDataLink!$A$4:$A$5048,MassDataLink!$E$4:$E$5048)","v":1415},{"$f":"LOOKUP(C128,MassDataLink!$A$4:$A$5048,MassDataLink!$F$4:$F$5048)","v":1417},null,15,"- - -","- - -",null,null,{"$f":"O127+1","v":2},{"$f":"IF(O116=-1,$L$112,(P116/$N$127)*$P$125)","v":1},{"$f":"IF(O116=-1,$L$112,Q116)","v":200}]
[null,16,1417,{"$f":"LOOKUP(C129,MassDataLink!$A$4:$A$5048,MassDataLink!$B$4:$B$5048)","v":1},{"$f":"LOOKUP(C129,MassDataLink!$A$4:$A$5048,MassDataLink!$C$4:$C$5048)","v":14000},{"$f":"LOOKUP(C129,MassDataLink!$A$4:$A$5048,MassDataLink!$D$4:$D$5048)","v":1792},{"$f":"LOOKUP(C129,MassDataLink!$A$4:$A$5048,MassDataLink!$E$4:$E$5048)","v":1416},{"$f":"LOOKUP(C129,MassDataLink!$A$4:$A$5048,MassDataLink!$F$4:$F$5048)","v":1418},null,16,"- - -","- - -",null,null,3,"- - -","- - -"]
[null,17,1418,{"$f":"LOOKUP(C130,MassDataLink!$A$4:$A$5048,MassDataLink!$B$4:$B$5048)","v":1},{"$f":"LOOKUP(C130,MassDataLink!$A$4:$A$5048,MassDataLink!$C$4:$C$5048)","v":18000},{"$f":"LOOKUP(C130,MassDataLink!$A$4:$A$5048,MassDataLink!$D$4:$D$5048)","v":1793},{"$f":"LOOKUP(C130,MassDataLink!$A$4:$A$5048,MassDataLink!$E$4:$E$5048)","v":1417},{"$f":"LOOKUP(C130,MassDataLink!$A$4:$A$5048,MassDataLink!$F$4:$F$5048)","v":1419},null,17,"- - -","- - -",null,null,4,"- - -","- - -"]
[null,18,1419,{"$f":"LOOKUP(C131,MassDataLink!$A$4:$A$5048,MassDataLink!$B$4:$B$5048)","v":1},{"$f":"LOOKUP(C131,MassDataLink!$A$4:$A$5048,MassDataLink!$C$4:$C$5048)","v":30000},{"$f":"LOOKUP(C131,MassDataLink!$A$4:$A$5048,MassDataLink!$D$4:$D$5048)","v":1794},{"$f":"LOOKUP(C131,MassDataLink!$A$4:$A$5048,MassDataLink!$E$4:$E$5048)","v":1418},{"$f":"LOOKUP(C131,MassDataLink!$A$4:$A$5048,MassDataLink!$F$4:$F$5048)","v":1420},null,18,"- - -","- - -",null,null,5,"- - -","- - -"]
[null,19,1420,{"$f":"LOOKUP(C132,MassDataLink!$A$4:$A$5048,MassDataLink!$B$4:$B$5048)","v":1},{"$f":"LOOKUP(C132,MassDataLink!$A$4:$A$5048,MassDataLink!$C$4:$C$5048)","v":55000},{"$f":"LOOKUP(C132,MassDataLink!$A$4:$A$5048,MassDataLink!$D$4:$D$5048)","v":1795},{"$f":"LOOKUP(C132,MassDataLink!$A$4:$A$5048,MassDataLink!$E$4:$E$5048)","v":1419},{"$f":"LOOKUP(C132,MassDataLink!$A$4:$A$5048,MassDataLink!$F$4:$F$5048)","v":-1},null,19,"- - -","- - -",null,null,6,"- - -","- - -"]
[null,20,-1,{"$f":"LOOKUP(C133,MassDataLink!$A$4:$A$5048,MassDataLink!$B$4:$B$5048)","v":{"$error":"#N/A"}},{"$f":"LOOKUP(C133,MassDataLink!$A$4:$A$5048,MassDataLink!$C$4:$C$5048)","v":{"$error":"#N/A"}},{"$f":"LOOKUP(C133,MassDataLink!$A$4:$A$5048,MassDataLink!$D$4:$D$5048)","v":{"$error":"#N/A"}},{"$f":"LOOKUP(C133,MassDataLink!$A$4:$A$5048,MassDataLink!$E$4:$E$5048)","v":{"$error":"#N/A"}},{"$f":"LOOKUP(C133,MassDataLink!$A$4:$A$5048,MassDataLink!$F$4:$F$5048)","v":{"$error":"#N/A"}},null,20,"- - -","- - -",null,null,7,"- - -","- - -"]
[null,21,-1,{"$f":"LOOKUP(C134,MassDataLink!$A$4:$A$5048,MassDataLink!$B$4:$B$5048)","v":{"$error":"#N/A"}},{"$f":"LOOKUP(C134,MassDataLink!$A$4:$A$5048,MassDataLink!$C$4:$C$5048)","v":{"$error":"#N/A"}},{"$f":"LOOKUP(C134,MassDataLink!$A$4:$A$5048,MassDataLink!$D$4:$D$5048)","v":{"$error":"#N/A"}},{"$f":"LOOKUP(C134,MassDataLink!$A$4:$A$5048,MassDataLink!$E$4:$E$5048)","v":{"$error":"#N/A"}},{"$f":"LOOKUP(C134,MassDataLink!$A$4:$A$5048,MassDataLink!$F$4:$F$5048)","v":{"$error":"#N/A"}},null,21,"- - -","- - -",null,null,8,"- - -","- - -"]
[null,22,-1,{"$f":"LOOKUP(C135,MassDataLink!$A$4:$A$5048,MassDataLink!$B$4:$B$5048)","v":{"$error":"#N/A"}},{"$f":"LOOKUP(C135,MassDataLink!$A$4:$A$5048,MassDataLink!$C$4:$C$5048)","v":{"$error":"#N/A"}},{"$f":"LOOKUP(C135,MassDataLink!$A$4:$A$5048,MassDataLink!$D$4:$D$5048)","v":{"$error":"#N/A"}},{"$f":"LOOKUP(C135,MassDataLink!$A$4:$A$5048,MassDataLink!$E$4:$E$5048)","v":{"$error":"#N/A"}},{"$f":"LOOKUP(C135,MassDataLink!$A$4:$A$5048,MassDataLink!$F$4:$F$5048)","v":{"$error":"#N/A"}},null,22,"- - -","- - -",null,null,9,"- - -","- - -"]
[null,23,-1,{"$f":"LOOKUP(C136,MassDataLink!$A$4:$A$5048,MassDataLink!$B$4:$B$5048)","v":{"$error":"#N/A"}},{"$f":"LOOKUP(C136,MassDataLink!$A$4:$A$5048,MassDataLink!$C$4:$C$5048)","v":{"$error":"#N/A"}},{"$f":"LOOKUP(C136,MassDataLink!$A$4:$A$5048,MassDataLink!$D$4:$D$5048)","v":{"$error":"#N/A"}},{"$f":"LOOKUP(C136,MassDataLink!$A$4:$A$5048,MassDataLink!$E$4:$E$5048)","v":{"$error":"#N/A"}},{"$f":"LOOKUP(C136,MassDataLink!$A$4:$A$5048,MassDataLink!$F$4:$F$5048)","v":{"$error":"#N/A"}},null,23,"- - -","- - -",null,null,10,"- - -","- - -"]
[null,{"$f":"B136+1","v":24},{"$f":"IF(C136=-1,-1,H136)","v":-1},{"$f":"LOOKUP(C137,MassDataLink!$A$4:$A$5048,MassDataLink!$B$4:$B$5048)","v":{"$error":"#N/A"}},{"$f":"LOOKUP(C137,MassDataLink!$A$4:$A$5048,MassDataLink!$C$4:$C$5048)","v":{"$error":"#N/A"}},{"$f":"LOOKUP(C137,MassDataLink!$A$4:$A$5048,MassDataLink!$D$4:$D$5048)","v":{"$error":"#N/A"}},{"$f":"LOOKUP(C137,MassDataLink!$A$4:$A$5048,MassDataLink!$E$4:$E$5048)","v":{"$error":"#N/A"}},{"$f":"LOOKUP(C137,MassDataLink!$A$4:$A$5048,MassDataLink!$F$4:$F$5048)","v":{"$error":"#N/A"}},null,24,"- - -","- - -"]
[null,25,-1,{"$f":"LOOKUP(C138,MassDataLink!$A$4:$A$5048,MassDataLink!$B$4:$B$5048)","v":{"$error":"#N/A"}},{"$f":"LOOKUP(C138,MassDataLink!$A$4:$A$5048,MassDataLink!$C$4:$C$5048)","v":{"$error":"#N/A"}},{"$f":"LOOKUP(C138,MassDataLink!$A$4:$A$5048,MassDataLink!$D$4:$D$5048)","v":{"$error":"#N/A"}},{"$f":"LOOKUP(C138,MassDataLink!$A$4:$A$5048,MassDataLink!$E$4:$E$5048)","v":{"$error":"#N/A"}},{"$f":"LOOKUP(C138,MassDataLink!$A$4:$A$5048,MassDataLink!$F$4:$F$5048)","v":{"$error":"#N/A"}},null,25,"- - -","- - -"]
[null,26,-1,{"$f":"LOOKUP(C139,MassDataLink!$A$4:$A$5048,MassDataLink!$B$4:$B$5048)","v":{"$error":"#N/A"}},{"$f":"LOOKUP(C139,MassDataLink!$A$4:$A$5048,MassDataLink!$C$4:$C$5048)","v":{"$error":"#N/A"}},{"$f":"LOOKUP(C139,MassDataLink!$A$4:$A$5048,MassDataLink!$D$4:$D$5048)","v":{"$error":"#N/A"}},{"$f":"LOOKUP(C139,MassDataLink!$A$4:$A$5048,MassDataLink!$E$4:$E$5048)","v":{"$error":"#N/A"}},{"$f":"LOOKUP(C139,MassDataLink!$A$4:$A$5048,MassDataLink!$F$4:$F$5048)","v":{"$error":"#N/A"}},null,26,"- - -","- - -"]
[null,27,-1,{"$f":"LOOKUP(C140,MassDataLink!$A$4:$A$5048,MassDataLink!$B$4:$B$5048)","v":{"$error":"#N/A"}},{"$f":"LOOKUP(C140,MassDataLink!$A$4:$A$5048,MassDataLink!$C$4:$C$5048)","v":{"$error":"#N/A"}},{"$f":"LOOKUP(C140,MassDataLink!$A$4:$A$5048,MassDataLink!$D$4:$D$5048)","v":{"$error":"#N/A"}},{"$f":"LOOKUP(C140,MassDataLink!$A$4:$A$5048,MassDataLink!$E$4:$E$5048)","v":{"$error":"#N/A"}},{"$f":"LOOKUP(C140,MassDataLink!$A$4:$A$5048,MassDataLink!$F$4:$F$5048)","v":{"$error":"#N/A"}},null,27,"- - -","- - -"]
[null,28,-1,{"$f":"LOOKUP(C141,MassDataLink!$A$4:$A$5048,MassDataLink!$B$4:$B$5048)","v":{"$error":"#N/A"}},{"$f":"LOOKUP(C141,MassDataLink!$A$4:$A$5048,MassDataLink!$C$4:$C$5048)","v":{"$error":"#N/A"}},{"$f":"LOOKUP(C141,MassDataLink!$A$4:$A$5048,MassDataLink!$D$4:$D$5048)","v":{"$error":"#N/A"}},{"$f":"LOOKUP(C141,MassDataLink!$A$4:$A$5048,MassDataLink!$E$4:$E$5048)","v":{"$error":"#N/A"}},{"$f":"LOOKUP(C141,MassDataLink!$A$4:$A$5048,MassDataLink!$F$4:$F$5048)","v":{"$error":"#N/A"}},null,28,"- - -","- - -"]
[null,29,-1,{"$f":"LOOKUP(C142,MassDataLink!$A$4:$A$5048,MassDataLink!$B$4:$B$5048)","v":{"$error":"#N/A"}},{"$f":"LOOKUP(C142,MassDataLink!$A$4:$A$5048,MassDataLink!$C$4:$C$5048)","v":{"$error":"#N/A"}},{"$f":"LOOKUP(C142,MassDataLink!$A$4:$A$5048,MassDataLink!$D$4:$D$5048)","v":{"$error":"#N/A"}},{"$f":"LOOKUP(C142,MassDataLink!$A$4:$A$5048,MassDataLink!$E$4:$E$5048)","v":{"$error":"#N/A"}},{"$f":"LOOKUP(C142,MassDataLink!$A$4:$A$5048,MassDataLink!$F$4:$F$5048)","v":{"$error":"#N/A"}},null,29,"- - -","- - -"]
[null,30,-1,{"$f":"LOOKUP(C143,MassDataLink!$A$4:$A$5048,MassDataLink!$B$4:$B$5048)","v":{"$error":"#N/A"}},{"$f":"LOOKUP(C143,MassDataLink!$A$4:$A$5048,MassDataLink!$C$4:$C$5048)","v":{"$error":"#N/A"}},{"$f":"LOOKUP(C143,MassDataLink!$A$4:$A$5048,MassDataLink!$D$4:$D$5048)","v":{"$error":"#N/A"}},{"$f":"LOOKUP(C143,MassDataLink!$A$4:$A$5048,MassDataLink!$E$4:$E$5048)","v":{"$error":"#N/A"}},{"$f":"LOOKUP(C143,MassDataLink!$A$4:$A$5048,MassDataLink!$F$4:$F$5048)","v":{"$error":"#N/A"}},null,30,"- - -","- - -"]
[null,{"$f":"B143+1","v":31},{"$f":"IF(C143=-1,-1,H143)","v":-1},{"$f":"LOOKUP(C144,MassDataLink!$A$4:$A$5048,MassDataLink!$B$4:$B$5048)","v":{"$error":"#N/A"}},{"$f":"LOOKUP(C144,MassDataLink!$A$4:$A$5048,MassDataLink!$C$4:$C$5048)","v":{"$error":"#N/A"}},{"$f":"LOOKUP(C144,MassDataLink!$A$4:$A$5048,MassDataLink!$D$4:$D$5048)","v":{"$error":"#N/A"}},{"$f":"LOOKUP(C144,MassDataLink!$A$4:$A$5048,MassDataLink!$E$4:$E$5048)","v":{"$error":"#N/A"}},{"$f":"LOOKUP(C144,MassDataLink!$A$4:$A$5048,MassDataLink!$F$4:$F$5048)","v":{"$error":"#N/A"}},null,31,"- - -","- - -"]
[null,32,-1,{"$f":"LOOKUP(C145,MassDataLink!$A$4:$A$5048,MassDataLink!$B$4:$B$5048)","v":{"$error":"#N/A"}},{"$f":"LOOKUP(C145,MassDataLink!$A$4:$A$5048,MassDataLink!$C$4:$C$5048)","v":{"$error":"#N/A"}},{"$f":"LOOKUP(C145,MassDataLink!$A$4:$A$5048,MassDataLink!$D$4:$D$5048)","v":{"$error":"#N/A"}},{"$f":"LOOKUP(C145,MassDataLink!$A$4:$A$5048,MassDataLink!$E$4:$E$5048)","v":{"$error":"#N/A"}},{"$f":"LOOKUP(C145,MassDataLink!$A$4:$A$5048,MassDataLink!$F$4:$F$5048)","v":{"$error":"#N/A"}},null,32,"- - -","- - -"]
[null,33,-1,{"$f":"LOOKUP(C146,MassDataLink!$A$4:$A$5048,MassDataLink!$B$4:$B$5048)","v":{"$error":"#N/A"}},{"$f":"LOOKUP(C146,MassDataLink!$A$4:$A$5048,MassDataLink!$C$4:$C$5048)","v":{"$error":"#N/A"}},{"$f":"LOOKUP(C146,MassDataLink!$A$4:$A$5048,MassDataLink!$D$4:$D$5048)","v":{"$error":"#N/A"}},{"$f":"LOOKUP(C146,MassDataLink!$A$4:$A$5048,MassDataLink!$E$4:$E$5048)","v":{"$error":"#N/A"}},{"$f":"LOOKUP(C146,MassDataLink!$A$4:$A$5048,MassDataLink!$F$4:$F$5048)","v":{"$error":"#N/A"}},null,33,"- - -","- - -"]
[null,34,-1,{"$f":"LOOKUP(C147,MassDataLink!$A$4:$A$5048,MassDataLink!$B$4:$B$5048)","v":{"$error":"#N/A"}},{"$f":"LOOKUP(C147,MassDataLink!$A$4:$A$5048,MassDataLink!$C$4:$C$5048)","v":{"$error":"#N/A"}},{"$f":"LOOKUP(C147,MassDataLink!$A$4:$A$5048,MassDataLink!$D$4:$D$5048)","v":{"$error":"#N/A"}},{"$f":"LOOKUP(C147,MassDataLink!$A$4:$A$5048,MassDataLink!$E$4:$E$5048)","v":{"$error":"#N/A"}},{"$f":"LOOKUP(C147,MassDataLink!$A$4:$A$5048,MassDataLink!$F$4:$F$5048)","v":{"$error":"#N/A"}},null,34,"- - -","- - -"]
[null,35,-1,{"$f":"LOOKUP(C148,MassDataLink!$A$4:$A$5048,MassDataLink!$B$4:$B$5048)","v":{"$error":"#N/A"}},{"$f":"LOOKUP(C148,MassDataLink!$A$4:$A$5048,MassDataLink!$C$4:$C$5048)","v":{"$error":"#N/A"}},{"$f":"LOOKUP(C148,MassDataLink!$A$4:$A$5048,MassDataLink!$D$4:$D$5048)","v":{"$error":"#N/A"}},{"$f":"LOOKUP(C148,MassDataLink!$A$4:$A$5048,MassDataLink!$E$4:$E$5048)","v":{"$error":"#N/A"}},{"$f":"LOOKUP(C148,MassDataLink!$A$4:$A$5048,MassDataLink!$F$4:$F$5048)","v":{"$error":"#N/A"}},null,35,"- - -","- - -"]
[null,36,-1,{"$f":"LOOKUP(C149,MassDataLink!$A$4:$A$5048,MassDataLink!$B$4:$B$5048)","v":{"$error":"#N/A"}},{"$f":"LOOKUP(C149,MassDataLink!$A$4:$A$5048,MassDataLink!$C$4:$C$5048)","v":{"$error":"#N/A"}},{"$f":"LOOKUP(C149,MassDataLink!$A$4:$A$5048,MassDataLink!$D$4:$D$5048)","v":{"$error":"#N/A"}},{"$f":"LOOKUP(C149,MassDataLink!$A$4:$A$5048,MassDataLink!$E$4:$E$5048)","v":{"$error":"#N/A"}},{"$f":"LOOKUP(C149,MassDataLink!$A$4:$A$5048,MassDataLink!$F$4:$F$5048)","v":{"$error":"#N/A"}},null,36,"- - -","- - -"]
[null,37,-1,{"$f":"LOOKUP(C150,MassDataLink!$A$4:$A$5048,MassDataLink!$B$4:$B$5048)","v":{"$error":"#N/A"}},{"$f":"LOOKUP(C150,MassDataLink!$A$4:$A$5048,MassDataLink!$C$4:$C$5048)","v":{"$error":"#N/A"}},{"$f":"LOOKUP(C150,MassDataLink!$A$4:$A$5048,MassDataLink!$D$4:$D$5048)","v":{"$error":"#N/A"}},{"$f":"LOOKUP(C150,MassDataLink!$A$4:$A$5048,MassDataLink!$E$4:$E$5048)","v":{"$error":"#N/A"}},{"$f":"LOOKUP(C150,MassDataLink!$A$4:$A$5048,MassDataLink!$F$4:$F$5048)","v":{"$error":"#N/A"}},null,37,"- - -","- - -"]
[null,38,-1,{"$f":"LOOKUP(C151,MassDataLink!$A$4:$A$5048,MassDataLink!$B$4:$B$5048)","v":{"$error":"#N/A"}},{"$f":"LOOKUP(C151,MassDataLink!$A$4:$A$5048,MassDataLink!$C$4:$C$5048)","v":{"$error":"#N/A"}},{"$f":"LOOKUP(C151,MassDataLink!$A$4:$A$5048,MassDataLink!$D$4:$D$5048)","v":{"$error":"#N/A"}},{"$f":"LOOKUP(C151,MassDataLink!$A$4:$A$5048,MassDataLink!$E$4:$E$5048)","v":{"$error":"#N/A"}},{"$f":"LOOKUP(C151,MassDataLink!$A$4:$A$5048,MassDataLink!$F$4:$F$5048)","v":{"$error":"#N/A"}},null,38,"- - -","- - -"]
[null,39,-1,{"$f":"LOOKUP(C152,MassDataLink!$A$4:$A$5048,MassDataLink!$B$4:$B$5048)","v":{"$error":"#N/A"}},{"$f":"LOOKUP(C152,MassDataLink!$A$4:$A$5048,MassDataLink!$C$4:$C$5048)","v":{"$error":"#N/A"}},{"$f":"LOOKUP(C152,MassDataLink!$A$4:$A$5048,MassDataLink!$D$4:$D$5048)","v":{"$error":"#N/A"}},{"$f":"LOOKUP(C152,MassDataLink!$A$4:$A$5048,MassDataLink!$E$4:$E$5048)","v":{"$error":"#N/A"}},{"$f":"LOOKUP(C152,MassDataLink!$A$4:$A$5048,MassDataLink!$F$4:$F$5048)","v":{"$error":"#N/A"}},null,39,"- - -","- - -"]
[null,40,-1,{"$f":"LOOKUP(C153,MassDataLink!$A$4:$A$5048,MassDataLink!$B$4:$B$5048)","v":{"$error":"#N/A"}},{"$f":"LOOKUP(C153,MassDataLink!$A$4:$A$5048,MassDataLink!$C$4:$C$5048)","v":{"$error":"#N/A"}},{"$f":"LOOKUP(C153,MassDataLink!$A$4:$A$5048,MassDataLink!$D$4:$D$5048)","v":{"$error":"#N/A"}},{"$f":"LOOKUP(C153,MassDataLink!$A$4:$A$5048,MassDataLink!$E$4:$E$5048)","v":{"$error":"#N/A"}},{"$f":"LOOKUP(C153,MassDataLink!$A$4:$A$5048,MassDataLink!$F$4:$F$5048)","v":{"$error":"#N/A"}},null,40,"- - -","- - -"]
[null,41,-1,{"$f":"LOOKUP(C154,MassDataLink!$A$4:$A$5048,MassDataLink!$B$4:$B$5048)","v":{"$error":"#N/A"}},{"$f":"LOOKUP(C154,MassDataLink!$A$4:$A$5048,MassDataLink!$C$4:$C$5048)","v":{"$error":"#N/A"}},{"$f":"LOOKUP(C154,MassDataLink!$A$4:$A$5048,MassDataLink!$D$4:$D$5048)","v":{"$error":"#N/A"}},{"$f":"LOOKUP(C154,MassDataLink!$A$4:$A$5048,MassDataLink!$E$4:$E$5048)","v":{"$error":"#N/A"}},{"$f":"LOOKUP(C154,MassDataLink!$A$4:$A$5048,MassDataLink!$F$4:$F$5048)","v":{"$error":"#N/A"}},null,41,"- - -","- - -"]
[null,42,-1,{"$f":"LOOKUP(C155,MassDataLink!$A$4:$A$5048,MassDataLink!$B$4:$B$5048)","v":{"$error":"#N/A"}},{"$f":"LOOKUP(C155,MassDataLink!$A$4:$A$5048,MassDataLink!$C$4:$C$5048)","v":{"$error":"#N/A"}},{"$f":"LOOKUP(C155,MassDataLink!$A$4:$A$5048,MassDataLink!$D$4:$D$5048)","v":{"$error":"#N/A"}},{"$f":"LOOKUP(C155,MassDataLink!$A$4:$A$5048,MassDataLink!$E$4:$E$5048)","v":{"$error":"#N/A"}},{"$f":"LOOKUP(C155,MassDataLink!$A$4:$A$5048,MassDataLink!$F$4:$F$5048)","v":{"$error":"#N/A"}},null,42,"- - -","- - -"]
[null,43,-1,{"$f":"LOOKUP(C156,MassDataLink!$A$4:$A$5048,MassDataLink!$B$4:$B$5048)","v":{"$error":"#N/A"}},{"$f":"LOOKUP(C156,MassDataLink!$A$4:$A$5048,MassDataLink!$C$4:$C$5048)","v":{"$error":"#N/A"}},{"$f":"LOOKUP(C156,MassDataLink!$A$4:$A$5048,MassDataLink!$D$4:$D$5048)","v":{"$error":"#N/A"}},{"$f":"LOOKUP(C156,MassDataLink!$A$4:$A$5048,MassDataLink!$E$4:$E$5048)","v":{"$error":"#N/A"}},{"$f":"LOOKUP(C156,MassDataLink!$A$4:$A$5048,MassDataLink!$F$4:$F$5048)","v":{"$error":"#N/A"}},null,43,"- - -","- - -"]
[null,44,-1,{"$f":"LOOKUP(C157,MassDataLink!$A$4:$A$5048,MassDataLink!$B$4:$B$5048)","v":{"$error":"#N/A"}},{"$f":"LOOKUP(C157,MassDataLink!$A$4:$A$5048,MassDataLink!$C$4:$C$5048)","v":{"$error":"#N/A"}},{"$f":"LOOKUP(C157,MassDataLink!$A$4:$A$5048,MassDataLink!$D$4:$D$5048)","v":{"$error":"#N/A"}},{"$f":"LOOKUP(C157,MassDataLink!$A$4:$A$5048,MassDataLink!$E$4:$E$5048)","v":{"$error":"#N/A"}},{"$f":"LOOKUP(C157,MassDataLink!$A$4:$A$5048,MassDataLink!$F$4:$F$5048)","v":{"$error":"#N/A"}},null,44,"- - -","- - -"]
[null,45,-1,{"$f":"LOOKUP(C158,MassDataLink!$A$4:$A$5048,MassDataLink!$B$4:$B$5048)","v":{"$error":"#N/A"}},{"$f":"LOOKUP(C158,MassDataLink!$A$4:$A$5048,MassDataLink!$C$4:$C$5048)","v":{"$error":"#N/A"}},{"$f":"LOOKUP(C158,MassDataLink!$A$4:$A$5048,MassDataLink!$D$4:$D$5048)","v":{"$error":"#N/A"}},{"$f":"LOOKUP(C158,MassDataLink!$A$4:$A$5048,MassDataLink!$E$4:$E$5048)","v":{"$error":"#N/A"}},{"$f":"LOOKUP(C158,MassDataLink!$A$4:$A$5048,MassDataLink!$F$4:$F$5048)","v":{"$error":"#N/A"}},null,45,"- - -","- - -"]
[null,46,-1,{"$f":"LOOKUP(C159,MassDataLink!$A$4:$A$5048,MassDataLink!$B$4:$B$5048)","v":{"$error":"#N/A"}},{"$f":"LOOKUP(C159,MassDataLink!$A$4:$A$5048,MassDataLink!$C$4:$C$5048)","v":{"$error":"#N/A"}},{"$f":"LOOKUP(C159,MassDataLink!$A$4:$A$5048,MassDataLink!$D$4:$D$5048)","v":{"$error":"#N/A"}},{"$f":"LOOKUP(C159,MassDataLink!$A$4:$A$5048,MassDataLink!$E$4:$E$5048)","v":{"$error":"#N/A"}},{"$f":"LOOKUP(C159,MassDataLink!$A$4:$A$5048,MassDataLink!$F$4:$F$5048)","v":{"$error":"#N/A"}},null,46,"- - -","- - -"]
[null,47,-1,{"$f":"LOOKUP(C160,MassDataLink!$A$4:$A$5048,MassDataLink!$B$4:$B$5048)","v":{"$error":"#N/A"}},{"$f":"LOOKUP(C160,MassDataLink!$A$4:$A$5048,MassDataLink!$C$4:$C$5048)","v":{"$error":"#N/A"}},{"$f":"LOOKUP(C160,MassDataLink!$A$4:$A$5048,MassDataLink!$D$4:$D$5048)","v":{"$error":"#N/A"}},{"$f":"LOOKUP(C160,MassDataLink!$A$4:$A$5048,MassDataLink!$E$4:$E$5048)","v":{"$error":"#N/A"}},{"$f":"LOOKUP(C160,MassDataLink!$A$4:$A$5048,MassDataLink!$F$4:$F$5048)","v":{"$error":"#N/A"}},null,47,"- - -","- - -"]
[null,48,-1,{"$f":"LOOKUP(C161,MassDataLink!$A$4:$A$5048,MassDataLink!$B$4:$B$5048)","v":{"$error":"#N/A"}},{"$f":"LOOKUP(C161,MassDataLink!$A$4:$A$5048,MassDataLink!$C$4:$C$5048)","v":{"$error":"#N/A"}},{"$f":"LOOKUP(C161,MassDataLink!$A$4:$A$5048,MassDataLink!$D$4:$D$5048)","v":{"$error":"#N/A"}},{"$f":"LOOKUP(C161,MassDataLink!$A$4:$A$5048,MassDataLink!$E$4:$E$5048)","v":{"$error":"#N/A"}},{"$f":"LOOKUP(C161,MassDataLink!$A$4:$A$5048,MassDataLink!$F$4:$F$5048)","v":{"$error":"#N/A"}},null,48,"- - -","- - -"]
[null,49,-1,{"$f":"LOOKUP(C162,MassDataLink!$A$4:$A$5048,MassDataLink!$B$4:$B$5048)","v":{"$error":"#N/A"}},{"$f":"LOOKUP(C162,MassDataLink!$A$4:$A$5048,MassDataLink!$C$4:$C$5048)","v":{"$error":"#N/A"}},{"$f":"LOOKUP(C162,MassDataLink!$A$4:$A$5048,MassDataLink!$D$4:$D$5048)","v":{"$error":"#N/A"}},{"$f":"LOOKUP(C162,MassDataLink!$A$4:$A$5048,MassDataLink!$E$4:$E$5048)","v":{"$error":"#N/A"}},{"$f":"LOOKUP(C162,MassDataLink!$A$4:$A$5048,MassDataLink!$F$4:$F$5048)","v":{"$error":"#N/A"}},null,49,"- - -","- - -"]
[null,50,-1,{"$f":"LOOKUP(C163,MassDataLink!$A$4:$A$5048,MassDataLink!$B$4:$B$5048)","v":{"$error":"#N/A"}},{"$f":"LOOKUP(C163,MassDataLink!$A$4:$A$5048,MassDataLink!$C$4:$C$5048)","v":{"$error":"#N/A"}},{"$f":"LOOKUP(C163,MassDataLink!$A$4:$A$5048,MassDataLink!$D$4:$D$5048)","v":{"$error":"#N/A"}},{"$f":"LOOKUP(C163,MassDataLink!$A$4:$A$5048,MassDataLink!$E$4:$E$5048)","v":{"$error":"#N/A"}},{"$f":"LOOKUP(C163,MassDataLink!$A$4:$A$5048,MassDataLink!$F$4:$F$5048)","v":{"$error":"#N/A"}},null,50,"- - -","- - -"]
[null,{"$f":"B163+1","v":51},{"$f":"IF(C163=-1,-1,H163)","v":-1},{"$f":"LOOKUP(C164,MassDataLink!$A$4:$A$5048,MassDataLink!$B$4:$B$5048)","v":{"$error":"#N/A"}},{"$f":"LOOKUP(C164,MassDataLink!$A$4:$A$5048,MassDataLink!$C$4:$C$5048)","v":{"$error":"#N/A"}},{"$f":"LOOKUP(C164,MassDataLink!$A$4:$A$5048,MassDataLink!$D$4:$D$5048)","v":{"$error":"#N/A"}},{"$f":"LOOKUP(C164,MassDataLink!$A$4:$A$5048,MassDataLink!$E$4:$E$5048)","v":{"$error":"#N/A"}},{"$f":"LOOKUP(C164,MassDataLink!$A$4:$A$5048,MassDataLink!$F$4:$F$5048)","v":{"$error":"#N/A"}},null,{"$f":"J163+1","v":51},{"$f":"IF(C164=-1,$L$112,IF($A$11=D164,ROUND((E164*$P$57),$R$57),$L$112))","v":"- - -"},{"$f":"IF(K164=$L$112,$L$112,F164)","v":"- - -"}]
[null,52,-1,{"$f":"LOOKUP(C165,MassDataLink!$A$4:$A$5048,MassDataLink!$B$4:$B$5048)","v":{"$error":"#N/A"}},{"$f":"LOOKUP(C165,MassDataLink!$A$4:$A$5048,MassDataLink!$C$4:$C$5048)","v":{"$error":"#N/A"}},{"$f":"LOOKUP(C165,MassDataLink!$A$4:$A$5048,MassDataLink!$D$4:$D$5048)","v":{"$error":"#N/A"}},{"$f":"LOOKUP(C165,MassDataLink!$A$4:$A$5048,MassDataLink!$E$4:$E$5048)","v":{"$error":"#N/A"}},{"$f":"LOOKUP(C165,MassDataLink!$A$4:$A$5048,MassDataLink!$F$4:$F$5048)","v":{"$error":"#N/A"}},null,52,"- - -","- - -"]
[null,53,-1,{"$f":"LOOKUP(C166,MassDataLink!$A$4:$A$5048,MassDataLink!$B$4:$B$5048)","v":{"$error":"#N/A"}},{"$f":"LOOKUP(C166,MassDataLink!$A$4:$A$5048,MassDataLink!$C$4:$C$5048)","v":{"$error":"#N/A"}},{"$f":"LOOKUP(C166,MassDataLink!$A$4:$A$5048,MassDataLink!$D$4:$D$5048)","v":{"$error":"#N/A"}},{"$f":"LOOKUP(C166,MassDataLink!$A$4:$A$5048,MassDataLink!$E$4:$E$5048)","v":{"$error":"#N/A"}},{"$f":"LOOKUP(C166,MassDataLink!$A$4:$A$5048,MassDataLink!$F$4:$F$5048)","v":{"$error":"#N/A"}},null,53,"- - -","- - -"]
[null,54,-1,{"$f":"LOOKUP(C167,MassDataLink!$A$4:$A$5048,MassDataLink!$B$4:$B$5048)","v":{"$error":"#N/A"}},{"$f":"LOOKUP(C167,MassDataLink!$A$4:$A$5048,MassDataLink!$C$4:$C$5048)","v":{"$error":"#N/A"}},{"$f":"LOOKUP(C167,MassDataLink!$A$4:$A$5048,MassDataLink!$D$4:$D$5048)","v":{"$error":"#N/A"}},{"$f":"LOOKUP(C167,MassDataLink!$A$4:$A$5048,MassDataLink!$E$4:$E$5048)","v":{"$error":"#N/A"}},{"$f":"LOOKUP(C167,MassDataLink!$A$4:$A$5048,MassDataLink!$F$4:$F$5048)","v":{"$error":"#N/A"}},null,54,"- - -","- - -"]
[null,55,-1,{"$f":"LOOKUP(C168,MassDataLink!$A$4:$A$5048,MassDataLink!$B$4:$B$5048)","v":{"$error":"#N/A"}},{"$f":"LOOKUP(C168,MassDataLink!$A$4:$A$5048,MassDataLink!$C$4:$C$5048)","v":{"$error":"#N/A"}},{"$f":"LOOKUP(C168,MassDataLink!$A$4:$A$5048,MassDataLink!$D$4:$D$5048)","v":{"$error":"#N/A"}},{"$f":"LOOKUP(C168,MassDataLink!$A$4:$A$5048,MassDataLink!$E$4:$E$5048)","v":{"$error":"#N/A"}},{"$f":"LOOKUP(C168,MassDataLink!$A$4:$A$5048,MassDataLink!$F$4:$F$5048)","v":{"$error":"#N/A"}},null,55,"- - -","- - -"]
[null,56,-1,{"$f":"LOOKUP(C169,MassDataLink!$A$4:$A$5048,MassDataLink!$B$4:$B$5048)","v":{"$error":"#N/A"}},{"$f":"LOOKUP(C169,MassDataLink!$A$4:$A$5048,MassDataLink!$C$4:$C$5048)","v":{"$error":"#N/A"}},{"$f":"LOOKUP(C169,MassDataLink!$A$4:$A$5048,MassDataLink!$D$4:$D$5048)","v":{"$error":"#N/A"}},{"$f":"LOOKUP(C169,MassDataLink!$A$4:$A$5048,MassDataLink!$E$4:$E$5048)","v":{"$error":"#N/A"}},{"$f":"LOOKUP(C169,MassDataLink!$A$4:$A$5048,MassDataLink!$F$4:$F$5048)","v":{"$error":"#N/A"}},null,56,"- - -","- - -"]
[null,57,-1,{"$f":"LOOKUP(C170,MassDataLink!$A$4:$A$5048,MassDataLink!$B$4:$B$5048)","v":{"$error":"#N/A"}},{"$f":"LOOKUP(C170,MassDataLink!$A$4:$A$5048,MassDataLink!$C$4:$C$5048)","v":{"$error":"#N/A"}},{"$f":"LOOKUP(C170,MassDataLink!$A$4:$A$5048,MassDataLink!$D$4:$D$5048)","v":{"$error":"#N/A"}},{"$f":"LOOKUP(C170,MassDataLink!$A$4:$A$5048,MassDataLink!$E$4:$E$5048)","v":{"$error":"#N/A"}},{"$f":"LOOKUP(C170,MassDataLink!$A$4:$A$5048,MassDataLink!$F$4:$F$5048)","v":{"$error":"#N/A"}},null,57,"- - -","- - -"]
[null,58,-1,{"$f":"LOOKUP(C171,MassDataLink!$A$4:$A$5048,MassDataLink!$B$4:$B$5048)","v":{"$error":"#N/A"}},{"$f":"LOOKUP(C171,MassDataLink!$A$4:$A$5048,MassDataLink!$C$4:$C$5048)","v":{"$error":"#N/A"}},{"$f":"LOOKUP(C171,MassDataLink!$A$4:$A$5048,MassDataLink!$D$4:$D$5048)","v":{"$error":"#N/A"}},{"$f":"LOOKUP(C171,MassDataLink!$A$4:$A$5048,MassDataLink!$E$4:$E$5048)","v":{"$error":"#N/A"}},{"$f":"LOOKUP(C171,MassDataLink!$A$4:$A$5048,MassDataLink!$F$4:$F$5048)","v":{"$error":"#N/A"}},null,58,"- - -","- - -"]
[null,59,-1,{"$f":"LOOKUP(C172,MassDataLink!$A$4:$A$5048,MassDataLink!$B$4:$B$5048)","v":{"$error":"#N/A"}},{"$f":"LOOKUP(C172,MassDataLink!$A$4:$A$5048,MassDataLink!$C$4:$C$5048)","v":{"$error":"#N/A"}},{"$f":"LOOKUP(C172,MassDataLink!$A$4:$A$5048,MassDataLink!$D$4:$D$5048)","v":{"$error":"#N/A"}},{"$f":"LOOKUP(C172,MassDataLink!$A$4:$A$5048,MassDataLink!$E$4:$E$5048)","v":{"$error":"#N/A"}},{"$f":"LOOKUP(C172,MassDataLink!$A$4:$A$5048,MassDataLink!$F$4:$F$5048)","v":{"$error":"#N/A"}},null,59,"- - -","- - -"]
[null,60,-1,{"$f":"LOOKUP(C173,MassDataLink!$A$4:$A$5048,MassDataLink!$B$4:$B$5048)","v":{"$error":"#N/A"}},{"$f":"LOOKUP(C173,MassDataLink!$A$4:$A$5048,MassDataLink!$C$4:$C$5048)","v":{"$error":"#N/A"}},{"$f":"LOOKUP(C173,MassDataLink!$A$4:$A$5048,MassDataLink!$D$4:$D$5048)","v":{"$error":"#N/A"}},{"$f":"LOOKUP(C173,MassDataLink!$A$4:$A$5048,MassDataLink!$E$4:$E$5048)","v":{"$error":"#N/A"}},{"$f":"LOOKUP(C173,MassDataLink!$A$4:$A$5048,MassDataLink!$F$4:$F$5048)","v":{"$error":"#N/A"}},null,60,"- - -","- - -"]
[null,61,-1,{"$f":"LOOKUP(C174,MassDataLink!$A$4:$A$5048,MassDataLink!$B$4:$B$5048)","v":{"$error":"#N/A"}},{"$f":"LOOKUP(C174,MassDataLink!$A$4:$A$5048,MassDataLink!$C$4:$C$5048)","v":{"$error":"#N/A"}},{"$f":"LOOKUP(C174,MassDataLink!$A$4:$A$5048,MassDataLink!$D$4:$D$5048)","v":{"$error":"#N/A"}},{"$f":"LOOKUP(C174,MassDataLink!$A$4:$A$5048,MassDataLink!$E$4:$E$5048)","v":{"$error":"#N/A"}},{"$f":"LOOKUP(C174,MassDataLink!$A$4:$A$5048,MassDataLink!$F$4:$F$5048)","v":{"$error":"#N/A"}},null,61,"- - -","- - -"]
[null,62,-1,{"$f":"LOOKUP(C175,MassDataLink!$A$4:$A$5048,MassDataLink!$B$4:$B$5048)","v":{"$error":"#N/A"}},{"$f":"LOOKUP(C175,MassDataLink!$A$4:$A$5048,MassDataLink!$C$4:$C$5048)","v":{"$error":"#N/A"}},{"$f":"LOOKUP(C175,MassDataLink!$A$4:$A$5048,MassDataLink!$D$4:$D$5048)","v":{"$error":"#N/A"}},{"$f":"LOOKUP(C175,MassDataLink!$A$4:$A$5048,MassDataLink!$E$4:$E$5048)","v":{"$error":"#N/A"}},{"$f":"LOOKUP(C175,MassDataLink!$A$4:$A$5048,MassDataLink!$F$4:$F$5048)","v":{"$error":"#N/A"}},null,62,"- - -","- - -"]
[null,63,-1,{"$f":"LOOKUP(C176,MassDataLink!$A$4:$A$5048,MassDataLink!$B$4:$B$5048)","v":{"$error":"#N/A"}},{"$f":"LOOKUP(C176,MassDataLink!$A$4:$A$5048,MassDataLink!$C$4:$C$5048)","v":{"$error":"#N/A"}},{"$f":"LOOKUP(C176,MassDataLink!$A$4:$A$5048,MassDataLink!$D$4:$D$5048)","v":{"$error":"#N/A"}},{"$f":"LOOKUP(C176,MassDataLink!$A$4:$A$5048,MassDataLink!$E$4:$E$5048)","v":{"$error":"#N/A"}},{"$f":"LOOKUP(C176,MassDataLink!$A$4:$A$5048,MassDataLink!$F$4:$F$5048)","v":{"$error":"#N/A"}},null,63,"- - -","- - -"]
[null,64,-1,{"$f":"LOOKUP(C177,MassDataLink!$A$4:$A$5048,MassDataLink!$B$4:$B$5048)","v":{"$error":"#N/A"}},{"$f":"LOOKUP(C177,MassDataLink!$A$4:$A$5048,MassDataLink!$C$4:$C$5048)","v":{"$error":"#N/A"}},{"$f":"LOOKUP(C177,MassDataLink!$A$4:$A$5048,MassDataLink!$D$4:$D$5048)","v":{"$error":"#N/A"}},{"$f":"LOOKUP(C177,MassDataLink!$A$4:$A$5048,MassDataLink!$E$4:$E$5048)","v":{"$error":"#N/A"}},{"$f":"LOOKUP(C177,MassDataLink!$A$4:$A$5048,MassDataLink!$F$4:$F$5048)","v":{"$error":"#N/A"}},null,64,"- - -","- - -"]
[null,65,-1,{"$f":"LOOKUP(C178,MassDataLink!$A$4:$A$5048,MassDataLink!$B$4:$B$5048)","v":{"$error":"#N/A"}},{"$f":"LOOKUP(C178,MassDataLink!$A$4:$A$5048,MassDataLink!$C$4:$C$5048)","v":{"$error":"#N/A"}},{"$f":"LOOKUP(C178,MassDataLink!$A$4:$A$5048,MassDataLink!$D$4:$D$5048)","v":{"$error":"#N/A"}},{"$f":"LOOKUP(C178,MassDataLink!$A$4:$A$5048,MassDataLink!$E$4:$E$5048)","v":{"$error":"#N/A"}},{"$f":"LOOKUP(C178,MassDataLink!$A$4:$A$5048,MassDataLink!$F$4:$F$5048)","v":{"$error":"#N/A"}},null,65,"- - -","- - -"]
[null,66,-1,{"$f":"LOOKUP(C179,MassDataLink!$A$4:$A$5048,MassDataLink!$B$4:$B$5048)","v":{"$error":"#N/A"}},{"$f":"LOOKUP(C179,MassDataLink!$A$4:$A$5048,MassDataLink!$C$4:$C$5048)","v":{"$error":"#N/A"}},{"$f":"LOOKUP(C179,MassDataLink!$A$4:$A$5048,MassDataLink!$D$4:$D$5048)","v":{"$error":"#N/A"}},{"$f":"LOOKUP(C179,MassDataLink!$A$4:$A$5048,MassDataLink!$E$4:$E$5048)","v":{"$error":"#N/A"}},{"$f":"LOOKUP(C179,MassDataLink!$A$4:$A$5048,MassDataLink!$F$4:$F$5048)","v":{"$error":"#N/A"}},null,66,"- - -","- - -"]
[null,67,-1,{"$f":"LOOKUP(C180,MassDataLink!$A$4:$A$5048,MassDataLink!$B$4:$B$5048)","v":{"$error":"#N/A"}},{"$f":"LOOKUP(C180,MassDataLink!$A$4:$A$5048,MassDataLink!$C$4:$C$5048)","v":{"$error":"#N/A"}},{"$f":"LOOKUP(C180,MassDataLink!$A$4:$A$5048,MassDataLink!$D$4:$D$5048)","v":{"$error":"#N/A"}},{"$f":"LOOKUP(C180,MassDataLink!$A$4:$A$5048,MassDataLink!$E$4:$E$5048)","v":{"$error":"#N/A"}},{"$f":"LOOKUP(C180,MassDataLink!$A$4:$A$5048,MassDataLink!$F$4:$F$5048)","v":{"$error":"#N/A"}},null,67,"- - -","- - -"]
[null,68,-1,{"$f":"LOOKUP(C181,MassDataLink!$A$4:$A$5048,MassDataLink!$B$4:$B$5048)","v":{"$error":"#N/A"}},{"$f":"LOOKUP(C181,MassDataLink!$A$4:$A$5048,MassDataLink!$C$4:$C$5048)","v":{"$error":"#N/A"}},{"$f":"LOOKUP(C181,MassDataLink!$A$4:$A$5048,MassDataLink!$D$4:$D$5048)","v":{"$error":"#N/A"}},{"$f":"LOOKUP(C181,MassDataLink!$A$4:$A$5048,MassDataLink!$E$4:$E$5048)","v":{"$error":"#N/A"}},{"$f":"LOOKUP(C181,MassDataLink!$A$4:$A$5048,MassDataLink!$F$4:$F$5048)","v":{"$error":"#N/A"}},null,68,"- - -","- - -"]
[null,69,-1,{"$f":"LOOKUP(C182,MassDataLink!$A$4:$A$5048,MassDataLink!$B$4:$B$5048)","v":{"$error":"#N/A"}},{"$f":"LOOKUP(C182,MassDataLink!$A$4:$A$5048,MassDataLink!$C$4:$C$5048)","v":{"$error":"#N/A"}},{"$f":"LOOKUP(C182,MassDataLink!$A$4:$A$5048,MassDataLink!$D$4:$D$5048)","v":{"$error":"#N/A"}},{"$f":"LOOKUP(C182,MassDataLink!$A$4:$A$5048,MassDataLink!$E$4:$E$5048)","v":{"$error":"#N/A"}},{"$f":"LOOKUP(C182,MassDataLink!$A$4:$A$5048,MassDataLink!$F$4:$F$5048)","v":{"$error":"#N/A"}},null,69,"- - -","- - -"]
[null,70,-1,{"$f":"LOOKUP(C183,MassDataLink!$A$4:$A$5048,MassDataLink!$B$4:$B$5048)","v":{"$error":"#N/A"}},{"$f":"LOOKUP(C183,MassDataLink!$A$4:$A$5048,MassDataLink!$C$4:$C$5048)","v":{"$error":"#N/A"}},{"$f":"LOOKUP(C183,MassDataLink!$A$4:$A$5048,MassDataLink!$D$4:$D$5048)","v":{"$error":"#N/A"}},{"$f":"LOOKUP(C183,MassDataLink!$A$4:$A$5048,MassDataLink!$E$4:$E$5048)","v":{"$error":"#N/A"}},{"$f":"LOOKUP(C183,MassDataLink!$A$4:$A$5048,MassDataLink!$F$4:$F$5048)","v":{"$error":"#N/A"}},null,70,"- - -","- - -"]
[null,71,-1,{"$f":"LOOKUP(C184,MassDataLink!$A$4:$A$5048,MassDataLink!$B$4:$B$5048)","v":{"$error":"#N/A"}},{"$f":"LOOKUP(C184,MassDataLink!$A$4:$A$5048,MassDataLink!$C$4:$C$5048)","v":{"$error":"#N/A"}},{"$f":"LOOKUP(C184,MassDataLink!$A$4:$A$5048,MassDataLink!$D$4:$D$5048)","v":{"$error":"#N/A"}},{"$f":"LOOKUP(C184,MassDataLink!$A$4:$A$5048,MassDataLink!$E$4:$E$5048)","v":{"$error":"#N/A"}},{"$f":"LOOKUP(C184,MassDataLink!$A$4:$A$5048,MassDataLink!$F$4:$F$5048)","v":{"$error":"#N/A"}},null,71,"- - -","- - -"]
[null,72,-1,{"$f":"LOOKUP(C185,MassDataLink!$A$4:$A$5048,MassDataLink!$B$4:$B$5048)","v":{"$error":"#N/A"}},{"$f":"LOOKUP(C185,MassDataLink!$A$4:$A$5048,MassDataLink!$C$4:$C$5048)","v":{"$error":"#N/A"}},{"$f":"LOOKUP(C185,MassDataLink!$A$4:$A$5048,MassDataLink!$D$4:$D$5048)","v":{"$error":"#N/A"}},{"$f":"LOOKUP(C185,MassDataLink!$A$4:$A$5048,MassDataLink!$E$4:$E$5048)","v":{"$error":"#N/A"}},{"$f":"LOOKUP(C185,MassDataLink!$A$4:$A$5048,MassDataLink!$F$4:$F$5048)","v":{"$error":"#N/A"}},null,72,"- - -","- - -"]
[null,73,-1,{"$f":"LOOKUP(C186,MassDataLink!$A$4:$A$5048,MassDataLink!$B$4:$B$5048)","v":{"$error":"#N/A"}},{"$f":"LOOKUP(C186,MassDataLink!$A$4:$A$5048,MassDataLink!$C$4:$C$5048)","v":{"$error":"#N/A"}},{"$f":"LOOKUP(C186,MassDataLink!$A$4:$A$5048,MassDataLink!$D$4:$D$5048)","v":{"$error":"#N/A"}},{"$f":"LOOKUP(C186,MassDataLink!$A$4:$A$5048,MassDataLink!$E$4:$E$5048)","v":{"$error":"#N/A"}},{"$f":"LOOKUP(C186,MassDataLink!$A$4:$A$5048,MassDataLink!$F$4:$F$5048)","v":{"$error":"#N/A"}},null,73,"- - -","- - -"]
[null,74,-1,{"$f":"LOOKUP(C187,MassDataLink!$A$4:$A$5048,MassDataLink!$B$4:$B$5048)","v":{"$error":"#N/A"}},{"$f":"LOOKUP(C187,MassDataLink!$A$4:$A$5048,MassDataLink!$C$4:$C$5048)","v":{"$error":"#N/A"}},{"$f":"LOOKUP(C187,MassDataLink!$A$4:$A$5048,MassDataLink!$D$4:$D$5048)","v":{"$error":"#N/A"}},{"$f":"LOOKUP(C187,MassDataLink!$A$4:$A$5048,MassDataLink!$E$4:$E$5048)","v":{"$error":"#N/A"}},{"$f":"LOOKUP(C187,MassDataLink!$A$4:$A$5048,MassDataLink!$F$4:$F$5048)","v":{"$error":"#N/A"}},null,74,"- - -","- - -"]
[null,75,-1,{"$f":"LOOKUP(C188,MassDataLink!$A$4:$A$5048,MassDataLink!$B$4:$B$5048)","v":{"$error":"#N/A"}},{"$f":"LOOKUP(C188,MassDataLink!$A$4:$A$5048,MassDataLink!$C$4:$C$5048)","v":{"$error":"#N/A"}},{"$f":"LOOKUP(C188,MassDataLink!$A$4:$A$5048,MassDataLink!$D$4:$D$5048)","v":{"$error":"#N/A"}},{"$f":"LOOKUP(C188,MassDataLink!$A$4:$A$5048,MassDataLink!$E$4:$E$5048)","v":{"$error":"#N/A"}},{"$f":"LOOKUP(C188,MassDataLink!$A$4:$A$5048,MassDataLink!$F$4:$F$5048)","v":{"$error":"#N/A"}},null,75,"- - -","- - -"]
[null,76,-1,{"$f":"LOOKUP(C189,MassDataLink!$A$4:$A$5048,MassDataLink!$B$4:$B$5048)","v":{"$error":"#N/A"}},{"$f":"LOOKUP(C189,MassDataLink!$A$4:$A$5048,MassDataLink!$C$4:$C$5048)","v":{"$error":"#N/A"}},{"$f":"LOOKUP(C189,MassDataLink!$A$4:$A$5048,MassDataLink!$D$4:$D$5048)","v":{"$error":"#N/A"}},{"$f":"LOOKUP(C189,MassDataLink!$A$4:$A$5048,MassDataLink!$E$4:$E$5048)","v":{"$error":"#N/A"}},{"$f":"LOOKUP(C189,MassDataLink!$A$4:$A$5048,MassDataLink!$F$4:$F$5048)","v":{"$error":"#N/A"}},null,76,"- - -","- - -"]
[null,77,-1,{"$f":"LOOKUP(C190,MassDataLink!$A$4:$A$5048,MassDataLink!$B$4:$B$5048)","v":{"$error":"#N/A"}},{"$f":"LOOKUP(C190,MassDataLink!$A$4:$A$5048,MassDataLink!$C$4:$C$5048)","v":{"$error":"#N/A"}},{"$f":"LOOKUP(C190,MassDataLink!$A$4:$A$5048,MassDataLink!$D$4:$D$5048)","v":{"$error":"#N/A"}},{"$f":"LOOKUP(C190,MassDataLink!$A$4:$A$5048,MassDataLink!$E$4:$E$5048)","v":{"$error":"#N/A"}},{"$f":"LOOKUP(C190,MassDataLink!$A$4:$A$5048,MassDataLink!$F$4:$F$5048)","v":{"$error":"#N/A"}},null,77,"- - -","- - -"]
[null,78,-1,{"$f":"LOOKUP(C191,MassDataLink!$A$4:$A$5048,MassDataLink!$B$4:$B$5048)","v":{"$error":"#N/A"}},{"$f":"LOOKUP(C191,MassDataLink!$A$4:$A$5048,MassDataLink!$C$4:$C$5048)","v":{"$error":"#N/A"}},{"$f":"LOOKUP(C191,MassDataLink!$A$4:$A$5048,MassDataLink!$D$4:$D$5048)","v":{"$error":"#N/A"}},{"$f":"LOOKUP(C191,MassDataLink!$A$4:$A$5048,MassDataLink!$E$4:$E$5048)","v":{"$error":"#N/A"}},{"$f":"LOOKUP(C191,MassDataLink!$A$4:$A$5048,MassDataLink!$F$4:$F$5048)","v":{"$error":"#N/A"}},null,78,"- - -","- - -"]
[null,79,-1,{"$f":"LOOKUP(C192,MassDataLink!$A$4:$A$5048,MassDataLink!$B$4:$B$5048)","v":{"$error":"#N/A"}},{"$f":"LOOKUP(C192,MassDataLink!$A$4:$A$5048,MassDataLink!$C$4:$C$5048)","v":{"$error":"#N/A"}},{"$f":"LOOKUP(C192,MassDataLink!$A$4:$A$5048,MassDataLink!$D$4:$D$5048)","v":{"$error":"#N/A"}},{"$f":"LOOKUP(C192,MassDataLink!$A$4:$A$5048,MassDataLink!$E$4:$E$5048)","v":{"$error":"#N/A"}},{"$f":"LOOKUP(C192,MassDataLink!$A$4:$A$5048,MassDataLink!$F$4:$F$5048)","v":{"$error":"#N/A"}},null,79,"- - -","- - -"]
[null,80,-1,{"$f":"LOOKUP(C193,MassDataLink!$A$4:$A$5048,MassDataLink!$B$4:$B$5048)","v":{"$error":"#N/A"}},{"$f":"LOOKUP(C193,MassDataLink!$A$4:$A$5048,MassDataLink!$C$4:$C$5048)","v":{"$error":"#N/A"}},{"$f":"LOOKUP(C193,MassDataLink!$A$4:$A$5048,MassDataLink!$D$4:$D$5048)","v":{"$error":"#N/A"}},{"$f":"LOOKUP(C193,MassDataLink!$A$4:$A$5048,MassDataLink!$E$4:$E$5048)","v":{"$error":"#N/A"}},{"$f":"LOOKUP(C193,MassDataLink!$A$4:$A$5048,MassDataLink!$F$4:$F$5048)","v":{"$error":"#N/A"}},null,80,"- - -","- - -"]
[null,81,-1,{"$f":"LOOKUP(C194,MassDataLink!$A$4:$A$5048,MassDataLink!$B$4:$B$5048)","v":{"$error":"#N/A"}},{"$f":"LOOKUP(C194,MassDataLink!$A$4:$A$5048,MassDataLink!$C$4:$C$5048)","v":{"$error":"#N/A"}},{"$f":"LOOKUP(C194,MassDataLink!$A$4:$A$5048,MassDataLink!$D$4:$D$5048)","v":{"$error":"#N/A"}},{"$f":"LOOKUP(C194,MassDataLink!$A$4:$A$5048,MassDataLink!$E$4:$E$5048)","v":{"$error":"#N/A"}},{"$f":"LOOKUP(C194,MassDataLink!$A$4:$A$5048,MassDataLink!$F$4:$F$5048)","v":{"$error":"#N/A"}},null,81,"- - -","- - -"]
[null,82,-1,{"$f":"LOOKUP(C195,MassDataLink!$A$4:$A$5048,MassDataLink!$B$4:$B$5048)","v":{"$error":"#N/A"}},{"$f":"LOOKUP(C195,MassDataLink!$A$4:$A$5048,MassDataLink!$C$4:$C$5048)","v":{"$error":"#N/A"}},{"$f":"LOOKUP(C195,MassDataLink!$A$4:$A$5048,MassDataLink!$D$4:$D$5048)","v":{"$error":"#N/A"}},{"$f":"LOOKUP(C195,MassDataLink!$A$4:$A$5048,MassDataLink!$E$4:$E$5048)","v":{"$error":"#N/A"}},{"$f":"LOOKUP(C195,MassDataLink!$A$4:$A$5048,MassDataLink!$F$4:$F$5048)","v":{"$error":"#N/A"}},null,82,"- - -","- - -"]
[null,83,-1,{"$f":"LOOKUP(C196,MassDataLink!$A$4:$A$5048,MassDataLink!$B$4:$B$5048)","v":{"$error":"#N/A"}},{"$f":"LOOKUP(C196,MassDataLink!$A$4:$A$5048,MassDataLink!$C$4:$C$5048)","v":{"$error":"#N/A"}},{"$f":"LOOKUP(C196,MassDataLink!$A$4:$A$5048,MassDataLink!$D$4:$D$5048)","v":{"$error":"#N/A"}},{"$f":"LOOKUP(C196,MassDataLink!$A$4:$A$5048,MassDataLink!$E$4:$E$5048)","v":{"$error":"#N/A"}},{"$f":"LOOKUP(C196,MassDataLink!$A$4:$A$5048,MassDataLink!$F$4:$F$5048)","v":{"$error":"#N/A"}},null,83,"- - -","- - -"]
[null,84,-1,{"$f":"LOOKUP(C197,MassDataLink!$A$4:$A$5048,MassDataLink!$B$4:$B$5048)","v":{"$error":"#N/A"}},{"$f":"LOOKUP(C197,MassDataLink!$A$4:$A$5048,MassDataLink!$C$4:$C$5048)","v":{"$error":"#N/A"}},{"$f":"LOOKUP(C197,MassDataLink!$A$4:$A$5048,MassDataLink!$D$4:$D$5048)","v":{"$error":"#N/A"}},{"$f":"LOOKUP(C197,MassDataLink!$A$4:$A$5048,MassDataLink!$E$4:$E$5048)","v":{"$error":"#N/A"}},{"$f":"LOOKUP(C197,MassDataLink!$A$4:$A$5048,MassDataLink!$F$4:$F$5048)","v":{"$error":"#N/A"}},null,84,"- - -","- - -"]
[null,85,-1,{"$f":"LOOKUP(C198,MassDataLink!$A$4:$A$5048,MassDataLink!$B$4:$B$5048)","v":{"$error":"#N/A"}},{"$f":"LOOKUP(C198,MassDataLink!$A$4:$A$5048,MassDataLink!$C$4:$C$5048)","v":{"$error":"#N/A"}},{"$f":"LOOKUP(C198,MassDataLink!$A$4:$A$5048,MassDataLink!$D$4:$D$5048)","v":{"$error":"#N/A"}},{"$f":"LOOKUP(C198,MassDataLink!$A$4:$A$5048,MassDataLink!$E$4:$E$5048)","v":{"$error":"#N/A"}},{"$f":"LOOKUP(C198,MassDataLink!$A$4:$A$5048,MassDataLink!$F$4:$F$5048)","v":{"$error":"#N/A"}},null,85,"- - -","- - -"]
[null,86,-1,{"$f":"LOOKUP(C199,MassDataLink!$A$4:$A$5048,MassDataLink!$B$4:$B$5048)","v":{"$error":"#N/A"}},{"$f":"LOOKUP(C199,MassDataLink!$A$4:$A$5048,MassDataLink!$C$4:$C$5048)","v":{"$error":"#N/A"}},{"$f":"LOOKUP(C199,MassDataLink!$A$4:$A$5048,MassDataLink!$D$4:$D$5048)","v":{"$error":"#N/A"}},{"$f":"LOOKUP(C199,MassDataLink!$A$4:$A$5048,MassDataLink!$E$4:$E$5048)","v":{"$error":"#N/A"}},{"$f":"LOOKUP(C199,MassDataLink!$A$4:$A$5048,MassDataLink!$F$4:$F$5048)","v":{"$error":"#N/A"}},null,86,"- - -","- - -"]
[null,87,-1,{"$f":"LOOKUP(C200,MassDataLink!$A$4:$A$5048,MassDataLink!$B$4:$B$5048)","v":{"$error":"#N/A"}},{"$f":"LOOKUP(C200,MassDataLink!$A$4:$A$5048,MassDataLink!$C$4:$C$5048)","v":{"$error":"#N/A"}},{"$f":"LOOKUP(C200,MassDataLink!$A$4:$A$5048,MassDataLink!$D$4:$D$5048)","v":{"$error":"#N/A"}},{"$f":"LOOKUP(C200,MassDataLink!$A$4:$A$5048,MassDataLink!$E$4:$E$5048)","v":{"$error":"#N/A"}},{"$f":"LOOKUP(C200,MassDataLink!$A$4:$A$5048,MassDataLink!$F$4:$F$5048)","v":{"$error":"#N/A"}},null,87,"- - -","- - -"]
[null,88,-1,{"$f":"LOOKUP(C201,MassDataLink!$A$4:$A$5048,MassDataLink!$B$4:$B$5048)","v":{"$error":"#N/A"}},{"$f":"LOOKUP(C201,MassDataLink!$A$4:$A$5048,MassDataLink!$C$4:$C$5048)","v":{"$error":"#N/A"}},{"$f":"LOOKUP(C201,MassDataLink!$A$4:$A$5048,MassDataLink!$D$4:$D$5048)","v":{"$error":"#N/A"}},{"$f":"LOOKUP(C201,MassDataLink!$A$4:$A$5048,MassDataLink!$E$4:$E$5048)","v":{"$error":"#N/A"}},{"$f":"LOOKUP(C201,MassDataLink!$A$4:$A$5048,MassDataLink!$F$4:$F$5048)","v":{"$error":"#N/A"}},null,88,"- - -","- - -"]
[null,89,-1,{"$f":"LOOKUP(C202,MassDataLink!$A$4:$A$5048,MassDataLink!$B$4:$B$5048)","v":{"$error":"#N/A"}},{"$f":"LOOKUP(C202,MassDataLink!$A$4:$A$5048,MassDataLink!$C$4:$C$5048)","v":{"$error":"#N/A"}},{"$f":"LOOKUP(C202,MassDataLink!$A$4:$A$5048,MassDataLink!$D$4:$D$5048)","v":{"$error":"#N/A"}},{"$f":"LOOKUP(C202,MassDataLink!$A$4:$A$5048,MassDataLink!$E$4:$E$5048)","v":{"$error":"#N/A"}},{"$f":"LOOKUP(C202,MassDataLink!$A$4:$A$5048,MassDataLink!$F$4:$F$5048)","v":{"$error":"#N/A"}},null,89,"- - -","- - -"]
[null,90,-1,{"$f":"LOOKUP(C203,MassDataLink!$A$4:$A$5048,MassDataLink!$B$4:$B$5048)","v":{"$error":"#N/A"}},{"$f":"LOOKUP(C203,MassDataLink!$A$4:$A$5048,MassDataLink!$C$4:$C$5048)","v":{"$error":"#N/A"}},{"$f":"LOOKUP(C203,MassDataLink!$A$4:$A$5048,MassDataLink!$D$4:$D$5048)","v":{"$error":"#N/A"}},{"$f":"LOOKUP(C203,MassDataLink!$A$4:$A$5048,MassDataLink!$E$4:$E$5048)","v":{"$error":"#N/A"}},{"$f":"LOOKUP(C203,MassDataLink!$A$4:$A$5048,MassDataLink!$F$4:$F$5048)","v":{"$error":"#N/A"}},null,90,"- - -","- - -"]
[null,91,-1,{"$f":"LOOKUP(C204,MassDataLink!$A$4:$A$5048,MassDataLink!$B$4:$B$5048)","v":{"$error":"#N/A"}},{"$f":"LOOKUP(C204,MassDataLink!$A$4:$A$5048,MassDataLink!$C$4:$C$5048)","v":{"$error":"#N/A"}},{"$f":"LOOKUP(C204,MassDataLink!$A$4:$A$5048,MassDataLink!$D$4:$D$5048)","v":{"$error":"#N/A"}},{"$f":"LOOKUP(C204,MassDataLink!$A$4:$A$5048,MassDataLink!$E$4:$E$5048)","v":{"$error":"#N/A"}},{"$f":"LOOKUP(C204,MassDataLink!$A$4:$A$5048,MassDataLink!$F$4:$F$5048)","v":{"$error":"#N/A"}},null,91,"- - -","- - -"]
[null,92,-1,{"$f":"LOOKUP(C205,MassDataLink!$A$4:$A$5048,MassDataLink!$B$4:$B$5048)","v":{"$error":"#N/A"}},{"$f":"LOOKUP(C205,MassDataLink!$A$4:$A$5048,MassDataLink!$C$4:$C$5048)","v":{"$error":"#N/A"}},{"$f":"LOOKUP(C205,MassDataLink!$A$4:$A$5048,MassDataLink!$D$4:$D$5048)","v":{"$error":"#N/A"}},{"$f":"LOOKUP(C205,MassDataLink!$A$4:$A$5048,MassDataLink!$E$4:$E$5048)","v":{"$error":"#N/A"}},{"$f":"LOOKUP(C205,MassDataLink!$A$4:$A$5048,MassDataLink!$F$4:$F$5048)","v":{"$error":"#N/A"}},null,92,"- - -","- - -"]
[null,93,-1,{"$f":"LOOKUP(C206,MassDataLink!$A$4:$A$5048,MassDataLink!$B$4:$B$5048)","v":{"$error":"#N/A"}},{"$f":"LOOKUP(C206,MassDataLink!$A$4:$A$5048,MassDataLink!$C$4:$C$5048)","v":{"$error":"#N/A"}},{"$f":"LOOKUP(C206,MassDataLink!$A$4:$A$5048,MassDataLink!$D$4:$D$5048)","v":{"$error":"#N/A"}},{"$f":"LOOKUP(C206,MassDataLink!$A$4:$A$5048,MassDataLink!$E$4:$E$5048)","v":{"$error":"#N/A"}},{"$f":"LOOKUP(C206,MassDataLink!$A$4:$A$5048,MassDataLink!$F$4:$F$5048)","v":{"$error":"#N/A"}},null,93,"- - -","- - -"]
[null,94,-1,{"$f":"LOOKUP(C207,MassDataLink!$A$4:$A$5048,MassDataLink!$B$4:$B$5048)","v":{"$error":"#N/A"}},{"$f":"LOOKUP(C207,MassDataLink!$A$4:$A$5048,MassDataLink!$C$4:$C$5048)","v":{"$error":"#N/A"}},{"$f":"LOOKUP(C207,MassDataLink!$A$4:$A$5048,MassDataLink!$D$4:$D$5048)","v":{"$error":"#N/A"}},{"$f":"LOOKUP(C207,MassDataLink!$A$4:$A$5048,MassDataLink!$E$4:$E$5048)","v":{"$error":"#N/A"}},{"$f":"LOOKUP(C207,MassDataLink!$A$4:$A$5048,MassDataLink!$F$4:$F$5048)","v":{"$error":"#N/A"}},null,94,"- - -","- - -"]
[null,95,-1,{"$f":"LOOKUP(C208,MassDataLink!$A$4:$A$5048,MassDataLink!$B$4:$B$5048)","v":{"$error":"#N/A"}},{"$f":"LOOKUP(C208,MassDataLink!$A$4:$A$5048,MassDataLink!$C$4:$C$5048)","v":{"$error":"#N/A"}},{"$f":"LOOKUP(C208,MassDataLink!$A$4:$A$5048,MassDataLink!$D$4:$D$5048)","v":{"$error":"#N/A"}},{"$f":"LOOKUP(C208,MassDataLink!$A$4:$A$5048,MassDataLink!$E$4:$E$5048)","v":{"$error":"#N/A"}},{"$f":"LOOKUP(C208,MassDataLink!$A$4:$A$5048,MassDataLink!$F$4:$F$5048)","v":{"$error":"#N/A"}},null,95,"- - -","- - -"]
[null,96,-1,{"$f":"LOOKUP(C209,MassDataLink!$A$4:$A$5048,MassDataLink!$B$4:$B$5048)","v":{"$error":"#N/A"}},{"$f":"LOOKUP(C209,MassDataLink!$A$4:$A$5048,MassDataLink!$C$4:$C$5048)","v":{"$error":"#N/A"}},{"$f":"LOOKUP(C209,MassDataLink!$A$4:$A$5048,MassDataLink!$D$4:$D$5048)","v":{"$error":"#N/A"}},{"$f":"LOOKUP(C209,MassDataLink!$A$4:$A$5048,MassDataLink!$E$4:$E$5048)","v":{"$error":"#N/A"}},{"$f":"LOOKUP(C209,MassDataLink!$A$4:$A$5048,MassDataLink!$F$4:$F$5048)","v":{"$error":"#N/A"}},null,96,"- - -","- - -"]
[null,97,-1,{"$f":"LOOKUP(C210,MassDataLink!$A$4:$A$5048,MassDataLink!$B$4:$B$5048)","v":{"$error":"#N/A"}},{"$f":"LOOKUP(C210,MassDataLink!$A$4:$A$5048,MassDataLink!$C$4:$C$5048)","v":{"$error":"#N/A"}},{"$f":"LOOKUP(C210,MassDataLink!$A$4:$A$5048,MassDataLink!$D$4:$D$5048)","v":{"$error":"#N/A"}},{"$f":"LOOKUP(C210,MassDataLink!$A$4:$A$5048,MassDataLink!$E$4:$E$5048)","v":{"$error":"#N/A"}},{"$f":"LOOKUP(C210,MassDataLink!$A$4:$A$5048,MassDataLink!$F$4:$F$5048)","v":{"$error":"#N/A"}},null,97,"- - -","- - -"]
[null,98,-1,{"$f":"LOOKUP(C211,MassDataLink!$A$4:$A$5048,MassDataLink!$B$4:$B$5048)","v":{"$error":"#N/A"}},{"$f":"LOOKUP(C211,MassDataLink!$A$4:$A$5048,MassDataLink!$C$4:$C$5048)","v":{"$error":"#N/A"}},{"$f":"LOOKUP(C211,MassDataLink!$A$4:$A$5048,MassDataLink!$D$4:$D$5048)","v":{"$error":"#N/A"}},{"$f":"LOOKUP(C211,MassDataLink!$A$4:$A$5048,MassDataLink!$E$4:$E$5048)","v":{"$error":"#N/A"}},{"$f":"LOOKUP(C211,MassDataLink!$A$4:$A$5048,MassDataLink!$F$4:$F$5048)","v":{"$error":"#N/A"}},null,98,"- - -","- - -"]
[null,99,-1,{"$f":"LOOKUP(C212,MassDataLink!$A$4:$A$5048,MassDataLink!$B$4:$B$5048)","v":{"$error":"#N/A"}},{"$f":"LOOKUP(C212,MassDataLink!$A$4:$A$5048,MassDataLink!$C$4:$C$5048)","v":{"$error":"#N/A"}},{"$f":"LOOKUP(C212,MassDataLink!$A$4:$A$5048,MassDataLink!$D$4:$D$5048)","v":{"$error":"#N/A"}},{"$f":"LOOKUP(C212,MassDataLink!$A$4:$A$5048,MassDataLink!$E$4:$E$5048)","v":{"$error":"#N/A"}},{"$f":"LOOKUP(C212,MassDataLink!$A$4:$A$5048,MassDataLink!$F$4:$F$5048)","v":{"$error":"#N/A"}},null,99,"- - -","- - -"]
[null,100,-1,{"$f":"LOOKUP(C213,MassDataLink!$A$4:$A$5048,MassDataLink!$B$4:$B$5048)","v":{"$error":"#N/A"}},{"$f":"LOOKUP(C213,MassDataLink!$A$4:$A$5048,MassDataLink!$C$4:$C$5048)","v":{"$error":"#N/A"}},{"$f":"LOOKUP(C213,MassDataLink!$A$4:$A$5048,MassDataLink!$D$4:$D$5048)","v":{"$error":"#N/A"}},{"$f":"LOOKUP(C213,MassDataLink!$A$4:$A$5048,MassDataLink!$E$4:$E$5048)","v":{"$error":"#N/A"}},{"$f":"LOOKUP(C213,MassDataLink!$A$4:$A$5048,MassDataLink!$F$4:$F$5048)","v":{"$error":"#N/A"}},null,100,"- - -","- - -"]
[null,101,-1,{"$f":"LOOKUP(C214,MassDataLink!$A$4:$A$5048,MassDataLink!$B$4:$B$5048)","v":{"$error":"#N/A"}},{"$f":"LOOKUP(C214,MassDataLink!$A$4:$A$5048,MassDataLink!$C$4:$C$5048)","v":{"$error":"#N/A"}},{"$f":"LOOKUP(C214,MassDataLink!$A$4:$A$5048,MassDataLink!$D$4:$D$5048)","v":{"$error":"#N/A"}},{"$f":"LOOKUP(C214,MassDataLink!$A$4:$A$5048,MassDataLink!$E$4:$E$5048)","v":{"$error":"#N/A"}},{"$f":"LOOKUP(C214,MassDataLink!$A$4:$A$5048,MassDataLink!$F$4:$F$5048)","v":{"$error":"#N/A"}},null,101,"- - -","- - -"]
[null,102,-1,{"$f":"LOOKUP(C215,MassDataLink!$A$4:$A$5048,MassDataLink!$B$4:$B$5048)","v":{"$error":"#N/A"}},{"$f":"LOOKUP(C215,MassDataLink!$A$4:$A$5048,MassDataLink!$C$4:$C$5048)","v":{"$error":"#N/A"}},{"$f":"LOOKUP(C215,MassDataLink!$A$4:$A$5048,MassDataLink!$D$4:$D$5048)","v":{"$error":"#N/A"}},{"$f":"LOOKUP(C215,MassDataLink!$A$4:$A$5048,MassDataLink!$E$4:$E$5048)","v":{"$error":"#N/A"}},{"$f":"LOOKUP(C215,MassDataLink!$A$4:$A$5048,MassDataLink!$F$4:$F$5048)","v":{"$error":"#N/A"}},null,102,"- - -","- - -"]
[null,103,-1,{"$f":"LOOKUP(C216,MassDataLink!$A$4:$A$5048,MassDataLink!$B$4:$B$5048)","v":{"$error":"#N/A"}},{"$f":"LOOKUP(C216,MassDataLink!$A$4:$A$5048,MassDataLink!$C$4:$C$5048)","v":{"$error":"#N/A"}},{"$f":"LOOKUP(C216,MassDataLink!$A$4:$A$5048,MassDataLink!$D$4:$D$5048)","v":{"$error":"#N/A"}},{"$f":"LOOKUP(C216,MassDataLink!$A$4:$A$5048,MassDataLink!$E$4:$E$5048)","v":{"$error":"#N/A"}},{"$f":"LOOKUP(C216,MassDataLink!$A$4:$A$5048,MassDataLink!$F$4:$F$5048)","v":{"$error":"#N/A"}},null,103,"- - -","- - -"]
[null,104,-1,{"$f":"LOOKUP(C217,MassDataLink!$A$4:$A$5048,MassDataLink!$B$4:$B$5048)","v":{"$error":"#N/A"}},{"$f":"LOOKUP(C217,MassDataLink!$A$4:$A$5048,MassDataLink!$C$4:$C$5048)","v":{"$error":"#N/A"}},{"$f":"LOOKUP(C217,MassDataLink!$A$4:$A$5048,MassDataLink!$D$4:$D$5048)","v":{"$error":"#N/A"}},{"$f":"LOOKUP(C217,MassDataLink!$A$4:$A$5048,MassDataLink!$E$4:$E$5048)","v":{"$error":"#N/A"}},{"$f":"LOOKUP(C217,MassDataLink!$A$4:$A$5048,MassDataLink!$F$4:$F$5048)","v":{"$error":"#N/A"}},null,104,"- - -","- - -"]
[null,105,-1,{"$f":"LOOKUP(C218,MassDataLink!$A$4:$A$5048,MassDataLink!$B$4:$B$5048)","v":{"$error":"#N/A"}},{"$f":"LOOKUP(C218,MassDataLink!$A$4:$A$5048,MassDataLink!$C$4:$C$5048)","v":{"$error":"#N/A"}},{"$f":"LOOKUP(C218,MassDataLink!$A$4:$A$5048,MassDataLink!$D$4:$D$5048)","v":{"$error":"#N/A"}},{"$f":"LOOKUP(C218,MassDataLink!$A$4:$A$5048,MassDataLink!$E$4:$E$5048)","v":{"$error":"#N/A"}},{"$f":"LOOKUP(C218,MassDataLink!$A$4:$A$5048,MassDataLink!$F$4:$F$5048)","v":{"$error":"#N/A"}},null,105,"- - -","- - -"]
[null,106,-1,{"$f":"LOOKUP(C219,MassDataLink!$A$4:$A$5048,MassDataLink!$B$4:$B$5048)","v":{"$error":"#N/A"}},{"$f":"LOOKUP(C219,MassDataLink!$A$4:$A$5048,MassDataLink!$C$4:$C$5048)","v":{"$error":"#N/A"}},{"$f":"LOOKUP(C219,MassDataLink!$A$4:$A$5048,MassDataLink!$D$4:$D$5048)","v":{"$error":"#N/A"}},{"$f":"LOOKUP(C219,MassDataLink!$A$4:$A$5048,MassDataLink!$E$4:$E$5048)","v":{"$error":"#N/A"}},{"$f":"LOOKUP(C219,MassDataLink!$A$4:$A$5048,MassDataLink!$F$4:$F$5048)","v":{"$error":"#N/A"}},null,106,"- - -","- - -"]
[null,107,-1,{"$f":"LOOKUP(C220,MassDataLink!$A$4:$A$5048,MassDataLink!$B$4:$B$5048)","v":{"$error":"#N/A"}},{"$f":"LOOKUP(C220,MassDataLink!$A$4:$A$5048,MassDataLink!$C$4:$C$5048)","v":{"$error":"#N/A"}},{"$f":"LOOKUP(C220,MassDataLink!$A$4:$A$5048,MassDataLink!$D$4:$D$5048)","v":{"$error":"#N/A"}},{"$f":"LOOKUP(C220,MassDataLink!$A$4:$A$5048,MassDataLink!$E$4:$E$5048)","v":{"$error":"#N/A"}},{"$f":"LOOKUP(C220,MassDataLink!$A$4:$A$5048,MassDataLink!$F$4:$F$5048)","v":{"$error":"#N/A"}},null,107,"- - -","- - -"]
[null,108,-1,{"$f":"LOOKUP(C221,MassDataLink!$A$4:$A$5048,MassDataLink!$B$4:$B$5048)","v":{"$error":"#N/A"}},{"$f":"LOOKUP(C221,MassDataLink!$A$4:$A$5048,MassDataLink!$C$4:$C$5048)","v":{"$error":"#N/A"}},{"$f":"LOOKUP(C221,MassDataLink!$A$4:$A$5048,MassDataLink!$D$4:$D$5048)","v":{"$error":"#N/A"}},{"$f":"LOOKUP(C221,MassDataLink!$A$4:$A$5048,MassDataLink!$E$4:$E$5048)","v":{"$error":"#N/A"}},{"$f":"LOOKUP(C221,MassDataLink!$A$4:$A$5048,MassDataLink!$F$4:$F$5048)","v":{"$error":"#N/A"}},null,108,"- - -","- - -"]
[null,109,-1,{"$f":"LOOKUP(C222,MassDataLink!$A$4:$A$5048,MassDataLink!$B$4:$B$5048)","v":{"$error":"#N/A"}},{"$f":"LOOKUP(C222,MassDataLink!$A$4:$A$5048,MassDataLink!$C$4:$C$5048)","v":{"$error":"#N/A"}},{"$f":"LOOKUP(C222,MassDataLink!$A$4:$A$5048,MassDataLink!$D$4:$D$5048)","v":{"$error":"#N/A"}},{"$f":"LOOKUP(C222,MassDataLink!$A$4:$A$5048,MassDataLink!$E$4:$E$5048)","v":{"$error":"#N/A"}},{"$f":"LOOKUP(C222,MassDataLink!$A$4:$A$5048,MassDataLink!$F$4:$F$5048)","v":{"$error":"#N/A"}},null,109,"- - -","- - -"]
[null,110,-1,{"$f":"LOOKUP(C223,MassDataLink!$A$4:$A$5048,MassDataLink!$B$4:$B$5048)","v":{"$error":"#N/A"}},{"$f":"LOOKUP(C223,MassDataLink!$A$4:$A$5048,MassDataLink!$C$4:$C$5048)","v":{"$error":"#N/A"}},{"$f":"LOOKUP(C223,MassDataLink!$A$4:$A$5048,MassDataLink!$D$4:$D$5048)","v":{"$error":"#N/A"}},{"$f":"LOOKUP(C223,MassDataLink!$A$4:$A$5048,MassDataLink!$E$4:$E$5048)","v":{"$error":"#N/A"}},{"$f":"LOOKUP(C223,MassDataLink!$A$4:$A$5048,MassDataLink!$F$4:$F$5048)","v":{"$error":"#N/A"}},null,110,"- - -","- - -"]
[null,111,-1,{"$f":"LOOKUP(C224,MassDataLink!$A$4:$A$5048,MassDataLink!$B$4:$B$5048)","v":{"$error":"#N/A"}},{"$f":"LOOKUP(C224,MassDataLink!$A$4:$A$5048,MassDataLink!$C$4:$C$5048)","v":{"$error":"#N/A"}},{"$f":"LOOKUP(C224,MassDataLink!$A$4:$A$5048,MassDataLink!$D$4:$D$5048)","v":{"$error":"#N/A"}},{"$f":"LOOKUP(C224,MassDataLink!$A$4:$A$5048,MassDataLink!$E$4:$E$5048)","v":{"$error":"#N/A"}},{"$f":"LOOKUP(C224,MassDataLink!$A$4:$A$5048,MassDataLink!$F$4:$F$5048)","v":{"$error":"#N/A"}},null,111,"- - -","- - -"]
[null,112,-1,{"$f":"LOOKUP(C225,MassDataLink!$A$4:$A$5048,MassDataLink!$B$4:$B$5048)","v":{"$error":"#N/A"}},{"$f":"LOOKUP(C225,MassDataLink!$A$4:$A$5048,MassDataLink!$C$4:$C$5048)","v":{"$error":"#N/A"}},{"$f":"LOOKUP(C225,MassDataLink!$A$4:$A$5048,MassDataLink!$D$4:$D$5048)","v":{"$error":"#N/A"}},{"$f":"LOOKUP(C225,MassDataLink!$A$4:$A$5048,MassDataLink!$E$4:$E$5048)","v":{"$error":"#N/A"}},{"$f":"LOOKUP(C225,MassDataLink!$A$4:$A$5048,MassDataLink!$F$4:$F$5048)","v":{"$error":"#N/A"}},null,112,"- - -","- - -"]
[null,113,-1,{"$f":"LOOKUP(C226,MassDataLink!$A$4:$A$5048,MassDataLink!$B$4:$B$5048)","v":{"$error":"#N/A"}},{"$f":"LOOKUP(C226,MassDataLink!$A$4:$A$5048,MassDataLink!$C$4:$C$5048)","v":{"$error":"#N/A"}},{"$f":"LOOKUP(C226,MassDataLink!$A$4:$A$5048,MassDataLink!$D$4:$D$5048)","v":{"$error":"#N/A"}},{"$f":"LOOKUP(C226,MassDataLink!$A$4:$A$5048,MassDataLink!$E$4:$E$5048)","v":{"$error":"#N/A"}},{"$f":"LOOKUP(C226,MassDataLink!$A$4:$A$5048,MassDataLink!$F$4:$F$5048)","v":{"$error":"#N/A"}},null,113,"- - -","- - -"]
[null,114,-1,{"$f":"LOOKUP(C227,MassDataLink!$A$4:$A$5048,MassDataLink!$B$4:$B$5048)","v":{"$error":"#N/A"}},{"$f":"LOOKUP(C227,MassDataLink!$A$4:$A$5048,MassDataLink!$C$4:$C$5048)","v":{"$error":"#N/A"}},{"$f":"LOOKUP(C227,MassDataLink!$A$4:$A$5048,MassDataLink!$D$4:$D$5048)","v":{"$error":"#N/A"}},{"$f":"LOOKUP(C227,MassDataLink!$A$4:$A$5048,MassDataLink!$E$4:$E$5048)","v":{"$error":"#N/A"}},{"$f":"LOOKUP(C227,MassDataLink!$A$4:$A$5048,MassDataLink!$F$4:$F$5048)","v":{"$error":"#N/A"}},null,114,"- - -","- - -"]
[null,{"$f":"B227+1","v":115},{"$f":"IF(C227=-1,-1,H227)","v":-1},{"$f":"LOOKUP(C228,MassDataLink!$A$4:$A$5048,MassDataLink!$B$4:$B$5048)","v":{"$error":"#N/A"}},{"$f":"LOOKUP(C228,MassDataLink!$A$4:$A$5048,MassDataLink!$C$4:$C$5048)","v":{"$error":"#N/A"}},{"$f":"LOOKUP(C228,MassDataLink!$A$4:$A$5048,MassDataLink!$D$4:$D$5048)","v":{"$error":"#N/A"}},{"$f":"LOOKUP(C228,MassDataLink!$A$4:$A$5048,MassDataLink!$E$4:$E$5048)","v":{"$error":"#N/A"}},{"$f":"LOOKUP(C228,MassDataLink!$A$4:$A$5048,MassDataLink!$F$4:$F$5048)","v":{"$error":"#N/A"}},null,{"$f":"J227+1","v":115},{"$f":"IF(C228=-1,$L$112,IF($A$11=D228,ROUND((E228*$P$57),$R$57),$L$112))","v":"- - -"},{"$f":"IF(K228=$L$112,$L$112,F228)","v":"- - -"}]
[null,116,-1,{"$f":"LOOKUP(C229,MassDataLink!$A$4:$A$5048,MassDataLink!$B$4:$B$5048)","v":{"$error":"#N/A"}},{"$f":"LOOKUP(C229,MassDataLink!$A$4:$A$5048,MassDataLink!$C$4:$C$5048)","v":{"$error":"#N/A"}},{"$f":"LOOKUP(C229,MassDataLink!$A$4:$A$5048,MassDataLink!$D$4:$D$5048)","v":{"$error":"#N/A"}},{"$f":"LOOKUP(C229,MassDataLink!$A$4:$A$5048,MassDataLink!$E$4:$E$5048)","v":{"$error":"#N/A"}},{"$f":"LOOKUP(C229,MassDataLink!$A$4:$A$5048,MassDataLink!$F$4:$F$5048)","v":{"$error":"#N/A"}},null,116,"- - -","- - -"]
[null,117,-1,{"$f":"LOOKUP(C230,MassDataLink!$A$4:$A$5048,MassDataLink!$B$4:$B$5048)","v":{"$error":"#N/A"}},{"$f":"LOOKUP(C230,MassDataLink!$A$4:$A$5048,MassDataLink!$C$4:$C$5048)","v":{"$error":"#N/A"}},{"$f":"LOOKUP(C230,MassDataLink!$A$4:$A$5048,MassDataLink!$D$4:$D$5048)","v":{"$error":"#N/A"}},{"$f":"LOOKUP(C230,MassDataLink!$A$4:$A$5048,MassDataLink!$E$4:$E$5048)","v":{"$error":"#N/A"}},{"$f":"LOOKUP(C230,MassDataLink!$A$4:$A$5048,MassDataLink!$F$4:$F$5048)","v":{"$error":"#N/A"}},null,117,"- - -","- - -"]
[null,118,-1,{"$f":"LOOKUP(C231,MassDataLink!$A$4:$A$5048,MassDataLink!$B$4:$B$5048)","v":{"$error":"#N/A"}},{"$f":"LOOKUP(C231,MassDataLink!$A$4:$A$5048,MassDataLink!$C$4:$C$5048)","v":{"$error":"#N/A"}},{"$f":"LOOKUP(C231,MassDataLink!$A$4:$A$5048,MassDataLink!$D$4:$D$5048)","v":{"$error":"#N/A"}},{"$f":"LOOKUP(C231,MassDataLink!$A$4:$A$5048,MassDataLink!$E$4:$E$5048)","v":{"$error":"#N/A"}},{"$f":"LOOKUP(C231,MassDataLink!$A$4:$A$5048,MassDataLink!$F$4:$F$5048)","v":{"$error":"#N/A"}},null,118,"- - -","- - -"]
[null,119,-1,{"$f":"LOOKUP(C232,MassDataLink!$A$4:$A$5048,MassDataLink!$B$4:$B$5048)","v":{"$error":"#N/A"}},{"$f":"LOOKUP(C232,MassDataLink!$A$4:$A$5048,MassDataLink!$C$4:$C$5048)","v":{"$error":"#N/A"}},{"$f":"LOOKUP(C232,MassDataLink!$A$4:$A$5048,MassDataLink!$D$4:$D$5048)","v":{"$error":"#N/A"}},{"$f":"LOOKUP(C232,MassDataLink!$A$4:$A$5048,MassDataLink!$E$4:$E$5048)","v":{"$error":"#N/A"}},{"$f":"LOOKUP(C232,MassDataLink!$A$4:$A$5048,MassDataLink!$F$4:$F$5048)","v":{"$error":"#N/A"}},null,119,"- - -","- - -"]
[null,120,-1,{"$f":"LOOKUP(C233,MassDataLink!$A$4:$A$5048,MassDataLink!$B$4:$B$5048)","v":{"$error":"#N/A"}},{"$f":"LOOKUP(C233,MassDataLink!$A$4:$A$5048,MassDataLink!$C$4:$C$5048)","v":{"$error":"#N/A"}},{"$f":"LOOKUP(C233,MassDataLink!$A$4:$A$5048,MassDataLink!$D$4:$D$5048)","v":{"$error":"#N/A"}},{"$f":"LOOKUP(C233,MassDataLink!$A$4:$A$5048,MassDataLink!$E$4:$E$5048)","v":{"$error":"#N/A"}},{"$f":"LOOKUP(C233,MassDataLink!$A$4:$A$5048,MassDataLink!$F$4:$F$5048)","v":{"$error":"#N/A"}},null,120,"- - -","- - -"]
[null,121,-1,{"$f":"LOOKUP(C234,MassDataLink!$A$4:$A$5048,MassDataLink!$B$4:$B$5048)","v":{"$error":"#N/A"}},{"$f":"LOOKUP(C234,MassDataLink!$A$4:$A$5048,MassDataLink!$C$4:$C$5048)","v":{"$error":"#N/A"}},{"$f":"LOOKUP(C234,MassDataLink!$A$4:$A$5048,MassDataLink!$D$4:$D$5048)","v":{"$error":"#N/A"}},{"$f":"LOOKUP(C234,MassDataLink!$A$4:$A$5048,MassDataLink!$E$4:$E$5048)","v":{"$error":"#N/A"}},{"$f":"LOOKUP(C234,MassDataLink!$A$4:$A$5048,MassDataLink!$F$4:$F$5048)","v":{"$error":"#N/A"}},null,121,"- - -","- - -"]
[null,122,-1,{"$f":"LOOKUP(C235,MassDataLink!$A$4:$A$5048,MassDataLink!$B$4:$B$5048)","v":{"$error":"#N/A"}},{"$f":"LOOKUP(C235,MassDataLink!$A$4:$A$5048,MassDataLink!$C$4:$C$5048)","v":{"$error":"#N/A"}},{"$f":"LOOKUP(C235,MassDataLink!$A$4:$A$5048,MassDataLink!$D$4:$D$5048)","v":{"$error":"#N/A"}},{"$f":"LOOKUP(C235,MassDataLink!$A$4:$A$5048,MassDataLink!$E$4:$E$5048)","v":{"$error":"#N/A"}},{"$f":"LOOKUP(C235,MassDataLink!$A$4:$A$5048,MassDataLink!$F$4:$F$5048)","v":{"$error":"#N/A"}},null,122,"- - -","- - -"]
[null,123,-1,{"$f":"LOOKUP(C236,MassDataLink!$A$4:$A$5048,MassDataLink!$B$4:$B$5048)","v":{"$error":"#N/A"}},{"$f":"LOOKUP(C236,MassDataLink!$A$4:$A$5048,MassDataLink!$C$4:$C$5048)","v":{"$error":"#N/A"}},{"$f":"LOOKUP(C236,MassDataLink!$A$4:$A$5048,MassDataLink!$D$4:$D$5048)","v":{"$error":"#N/A"}},{"$f":"LOOKUP(C236,MassDataLink!$A$4:$A$5048,MassDataLink!$E$4:$E$5048)","v":{"$error":"#N/A"}},{"$f":"LOOKUP(C236,MassDataLink!$A$4:$A$5048,MassDataLink!$F$4:$F$5048)","v":{"$error":"#N/A"}},null,123,"- - -","- - -"]
[null,124,-1,{"$f":"LOOKUP(C237,MassDataLink!$A$4:$A$5048,MassDataLink!$B$4:$B$5048)","v":{"$error":"#N/A"}},{"$f":"LOOKUP(C237,MassDataLink!$A$4:$A$5048,MassDataLink!$C$4:$C$5048)","v":{"$error":"#N/A"}},{"$f":"LOOKUP(C237,MassDataLink!$A$4:$A$5048,MassDataLink!$D$4:$D$5048)","v":{"$error":"#N/A"}},{"$f":"LOOKUP(C237,MassDataLink!$A$4:$A$5048,MassDataLink!$E$4:$E$5048)","v":{"$error":"#N/A"}},{"$f":"LOOKUP(C237,MassDataLink!$A$4:$A$5048,MassDataLink!$F$4:$F$5048)","v":{"$error":"#N/A"}},null,124,"- - -","- - -"]
[null,125,-1,{"$f":"LOOKUP(C238,MassDataLink!$A$4:$A$5048,MassDataLink!$B$4:$B$5048)","v":{"$error":"#N/A"}},{"$f":"LOOKUP(C238,MassDataLink!$A$4:$A$5048,MassDataLink!$C$4:$C$5048)","v":{"$error":"#N/A"}},{"$f":"LOOKUP(C238,MassDataLink!$A$4:$A$5048,MassDataLink!$D$4:$D$5048)","v":{"$error":"#N/A"}},{"$f":"LOOKUP(C238,MassDataLink!$A$4:$A$5048,MassDataLink!$E$4:$E$5048)","v":{"$error":"#N/A"}},{"$f":"LOOKUP(C238,MassDataLink!$A$4:$A$5048,MassDataLink!$F$4:$F$5048)","v":{"$error":"#N/A"}},null,125,"- - -","- - -"]
[null,126,-1,{"$f":"LOOKUP(C239,MassDataLink!$A$4:$A$5048,MassDataLink!$B$4:$B$5048)","v":{"$error":"#N/A"}},{"$f":"LOOKUP(C239,MassDataLink!$A$4:$A$5048,MassDataLink!$C$4:$C$5048)","v":{"$error":"#N/A"}},{"$f":"LOOKUP(C239,MassDataLink!$A$4:$A$5048,MassDataLink!$D$4:$D$5048)","v":{"$error":"#N/A"}},{"$f":"LOOKUP(C239,MassDataLink!$A$4:$A$5048,MassDataLink!$E$4:$E$5048)","v":{"$error":"#N/A"}},{"$f":"LOOKUP(C239,MassDataLink!$A$4:$A$5048,MassDataLink!$F$4:$F$5048)","v":{"$error":"#N/A"}},null,126,"- - -","- - -"]
[null,127,-1,{"$f":"LOOKUP(C240,MassDataLink!$A$4:$A$5048,MassDataLink!$B$4:$B$5048)","v":{"$error":"#N/A"}},{"$f":"LOOKUP(C240,MassDataLink!$A$4:$A$5048,MassDataLink!$C$4:$C$5048)","v":{"$error":"#N/A"}},{"$f":"LOOKUP(C240,MassDataLink!$A$4:$A$5048,MassDataLink!$D$4:$D$5048)","v":{"$error":"#N/A"}},{"$f":"LOOKUP(C240,MassDataLink!$A$4:$A$5048,MassDataLink!$E$4:$E$5048)","v":{"$error":"#N/A"}},{"$f":"LOOKUP(C240,MassDataLink!$A$4:$A$5048,MassDataLink!$F$4:$F$5048)","v":{"$error":"#N/A"}},null,127,"- - -","- - -"]
[null,128,-1,{"$f":"LOOKUP(C241,MassDataLink!$A$4:$A$5048,MassDataLink!$B$4:$B$5048)","v":{"$error":"#N/A"}},{"$f":"LOOKUP(C241,MassDataLink!$A$4:$A$5048,MassDataLink!$C$4:$C$5048)","v":{"$error":"#N/A"}},{"$f":"LOOKUP(C241,MassDataLink!$A$4:$A$5048,MassDataLink!$D$4:$D$5048)","v":{"$error":"#N/A"}},{"$f":"LOOKUP(C241,MassDataLink!$A$4:$A$5048,MassDataLink!$E$4:$E$5048)","v":{"$error":"#N/A"}},{"$f":"LOOKUP(C241,MassDataLink!$A$4:$A$5048,MassDataLink!$F$4:$F$5048)","v":{"$error":"#N/A"}},null,128,"- - -","- - -"]
[null,129,-1,{"$f":"LOOKUP(C242,MassDataLink!$A$4:$A$5048,MassDataLink!$B$4:$B$5048)","v":{"$error":"#N/A"}},{"$f":"LOOKUP(C242,MassDataLink!$A$4:$A$5048,MassDataLink!$C$4:$C$5048)","v":{"$error":"#N/A"}},{"$f":"LOOKUP(C242,MassDataLink!$A$4:$A$5048,MassDataLink!$D$4:$D$5048)","v":{"$error":"#N/A"}},{"$f":"LOOKUP(C242,MassDataLink!$A$4:$A$5048,MassDataLink!$E$4:$E$5048)","v":{"$error":"#N/A"}},{"$f":"LOOKUP(C242,MassDataLink!$A$4:$A$5048,MassDataLink!$F$4:$F$5048)","v":{"$error":"#N/A"}},null,129,"- - -","- - -"]
[null,130,-1,{"$f":"LOOKUP(C243,MassDataLink!$A$4:$A$5048,MassDataLink!$B$4:$B$5048)","v":{"$error":"#N/A"}},{"$f":"LOOKUP(C243,MassDataLink!$A$4:$A$5048,MassDataLink!$C$4:$C$5048)","v":{"$error":"#N/A"}},{"$f":"LOOKUP(C243,MassDataLink!$A$4:$A$5048,MassDataLink!$D$4:$D$5048)","v":{"$error":"#N/A"}},{"$f":"LOOKUP(C243,MassDataLink!$A$4:$A$5048,MassDataLink!$E$4:$E$5048)","v":{"$error":"#N/A"}},{"$f":"LOOKUP(C243,MassDataLink!$A$4:$A$5048,MassDataLink!$F$4:$F$5048)","v":{"$error":"#N/A"}},null,130,"- - -","- - -"]
[null,131,-1,{"$f":"LOOKUP(C244,MassDataLink!$A$4:$A$5048,MassDataLink!$B$4:$B$5048)","v":{"$error":"#N/A"}},{"$f":"LOOKUP(C244,MassDataLink!$A$4:$A$5048,MassDataLink!$C$4:$C$5048)","v":{"$error":"#N/A"}},{"$f":"LOOKUP(C244,MassDataLink!$A$4:$A$5048,MassDataLink!$D$4:$D$5048)","v":{"$error":"#N/A"}},{"$f":"LOOKUP(C244,MassDataLink!$A$4:$A$5048,MassDataLink!$E$4:$E$5048)","v":{"$error":"#N/A"}},{"$f":"LOOKUP(C244,MassDataLink!$A$4:$A$5048,MassDataLink!$F$4:$F$5048)","v":{"$error":"#N/A"}},null,131,"- - -","- - -"]
[null,132,-1,{"$f":"LOOKUP(C245,MassDataLink!$A$4:$A$5048,MassDataLink!$B$4:$B$5048)","v":{"$error":"#N/A"}},{"$f":"LOOKUP(C245,MassDataLink!$A$4:$A$5048,MassDataLink!$C$4:$C$5048)","v":{"$error":"#N/A"}},{"$f":"LOOKUP(C245,MassDataLink!$A$4:$A$5048,MassDataLink!$D$4:$D$5048)","v":{"$error":"#N/A"}},{"$f":"LOOKUP(C245,MassDataLink!$A$4:$A$5048,MassDataLink!$E$4:$E$5048)","v":{"$error":"#N/A"}},{"$f":"LOOKUP(C245,MassDataLink!$A$4:$A$5048,MassDataLink!$F$4:$F$5048)","v":{"$error":"#N/A"}},null,132,"- - -","- - -"]
[null,133,-1,{"$f":"LOOKUP(C246,MassDataLink!$A$4:$A$5048,MassDataLink!$B$4:$B$5048)","v":{"$error":"#N/A"}},{"$f":"LOOKUP(C246,MassDataLink!$A$4:$A$5048,MassDataLink!$C$4:$C$5048)","v":{"$error":"#N/A"}},{"$f":"LOOKUP(C246,MassDataLink!$A$4:$A$5048,MassDataLink!$D$4:$D$5048)","v":{"$error":"#N/A"}},{"$f":"LOOKUP(C246,MassDataLink!$A$4:$A$5048,MassDataLink!$E$4:$E$5048)","v":{"$error":"#N/A"}},{"$f":"LOOKUP(C246,MassDataLink!$A$4:$A$5048,MassDataLink!$F$4:$F$5048)","v":{"$error":"#N/A"}},null,133,"- - -","- - -"]
[null,134,-1,{"$f":"LOOKUP(C247,MassDataLink!$A$4:$A$5048,MassDataLink!$B$4:$B$5048)","v":{"$error":"#N/A"}},{"$f":"LOOKUP(C247,MassDataLink!$A$4:$A$5048,MassDataLink!$C$4:$C$5048)","v":{"$error":"#N/A"}},{"$f":"LOOKUP(C247,MassDataLink!$A$4:$A$5048,MassDataLink!$D$4:$D$5048)","v":{"$error":"#N/A"}},{"$f":"LOOKUP(C247,MassDataLink!$A$4:$A$5048,MassDataLink!$E$4:$E$5048)","v":{"$error":"#N/A"}},{"$f":"LOOKUP(C247,MassDataLink!$A$4:$A$5048,MassDataLink!$F$4:$F$5048)","v":{"$error":"#N/A"}},null,134,"- - -","- - -"]
[null,135,-1,{"$f":"LOOKUP(C248,MassDataLink!$A$4:$A$5048,MassDataLink!$B$4:$B$5048)","v":{"$error":"#N/A"}},{"$f":"LOOKUP(C248,MassDataLink!$A$4:$A$5048,MassDataLink!$C$4:$C$5048)","v":{"$error":"#N/A"}},{"$f":"LOOKUP(C248,MassDataLink!$A$4:$A$5048,MassDataLink!$D$4:$D$5048)","v":{"$error":"#N/A"}},{"$f":"LOOKUP(C248,MassDataLink!$A$4:$A$5048,MassDataLink!$E$4:$E$5048)","v":{"$error":"#N/A"}},{"$f":"LOOKUP(C248,MassDataLink!$A$4:$A$5048,MassDataLink!$F$4:$F$5048)","v":{"$error":"#N/A"}},null,135,"- - -","- - -"]
[null,136,-1,{"$f":"LOOKUP(C249,MassDataLink!$A$4:$A$5048,MassDataLink!$B$4:$B$5048)","v":{"$error":"#N/A"}},{"$f":"LOOKUP(C249,MassDataLink!$A$4:$A$5048,MassDataLink!$C$4:$C$5048)","v":{"$error":"#N/A"}},{"$f":"LOOKUP(C249,MassDataLink!$A$4:$A$5048,MassDataLink!$D$4:$D$5048)","v":{"$error":"#N/A"}},{"$f":"LOOKUP(C249,MassDataLink!$A$4:$A$5048,MassDataLink!$E$4:$E$5048)","v":{"$error":"#N/A"}},{"$f":"LOOKUP(C249,MassDataLink!$A$4:$A$5048,MassDataLink!$F$4:$F$5048)","v":{"$error":"#N/A"}},null,136,"- - -","- - -"]
[null,137,-1,{"$f":"LOOKUP(C250,MassDataLink!$A$4:$A$5048,MassDataLink!$B$4:$B$5048)","v":{"$error":"#N/A"}},{"$f":"LOOKUP(C250,MassDataLink!$A$4:$A$5048,MassDataLink!$C$4:$C$5048)","v":{"$error":"#N/A"}},{"$f":"LOOKUP(C250,MassDataLink!$A$4:$A$5048,MassDataLink!$D$4:$D$5048)","v":{"$error":"#N/A"}},{"$f":"LOOKUP(C250,MassDataLink!$A$4:$A$5048,MassDataLink!$E$4:$E$5048)","v":{"$error":"#N/A"}},{"$f":"LOOKUP(C250,MassDataLink!$A$4:$A$5048,MassDataLink!$F$4:$F$5048)","v":{"$error":"#N/A"}},null,137,"- - -","- - -"]
[null,138,-1,{"$f":"LOOKUP(C251,MassDataLink!$A$4:$A$5048,MassDataLink!$B$4:$B$5048)","v":{"$error":"#N/A"}},{"$f":"LOOKUP(C251,MassDataLink!$A$4:$A$5048,MassDataLink!$C$4:$C$5048)","v":{"$error":"#N/A"}},{"$f":"LOOKUP(C251,MassDataLink!$A$4:$A$5048,MassDataLink!$D$4:$D$5048)","v":{"$error":"#N/A"}},{"$f":"LOOKUP(C251,MassDataLink!$A$4:$A$5048,MassDataLink!$E$4:$E$5048)","v":{"$error":"#N/A"}},{"$f":"LOOKUP(C251,MassDataLink!$A$4:$A$5048,MassDataLink!$F$4:$F$5048)","v":{"$error":"#N/A"}},null,138,"- - -","- - -"]
[null,139,-1,{"$f":"LOOKUP(C252,MassDataLink!$A$4:$A$5048,MassDataLink!$B$4:$B$5048)","v":{"$error":"#N/A"}},{"$f":"LOOKUP(C252,MassDataLink!$A$4:$A$5048,MassDataLink!$C$4:$C$5048)","v":{"$error":"#N/A"}},{"$f":"LOOKUP(C252,MassDataLink!$A$4:$A$5048,MassDataLink!$D$4:$D$5048)","v":{"$error":"#N/A"}},{"$f":"LOOKUP(C252,MassDataLink!$A$4:$A$5048,MassDataLink!$E$4:$E$5048)","v":{"$error":"#N/A"}},{"$f":"LOOKUP(C252,MassDataLink!$A$4:$A$5048,MassDataLink!$F$4:$F$5048)","v":{"$error":"#N/A"}},null,139,"- - -","- - -"]
[null,140,-1,{"$f":"LOOKUP(C253,MassDataLink!$A$4:$A$5048,MassDataLink!$B$4:$B$5048)","v":{"$error":"#N/A"}},{"$f":"LOOKUP(C253,MassDataLink!$A$4:$A$5048,MassDataLink!$C$4:$C$5048)","v":{"$error":"#N/A"}},{"$f":"LOOKUP(C253,MassDataLink!$A$4:$A$5048,MassDataLink!$D$4:$D$5048)","v":{"$error":"#N/A"}},{"$f":"LOOKUP(C253,MassDataLink!$A$4:$A$5048,MassDataLink!$E$4:$E$5048)","v":{"$error":"#N/A"}},{"$f":"LOOKUP(C253,MassDataLink!$A$4:$A$5048,MassDataLink!$F$4:$F$5048)","v":{"$error":"#N/A"}},null,140,"- - -","- - -"]
[null,141,-1,{"$f":"LOOKUP(C254,MassDataLink!$A$4:$A$5048,MassDataLink!$B$4:$B$5048)","v":{"$error":"#N/A"}},{"$f":"LOOKUP(C254,MassDataLink!$A$4:$A$5048,MassDataLink!$C$4:$C$5048)","v":{"$error":"#N/A"}},{"$f":"LOOKUP(C254,MassDataLink!$A$4:$A$5048,MassDataLink!$D$4:$D$5048)","v":{"$error":"#N/A"}},{"$f":"LOOKUP(C254,MassDataLink!$A$4:$A$5048,MassDataLink!$E$4:$E$5048)","v":{"$error":"#N/A"}},{"$f":"LOOKUP(C254,MassDataLink!$A$4:$A$5048,MassDataLink!$F$4:$F$5048)","v":{"$error":"#N/A"}},null,141,"- - -","- - -"]
[null,142,-1,{"$f":"LOOKUP(C255,MassDataLink!$A$4:$A$5048,MassDataLink!$B$4:$B$5048)","v":{"$error":"#N/A"}},{"$f":"LOOKUP(C255,MassDataLink!$A$4:$A$5048,MassDataLink!$C$4:$C$5048)","v":{"$error":"#N/A"}},{"$f":"LOOKUP(C255,MassDataLink!$A$4:$A$5048,MassDataLink!$D$4:$D$5048)","v":{"$error":"#N/A"}},{"$f":"LOOKUP(C255,MassDataLink!$A$4:$A$5048,MassDataLink!$E$4:$E$5048)","v":{"$error":"#N/A"}},{"$f":"LOOKUP(C255,MassDataLink!$A$4:$A$5048,MassDataLink!$F$4:$F$5048)","v":{"$error":"#N/A"}},null,142,"- - -","- - -"]
[null,143,-1,{"$f":"LOOKUP(C256,MassDataLink!$A$4:$A$5048,MassDataLink!$B$4:$B$5048)","v":{"$error":"#N/A"}},{"$f":"LOOKUP(C256,MassDataLink!$A$4:$A$5048,MassDataLink!$C$4:$C$5048)","v":{"$error":"#N/A"}},{"$f":"LOOKUP(C256,MassDataLink!$A$4:$A$5048,MassDataLink!$D$4:$D$5048)","v":{"$error":"#N/A"}},{"$f":"LOOKUP(C256,MassDataLink!$A$4:$A$5048,MassDataLink!$E$4:$E$5048)","v":{"$error":"#N/A"}},{"$f":"LOOKUP(C256,MassDataLink!$A$4:$A$5048,MassDataLink!$F$4:$F$5048)","v":{"$error":"#N/A"}},null,143,"- - -","- - -"]
[null,144,-1,{"$f":"LOOKUP(C257,MassDataLink!$A$4:$A$5048,MassDataLink!$B$4:$B$5048)","v":{"$error":"#N/A"}},{"$f":"LOOKUP(C257,MassDataLink!$A$4:$A$5048,MassDataLink!$C$4:$C$5048)","v":{"$error":"#N/A"}},{"$f":"LOOKUP(C257,MassDataLink!$A$4:$A$5048,MassDataLink!$D$4:$D$5048)","v":{"$error":"#N/A"}},{"$f":"LOOKUP(C257,MassDataLink!$A$4:$A$5048,MassDataLink!$E$4:$E$5048)","v":{"$error":"#N/A"}},{"$f":"LOOKUP(C257,MassDataLink!$A$4:$A$5048,MassDataLink!$F$4:$F$5048)","v":{"$error":"#N/A"}},null,144,"- - -","- - -"]
[null,145,-1,{"$f":"LOOKUP(C258,MassDataLink!$A$4:$A$5048,MassDataLink!$B$4:$B$5048)","v":{"$error":"#N/A"}},{"$f":"LOOKUP(C258,MassDataLink!$A$4:$A$5048,MassDataLink!$C$4:$C$5048)","v":{"$error":"#N/A"}},{"$f":"LOOKUP(C258,MassDataLink!$A$4:$A$5048,MassDataLink!$D$4:$D$5048)","v":{"$error":"#N/A"}},{"$f":"LOOKUP(C258,MassDataLink!$A$4:$A$5048,MassDataLink!$E$4:$E$5048)","v":{"$error":"#N/A"}},{"$f":"LOOKUP(C258,MassDataLink!$A$4:$A$5048,MassDataLink!$F$4:$F$5048)","v":{"$error":"#N/A"}},null,145,"- - -","- - -"]
[null,146,-1,{"$f":"LOOKUP(C259,MassDataLink!$A$4:$A$5048,MassDataLink!$B$4:$B$5048)","v":{"$error":"#N/A"}},{"$f":"LOOKUP(C259,MassDataLink!$A$4:$A$5048,MassDataLink!$C$4:$C$5048)","v":{"$error":"#N/A"}},{"$f":"LOOKUP(C259,MassDataLink!$A$4:$A$5048,MassDataLink!$D$4:$D$5048)","v":{"$error":"#N/A"}},{"$f":"LOOKUP(C259,MassDataLink!$A$4:$A$5048,MassDataLink!$E$4:$E$5048)","v":{"$error":"#N/A"}},{"$f":"LOOKUP(C259,MassDataLink!$A$4:$A$5048,MassDataLink!$F$4:$F$5048)","v":{"$error":"#N/A"}},null,146,"- - -","- - -"]
[null,147,-1,{"$f":"LOOKUP(C260,MassDataLink!$A$4:$A$5048,MassDataLink!$B$4:$B$5048)","v":{"$error":"#N/A"}},{"$f":"LOOKUP(C260,MassDataLink!$A$4:$A$5048,MassDataLink!$C$4:$C$5048)","v":{"$error":"#N/A"}},{"$f":"LOOKUP(C260,MassDataLink!$A$4:$A$5048,MassDataLink!$D$4:$D$5048)","v":{"$error":"#N/A"}},{"$f":"LOOKUP(C260,MassDataLink!$A$4:$A$5048,MassDataLink!$E$4:$E$5048)","v":{"$error":"#N/A"}},{"$f":"LOOKUP(C260,MassDataLink!$A$4:$A$5048,MassDataLink!$F$4:$F$5048)","v":{"$error":"#N/A"}},null,147,"- - -","- - -"]
[null,148,-1,{"$f":"LOOKUP(C261,MassDataLink!$A$4:$A$5048,MassDataLink!$B$4:$B$5048)","v":{"$error":"#N/A"}},{"$f":"LOOKUP(C261,MassDataLink!$A$4:$A$5048,MassDataLink!$C$4:$C$5048)","v":{"$error":"#N/A"}},{"$f":"LOOKUP(C261,MassDataLink!$A$4:$A$5048,MassDataLink!$D$4:$D$5048)","v":{"$error":"#N/A"}},{"$f":"LOOKUP(C261,MassDataLink!$A$4:$A$5048,MassDataLink!$E$4:$E$5048)","v":{"$error":"#N/A"}},{"$f":"LOOKUP(C261,MassDataLink!$A$4:$A$5048,MassDataLink!$F$4:$F$5048)","v":{"$error":"#N/A"}},null,148,"- - -","- - -"]
[null,149,-1,{"$f":"LOOKUP(C262,MassDataLink!$A$4:$A$5048,MassDataLink!$B$4:$B$5048)","v":{"$error":"#N/A"}},{"$f":"LOOKUP(C262,MassDataLink!$A$4:$A$5048,MassDataLink!$C$4:$C$5048)","v":{"$error":"#N/A"}},{"$f":"LOOKUP(C262,MassDataLink!$A$4:$A$5048,MassDataLink!$D$4:$D$5048)","v":{"$error":"#N/A"}},{"$f":"LOOKUP(C262,MassDataLink!$A$4:$A$5048,MassDataLink!$E$4:$E$5048)","v":{"$error":"#N/A"}},{"$f":"LOOKUP(C262,MassDataLink!$A$4:$A$5048,MassDataLink!$F$4:$F$5048)","v":{"$error":"#N/A"}},null,149,"- - -","- - -"]
[null,150,-1,{"$f":"LOOKUP(C263,MassDataLink!$A$4:$A$5048,MassDataLink!$B$4:$B$5048)","v":{"$error":"#N/A"}},{"$f":"LOOKUP(C263,MassDataLink!$A$4:$A$5048,MassDataLink!$C$4:$C$5048)","v":{"$error":"#N/A"}},{"$f":"LOOKUP(C263,MassDataLink!$A$4:$A$5048,MassDataLink!$D$4:$D$5048)","v":{"$error":"#N/A"}},{"$f":"LOOKUP(C263,MassDataLink!$A$4:$A$5048,MassDataLink!$E$4:$E$5048)","v":{"$error":"#N/A"}},{"$f":"LOOKUP(C263,MassDataLink!$A$4:$A$5048,MassDataLink!$F$4:$F$5048)","v":{"$error":"#N/A"}},null,150,"- - -","- - -"]
[null,151,-1,{"$f":"LOOKUP(C264,MassDataLink!$A$4:$A$5048,MassDataLink!$B$4:$B$5048)","v":{"$error":"#N/A"}},{"$f":"LOOKUP(C264,MassDataLink!$A$4:$A$5048,MassDataLink!$C$4:$C$5048)","v":{"$error":"#N/A"}},{"$f":"LOOKUP(C264,MassDataLink!$A$4:$A$5048,MassDataLink!$D$4:$D$5048)","v":{"$error":"#N/A"}},{"$f":"LOOKUP(C264,MassDataLink!$A$4:$A$5048,MassDataLink!$E$4:$E$5048)","v":{"$error":"#N/A"}},{"$f":"LOOKUP(C264,MassDataLink!$A$4:$A$5048,MassDataLink!$F$4:$F$5048)","v":{"$error":"#N/A"}},null,151,"- - -","- - -"]
[null,152,-1,{"$f":"LOOKUP(C265,MassDataLink!$A$4:$A$5048,MassDataLink!$B$4:$B$5048)","v":{"$error":"#N/A"}},{"$f":"LOOKUP(C265,MassDataLink!$A$4:$A$5048,MassDataLink!$C$4:$C$5048)","v":{"$error":"#N/A"}},{"$f":"LOOKUP(C265,MassDataLink!$A$4:$A$5048,MassDataLink!$D$4:$D$5048)","v":{"$error":"#N/A"}},{"$f":"LOOKUP(C265,MassDataLink!$A$4:$A$5048,MassDataLink!$E$4:$E$5048)","v":{"$error":"#N/A"}},{"$f":"LOOKUP(C265,MassDataLink!$A$4:$A$5048,MassDataLink!$F$4:$F$5048)","v":{"$error":"#N/A"}},null,152,"- - -","- - -"]
[null,153,-1,{"$f":"LOOKUP(C266,MassDataLink!$A$4:$A$5048,MassDataLink!$B$4:$B$5048)","v":{"$error":"#N/A"}},{"$f":"LOOKUP(C266,MassDataLink!$A$4:$A$5048,MassDataLink!$C$4:$C$5048)","v":{"$error":"#N/A"}},{"$f":"LOOKUP(C266,MassDataLink!$A$4:$A$5048,MassDataLink!$D$4:$D$5048)","v":{"$error":"#N/A"}},{"$f":"LOOKUP(C266,MassDataLink!$A$4:$A$5048,MassDataLink!$E$4:$E$5048)","v":{"$error":"#N/A"}},{"$f":"LOOKUP(C266,MassDataLink!$A$4:$A$5048,MassDataLink!$F$4:$F$5048)","v":{"$error":"#N/A"}},null,153,"- - -","- - -"]
[null,154,-1,{"$f":"LOOKUP(C267,MassDataLink!$A$4:$A$5048,MassDataLink!$B$4:$B$5048)","v":{"$error":"#N/A"}},{"$f":"LOOKUP(C267,MassDataLink!$A$4:$A$5048,MassDataLink!$C$4:$C$5048)","v":{"$error":"#N/A"}},{"$f":"LOOKUP(C267,MassDataLink!$A$4:$A$5048,MassDataLink!$D$4:$D$5048)","v":{"$error":"#N/A"}},{"$f":"LOOKUP(C267,MassDataLink!$A$4:$A$5048,MassDataLink!$E$4:$E$5048)","v":{"$error":"#N/A"}},{"$f":"LOOKUP(C267,MassDataLink!$A$4:$A$5048,MassDataLink!$F$4:$F$5048)","v":{"$error":"#N/A"}},null,154,"- - -","- - -"]
[null,155,-1,{"$f":"LOOKUP(C268,MassDataLink!$A$4:$A$5048,MassDataLink!$B$4:$B$5048)","v":{"$error":"#N/A"}},{"$f":"LOOKUP(C268,MassDataLink!$A$4:$A$5048,MassDataLink!$C$4:$C$5048)","v":{"$error":"#N/A"}},{"$f":"LOOKUP(C268,MassDataLink!$A$4:$A$5048,MassDataLink!$D$4:$D$5048)","v":{"$error":"#N/A"}},{"$f":"LOOKUP(C268,MassDataLink!$A$4:$A$5048,MassDataLink!$E$4:$E$5048)","v":{"$error":"#N/A"}},{"$f":"LOOKUP(C268,MassDataLink!$A$4:$A$5048,MassDataLink!$F$4:$F$5048)","v":{"$error":"#N/A"}},null,155,"- - -","- - -"]
[null,156,-1,{"$f":"LOOKUP(C269,MassDataLink!$A$4:$A$5048,MassDataLink!$B$4:$B$5048)","v":{"$error":"#N/A"}},{"$f":"LOOKUP(C269,MassDataLink!$A$4:$A$5048,MassDataLink!$C$4:$C$5048)","v":{"$error":"#N/A"}},{"$f":"LOOKUP(C269,MassDataLink!$A$4:$A$5048,MassDataLink!$D$4:$D$5048)","v":{"$error":"#N/A"}},{"$f":"LOOKUP(C269,MassDataLink!$A$4:$A$5048,MassDataLink!$E$4:$E$5048)","v":{"$error":"#N/A"}},{"$f":"LOOKUP(C269,MassDataLink!$A$4:$A$5048,MassDataLink!$F$4:$F$5048)","v":{"$error":"#N/A"}},null,156,"- - -","- - -"]
[null,157,-1,{"$f":"LOOKUP(C270,MassDataLink!$A$4:$A$5048,MassDataLink!$B$4:$B$5048)","v":{"$error":"#N/A"}},{"$f":"LOOKUP(C270,MassDataLink!$A$4:$A$5048,MassDataLink!$C$4:$C$5048)","v":{"$error":"#N/A"}},{"$f":"LOOKUP(C270,MassDataLink!$A$4:$A$5048,MassDataLink!$D$4:$D$5048)","v":{"$error":"#N/A"}},{"$f":"LOOKUP(C270,MassDataLink!$A$4:$A$5048,MassDataLink!$E$4:$E$5048)","v":{"$error":"#N/A"}},{"$f":"LOOKUP(C270,MassDataLink!$A$4:$A$5048,MassDataLink!$F$4:$F$5048)","v":{"$error":"#N/A"}},null,157,"- - -","- - -"]
[null,158,-1,{"$f":"LOOKUP(C271,MassDataLink!$A$4:$A$5048,MassDataLink!$B$4:$B$5048)","v":{"$error":"#N/A"}},{"$f":"LOOKUP(C271,MassDataLink!$A$4:$A$5048,MassDataLink!$C$4:$C$5048)","v":{"$error":"#N/A"}},{"$f":"LOOKUP(C271,MassDataLink!$A$4:$A$5048,MassDataLink!$D$4:$D$5048)","v":{"$error":"#N/A"}},{"$f":"LOOKUP(C271,MassDataLink!$A$4:$A$5048,MassDataLink!$E$4:$E$5048)","v":{"$error":"#N/A"}},{"$f":"LOOKUP(C271,MassDataLink!$A$4:$A$5048,MassDataLink!$F$4:$F$5048)","v":{"$error":"#N/A"}},null,158,"- - -","- - -"]
[null,159,-1,{"$f":"LOOKUP(C272,MassDataLink!$A$4:$A$5048,MassDataLink!$B$4:$B$5048)","v":{"$error":"#N/A"}},{"$f":"LOOKUP(C272,MassDataLink!$A$4:$A$5048,MassDataLink!$C$4:$C$5048)","v":{"$error":"#N/A"}},{"$f":"LOOKUP(C272,MassDataLink!$A$4:$A$5048,MassDataLink!$D$4:$D$5048)","v":{"$error":"#N/A"}},{"$f":"LOOKUP(C272,MassDataLink!$A$4:$A$5048,MassDataLink!$E$4:$E$5048)","v":{"$error":"#N/A"}},{"$f":"LOOKUP(C272,MassDataLink!$A$4:$A$5048,MassDataLink!$F$4:$F$5048)","v":{"$error":"#N/A"}},null,159,"- - -","- - -"]
[null,160,-1,{"$f":"LOOKUP(C273,MassDataLink!$A$4:$A$5048,MassDataLink!$B$4:$B$5048)","v":{"$error":"#N/A"}},{"$f":"LOOKUP(C273,MassDataLink!$A$4:$A$5048,MassDataLink!$C$4:$C$5048)","v":{"$error":"#N/A"}},{"$f":"LOOKUP(C273,MassDataLink!$A$4:$A$5048,MassDataLink!$D$4:$D$5048)","v":{"$error":"#N/A"}},{"$f":"LOOKUP(C273,MassDataLink!$A$4:$A$5048,MassDataLink!$E$4:$E$5048)","v":{"$error":"#N/A"}},{"$f":"LOOKUP(C273,MassDataLink!$A$4:$A$5048,MassDataLink!$F$4:$F$5048)","v":{"$error":"#N/A"}},null,160,"- - -","- - -"]
[null,161,-1,{"$f":"LOOKUP(C274,MassDataLink!$A$4:$A$5048,MassDataLink!$B$4:$B$5048)","v":{"$error":"#N/A"}},{"$f":"LOOKUP(C274,MassDataLink!$A$4:$A$5048,MassDataLink!$C$4:$C$5048)","v":{"$error":"#N/A"}},{"$f":"LOOKUP(C274,MassDataLink!$A$4:$A$5048,MassDataLink!$D$4:$D$5048)","v":{"$error":"#N/A"}},{"$f":"LOOKUP(C274,MassDataLink!$A$4:$A$5048,MassDataLink!$E$4:$E$5048)","v":{"$error":"#N/A"}},{"$f":"LOOKUP(C274,MassDataLink!$A$4:$A$5048,MassDataLink!$F$4:$F$5048)","v":{"$error":"#N/A"}},null,161,"- - -","- - -"]
[null,162,-1,{"$f":"LOOKUP(C275,MassDataLink!$A$4:$A$5048,MassDataLink!$B$4:$B$5048)","v":{"$error":"#N/A"}},{"$f":"LOOKUP(C275,MassDataLink!$A$4:$A$5048,MassDataLink!$C$4:$C$5048)","v":{"$error":"#N/A"}},{"$f":"LOOKUP(C275,MassDataLink!$A$4:$A$5048,MassDataLink!$D$4:$D$5048)","v":{"$error":"#N/A"}},{"$f":"LOOKUP(C275,MassDataLink!$A$4:$A$5048,MassDataLink!$E$4:$E$5048)","v":{"$error":"#N/A"}},{"$f":"LOOKUP(C275,MassDataLink!$A$4:$A$5048,MassDataLink!$F$4:$F$5048)","v":{"$error":"#N/A"}},null,162,"- - -","- - -"]
[null,163,-1,{"$f":"LOOKUP(C276,MassDataLink!$A$4:$A$5048,MassDataLink!$B$4:$B$5048)","v":{"$error":"#N/A"}},{"$f":"LOOKUP(C276,MassDataLink!$A$4:$A$5048,MassDataLink!$C$4:$C$5048)","v":{"$error":"#N/A"}},{"$f":"LOOKUP(C276,MassDataLink!$A$4:$A$5048,MassDataLink!$D$4:$D$5048)","v":{"$error":"#N/A"}},{"$f":"LOOKUP(C276,MassDataLink!$A$4:$A$5048,MassDataLink!$E$4:$E$5048)","v":{"$error":"#N/A"}},{"$f":"LOOKUP(C276,MassDataLink!$A$4:$A$5048,MassDataLink!$F$4:$F$5048)","v":{"$error":"#N/A"}},null,163,"- - -","- - -"]
[null,164,-1,{"$f":"LOOKUP(C277,MassDataLink!$A$4:$A$5048,MassDataLink!$B$4:$B$5048)","v":{"$error":"#N/A"}},{"$f":"LOOKUP(C277,MassDataLink!$A$4:$A$5048,MassDataLink!$C$4:$C$5048)","v":{"$error":"#N/A"}},{"$f":"LOOKUP(C277,MassDataLink!$A$4:$A$5048,MassDataLink!$D$4:$D$5048)","v":{"$error":"#N/A"}},{"$f":"LOOKUP(C277,MassDataLink!$A$4:$A$5048,MassDataLink!$E$4:$E$5048)","v":{"$error":"#N/A"}},{"$f":"LOOKUP(C277,MassDataLink!$A$4:$A$5048,MassDataLink!$F$4:$F$5048)","v":{"$error":"#N/A"}},null,164,"- - -","- - -"]
[null,165,-1,{"$f":"LOOKUP(C278,MassDataLink!$A$4:$A$5048,MassDataLink!$B$4:$B$5048)","v":{"$error":"#N/A"}},{"$f":"LOOKUP(C278,MassDataLink!$A$4:$A$5048,MassDataLink!$C$4:$C$5048)","v":{"$error":"#N/A"}},{"$f":"LOOKUP(C278,MassDataLink!$A$4:$A$5048,MassDataLink!$D$4:$D$5048)","v":{"$error":"#N/A"}},{"$f":"LOOKUP(C278,MassDataLink!$A$4:$A$5048,MassDataLink!$E$4:$E$5048)","v":{"$error":"#N/A"}},{"$f":"LOOKUP(C278,MassDataLink!$A$4:$A$5048,MassDataLink!$F$4:$F$5048)","v":{"$error":"#N/A"}},null,165,"- - -","- - -"]
[null,166,-1,{"$f":"LOOKUP(C279,MassDataLink!$A$4:$A$5048,MassDataLink!$B$4:$B$5048)","v":{"$error":"#N/A"}},{"$f":"LOOKUP(C279,MassDataLink!$A$4:$A$5048,MassDataLink!$C$4:$C$5048)","v":{"$error":"#N/A"}},{"$f":"LOOKUP(C279,MassDataLink!$A$4:$A$5048,MassDataLink!$D$4:$D$5048)","v":{"$error":"#N/A"}},{"$f":"LOOKUP(C279,MassDataLink!$A$4:$A$5048,MassDataLink!$E$4:$E$5048)","v":{"$error":"#N/A"}},{"$f":"LOOKUP(C279,MassDataLink!$A$4:$A$5048,MassDataLink!$F$4:$F$5048)","v":{"$error":"#N/A"}},null,166,"- - -","- - -"]
[null,167,-1,{"$f":"LOOKUP(C280,MassDataLink!$A$4:$A$5048,MassDataLink!$B$4:$B$5048)","v":{"$error":"#N/A"}},{"$f":"LOOKUP(C280,MassDataLink!$A$4:$A$5048,MassDataLink!$C$4:$C$5048)","v":{"$error":"#N/A"}},{"$f":"LOOKUP(C280,MassDataLink!$A$4:$A$5048,MassDataLink!$D$4:$D$5048)","v":{"$error":"#N/A"}},{"$f":"LOOKUP(C280,MassDataLink!$A$4:$A$5048,MassDataLink!$E$4:$E$5048)","v":{"$error":"#N/A"}},{"$f":"LOOKUP(C280,MassDataLink!$A$4:$A$5048,MassDataLink!$F$4:$F$5048)","v":{"$error":"#N/A"}},null,167,"- - -","- - -"]
[null,168,-1,{"$f":"LOOKUP(C281,MassDataLink!$A$4:$A$5048,MassDataLink!$B$4:$B$5048)","v":{"$error":"#N/A"}},{"$f":"LOOKUP(C281,MassDataLink!$A$4:$A$5048,MassDataLink!$C$4:$C$5048)","v":{"$error":"#N/A"}},{"$f":"LOOKUP(C281,MassDataLink!$A$4:$A$5048,MassDataLink!$D$4:$D$5048)","v":{"$error":"#N/A"}},{"$f":"LOOKUP(C281,MassDataLink!$A$4:$A$5048,MassDataLink!$E$4:$E$5048)","v":{"$error":"#N/A"}},{"$f":"LOOKUP(C281,MassDataLink!$A$4:$A$5048,MassDataLink!$F$4:$F$5048)","v":{"$error":"#N/A"}},null,168,"- - -","- - -"]
[null,169,-1,{"$f":"LOOKUP(C282,MassDataLink!$A$4:$A$5048,MassDataLink!$B$4:$B$5048)","v":{"$error":"#N/A"}},{"$f":"LOOKUP(C282,MassDataLink!$A$4:$A$5048,MassDataLink!$C$4:$C$5048)","v":{"$error":"#N/A"}},{"$f":"LOOKUP(C282,MassDataLink!$A$4:$A$5048,MassDataLink!$D$4:$D$5048)","v":{"$error":"#N/A"}},{"$f":"LOOKUP(C282,MassDataLink!$A$4:$A$5048,MassDataLink!$E$4:$E$5048)","v":{"$error":"#N/A"}},{"$f":"LOOKUP(C282,MassDataLink!$A$4:$A$5048,MassDataLink!$F$4:$F$5048)","v":{"$error":"#N/A"}},null,169,"- - -","- - -"]
[null,170,-1,{"$f":"LOOKUP(C283,MassDataLink!$A$4:$A$5048,MassDataLink!$B$4:$B$5048)","v":{"$error":"#N/A"}},{"$f":"LOOKUP(C283,MassDataLink!$A$4:$A$5048,MassDataLink!$C$4:$C$5048)","v":{"$error":"#N/A"}},{"$f":"LOOKUP(C283,MassDataLink!$A$4:$A$5048,MassDataLink!$D$4:$D$5048)","v":{"$error":"#N/A"}},{"$f":"LOOKUP(C283,MassDataLink!$A$4:$A$5048,MassDataLink!$E$4:$E$5048)","v":{"$error":"#N/A"}},{"$f":"LOOKUP(C283,MassDataLink!$A$4:$A$5048,MassDataLink!$F$4:$F$5048)","v":{"$error":"#N/A"}},null,170,"- - -","- - -"]
[null,171,-1,{"$f":"LOOKUP(C284,MassDataLink!$A$4:$A$5048,MassDataLink!$B$4:$B$5048)","v":{"$error":"#N/A"}},{"$f":"LOOKUP(C284,MassDataLink!$A$4:$A$5048,MassDataLink!$C$4:$C$5048)","v":{"$error":"#N/A"}},{"$f":"LOOKUP(C284,MassDataLink!$A$4:$A$5048,MassDataLink!$D$4:$D$5048)","v":{"$error":"#N/A"}},{"$f":"LOOKUP(C284,MassDataLink!$A$4:$A$5048,MassDataLink!$E$4:$E$5048)","v":{"$error":"#N/A"}},{"$f":"LOOKUP(C284,MassDataLink!$A$4:$A$5048,MassDataLink!$F$4:$F$5048)","v":{"$error":"#N/A"}},null,171,"- - -","- - -"]
[null,172,-1,{"$f":"LOOKUP(C285,MassDataLink!$A$4:$A$5048,MassDataLink!$B$4:$B$5048)","v":{"$error":"#N/A"}},{"$f":"LOOKUP(C285,MassDataLink!$A$4:$A$5048,MassDataLink!$C$4:$C$5048)","v":{"$error":"#N/A"}},{"$f":"LOOKUP(C285,MassDataLink!$A$4:$A$5048,MassDataLink!$D$4:$D$5048)","v":{"$error":"#N/A"}},{"$f":"LOOKUP(C285,MassDataLink!$A$4:$A$5048,MassDataLink!$E$4:$E$5048)","v":{"$error":"#N/A"}},{"$f":"LOOKUP(C285,MassDataLink!$A$4:$A$5048,MassDataLink!$F$4:$F$5048)","v":{"$error":"#N/A"}},null,172,"- - -","- - -"]
[null,173,-1,{"$f":"LOOKUP(C286,MassDataLink!$A$4:$A$5048,MassDataLink!$B$4:$B$5048)","v":{"$error":"#N/A"}},{"$f":"LOOKUP(C286,MassDataLink!$A$4:$A$5048,MassDataLink!$C$4:$C$5048)","v":{"$error":"#N/A"}},{"$f":"LOOKUP(C286,MassDataLink!$A$4:$A$5048,MassDataLink!$D$4:$D$5048)","v":{"$error":"#N/A"}},{"$f":"LOOKUP(C286,MassDataLink!$A$4:$A$5048,MassDataLink!$E$4:$E$5048)","v":{"$error":"#N/A"}},{"$f":"LOOKUP(C286,MassDataLink!$A$4:$A$5048,MassDataLink!$F$4:$F$5048)","v":{"$error":"#N/A"}},null,173,"- - -","- - -"]
[null,174,-1,{"$f":"LOOKUP(C287,MassDataLink!$A$4:$A$5048,MassDataLink!$B$4:$B$5048)","v":{"$error":"#N/A"}},{"$f":"LOOKUP(C287,MassDataLink!$A$4:$A$5048,MassDataLink!$C$4:$C$5048)","v":{"$error":"#N/A"}},{"$f":"LOOKUP(C287,MassDataLink!$A$4:$A$5048,MassDataLink!$D$4:$D$5048)","v":{"$error":"#N/A"}},{"$f":"LOOKUP(C287,MassDataLink!$A$4:$A$5048,MassDataLink!$E$4:$E$5048)","v":{"$error":"#N/A"}},{"$f":"LOOKUP(C287,MassDataLink!$A$4:$A$5048,MassDataLink!$F$4:$F$5048)","v":{"$error":"#N/A"}},null,174,"- - -","- - -"]
[null,175,-1,{"$f":"LOOKUP(C288,MassDataLink!$A$4:$A$5048,MassDataLink!$B$4:$B$5048)","v":{"$error":"#N/A"}},{"$f":"LOOKUP(C288,MassDataLink!$A$4:$A$5048,MassDataLink!$C$4:$C$5048)","v":{"$error":"#N/A"}},{"$f":"LOOKUP(C288,MassDataLink!$A$4:$A$5048,MassDataLink!$D$4:$D$5048)","v":{"$error":"#N/A"}},{"$f":"LOOKUP(C288,MassDataLink!$A$4:$A$5048,MassDataLink!$E$4:$E$5048)","v":{"$error":"#N/A"}},{"$f":"LOOKUP(C288,MassDataLink!$A$4:$A$5048,MassDataLink!$F$4:$F$5048)","v":{"$error":"#N/A"}},null,175,"- - -","- - -"]
[null,176,-1,{"$f":"LOOKUP(C289,MassDataLink!$A$4:$A$5048,MassDataLink!$B$4:$B$5048)","v":{"$error":"#N/A"}},{"$f":"LOOKUP(C289,MassDataLink!$A$4:$A$5048,MassDataLink!$C$4:$C$5048)","v":{"$error":"#N/A"}},{"$f":"LOOKUP(C289,MassDataLink!$A$4:$A$5048,MassDataLink!$D$4:$D$5048)","v":{"$error":"#N/A"}},{"$f":"LOOKUP(C289,MassDataLink!$A$4:$A$5048,MassDataLink!$E$4:$E$5048)","v":{"$error":"#N/A"}},{"$f":"LOOKUP(C289,MassDataLink!$A$4:$A$5048,MassDataLink!$F$4:$F$5048)","v":{"$error":"#N/A"}},null,176,"- - -","- - -"]
[null,177,-1,{"$f":"LOOKUP(C290,MassDataLink!$A$4:$A$5048,MassDataLink!$B$4:$B$5048)","v":{"$error":"#N/A"}},{"$f":"LOOKUP(C290,MassDataLink!$A$4:$A$5048,MassDataLink!$C$4:$C$5048)","v":{"$error":"#N/A"}},{"$f":"LOOKUP(C290,MassDataLink!$A$4:$A$5048,MassDataLink!$D$4:$D$5048)","v":{"$error":"#N/A"}},{"$f":"LOOKUP(C290,MassDataLink!$A$4:$A$5048,MassDataLink!$E$4:$E$5048)","v":{"$error":"#N/A"}},{"$f":"LOOKUP(C290,MassDataLink!$A$4:$A$5048,MassDataLink!$F$4:$F$5048)","v":{"$error":"#N/A"}},null,177,"- - -","- - -"]
[null,178,-1,{"$f":"LOOKUP(C291,MassDataLink!$A$4:$A$5048,MassDataLink!$B$4:$B$5048)","v":{"$error":"#N/A"}},{"$f":"LOOKUP(C291,MassDataLink!$A$4:$A$5048,MassDataLink!$C$4:$C$5048)","v":{"$error":"#N/A"}},{"$f":"LOOKUP(C291,MassDataLink!$A$4:$A$5048,MassDataLink!$D$4:$D$5048)","v":{"$error":"#N/A"}},{"$f":"LOOKUP(C291,MassDataLink!$A$4:$A$5048,MassDataLink!$E$4:$E$5048)","v":{"$error":"#N/A"}},{"$f":"LOOKUP(C291,MassDataLink!$A$4:$A$5048,MassDataLink!$F$4:$F$5048)","v":{"$error":"#N/A"}},null,178,"- - -","- - -"]
[null,{"$f":"B291+1","v":179},{"$f":"IF(C291=-1,-1,H291)","v":-1},{"$f":"LOOKUP(C292,MassDataLink!$A$4:$A$5048,MassDataLink!$B$4:$B$5048)","v":{"$error":"#N/A"}},{"$f":"LOOKUP(C292,MassDataLink!$A$4:$A$5048,MassDataLink!$C$4:$C$5048)","v":{"$error":"#N/A"}},{"$f":"LOOKUP(C292,MassDataLink!$A$4:$A$5048,MassDataLink!$D$4:$D$5048)","v":{"$error":"#N/A"}},{"$f":"LOOKUP(C292,MassDataLink!$A$4:$A$5048,MassDataLink!$E$4:$E$5048)","v":{"$error":"#N/A"}},{"$f":"LOOKUP(C292,MassDataLink!$A$4:$A$5048,MassDataLink!$F$4:$F$5048)","v":{"$error":"#N/A"}},null,{"$f":"J291+1","v":179},{"$f":"IF(C292=-1,$L$112,IF($A$11=D292,ROUND((E292*$P$57),$R$57),$L$112))","v":"- - -"},{"$f":"IF(K292=$L$112,$L$112,F292)","v":"- - -"}]
[null,180,-1,{"$f":"LOOKUP(C293,MassDataLink!$A$4:$A$5048,MassDataLink!$B$4:$B$5048)","v":{"$error":"#N/A"}},{"$f":"LOOKUP(C293,MassDataLink!$A$4:$A$5048,MassDataLink!$C$4:$C$5048)","v":{"$error":"#N/A"}},{"$f":"LOOKUP(C293,MassDataLink!$A$4:$A$5048,MassDataLink!$D$4:$D$5048)","v":{"$error":"#N/A"}},{"$f":"LOOKUP(C293,MassDataLink!$A$4:$A$5048,MassDataLink!$E$4:$E$5048)","v":{"$error":"#N/A"}},{"$f":"LOOKUP(C293,MassDataLink!$A$4:$A$5048,MassDataLink!$F$4:$F$5048)","v":{"$error":"#N/A"}},null,180,"- - -","- - -"]
[null,181,-1,{"$f":"LOOKUP(C294,MassDataLink!$A$4:$A$5048,MassDataLink!$B$4:$B$5048)","v":{"$error":"#N/A"}},{"$f":"LOOKUP(C294,MassDataLink!$A$4:$A$5048,MassDataLink!$C$4:$C$5048)","v":{"$error":"#N/A"}},{"$f":"LOOKUP(C294,MassDataLink!$A$4:$A$5048,MassDataLink!$D$4:$D$5048)","v":{"$error":"#N/A"}},{"$f":"LOOKUP(C294,MassDataLink!$A$4:$A$5048,MassDataLink!$E$4:$E$5048)","v":{"$error":"#N/A"}},{"$f":"LOOKUP(C294,MassDataLink!$A$4:$A$5048,MassDataLink!$F$4:$F$5048)","v":{"$error":"#N/A"}},null,181,"- - -","- - -"]
[null,182,-1,{"$f":"LOOKUP(C295,MassDataLink!$A$4:$A$5048,MassDataLink!$B$4:$B$5048)","v":{"$error":"#N/A"}},{"$f":"LOOKUP(C295,MassDataLink!$A$4:$A$5048,MassDataLink!$C$4:$C$5048)","v":{"$error":"#N/A"}},{"$f":"LOOKUP(C295,MassDataLink!$A$4:$A$5048,MassDataLink!$D$4:$D$5048)","v":{"$error":"#N/A"}},{"$f":"LOOKUP(C295,MassDataLink!$A$4:$A$5048,MassDataLink!$E$4:$E$5048)","v":{"$error":"#N/A"}},{"$f":"LOOKUP(C295,MassDataLink!$A$4:$A$5048,MassDataLink!$F$4:$F$5048)","v":{"$error":"#N/A"}},null,182,"- - -","- - -"]
[null,183,-1,{"$f":"LOOKUP(C296,MassDataLink!$A$4:$A$5048,MassDataLink!$B$4:$B$5048)","v":{"$error":"#N/A"}},{"$f":"LOOKUP(C296,MassDataLink!$A$4:$A$5048,MassDataLink!$C$4:$C$5048)","v":{"$error":"#N/A"}},{"$f":"LOOKUP(C296,MassDataLink!$A$4:$A$5048,MassDataLink!$D$4:$D$5048)","v":{"$error":"#N/A"}},{"$f":"LOOKUP(C296,MassDataLink!$A$4:$A$5048,MassDataLink!$E$4:$E$5048)","v":{"$error":"#N/A"}},{"$f":"LOOKUP(C296,MassDataLink!$A$4:$A$5048,MassDataLink!$F$4:$F$5048)","v":{"$error":"#N/A"}},null,183,"- - -","- - -"]
[null,184,-1,{"$f":"LOOKUP(C297,MassDataLink!$A$4:$A$5048,MassDataLink!$B$4:$B$5048)","v":{"$error":"#N/A"}},{"$f":"LOOKUP(C297,MassDataLink!$A$4:$A$5048,MassDataLink!$C$4:$C$5048)","v":{"$error":"#N/A"}},{"$f":"LOOKUP(C297,MassDataLink!$A$4:$A$5048,MassDataLink!$D$4:$D$5048)","v":{"$error":"#N/A"}},{"$f":"LOOKUP(C297,MassDataLink!$A$4:$A$5048,MassDataLink!$E$4:$E$5048)","v":{"$error":"#N/A"}},{"$f":"LOOKUP(C297,MassDataLink!$A$4:$A$5048,MassDataLink!$F$4:$F$5048)","v":{"$error":"#N/A"}},null,184,"- - -","- - -"]
[null,185,-1,{"$f":"LOOKUP(C298,MassDataLink!$A$4:$A$5048,MassDataLink!$B$4:$B$5048)","v":{"$error":"#N/A"}},{"$f":"LOOKUP(C298,MassDataLink!$A$4:$A$5048,MassDataLink!$C$4:$C$5048)","v":{"$error":"#N/A"}},{"$f":"LOOKUP(C298,MassDataLink!$A$4:$A$5048,MassDataLink!$D$4:$D$5048)","v":{"$error":"#N/A"}},{"$f":"LOOKUP(C298,MassDataLink!$A$4:$A$5048,MassDataLink!$E$4:$E$5048)","v":{"$error":"#N/A"}},{"$f":"LOOKUP(C298,MassDataLink!$A$4:$A$5048,MassDataLink!$F$4:$F$5048)","v":{"$error":"#N/A"}},null,185,"- - -","- - -"]
[null,186,-1,{"$f":"LOOKUP(C299,MassDataLink!$A$4:$A$5048,MassDataLink!$B$4:$B$5048)","v":{"$error":"#N/A"}},{"$f":"LOOKUP(C299,MassDataLink!$A$4:$A$5048,MassDataLink!$C$4:$C$5048)","v":{"$error":"#N/A"}},{"$f":"LOOKUP(C299,MassDataLink!$A$4:$A$5048,MassDataLink!$D$4:$D$5048)","v":{"$error":"#N/A"}},{"$f":"LOOKUP(C299,MassDataLink!$A$4:$A$5048,MassDataLink!$E$4:$E$5048)","v":{"$error":"#N/A"}},{"$f":"LOOKUP(C299,MassDataLink!$A$4:$A$5048,MassDataLink!$F$4:$F$5048)","v":{"$error":"#N/A"}},null,186,"- - -","- - -"]
[null,187,-1,{"$f":"LOOKUP(C300,MassDataLink!$A$4:$A$5048,MassDataLink!$B$4:$B$5048)","v":{"$error":"#N/A"}},{"$f":"LOOKUP(C300,MassDataLink!$A$4:$A$5048,MassDataLink!$C$4:$C$5048)","v":{"$error":"#N/A"}},{"$f":"LOOKUP(C300,MassDataLink!$A$4:$A$5048,MassDataLink!$D$4:$D$5048)","v":{"$error":"#N/A"}},{"$f":"LOOKUP(C300,MassDataLink!$A$4:$A$5048,MassDataLink!$E$4:$E$5048)","v":{"$error":"#N/A"}},{"$f":"LOOKUP(C300,MassDataLink!$A$4:$A$5048,MassDataLink!$F$4:$F$5048)","v":{"$error":"#N/A"}},null,187,"- - -","- - -"]
[null,188,-1,{"$f":"LOOKUP(C301,MassDataLink!$A$4:$A$5048,MassDataLink!$B$4:$B$5048)","v":{"$error":"#N/A"}},{"$f":"LOOKUP(C301,MassDataLink!$A$4:$A$5048,MassDataLink!$C$4:$C$5048)","v":{"$error":"#N/A"}},{"$f":"LOOKUP(C301,MassDataLink!$A$4:$A$5048,MassDataLink!$D$4:$D$5048)","v":{"$error":"#N/A"}},{"$f":"LOOKUP(C301,MassDataLink!$A$4:$A$5048,MassDataLink!$E$4:$E$5048)","v":{"$error":"#N/A"}},{"$f":"LOOKUP(C301,MassDataLink!$A$4:$A$5048,MassDataLink!$F$4:$F$5048)","v":{"$error":"#N/A"}},null,188,"- - -","- - -"]
[null,189,-1,{"$f":"LOOKUP(C302,MassDataLink!$A$4:$A$5048,MassDataLink!$B$4:$B$5048)","v":{"$error":"#N/A"}},{"$f":"LOOKUP(C302,MassDataLink!$A$4:$A$5048,MassDataLink!$C$4:$C$5048)","v":{"$error":"#N/A"}},{"$f":"LOOKUP(C302,MassDataLink!$A$4:$A$5048,MassDataLink!$D$4:$D$5048)","v":{"$error":"#N/A"}},{"$f":"LOOKUP(C302,MassDataLink!$A$4:$A$5048,MassDataLink!$E$4:$E$5048)","v":{"$error":"#N/A"}},{"$f":"LOOKUP(C302,MassDataLink!$A$4:$A$5048,MassDataLink!$F$4:$F$5048)","v":{"$error":"#N/A"}},null,189,"- - -","- - -"]
[null,190,-1,{"$f":"LOOKUP(C303,MassDataLink!$A$4:$A$5048,MassDataLink!$B$4:$B$5048)","v":{"$error":"#N/A"}},{"$f":"LOOKUP(C303,MassDataLink!$A$4:$A$5048,MassDataLink!$C$4:$C$5048)","v":{"$error":"#N/A"}},{"$f":"LOOKUP(C303,MassDataLink!$A$4:$A$5048,MassDataLink!$D$4:$D$5048)","v":{"$error":"#N/A"}},{"$f":"LOOKUP(C303,MassDataLink!$A$4:$A$5048,MassDataLink!$E$4:$E$5048)","v":{"$error":"#N/A"}},{"$f":"LOOKUP(C303,MassDataLink!$A$4:$A$5048,MassDataLink!$F$4:$F$5048)","v":{"$error":"#N/A"}},null,190,"- - -","- - -"]
[null,191,-1,{"$f":"LOOKUP(C304,MassDataLink!$A$4:$A$5048,MassDataLink!$B$4:$B$5048)","v":{"$error":"#N/A"}},{"$f":"LOOKUP(C304,MassDataLink!$A$4:$A$5048,MassDataLink!$C$4:$C$5048)","v":{"$error":"#N/A"}},{"$f":"LOOKUP(C304,MassDataLink!$A$4:$A$5048,MassDataLink!$D$4:$D$5048)","v":{"$error":"#N/A"}},{"$f":"LOOKUP(C304,MassDataLink!$A$4:$A$5048,MassDataLink!$E$4:$E$5048)","v":{"$error":"#N/A"}},{"$f":"LOOKUP(C304,MassDataLink!$A$4:$A$5048,MassDataLink!$F$4:$F$5048)","v":{"$error":"#N/A"}},null,191,"- - -","- - -"]
[null,192,-1,{"$f":"LOOKUP(C305,MassDataLink!$A$4:$A$5048,MassDataLink!$B$4:$B$5048)","v":{"$error":"#N/A"}},{"$f":"LOOKUP(C305,MassDataLink!$A$4:$A$5048,MassDataLink!$C$4:$C$5048)","v":{"$error":"#N/A"}},{"$f":"LOOKUP(C305,MassDataLink!$A$4:$A$5048,MassDataLink!$D$4:$D$5048)","v":{"$error":"#N/A"}},{"$f":"LOOKUP(C305,MassDataLink!$A$4:$A$5048,MassDataLink!$E$4:$E$5048)","v":{"$error":"#N/A"}},{"$f":"LOOKUP(C305,MassDataLink!$A$4:$A$5048,MassDataLink!$F$4:$F$5048)","v":{"$error":"#N/A"}},null,192,"- - -","- - -"]
[null,193,-1,{"$f":"LOOKUP(C306,MassDataLink!$A$4:$A$5048,MassDataLink!$B$4:$B$5048)","v":{"$error":"#N/A"}},{"$f":"LOOKUP(C306,MassDataLink!$A$4:$A$5048,MassDataLink!$C$4:$C$5048)","v":{"$error":"#N/A"}},{"$f":"LOOKUP(C306,MassDataLink!$A$4:$A$5048,MassDataLink!$D$4:$D$5048)","v":{"$error":"#N/A"}},{"$f":"LOOKUP(C306,MassDataLink!$A$4:$A$5048,MassDataLink!$E$4:$E$5048)","v":{"$error":"#N/A"}},{"$f":"LOOKUP(C306,MassDataLink!$A$4:$A$5048,MassDataLink!$F$4:$F$5048)","v":{"$error":"#N/A"}},null,193,"- - -","- - -"]
[null,194,-1,{"$f":"LOOKUP(C307,MassDataLink!$A$4:$A$5048,MassDataLink!$B$4:$B$5048)","v":{"$error":"#N/A"}},{"$f":"LOOKUP(C307,MassDataLink!$A$4:$A$5048,MassDataLink!$C$4:$C$5048)","v":{"$error":"#N/A"}},{"$f":"LOOKUP(C307,MassDataLink!$A$4:$A$5048,MassDataLink!$D$4:$D$5048)","v":{"$error":"#N/A"}},{"$f":"LOOKUP(C307,MassDataLink!$A$4:$A$5048,MassDataLink!$E$4:$E$5048)","v":{"$error":"#N/A"}},{"$f":"LOOKUP(C307,MassDataLink!$A$4:$A$5048,MassDataLink!$F$4:$F$5048)","v":{"$error":"#N/A"}},null,194,"- - -","- - -"]
[null,195,-1,{"$f":"LOOKUP(C308,MassDataLink!$A$4:$A$5048,MassDataLink!$B$4:$B$5048)","v":{"$error":"#N/A"}},{"$f":"LOOKUP(C308,MassDataLink!$A$4:$A$5048,MassDataLink!$C$4:$C$5048)","v":{"$error":"#N/A"}},{"$f":"LOOKUP(C308,MassDataLink!$A$4:$A$5048,MassDataLink!$D$4:$D$5048)","v":{"$error":"#N/A"}},{"$f":"LOOKUP(C308,MassDataLink!$A$4:$A$5048,MassDataLink!$E$4:$E$5048)","v":{"$error":"#N/A"}},{"$f":"LOOKUP(C308,MassDataLink!$A$4:$A$5048,MassDataLink!$F$4:$F$5048)","v":{"$error":"#N/A"}},null,195,"- - -","- - -"]
[null,196,-1,{"$f":"LOOKUP(C309,MassDataLink!$A$4:$A$5048,MassDataLink!$B$4:$B$5048)","v":{"$error":"#N/A"}},{"$f":"LOOKUP(C309,MassDataLink!$A$4:$A$5048,MassDataLink!$C$4:$C$5048)","v":{"$error":"#N/A"}},{"$f":"LOOKUP(C309,MassDataLink!$A$4:$A$5048,MassDataLink!$D$4:$D$5048)","v":{"$error":"#N/A"}},{"$f":"LOOKUP(C309,MassDataLink!$A$4:$A$5048,MassDataLink!$E$4:$E$5048)","v":{"$error":"#N/A"}},{"$f":"LOOKUP(C309,MassDataLink!$A$4:$A$5048,MassDataLink!$F$4:$F$5048)","v":{"$error":"#N/A"}},null,196,"- - -","- - -"]
[null,197,-1,{"$f":"LOOKUP(C310,MassDataLink!$A$4:$A$5048,MassDataLink!$B$4:$B$5048)","v":{"$error":"#N/A"}},{"$f":"LOOKUP(C310,MassDataLink!$A$4:$A$5048,MassDataLink!$C$4:$C$5048)","v":{"$error":"#N/A"}},{"$f":"LOOKUP(C310,MassDataLink!$A$4:$A$5048,MassDataLink!$D$4:$D$5048)","v":{"$error":"#N/A"}},{"$f":"LOOKUP(C310,MassDataLink!$A$4:$A$5048,MassDataLink!$E$4:$E$5048)","v":{"$error":"#N/A"}},{"$f":"LOOKUP(C310,MassDataLink!$A$4:$A$5048,MassDataLink!$F$4:$F$5048)","v":{"$error":"#N/A"}},null,197,"- - -","- - -"]
[null,198,-1,{"$f":"LOOKUP(C311,MassDataLink!$A$4:$A$5048,MassDataLink!$B$4:$B$5048)","v":{"$error":"#N/A"}},{"$f":"LOOKUP(C311,MassDataLink!$A$4:$A$5048,MassDataLink!$C$4:$C$5048)","v":{"$error":"#N/A"}},{"$f":"LOOKUP(C311,MassDataLink!$A$4:$A$5048,MassDataLink!$D$4:$D$5048)","v":{"$error":"#N/A"}},{"$f":"LOOKUP(C311,MassDataLink!$A$4:$A$5048,MassDataLink!$E$4:$E$5048)","v":{"$error":"#N/A"}},{"$f":"LOOKUP(C311,MassDataLink!$A$4:$A$5048,MassDataLink!$F$4:$F$5048)","v":{"$error":"#N/A"}},null,198,"- - -","- - -"]
[null,199,-1,{"$f":"LOOKUP(C312,MassDataLink!$A$4:$A$5048,MassDataLink!$B$4:$B$5048)","v":{"$error":"#N/A"}},{"$f":"LOOKUP(C312,MassDataLink!$A$4:$A$5048,MassDataLink!$C$4:$C$5048)","v":{"$error":"#N/A"}},{"$f":"LOOKUP(C312,MassDataLink!$A$4:$A$5048,MassDataLink!$D$4:$D$5048)","v":{"$error":"#N/A"}},{"$f":"LOOKUP(C312,MassDataLink!$A$4:$A$5048,MassDataLink!$E$4:$E$5048)","v":{"$error":"#N/A"}},{"$f":"LOOKUP(C312,MassDataLink!$A$4:$A$5048,MassDataLink!$F$4:$F$5048)","v":{"$error":"#N/A"}},null,199,"- - -","- - -"]
[null,200,-1,{"$f":"LOOKUP(C313,MassDataLink!$A$4:$A$5048,MassDataLink!$B$4:$B$5048)","v":{"$error":"#N/A"}},{"$f":"LOOKUP(C313,MassDataLink!$A$4:$A$5048,MassDataLink!$C$4:$C$5048)","v":{"$error":"#N/A"}},{"$f":"LOOKUP(C313,MassDataLink!$A$4:$A$5048,MassDataLink!$D$4:$D$5048)","v":{"$error":"#N/A"}},{"$f":"LOOKUP(C313,MassDataLink!$A$4:$A$5048,MassDataLink!$E$4:$E$5048)","v":{"$error":"#N/A"}},{"$f":"LOOKUP(C313,MassDataLink!$A$4:$A$5048,MassDataLink!$F$4:$F$5048)","v":{"$error":"#N/A"}},null,200,"- - -","- - -"]
[null,201,-1,{"$f":"LOOKUP(C314,MassDataLink!$A$4:$A$5048,MassDataLink!$B$4:$B$5048)","v":{"$error":"#N/A"}},{"$f":"LOOKUP(C314,MassDataLink!$A$4:$A$5048,MassDataLink!$C$4:$C$5048)","v":{"$error":"#N/A"}},{"$f":"LOOKUP(C314,MassDataLink!$A$4:$A$5048,MassDataLink!$D$4:$D$5048)","v":{"$error":"#N/A"}},{"$f":"LOOKUP(C314,MassDataLink!$A$4:$A$5048,MassDataLink!$E$4:$E$5048)","v":{"$error":"#N/A"}},{"$f":"LOOKUP(C314,MassDataLink!$A$4:$A$5048,MassDataLink!$F$4:$F$5048)","v":{"$error":"#N/A"}},null,201,"- - -","- - -"]
[null,202,-1,{"$f":"LOOKUP(C315,MassDataLink!$A$4:$A$5048,MassDataLink!$B$4:$B$5048)","v":{"$error":"#N/A"}},{"$f":"LOOKUP(C315,MassDataLink!$A$4:$A$5048,MassDataLink!$C$4:$C$5048)","v":{"$error":"#N/A"}},{"$f":"LOOKUP(C315,MassDataLink!$A$4:$A$5048,MassDataLink!$D$4:$D$5048)","v":{"$error":"#N/A"}},{"$f":"LOOKUP(C315,MassDataLink!$A$4:$A$5048,MassDataLink!$E$4:$E$5048)","v":{"$error":"#N/A"}},{"$f":"LOOKUP(C315,MassDataLink!$A$4:$A$5048,MassDataLink!$F$4:$F$5048)","v":{"$error":"#N/A"}},null,202,"- - -","- - -"]
[null,203,-1,{"$f":"LOOKUP(C316,MassDataLink!$A$4:$A$5048,MassDataLink!$B$4:$B$5048)","v":{"$error":"#N/A"}},{"$f":"LOOKUP(C316,MassDataLink!$A$4:$A$5048,MassDataLink!$C$4:$C$5048)","v":{"$error":"#N/A"}},{"$f":"LOOKUP(C316,MassDataLink!$A$4:$A$5048,MassDataLink!$D$4:$D$5048)","v":{"$error":"#N/A"}},{"$f":"LOOKUP(C316,MassDataLink!$A$4:$A$5048,MassDataLink!$E$4:$E$5048)","v":{"$error":"#N/A"}},{"$f":"LOOKUP(C316,MassDataLink!$A$4:$A$5048,MassDataLink!$F$4:$F$5048)","v":{"$error":"#N/A"}},null,203,"- - -","- - -"]
[null,204,-1,{"$f":"LOOKUP(C317,MassDataLink!$A$4:$A$5048,MassDataLink!$B$4:$B$5048)","v":{"$error":"#N/A"}},{"$f":"LOOKUP(C317,MassDataLink!$A$4:$A$5048,MassDataLink!$C$4:$C$5048)","v":{"$error":"#N/A"}},{"$f":"LOOKUP(C317,MassDataLink!$A$4:$A$5048,MassDataLink!$D$4:$D$5048)","v":{"$error":"#N/A"}},{"$f":"LOOKUP(C317,MassDataLink!$A$4:$A$5048,MassDataLink!$E$4:$E$5048)","v":{"$error":"#N/A"}},{"$f":"LOOKUP(C317,MassDataLink!$A$4:$A$5048,MassDataLink!$F$4:$F$5048)","v":{"$error":"#N/A"}},null,204,"- - -","- - -"]
[null,205,-1,{"$f":"LOOKUP(C318,MassDataLink!$A$4:$A$5048,MassDataLink!$B$4:$B$5048)","v":{"$error":"#N/A"}},{"$f":"LOOKUP(C318,MassDataLink!$A$4:$A$5048,MassDataLink!$C$4:$C$5048)","v":{"$error":"#N/A"}},{"$f":"LOOKUP(C318,MassDataLink!$A$4:$A$5048,MassDataLink!$D$4:$D$5048)","v":{"$error":"#N/A"}},{"$f":"LOOKUP(C318,MassDataLink!$A$4:$A$5048,MassDataLink!$E$4:$E$5048)","v":{"$error":"#N/A"}},{"$f":"LOOKUP(C318,MassDataLink!$A$4:$A$5048,MassDataLink!$F$4:$F$5048)","v":{"$error":"#N/A"}},null,205,"- - -","- - -"]
[null,206,-1,{"$f":"LOOKUP(C319,MassDataLink!$A$4:$A$5048,MassDataLink!$B$4:$B$5048)","v":{"$error":"#N/A"}},{"$f":"LOOKUP(C319,MassDataLink!$A$4:$A$5048,MassDataLink!$C$4:$C$5048)","v":{"$error":"#N/A"}},{"$f":"LOOKUP(C319,MassDataLink!$A$4:$A$5048,MassDataLink!$D$4:$D$5048)","v":{"$error":"#N/A"}},{"$f":"LOOKUP(C319,MassDataLink!$A$4:$A$5048,MassDataLink!$E$4:$E$5048)","v":{"$error":"#N/A"}},{"$f":"LOOKUP(C319,MassDataLink!$A$4:$A$5048,MassDataLink!$F$4:$F$5048)","v":{"$error":"#N/A"}},null,206,"- - -","- - -"]
[null,207,-1,{"$f":"LOOKUP(C320,MassDataLink!$A$4:$A$5048,MassDataLink!$B$4:$B$5048)","v":{"$error":"#N/A"}},{"$f":"LOOKUP(C320,MassDataLink!$A$4:$A$5048,MassDataLink!$C$4:$C$5048)","v":{"$error":"#N/A"}},{"$f":"LOOKUP(C320,MassDataLink!$A$4:$A$5048,MassDataLink!$D$4:$D$5048)","v":{"$error":"#N/A"}},{"$f":"LOOKUP(C320,MassDataLink!$A$4:$A$5048,MassDataLink!$E$4:$E$5048)","v":{"$error":"#N/A"}},{"$f":"LOOKUP(C320,MassDataLink!$A$4:$A$5048,MassDataLink!$F$4:$F$5048)","v":{"$error":"#N/A"}},null,207,"- - -","- - -"]
[null,208,-1,{"$f":"LOOKUP(C321,MassDataLink!$A$4:$A$5048,MassDataLink!$B$4:$B$5048)","v":{"$error":"#N/A"}},{"$f":"LOOKUP(C321,MassDataLink!$A$4:$A$5048,MassDataLink!$C$4:$C$5048)","v":{"$error":"#N/A"}},{"$f":"LOOKUP(C321,MassDataLink!$A$4:$A$5048,MassDataLink!$D$4:$D$5048)","v":{"$error":"#N/A"}},{"$f":"LOOKUP(C321,MassDataLink!$A$4:$A$5048,MassDataLink!$E$4:$E$5048)","v":{"$error":"#N/A"}},{"$f":"LOOKUP(C321,MassDataLink!$A$4:$A$5048,MassDataLink!$F$4:$F$5048)","v":{"$error":"#N/A"}},null,208,"- - -","- - -"]
[null,209,-1,{"$f":"LOOKUP(C322,MassDataLink!$A$4:$A$5048,MassDataLink!$B$4:$B$5048)","v":{"$error":"#N/A"}},{"$f":"LOOKUP(C322,MassDataLink!$A$4:$A$5048,MassDataLink!$C$4:$C$5048)","v":{"$error":"#N/A"}},{"$f":"LOOKUP(C322,MassDataLink!$A$4:$A$5048,MassDataLink!$D$4:$D$5048)","v":{"$error":"#N/A"}},{"$f":"LOOKUP(C322,MassDataLink!$A$4:$A$5048,MassDataLink!$E$4:$E$5048)","v":{"$error":"#N/A"}},{"$f":"LOOKUP(C322,MassDataLink!$A$4:$A$5048,MassDataLink!$F$4:$F$5048)","v":{"$error":"#N/A"}},null,209,"- - -","- - -"]
[null,210,-1,{"$f":"LOOKUP(C323,MassDataLink!$A$4:$A$5048,MassDataLink!$B$4:$B$5048)","v":{"$error":"#N/A"}},{"$f":"LOOKUP(C323,MassDataLink!$A$4:$A$5048,MassDataLink!$C$4:$C$5048)","v":{"$error":"#N/A"}},{"$f":"LOOKUP(C323,MassDataLink!$A$4:$A$5048,MassDataLink!$D$4:$D$5048)","v":{"$error":"#N/A"}},{"$f":"LOOKUP(C323,MassDataLink!$A$4:$A$5048,MassDataLink!$E$4:$E$5048)","v":{"$error":"#N/A"}},{"$f":"LOOKUP(C323,MassDataLink!$A$4:$A$5048,MassDataLink!$F$4:$F$5048)","v":{"$error":"#N/A"}},null,210,"- - -","- - -"]
[null,211,-1,{"$f":"LOOKUP(C324,MassDataLink!$A$4:$A$5048,MassDataLink!$B$4:$B$5048)","v":{"$error":"#N/A"}},{"$f":"LOOKUP(C324,MassDataLink!$A$4:$A$5048,MassDataLink!$C$4:$C$5048)","v":{"$error":"#N/A"}},{"$f":"LOOKUP(C324,MassDataLink!$A$4:$A$5048,MassDataLink!$D$4:$D$5048)","v":{"$error":"#N/A"}},{"$f":"LOOKUP(C324,MassDataLink!$A$4:$A$5048,MassDataLink!$E$4:$E$5048)","v":{"$error":"#N/A"}},{"$f":"LOOKUP(C324,MassDataLink!$A$4:$A$5048,MassDataLink!$F$4:$F$5048)","v":{"$error":"#N/A"}},null,211,"- - -","- - -"]
[null,212,-1,{"$f":"LOOKUP(C325,MassDataLink!$A$4:$A$5048,MassDataLink!$B$4:$B$5048)","v":{"$error":"#N/A"}},{"$f":"LOOKUP(C325,MassDataLink!$A$4:$A$5048,MassDataLink!$C$4:$C$5048)","v":{"$error":"#N/A"}},{"$f":"LOOKUP(C325,MassDataLink!$A$4:$A$5048,MassDataLink!$D$4:$D$5048)","v":{"$error":"#N/A"}},{"$f":"LOOKUP(C325,MassDataLink!$A$4:$A$5048,MassDataLink!$E$4:$E$5048)","v":{"$error":"#N/A"}},{"$f":"LOOKUP(C325,MassDataLink!$A$4:$A$5048,MassDataLink!$F$4:$F$5048)","v":{"$error":"#N/A"}},null,212,"- - -","- - -"]
[null,213,-1,{"$f":"LOOKUP(C326,MassDataLink!$A$4:$A$5048,MassDataLink!$B$4:$B$5048)","v":{"$error":"#N/A"}},{"$f":"LOOKUP(C326,MassDataLink!$A$4:$A$5048,MassDataLink!$C$4:$C$5048)","v":{"$error":"#N/A"}},{"$f":"LOOKUP(C326,MassDataLink!$A$4:$A$5048,MassDataLink!$D$4:$D$5048)","v":{"$error":"#N/A"}},{"$f":"LOOKUP(C326,MassDataLink!$A$4:$A$5048,MassDataLink!$E$4:$E$5048)","v":{"$error":"#N/A"}},{"$f":"LOOKUP(C326,MassDataLink!$A$4:$A$5048,MassDataLink!$F$4:$F$5048)","v":{"$error":"#N/A"}},null,213,"- - -","- - -"]
[null,214,-1,{"$f":"LOOKUP(C327,MassDataLink!$A$4:$A$5048,MassDataLink!$B$4:$B$5048)","v":{"$error":"#N/A"}},{"$f":"LOOKUP(C327,MassDataLink!$A$4:$A$5048,MassDataLink!$C$4:$C$5048)","v":{"$error":"#N/A"}},{"$f":"LOOKUP(C327,MassDataLink!$A$4:$A$5048,MassDataLink!$D$4:$D$5048)","v":{"$error":"#N/A"}},{"$f":"LOOKUP(C327,MassDataLink!$A$4:$A$5048,MassDataLink!$E$4:$E$5048)","v":{"$error":"#N/A"}},{"$f":"LOOKUP(C327,MassDataLink!$A$4:$A$5048,MassDataLink!$F$4:$F$5048)","v":{"$error":"#N/A"}},null,214,"- - -","- - -"]
[null,215,-1,{"$f":"LOOKUP(C328,MassDataLink!$A$4:$A$5048,MassDataLink!$B$4:$B$5048)","v":{"$error":"#N/A"}},{"$f":"LOOKUP(C328,MassDataLink!$A$4:$A$5048,MassDataLink!$C$4:$C$5048)","v":{"$error":"#N/A"}},{"$f":"LOOKUP(C328,MassDataLink!$A$4:$A$5048,MassDataLink!$D$4:$D$5048)","v":{"$error":"#N/A"}},{"$f":"LOOKUP(C328,MassDataLink!$A$4:$A$5048,MassDataLink!$E$4:$E$5048)","v":{"$error":"#N/A"}},{"$f":"LOOKUP(C328,MassDataLink!$A$4:$A$5048,MassDataLink!$F$4:$F$5048)","v":{"$error":"#N/A"}},null,215,"- - -","- - -"]
[null,216,-1,{"$f":"LOOKUP(C329,MassDataLink!$A$4:$A$5048,MassDataLink!$B$4:$B$5048)","v":{"$error":"#N/A"}},{"$f":"LOOKUP(C329,MassDataLink!$A$4:$A$5048,MassDataLink!$C$4:$C$5048)","v":{"$error":"#N/A"}},{"$f":"LOOKUP(C329,MassDataLink!$A$4:$A$5048,MassDataLink!$D$4:$D$5048)","v":{"$error":"#N/A"}},{"$f":"LOOKUP(C329,MassDataLink!$A$4:$A$5048,MassDataLink!$E$4:$E$5048)","v":{"$error":"#N/A"}},{"$f":"LOOKUP(C329,MassDataLink!$A$4:$A$5048,MassDataLink!$F$4:$F$5048)","v":{"$error":"#N/A"}},null,216,"- - -","- - -"]
[null,217,-1,{"$f":"LOOKUP(C330,MassDataLink!$A$4:$A$5048,MassDataLink!$B$4:$B$5048)","v":{"$error":"#N/A"}},{"$f":"LOOKUP(C330,MassDataLink!$A$4:$A$5048,MassDataLink!$C$4:$C$5048)","v":{"$error":"#N/A"}},{"$f":"LOOKUP(C330,MassDataLink!$A$4:$A$5048,MassDataLink!$D$4:$D$5048)","v":{"$error":"#N/A"}},{"$f":"LOOKUP(C330,MassDataLink!$A$4:$A$5048,MassDataLink!$E$4:$E$5048)","v":{"$error":"#N/A"}},{"$f":"LOOKUP(C330,MassDataLink!$A$4:$A$5048,MassDataLink!$F$4:$F$5048)","v":{"$error":"#N/A"}},null,217,"- - -","- - -"]
[null,218,-1,{"$f":"LOOKUP(C331,MassDataLink!$A$4:$A$5048,MassDataLink!$B$4:$B$5048)","v":{"$error":"#N/A"}},{"$f":"LOOKUP(C331,MassDataLink!$A$4:$A$5048,MassDataLink!$C$4:$C$5048)","v":{"$error":"#N/A"}},{"$f":"LOOKUP(C331,MassDataLink!$A$4:$A$5048,MassDataLink!$D$4:$D$5048)","v":{"$error":"#N/A"}},{"$f":"LOOKUP(C331,MassDataLink!$A$4:$A$5048,MassDataLink!$E$4:$E$5048)","v":{"$error":"#N/A"}},{"$f":"LOOKUP(C331,MassDataLink!$A$4:$A$5048,MassDataLink!$F$4:$F$5048)","v":{"$error":"#N/A"}},null,218,"- - -","- - -"]
[null,219,-1,{"$f":"LOOKUP(C332,MassDataLink!$A$4:$A$5048,MassDataLink!$B$4:$B$5048)","v":{"$error":"#N/A"}},{"$f":"LOOKUP(C332,MassDataLink!$A$4:$A$5048,MassDataLink!$C$4:$C$5048)","v":{"$error":"#N/A"}},{"$f":"LOOKUP(C332,MassDataLink!$A$4:$A$5048,MassDataLink!$D$4:$D$5048)","v":{"$error":"#N/A"}},{"$f":"LOOKUP(C332,MassDataLink!$A$4:$A$5048,MassDataLink!$E$4:$E$5048)","v":{"$error":"#N/A"}},{"$f":"LOOKUP(C332,MassDataLink!$A$4:$A$5048,MassDataLink!$F$4:$F$5048)","v":{"$error":"#N/A"}},null,219,"- - -","- - -"]
[null,220,-1,{"$f":"LOOKUP(C333,MassDataLink!$A$4:$A$5048,MassDataLink!$B$4:$B$5048)","v":{"$error":"#N/A"}},{"$f":"LOOKUP(C333,MassDataLink!$A$4:$A$5048,MassDataLink!$C$4:$C$5048)","v":{"$error":"#N/A"}},{"$f":"LOOKUP(C333,MassDataLink!$A$4:$A$5048,MassDataLink!$D$4:$D$5048)","v":{"$error":"#N/A"}},{"$f":"LOOKUP(C333,MassDataLink!$A$4:$A$5048,MassDataLink!$E$4:$E$5048)","v":{"$error":"#N/A"}},{"$f":"LOOKUP(C333,MassDataLink!$A$4:$A$5048,MassDataLink!$F$4:$F$5048)","v":{"$error":"#N/A"}},null,220,"- - -","- - -"]
[null,221,-1,{"$f":"LOOKUP(C334,MassDataLink!$A$4:$A$5048,MassDataLink!$B$4:$B$5048)","v":{"$error":"#N/A"}},{"$f":"LOOKUP(C334,MassDataLink!$A$4:$A$5048,MassDataLink!$C$4:$C$5048)","v":{"$error":"#N/A"}},{"$f":"LOOKUP(C334,MassDataLink!$A$4:$A$5048,MassDataLink!$D$4:$D$5048)","v":{"$error":"#N/A"}},{"$f":"LOOKUP(C334,MassDataLink!$A$4:$A$5048,MassDataLink!$E$4:$E$5048)","v":{"$error":"#N/A"}},{"$f":"LOOKUP(C334,MassDataLink!$A$4:$A$5048,MassDataLink!$F$4:$F$5048)","v":{"$error":"#N/A"}},null,221,"- - -","- - -"]
[null,222,-1,{"$f":"LOOKUP(C335,MassDataLink!$A$4:$A$5048,MassDataLink!$B$4:$B$5048)","v":{"$error":"#N/A"}},{"$f":"LOOKUP(C335,MassDataLink!$A$4:$A$5048,MassDataLink!$C$4:$C$5048)","v":{"$error":"#N/A"}},{"$f":"LOOKUP(C335,MassDataLink!$A$4:$A$5048,MassDataLink!$D$4:$D$5048)","v":{"$error":"#N/A"}},{"$f":"LOOKUP(C335,MassDataLink!$A$4:$A$5048,MassDataLink!$E$4:$E$5048)","v":{"$error":"#N/A"}},{"$f":"LOOKUP(C335,MassDataLink!$A$4:$A$5048,MassDataLink!$F$4:$F$5048)","v":{"$error":"#N/A"}},null,222,"- - -","- - -"]
[null,223,-1,{"$f":"LOOKUP(C336,MassDataLink!$A$4:$A$5048,MassDataLink!$B$4:$B$5048)","v":{"$error":"#N/A"}},{"$f":"LOOKUP(C336,MassDataLink!$A$4:$A$5048,MassDataLink!$C$4:$C$5048)","v":{"$error":"#N/A"}},{"$f":"LOOKUP(C336,MassDataLink!$A$4:$A$5048,MassDataLink!$D$4:$D$5048)","v":{"$error":"#N/A"}},{"$f":"LOOKUP(C336,MassDataLink!$A$4:$A$5048,MassDataLink!$E$4:$E$5048)","v":{"$error":"#N/A"}},{"$f":"LOOKUP(C336,MassDataLink!$A$4:$A$5048,MassDataLink!$F$4:$F$5048)","v":{"$error":"#N/A"}},null,223,"- - -","- - -"]
[null,224,-1,{"$f":"LOOKUP(C337,MassDataLink!$A$4:$A$5048,MassDataLink!$B$4:$B$5048)","v":{"$error":"#N/A"}},{"$f":"LOOKUP(C337,MassDataLink!$A$4:$A$5048,MassDataLink!$C$4:$C$5048)","v":{"$error":"#N/A"}},{"$f":"LOOKUP(C337,MassDataLink!$A$4:$A$5048,MassDataLink!$D$4:$D$5048)","v":{"$error":"#N/A"}},{"$f":"LOOKUP(C337,MassDataLink!$A$4:$A$5048,MassDataLink!$E$4:$E$5048)","v":{"$error":"#N/A"}},{"$f":"LOOKUP(C337,MassDataLink!$A$4:$A$5048,MassDataLink!$F$4:$F$5048)","v":{"$error":"#N/A"}},null,224,"- - -","- - -"]
[null,225,-1,{"$f":"LOOKUP(C338,MassDataLink!$A$4:$A$5048,MassDataLink!$B$4:$B$5048)","v":{"$error":"#N/A"}},{"$f":"LOOKUP(C338,MassDataLink!$A$4:$A$5048,MassDataLink!$C$4:$C$5048)","v":{"$error":"#N/A"}},{"$f":"LOOKUP(C338,MassDataLink!$A$4:$A$5048,MassDataLink!$D$4:$D$5048)","v":{"$error":"#N/A"}},{"$f":"LOOKUP(C338,MassDataLink!$A$4:$A$5048,MassDataLink!$E$4:$E$5048)","v":{"$error":"#N/A"}},{"$f":"LOOKUP(C338,MassDataLink!$A$4:$A$5048,MassDataLink!$F$4:$F$5048)","v":{"$error":"#N/A"}},null,225,"- - -","- - -"]

{"sheet":"ModelData","index":2,"n_rows":159,"n_cols":30,"rows_kept":159,"cut":false,"hidden":true,"merged":[[1,5,1,7],[1,8,1,10],[1,23,1,25],[1,26,1,28],[1,11,1,13],[1,14,1,16],[1,17,1,19],[1,20,1,22]]}
[null,1,6,7,8,10,11,12,13,14,15,16,17,18,19,20,21,22,23,24,25,26,27,28,29,30,31,32,33]
["データ№","ｱｸﾁｭｴｰﾀ型式","最小ｽﾄﾛｰｸ","最大ｽﾄﾛｰｸ","動作種別","リンク[0]",null,null,"リンク[1]",null,null,"リンク[2]",null,null,"リンク[3]",null,null,"リンク[4]",null,null,"リンク[5]",null,null,"リンク[6]",null,null,"リンク[7]"]
[0,null,"㎜","㎜","1/0:回/直","ﾘｰﾄﾞ","ｽﾄﾛｰｸ","搬送負荷","ﾘｰﾄﾞ","ｽﾄﾛｰｸ","搬送負荷","ﾘｰﾄﾞ","ｽﾄﾛｰｸ","搬送負荷","ﾘｰﾄﾞ","ｽﾄﾛｰｸ","搬送負荷","ﾘｰﾄﾞ","ｽﾄﾛｰｸ","搬送負荷","ﾘｰﾄﾞ","ｽﾄﾛｰｸ","搬送負荷","ﾘｰﾄﾞ","ｽﾄﾛｰｸ","搬送負荷","ﾘｰﾄﾞ","ｽﾄﾛｰｸ","搬送負荷"]
[{"$f":"A3+1","v":1},"RCP4-SA5C",50,800,0,{"$f":"LeadData!A4","v":1},{"$f":"StrokeData!A4","v":1},{"$f":"MassDataLink!A4","v":1},{"$f":"LeadData!A5","v":2},{"$f":"StrokeData!A10","v":7},{"$f":"MassDataLink!A20","v":17},{"$f":"LeadData!A6","v":3},{"$f":"StrokeData!A16","v":13},{"$f":"MassDataLink!A34","v":31},{"$f":"LeadData!A7","v":4},{"$f":"StrokeData!A22","v":19},{"$f":"MassDataLink!A47","v":44},-1,-1,-1,-1,-1,-1,-1,-1,-1,-1,-1,-1]
[{"$f":"A4+1","v":2},"RCP4-SA6C",50,800,0,{"$f":"LeadData!A8","v":5},{"$f":"StrokeData!A27","v":24},{"$f":"MassDataLink!A57","v":54},{"$f":"LeadData!A9","v":6},{"$f":"StrokeData!A33","v":30},{"$f":"MassDataLink!A74","v":71},{"$f":"LeadData!A10","v":7},{"$f":"StrokeData!A39","v":36},{"$f":"MassDataLink!A88","v":85},{"$f":"LeadData!A11","v":8},{"$f":"StrokeData!A45","v":42},{"$f":"MassDataLink!A101","v":98},-1,-1,-1,-1,-1,-1,-1,-1,-1,-1,-1,-1]
[{"$f":"A5+1","v":3},"RCP4-SA7C",50,800,0,{"$f":"LeadData!A12","v":9},{"$f":"StrokeData!A50","v":47},{"$f":"MassDataLink!A109","v":106},{"$f":"LeadData!A13","v":10},{"$f":"StrokeData!A52","v":49},{"$f":"MassDataLink!A113","v":110},{"$f":"LeadData!A14","v":11},{"$f":"StrokeData!A54","v":51},{"$f":"MassDataLink!A120","v":117},{"$f":"LeadData!A15","v":12},{"$f":"StrokeData!A56","v":53},{"$f":"MassDataLink!A128","v":125},-1,-1,-1,-1,-1,-1,-1,-1,-1,-1,-1,-1]
[4,"RCP4-RA5C",50,400,0,{"$f":"LeadData!A16","v":13},{"$f":"StrokeData!A59","v":56},{"$f":"MassDataLink!A135","v":132},{"$f":"LeadData!A17","v":14},{"$f":"StrokeData!A60","v":57},{"$f":"MassDataLink!A141","v":138},{"$f":"LeadData!A18","v":15},{"$f":"StrokeData!A61","v":58},{"$f":"MassDataLink!A148","v":145},{"$f":"LeadData!A19","v":16},{"$f":"StrokeData!A62","v":59},{"$f":"MassDataLink!A156","v":153},-1,-1,-1,-1,-1,-1,-1,-1,-1,-1,-1,-1]
[{"$f":"A7+1","v":5},"RCP4-RA6C",50,500,0,{"$f":"LeadData!A20","v":17},{"$f":"StrokeData!A63","v":60},{"$f":"MassDataLink!A162","v":159},{"$f":"LeadData!A21","v":18},{"$f":"StrokeData!A64","v":61},{"$f":"MassDataLink!A168","v":165},{"$f":"LeadData!A22","v":19},{"$f":"StrokeData!A65","v":62},{"$f":"MassDataLink!A173","v":170},{"$f":"LeadData!A23","v":20},{"$f":"StrokeData!A66","v":63},{"$f":"MassDataLink!A179","v":176},-1,-1,-1,-1,-1,-1,-1,-1,-1,-1,-1,-1]
[6,"ERC3-SA5",50,800,0,{"$f":"LeadData!A24","v":21},{"$f":"StrokeData!A67","v":64},{"$f":"MassDataLink!A184","v":181},{"$f":"LeadData!A25","v":22},{"$f":"StrokeData!A73","v":70},{"$f":"MassDataLink!A187","v":184},{"$f":"LeadData!A26","v":23},{"$f":"StrokeData!A79","v":76},{"$f":"MassDataLink!A190","v":187},{"$f":"LeadData!A27","v":24},{"$f":"StrokeData!A85","v":82},{"$f":"MassDataLink!A194","v":191},-1,-1,-1,-1,-1,-1,-1,-1,-1,-1,-1,-1]
[7,"ERC3-SA7",50,800,0,{"$f":"LeadData!A28","v":25},{"$f":"StrokeData!A91","v":88},{"$f":"MassDataLink!A198","v":195},{"$f":"LeadData!A29","v":26},{"$f":"StrokeData!A93","v":90},{"$f":"MassDataLink!A201","v":198},{"$f":"LeadData!A30","v":27},{"$f":"StrokeData!A95","v":92},{"$f":"MassDataLink!A206","v":203},{"$f":"LeadData!A31","v":28},{"$f":"StrokeData!A96","v":93},{"$f":"MassDataLink!A210","v":207},-1,-1,-1,-1,-1,-1,-1,-1,-1,-1,-1,-1]
[8,"ERC3-RA4",50,300,0,{"$f":"LeadData!A32","v":29},{"$f":"StrokeData!A97","v":94},{"$f":"MassDataLink!A214","v":211},{"$f":"LeadData!A33","v":30},{"$f":"StrokeData!A99","v":96},{"$f":"MassDataLink!A217","v":214},{"$f":"LeadData!A34","v":31},{"$f":"StrokeData!A101","v":98},{"$f":"MassDataLink!A221","v":218},{"$f":"LeadData!A35","v":32},{"$f":"StrokeData!A103","v":100},{"$f":"MassDataLink!A226","v":223},-1,-1,-1,-1,-1,-1,-1,-1,-1,-1,-1,-1]
[9,"ERC3-RA6",50,300,0,{"$f":"LeadData!A36","v":33},{"$f":"StrokeData!A104","v":101},{"$f":"MassDataLink!A231","v":228},{"$f":"LeadData!A37","v":34},{"$f":"StrokeData!A105","v":102},{"$f":"MassDataLink!A235","v":232},{"$f":"LeadData!A38","v":35},{"$f":"StrokeData!A106","v":103},{"$f":"MassDataLink!A239","v":236},{"$f":"LeadData!A39","v":36},{"$f":"StrokeData!A107","v":104},{"$f":"MassDataLink!A243","v":240},-1,-1,-1,-1,-1,-1,-1,-1,-1,-1,-1,-1]
[10,"RCP4-SA5R",50,800,0,{"$f":"LeadData!A40","v":37},{"$f":"StrokeData!A108","v":105},{"$f":"MassDataLink!A248","v":245},{"$f":"LeadData!A41","v":38},{"$f":"StrokeData!A114","v":111},{"$f":"MassDataLink!A264","v":261},{"$f":"LeadData!A42","v":39},{"$f":"StrokeData!A120","v":117},{"$f":"MassDataLink!A279","v":276},{"$f":"LeadData!A43","v":40},{"$f":"StrokeData!A126","v":123},{"$f":"MassDataLink!A292","v":289},-1,-1,-1,-1,-1,-1,-1,-1,-1,-1,-1,-1]
[11,"RCP4-SA6R",50,800,0,{"$f":"LeadData!A44","v":41},{"$f":"StrokeData!A131","v":128},{"$f":"MassDataLink!A302","v":299},{"$f":"LeadData!A45","v":42},{"$f":"StrokeData!A137","v":134},{"$f":"MassDataLink!A319","v":316},{"$f":"LeadData!A46","v":43},{"$f":"StrokeData!A143","v":140},{"$f":"MassDataLink!A334","v":331},{"$f":"LeadData!A47","v":44},{"$f":"StrokeData!A149","v":146},{"$f":"MassDataLink!A347","v":344},-1,-1,-1,-1,-1,-1,-1,-1,-1,-1,-1,-1]
[12,"RCP4-SA7R",50,800,0,{"$f":"LeadData!A48","v":45},{"$f":"StrokeData!A154","v":151},{"$f":"MassDataLink!A356","v":353},{"$f":"LeadData!A49","v":46},{"$f":"StrokeData!A156","v":153},{"$f":"MassDataLink!A361","v":358},{"$f":"LeadData!A50","v":47},{"$f":"StrokeData!A158","v":155},{"$f":"MassDataLink!A368","v":365},{"$f":"LeadData!A51","v":48},{"$f":"StrokeData!A160","v":157},{"$f":"MassDataLink!A376","v":373},-1,-1,-1,-1,-1,-1,-1,-1,-1,-1,-1,-1]
[13,"RCP4-RA5R",50,400,0,{"$f":"LeadData!A52","v":49},{"$f":"StrokeData!A162","v":159},{"$f":"MassDataLink!A381","v":378},{"$f":"LeadData!A53","v":50},{"$f":"StrokeData!A163","v":160},{"$f":"MassDataLink!A387","v":384},{"$f":"LeadData!A54","v":51},{"$f":"StrokeData!A164","v":161},{"$f":"MassDataLink!A394","v":391},{"$f":"LeadData!A55","v":52},{"$f":"StrokeData!A165","v":162},{"$f":"MassDataLink!A402","v":399},-1,-1,-1,-1,-1,-1,-1,-1,-1,-1,-1,-1]
[14,"RCP4-RA6R",50,500,0,{"$f":"LeadData!A56","v":53},{"$f":"StrokeData!A166","v":163},{"$f":"MassDataLink!A408","v":405},{"$f":"LeadData!A57","v":54},{"$f":"StrokeData!A167","v":164},{"$f":"MassDataLink!A414","v":411},{"$f":"LeadData!A58","v":55},{"$f":"StrokeData!A168","v":165},{"$f":"MassDataLink!A419","v":416},{"$f":"LeadData!A59","v":56},{"$f":"StrokeData!A169","v":166},{"$f":"MassDataLink!A425","v":422},-1,-1,-1,-1,-1,-1,-1,-1,-1,-1,-1,-1]
[15,"ERC3D-SA5",50,800,0,{"$f":"LeadData!A60","v":57},{"$f":"StrokeData!A170","v":167},{"$f":"MassDataLink!A430","v":427},{"$f":"LeadData!A61","v":58},{"$f":"StrokeData!A176","v":173},{"$f":"MassDataLink!A433","v":430},{"$f":"LeadData!A62","v":59},{"$f":"StrokeData!A182","v":179},{"$f":"MassDataLink!A436","v":433},{"$f":"LeadData!A63","v":60},{"$f":"StrokeData!A188","v":185},{"$f":"MassDataLink!A440","v":437},-1,-1,-1,-1,-1,-1,-1,-1,-1,-1,-1,-1]
[16,"ERC3D-SA7",50,800,0,{"$f":"LeadData!A64","v":61},{"$f":"StrokeData!A193","v":190},{"$f":"MassDataLink!A444","v":441},{"$f":"LeadData!A65","v":62},{"$f":"StrokeData!A194","v":191},{"$f":"MassDataLink!A447","v":444},{"$f":"LeadData!A66","v":63},{"$f":"StrokeData!A195","v":192},{"$f":"MassDataLink!A452","v":449},{"$f":"LeadData!A67","v":64},{"$f":"StrokeData!A197","v":194},{"$f":"MassDataLink!A456","v":453},-1,-1,-1,-1,-1,-1,-1,-1,-1,-1,-1,-1]
[17,"ERC3CR-SA5",50,800,0,{"$f":"LeadData!A68","v":65},{"$f":"StrokeData!A199","v":196},{"$f":"MassDataLink!A460","v":457},{"$f":"LeadData!A69","v":66},{"$f":"StrokeData!A205","v":202},{"$f":"MassDataLink!A463","v":460},{"$f":"LeadData!A70","v":67},{"$f":"StrokeData!A211","v":208},{"$f":"MassDataLink!A466","v":463},{"$f":"LeadData!A71","v":68},{"$f":"StrokeData!A217","v":214},{"$f":"MassDataLink!A470","v":467},-1,-1,-1,-1,-1,-1,-1,-1,-1,-1,-1,-1]
[18,"ERC3CR-SA7",50,800,0,{"$f":"LeadData!A72","v":69},{"$f":"StrokeData!A222","v":219},{"$f":"MassDataLink!A474","v":471},{"$f":"LeadData!A73","v":70},{"$f":"StrokeData!A223","v":220},{"$f":"MassDataLink!A477","v":474},{"$f":"LeadData!A74","v":71},{"$f":"StrokeData!A224","v":221},{"$f":"MassDataLink!A482","v":479},{"$f":"LeadData!A75","v":72},{"$f":"StrokeData!A226","v":223},{"$f":"MassDataLink!A486","v":483},-1,-1,-1,-1,-1,-1,-1,-1,-1,-1,-1,-1]
[19,"RCP5-SA4C",50,500,0,{"$f":"LeadData!A76","v":73},{"$f":"StrokeData!A228","v":225},{"$f":"MassDataLink!A490","v":487},{"$f":"LeadData!A77","v":74},{"$f":"StrokeData!A229","v":226},{"$f":"MassDataLink!A498","v":495},{"$f":"LeadData!A78","v":75},{"$f":"StrokeData!A230","v":227},{"$f":"MassDataLink!A509","v":506},{"$f":"LeadData!A79","v":76},{"$f":"StrokeData!A231","v":228},{"$f":"MassDataLink!A521","v":518},-1,-1,-1,-1,-1,-1,-1,-1,-1,-1,-1,-1]
[20,"RCP5-SA6C",50,800,0,{"$f":"LeadData!A80","v":77},{"$f":"StrokeData!A232","v":229},{"$f":"MassDataLink!A530","v":527},{"$f":"LeadData!A81","v":78},{"$f":"StrokeData!A238","v":235},{"$f":"MassDataLink!A547","v":544},{"$f":"LeadData!A82","v":79},{"$f":"StrokeData!A244","v":241},{"$f":"MassDataLink!A561","v":558},{"$f":"LeadData!A83","v":80},{"$f":"StrokeData!A250","v":247},{"$f":"MassDataLink!A574","v":571},-1,-1,-1,-1,-1,-1,-1,-1,-1,-1,-1,-1]
[21,"RCP5-SA7C",50,800,0,{"$f":"LeadData!A84","v":81},{"$f":"StrokeData!A255","v":252},{"$f":"MassDataLink!A582","v":579},{"$f":"LeadData!A85","v":82},{"$f":"StrokeData!A257","v":254},{"$f":"MassDataLink!A586","v":583},{"$f":"LeadData!A86","v":83},{"$f":"StrokeData!A259","v":256},{"$f":"MassDataLink!A593","v":590},{"$f":"LeadData!A87","v":84},{"$f":"StrokeData!A261","v":258},{"$f":"MassDataLink!A601","v":598},-1,-1,-1,-1,-1,-1,-1,-1,-1,-1,-1,-1]
[22,"RCP5-RA4C",60,410,0,{"$f":"LeadData!A88","v":85},{"$f":"StrokeData!A263","v":260},{"$f":"MassDataLink!A607","v":604},{"$f":"LeadData!A89","v":86},{"$f":"StrokeData!A265","v":262},{"$f":"MassDataLink!A621","v":618},{"$f":"LeadData!A90","v":87},{"$f":"StrokeData!A267","v":264},{"$f":"MassDataLink!A640","v":637},{"$f":"LeadData!A91","v":88},{"$f":"StrokeData!A269","v":266},{"$f":"MassDataLink!A659","v":656},-1,-1,-1,-1,-1,-1,-1,-1,-1,-1,-1,-1]
[23,"RCP5-RA6C",65,415,0,{"$f":"LeadData!A92","v":89},{"$f":"StrokeData!A270","v":267},{"$f":"MassDataLink!A672","v":669},{"$f":"LeadData!A93","v":90},{"$f":"StrokeData!A271","v":268},{"$f":"MassDataLink!A678","v":675},{"$f":"LeadData!A94","v":91},{"$f":"StrokeData!A272","v":269},{"$f":"MassDataLink!A685","v":682},{"$f":"LeadData!A95","v":92},{"$f":"StrokeData!A273","v":270},{"$f":"MassDataLink!A693","v":690},-1,-1,-1,-1,-1,-1,-1,-1,-1,-1,-1,-1]
[24,"RCP5-RA7C",70,520,0,{"$f":"LeadData!A96","v":93},{"$f":"StrokeData!A274","v":271},{"$f":"MassDataLink!A699","v":696},{"$f":"LeadData!A97","v":94},{"$f":"StrokeData!A275","v":272},{"$f":"MassDataLink!A705","v":702},{"$f":"LeadData!A98","v":95},{"$f":"StrokeData!A276","v":273},{"$f":"MassDataLink!A710","v":707},{"$f":"LeadData!A99","v":96},{"$f":"StrokeData!A277","v":274},{"$f":"MassDataLink!A716","v":713},-1,-1,-1,-1,-1,-1,-1,-1,-1,-1,-1,-1]
[{"$f":"A27+1","v":25},"RCP4W-RA6C",50,400,0,{"$f":"LeadData!A100","v":97},{"$f":"StrokeData!A278","v":275},{"$f":"MassDataLink!A721","v":718},{"$f":"LeadData!A101","v":98},{"$f":"StrokeData!A279","v":276},{"$f":"MassDataLink!A724","v":721},{"$f":"LeadData!A102","v":99},{"$f":"StrokeData!A281","v":278},{"$f":"MassDataLink!A728","v":725},-1,-1,-1,-1,-1,-1,-1,-1,-1,-1,-1,-1,-1,-1,-1]
[26,"RCP4W-RA6C(高推力)",50,400,0,{"$f":"LeadData!A103","v":100},{"$f":"StrokeData!A282","v":279},{"$f":"MassDataLink!A732","v":729},-1,-1,-1,-1,-1,-1,-1,-1,-1,-1,-1,-1,-1,-1,-1,-1,-1,-1,-1,-1,-1]
[27,"RCP4W-RA7C",50,500,0,{"$f":"LeadData!A104","v":101},{"$f":"StrokeData!A283","v":280},{"$f":"MassDataLink!A734","v":731},{"$f":"LeadData!A105","v":102},{"$f":"StrokeData!A284","v":281},{"$f":"MassDataLink!A739","v":736},{"$f":"LeadData!A106","v":103},{"$f":"StrokeData!A285","v":282},{"$f":"MassDataLink!A744","v":741},-1,-1,-1,-1,-1,-1,-1,-1,-1,-1,-1,-1,-1,-1,-1]
[28,"RCP4W-RA7C(高推力)",50,500,0,{"$f":"LeadData!A107","v":104},{"$f":"StrokeData!A286","v":283},{"$f":"MassDataLink!A748","v":745},-1,-1,-1,-1,-1,-1,-1,-1,-1,-1,-1,-1,-1,-1,-1,-1,-1,-1,-1,-1,-1]
[29,"RCP4-SA3C",25,300,0,{"$f":"LeadData!A108","v":105},{"$f":"StrokeData!A287","v":284},{"$f":"MassDataLink!A750","v":747},{"$f":"LeadData!A109","v":106},{"$f":"StrokeData!A288","v":285},{"$f":"MassDataLink!A767","v":764},{"$f":"LeadData!A110","v":107},{"$f":"StrokeData!A289","v":286},{"$f":"MassDataLink!A779","v":776},-1,-1,-1,-1,-1,-1,-1,-1,-1,-1,-1,-1,-1,-1,-1]
[30,"RCP4-RA3C",25,300,0,{"$f":"LeadData!A111","v":108},{"$f":"StrokeData!A290","v":287},{"$f":"MassDataLink!A787","v":784},{"$f":"LeadData!A112","v":109},{"$f":"StrokeData!A291","v":288},{"$f":"MassDataLink!A805","v":802},{"$f":"LeadData!A113","v":110},{"$f":"StrokeData!A292","v":289},{"$f":"MassDataLink!A823","v":820},{"$f":"LeadData!A114","v":111},{"$f":"StrokeData!A293","v":290},{"$f":"MassDataLink!A842","v":839},-1,-1,-1,-1,-1,-1,-1,-1,-1,-1,-1,-1]
[31,"RCP5-RA8C",50,700,0,{"$f":"LeadData!A115","v":112},{"$f":"StrokeData!A294","v":291},{"$f":"MassDataLink!A855","v":852},{"$f":"LeadData!A116","v":113},{"$f":"StrokeData!A302","v":299},{"$f":"MassDataLink!A867","v":864},{"$f":"LeadData!A117","v":114},{"$f":"StrokeData!A310","v":307},{"$f":"MassDataLink!A885","v":882},-1,-1,-1,-1,-1,-1,-1,-1,-1,-1,-1,-1,-1,-1,-1]
[32,"RCP5-RA10C",50,800,0,{"$f":"LeadData!A118","v":115},{"$f":"StrokeData!A318","v":315},{"$f":"MassDataLink!A897","v":894},{"$f":"LeadData!A119","v":116},{"$f":"StrokeData!A325","v":322},{"$f":"MassDataLink!A905","v":902},{"$f":"LeadData!A120","v":117},{"$f":"StrokeData!A334","v":331},{"$f":"MassDataLink!A921","v":918},-1,-1,-1,-1,-1,-1,-1,-1,-1,-1,-1,-1,-1,-1,-1]
[33,"RCP5-RA8R",50,700,0,{"$f":"LeadData!A121","v":118},{"$f":"StrokeData!A341","v":338},{"$f":"MassDataLink!A935","v":932},{"$f":"LeadData!A122","v":119},{"$f":"StrokeData!A347","v":344},{"$f":"MassDataLink!A943","v":940},{"$f":"LeadData!A123","v":120},{"$f":"StrokeData!A353","v":350},{"$f":"MassDataLink!A961","v":958},-1,-1,-1,-1,-1,-1,-1,-1,-1,-1,-1,-1,-1,-1,-1]
[{"$f":"A36+1","v":34},"RCP5-RA10R",50,800,0,{"$f":"LeadData!A124","v":121},{"$f":"StrokeData!A359","v":356},{"$f":"MassDataLink!A968","v":965},{"$f":"LeadData!A125","v":122},{"$f":"StrokeData!A364","v":361},{"$f":"MassDataLink!A974","v":971},{"$f":"LeadData!A126","v":123},{"$f":"StrokeData!A372","v":369},{"$f":"MassDataLink!A988","v":985},-1,-1,-1,-1,-1,-1,-1,-1,-1,-1,-1,-1,-1,-1,-1]
[35,"RCP4-SA3R",25,300,0,{"$f":"LeadData!A127","v":124},{"$f":"StrokeData!A377","v":374},{"$f":"MassDataLink!A997","v":994},{"$f":"LeadData!A128","v":125},{"$f":"StrokeData!A378","v":375},{"$f":"MassDataLink!A1014","v":1011},{"$f":"LeadData!A129","v":126},{"$f":"StrokeData!A379","v":376},{"$f":"MassDataLink!A1026","v":1023},-1,-1,-1,-1,-1,-1,-1,-1,-1,-1,-1,-1,-1,-1,-1]
[{"$f":"A38+1","v":36},"RCP4-RA3R",25,300,0,{"$f":"LeadData!A130","v":127},{"$f":"StrokeData!A380","v":377},{"$f":"MassDataLink!A1033","v":1030},{"$f":"LeadData!A131","v":128},{"$f":"StrokeData!A381","v":378},{"$f":"MassDataLink!A1051","v":1048},{"$f":"LeadData!A132","v":129},{"$f":"StrokeData!A382","v":379},{"$f":"MassDataLink!A1069","v":1066},{"$f":"LeadData!A133","v":130},{"$f":"StrokeData!A383","v":380},{"$f":"MassDataLink!A1086","v":1083},-1,-1,-1,-1,-1,-1,-1,-1,-1,-1,-1,-1]
[{"$f":"A39+1","v":37},"RCP4CR-SA3C",{"$f":"C32","v":25},300,0,105,284,747,106,285,764,107,286,776,-1,-1,-1,-1,-1,-1,-1,-1,-1,-1,-1,-1,-1,-1,-1]
[38,"RCP4CR-SA5C",{"$f":"C4","v":50},800,0,1,1,1,2,7,17,3,13,31,4,19,44,-1,-1,-1,-1,-1,-1,-1,-1,-1,-1,-1,-1]
[39,"RCP4CR-SA6C",{"$f":"C5","v":50},800,0,5,24,54,6,30,71,7,36,85,8,42,98,-1,-1,-1,-1,-1,-1,-1,-1,-1,-1,-1,-1]
[40,"RCP4CR-SA7C",{"$f":"C6","v":50},800,0,9,47,106,10,49,110,11,51,117,12,53,125,-1,-1,-1,-1,-1,-1,-1,-1,-1,-1,-1,-1]
[41,"RCP5CR-SA4C",{"$f":"C22","v":50},500,0,73,225,487,74,226,495,75,227,506,76,228,518,-1,-1,-1,-1,-1,-1,-1,-1,-1,-1,-1,-1]
[42,"RCP5CR-SA6C",{"$f":"C23","v":50},800,0,77,229,527,78,235,544,79,241,558,80,247,571,-1,-1,-1,-1,-1,-1,-1,-1,-1,-1,-1,-1]
[{"$f":"A45+1","v":43},"RCP5CR-SA7C",{"$f":"C24","v":50},800,0,81,252,579,82,254,583,83,256,590,84,258,598,-1,-1,-1,-1,-1,-1,-1,-1,-1,-1,-1,-1]
[{"$f":"A46+1","v":44},"RCP5-BA4",300,1200,0,{"$f":"LeadData!A134","v":131},{"$f":"StrokeData!A384","v":381},{"$f":"MassDataLink!A1097","v":1094},-1,-1,-1,-1,-1,-1,-1,-1,-1,-1,-1,-1,-1,-1,-1,-1,-1,-1,-1,-1,-1]
[{"$f":"A47+1","v":45},"RCP5-BA6",300,2200,0,{"$f":"LeadData!A135","v":132},{"$f":"StrokeData!A385","v":382},{"$f":"MassDataLink!A1099","v":1096},-1,-1,-1,-1,-1,-1,-1,-1,-1,-1,-1,-1,-1,-1,-1,-1,-1,-1,-1,-1,-1]
[{"$f":"A48+1","v":46},"RCP5-BA7",300,2600,0,{"$f":"LeadData!A136","v":133},{"$f":"StrokeData!A386","v":383},{"$f":"MassDataLink!A1101","v":1098},-1,-1,-1,-1,-1,-1,-1,-1,-1,-1,-1,-1,-1,-1,-1,-1,-1,-1,-1,-1,-1]
[{"$f":"A49+1","v":47},"RCP5-SA4R",50,500,0,{"$f":"LeadData!A137","v":134},{"$f":"StrokeData!A387","v":384},{"$f":"MassDataLink!A1108","v":1105},{"$f":"LeadData!A138","v":135},{"$f":"StrokeData!A388","v":385},{"$f":"MassDataLink!A1116","v":1113},{"$f":"LeadData!A139","v":136},{"$f":"StrokeData!A389","v":386},{"$f":"MassDataLink!A1127","v":1124},{"$f":"LeadData!A140","v":137},{"$f":"StrokeData!A390","v":387},{"$f":"MassDataLink!A1139","v":1136},-1,-1,-1,-1,-1,-1,-1,-1,-1,-1,-1,-1]
[{"$f":"A50+1","v":48},"RCP5-SA6R",50,800,0,{"$f":"LeadData!A141","v":138},{"$f":"StrokeData!A391","v":388},{"$f":"MassDataLink!A1148","v":1145},{"$f":"LeadData!A142","v":139},{"$f":"StrokeData!A397","v":394},{"$f":"MassDataLink!A1165","v":1162},{"$f":"LeadData!A143","v":140},{"$f":"StrokeData!A403","v":400},{"$f":"MassDataLink!A1180","v":1177},{"$f":"LeadData!A144","v":141},{"$f":"StrokeData!A409","v":406},{"$f":"MassDataLink!A1193","v":1190},-1,-1,-1,-1,-1,-1,-1,-1,-1,-1,-1,-1]
[49,"RCP5-SA7R",50,800,0,{"$f":"LeadData!A145","v":142},{"$f":"StrokeData!A414","v":411},{"$f":"MassDataLink!A1202","v":1199},{"$f":"LeadData!A146","v":143},{"$f":"StrokeData!A416","v":413},{"$f":"MassDataLink!A1207","v":1204},{"$f":"LeadData!A147","v":144},{"$f":"StrokeData!A418","v":415},{"$f":"MassDataLink!A1214","v":1211},{"$f":"LeadData!A148","v":145},{"$f":"StrokeData!A420","v":417},{"$f":"MassDataLink!A1222","v":1219},-1,-1,-1,-1,-1,-1,-1,-1,-1,-1,-1,-1]
[50,"RCP5-RA4R",60,410,0,{"$f":"LeadData!A149","v":146},{"$f":"StrokeData!A422","v":419},{"$f":"MassDataLink!A1227","v":1224},{"$f":"LeadData!A150","v":147},{"$f":"StrokeData!A423","v":420},{"$f":"MassDataLink!A1240","v":1237},{"$f":"LeadData!A151","v":148},{"$f":"StrokeData!A424","v":421},{"$f":"MassDataLink!A1253","v":1250},{"$f":"LeadData!A152","v":149},{"$f":"StrokeData!A425","v":422},{"$f":"MassDataLink!A1266","v":1263},-1,-1,-1,-1,-1,-1,-1,-1,-1,-1,-1,-1]
[51,"RCP5-RA6R",65,415,0,{"$f":"LeadData!A153","v":150},{"$f":"StrokeData!A426","v":423},{"$f":"MassDataLink!A1274","v":1271},{"$f":"LeadData!A154","v":151},{"$f":"StrokeData!A427","v":424},{"$f":"MassDataLink!A1280","v":1277},{"$f":"LeadData!A155","v":152},{"$f":"StrokeData!A428","v":425},{"$f":"MassDataLink!A1287","v":1284},{"$f":"LeadData!A156","v":153},{"$f":"StrokeData!A429","v":426},{"$f":"MassDataLink!A1295","v":1292},-1,-1,-1,-1,-1,-1,-1,-1,-1,-1,-1,-1]
[52,"RCP5-RA7R",70,520,0,{"$f":"LeadData!A157","v":154},{"$f":"StrokeData!A430","v":427},{"$f":"MassDataLink!A1301","v":1298},{"$f":"LeadData!A158","v":155},{"$f":"StrokeData!A431","v":428},{"$f":"MassDataLink!A1307","v":1304},{"$f":"LeadData!A159","v":156},{"$f":"StrokeData!A432","v":429},{"$f":"MassDataLink!A1312","v":1309},{"$f":"LeadData!A160","v":157},{"$f":"StrokeData!A433","v":430},{"$f":"MassDataLink!A1318","v":1315},-1,-1,-1,-1,-1,-1,-1,-1,-1,-1,-1,-1]
[53,"RCP5W-RA6C",{"$f":"C28","v":50},400,0,97,275,718,98,276,721,99,278,725,-1,-1,-1,-1,-1,-1,-1,-1,-1,-1,-1,-1,-1,-1,-1]
[54,"RCP5W-RA6C(高推力)",{"$f":"C29","v":50},400,0,100,279,729,-1,-1,-1,-1,-1,-1,-1,-1,-1,-1,-1,-1,-1,-1,-1,-1,-1,-1,-1,-1,-1]
[55,"RCP5W-RA7C",{"$f":"C30","v":50},500,0,101,280,731,102,281,736,103,282,741,-1,-1,-1,-1,-1,-1,-1,-1,-1,-1,-1,-1,-1,-1,-1]
[56,"RCP5W-RA7C(高推力)",{"$f":"C31","v":50},500,0,104,283,745,-1,-1,-1,-1,-1,-1,-1,-1,-1,-1,-1,-1,-1,-1,-1,-1,-1,-1,-1,-1,-1]
[57,"RCP4-RA6C(高推力)",50,500,0,{"$f":"LeadData!A161","v":158},{"$f":"StrokeData!A434","v":431},{"$f":"MassDataLink!A1323","v":1320},-1,-1,-1,-1,-1,-1,-1,-1,-1,-1,-1,-1,-1,-1,-1,-1,-1,-1,-1,-1,-1]
[58,"RCP5W-RA8C",50,700,0,{"$f":"LeadData!A162","v":159},{"$f":"StrokeData!A435","v":432},{"$f":"MassDataLink!A1327","v":1324},{"$f":"LeadData!A163","v":160},{"$f":"StrokeData!A442","v":439},{"$f":"MassDataLink!A1338","v":1335},{"$f":"LeadData!A164","v":161},{"$f":"StrokeData!A449","v":446},{"$f":"MassDataLink!A1356","v":1353},-1,-1,-1,-1,-1,-1,-1,-1,-1,-1,-1,-1,-1,-1,-1]
[{"$f":"A61+1","v":59},"RCP5W-RA10C",50,800,0,{"$f":"LeadData!A165","v":162},{"$f":"StrokeData!A456","v":453},{"$f":"MassDataLink!A1367","v":1364},{"$f":"LeadData!A166","v":163},{"$f":"StrokeData!A461","v":458},{"$f":"MassDataLink!A1375","v":1372},{"$f":"LeadData!A167","v":164},{"$f":"StrokeData!A469","v":466},{"$f":"MassDataLink!A1391","v":1388},-1,-1,-1,-1,-1,-1,-1,-1,-1,-1,-1,-1,-1,-1,-1]
[60,"RCP6-SA8C",50,1100,0,{"$f":"LeadData!A168","v":165},{"$f":"StrokeData!A474","v":471},{"$f":"MassDataLink!A1405","v":1402},{"$f":"LeadData!A169","v":166},{"$f":"StrokeData!A484","v":481},{"$f":"MassDataLink!A1424","v":1421},{"$f":"LeadData!A170","v":167},{"$f":"StrokeData!A494","v":491},{"$f":"MassDataLink!A1447","v":1444},{"$f":"LeadData!A171","v":168},{"$f":"StrokeData!A504","v":501},{"$f":"MassDataLink!A1473","v":1470},-1,-1,-1,-1,-1,-1,-1,-1,-1,-1,-1,-1]
[61,"RCP6-SA8R",50,1100,0,{"$f":"LeadData!A172","v":169},{"$f":"StrokeData!A512","v":509},{"$f":"MassDataLink!A1499","v":1496},{"$f":"LeadData!A173","v":170},{"$f":"StrokeData!A522","v":519},{"$f":"MassDataLink!A1521","v":1518},{"$f":"LeadData!A174","v":171},{"$f":"StrokeData!A532","v":529},{"$f":"MassDataLink!A1544","v":1541},{"$f":"LeadData!A175","v":172},{"$f":"StrokeData!A542","v":539},{"$f":"MassDataLink!A1569","v":1566},-1,-1,-1,-1,-1,-1,-1,-1,-1,-1,-1,-1]
[62,"RCP6-WSA16C",50,1100,0,{"$f":"LeadData!A176","v":173},{"$f":"StrokeData!A550","v":547},{"$f":"MassDataLink!A1593","v":1590},{"$f":"LeadData!A177","v":174},{"$f":"StrokeData!A558","v":555},{"$f":"MassDataLink!A1612","v":1609},{"$f":"LeadData!A178","v":175},{"$f":"StrokeData!A568","v":565},{"$f":"MassDataLink!A1629","v":1626},-1,-1,-1,-1,-1,-1,-1,-1,-1,-1,-1,-1,-1,-1,-1]
[63,"RCP6-WSA16R",50,1100,0,{"$f":"LeadData!A179","v":176},{"$f":"StrokeData!A576","v":573},{"$f":"MassDataLink!A1642","v":1639},{"$f":"LeadData!A180","v":177},{"$f":"StrokeData!A583","v":580},{"$f":"MassDataLink!A1654","v":1651},{"$f":"LeadData!A181","v":178},{"$f":"StrokeData!A591","v":588},{"$f":"MassDataLink!A1672","v":1669},-1,-1,-1,-1,-1,-1,-1,-1,-1,-1,-1,-1,-1,-1,-1]
[64,"RCP6-RA8C",50,300,0,{"$f":"LeadData!A182","v":179},{"$f":"StrokeData!A597","v":594},{"$f":"MassDataLink!A1682","v":1679},{"$f":"LeadData!A183","v":180},{"$f":"StrokeData!A598","v":595},{"$f":"MassDataLink!A1694","v":1691},{"$f":"LeadData!A184","v":181},{"$f":"StrokeData!A599","v":596},{"$f":"MassDataLink!A1712","v":1709},-1,-1,-1,-1,-1,-1,-1,-1,-1,-1,-1,-1,-1,-1,-1]
[65,"RCP6-RA8R",50,300,0,{"$f":"LeadData!A185","v":182},{"$f":"StrokeData!A600","v":597},{"$f":"MassDataLink!A1724","v":1721},{"$f":"LeadData!A186","v":183},{"$f":"StrokeData!A601","v":598},{"$f":"MassDataLink!A1732","v":1729},{"$f":"LeadData!A187","v":184},{"$f":"StrokeData!A602","v":599},{"$f":"MassDataLink!A1750","v":1747},-1,-1,-1,-1,-1,-1,-1,-1,-1,-1,-1,-1,-1,-1,-1]
[66,"RCP6-RRA8C",50,700,0,{"$f":"LeadData!A188","v":185},{"$f":"StrokeData!A603","v":600},{"$f":"MassDataLink!A1757","v":1754},{"$f":"LeadData!A189","v":186},{"$f":"StrokeData!A611","v":608},{"$f":"MassDataLink!A1769","v":1766},{"$f":"LeadData!A190","v":187},{"$f":"StrokeData!A619","v":616},{"$f":"MassDataLink!A1787","v":1784},-1,-1,-1,-1,-1,-1,-1,-1,-1,-1,-1,-1,-1,-1,-1]
[67,"RCP6-RRA8R",50,700,0,{"$f":"LeadData!A191","v":188},{"$f":"StrokeData!A627","v":624},{"$f":"MassDataLink!A1799","v":1796},{"$f":"LeadData!A192","v":189},{"$f":"StrokeData!A633","v":630},{"$f":"MassDataLink!A1807","v":1804},{"$f":"LeadData!A193","v":190},{"$f":"StrokeData!A639","v":636},{"$f":"MassDataLink!A1825","v":1822},-1,-1,-1,-1,-1,-1,-1,-1,-1,-1,-1,-1,-1,-1,-1]
[68,"RCP6-WRA16C",50,800,0,{"$f":"LeadData!A194","v":191},{"$f":"StrokeData!A645","v":642},{"$f":"MassDataLink!A1832","v":1829},{"$f":"LeadData!A195","v":192},{"$f":"StrokeData!A654","v":651},{"$f":"MassDataLink!A1841","v":1838},{"$f":"LeadData!A196","v":193},{"$f":"StrokeData!A663","v":660},{"$f":"MassDataLink!A1856","v":1853},-1,-1,-1,-1,-1,-1,-1,-1,-1,-1,-1,-1,-1,-1,-1]
[69,"RCP6-WRA16R",50,800,0,{"$f":"LeadData!A197","v":194},{"$f":"StrokeData!A671","v":668},{"$f":"MassDataLink!A1860","v":1857},{"$f":"LeadData!A198","v":195},{"$f":"StrokeData!A680","v":677},{"$f":"MassDataLink!A1868","v":1865},{"$f":"LeadData!A199","v":196},{"$f":"StrokeData!A689","v":686},{"$f":"MassDataLink!A1881","v":1878},-1,-1,-1,-1,-1,-1,-1,-1,-1,-1,-1,-1,-1,-1,-1]
[{"$f":"A72+1","v":70},"RCP6-SA4C",50,500,0,{"$f":"LeadData!A200","v":197},{"$f":"StrokeData!A697","v":694},{"$f":"MassDataLink!A1884","v":1881},{"$f":"LeadData!A201","v":198},{"$f":"StrokeData!A698","v":695},{"$f":"MassDataLink!A1892","v":1889},{"$f":"LeadData!A202","v":199},{"$f":"StrokeData!A699","v":696},{"$f":"MassDataLink!A1901","v":1898},{"$f":"LeadData!A203","v":200},{"$f":"StrokeData!A700","v":697},{"$f":"MassDataLink!A1913","v":1910},-1,-1,-1,-1,-1,-1,-1,-1,-1,-1,-1,-1]
[71,"RCP6-SA6C",50,800,0,{"$f":"LeadData!A204","v":201},{"$f":"StrokeData!A701","v":698},{"$f":"MassDataLink!A1922","v":1919},{"$f":"LeadData!A205","v":202},{"$f":"StrokeData!A708","v":705},{"$f":"MassDataLink!A1933","v":1930},{"$f":"LeadData!A206","v":203},{"$f":"StrokeData!A715","v":712},{"$f":"MassDataLink!A1944","v":1941},{"$f":"LeadData!A207","v":204},{"$f":"StrokeData!A722","v":719},{"$f":"MassDataLink!A1955","v":1952},-1,-1,-1,-1,-1,-1,-1,-1,-1,-1,-1,-1]
[72,"RCP6-SA7C",50,800,0,{"$f":"LeadData!A208","v":205},{"$f":"StrokeData!A727","v":724},{"$f":"MassDataLink!A1965","v":1962},{"$f":"LeadData!A209","v":206},{"$f":"StrokeData!A730","v":727},{"$f":"MassDataLink!A1972","v":1969},{"$f":"LeadData!A210","v":207},{"$f":"StrokeData!A733","v":730},{"$f":"MassDataLink!A1981","v":1978},{"$f":"LeadData!A211","v":208},{"$f":"StrokeData!A735","v":732},{"$f":"MassDataLink!A1993","v":1990},-1,-1,-1,-1,-1,-1,-1,-1,-1,-1,-1,-1]
[73,"RCP6-SA4R",50,500,0,{"$f":"LeadData!A212","v":209},{"$f":"StrokeData!A737","v":734},{"$f":"MassDataLink!A2001","v":1998},{"$f":"LeadData!A213","v":210},{"$f":"StrokeData!A738","v":735},{"$f":"MassDataLink!A2009","v":2006},{"$f":"LeadData!A214","v":211},{"$f":"StrokeData!A739","v":736},{"$f":"MassDataLink!A2018","v":2015},{"$f":"LeadData!A215","v":212},{"$f":"StrokeData!A740","v":737},{"$f":"MassDataLink!A2030","v":2027},-1,-1,-1,-1,-1,-1,-1,-1,-1,-1,-1,-1]
[74,"RCP6-SA6R",50,800,0,{"$f":"LeadData!A216","v":213},{"$f":"StrokeData!A741","v":738},{"$f":"MassDataLink!A2039","v":2036},{"$f":"LeadData!A217","v":214},{"$f":"StrokeData!A748","v":745},{"$f":"MassDataLink!A2050","v":2047},{"$f":"LeadData!A218","v":215},{"$f":"StrokeData!A755","v":752},{"$f":"MassDataLink!A2061","v":2058},{"$f":"LeadData!A219","v":216},{"$f":"StrokeData!A762","v":759},{"$f":"MassDataLink!A2072","v":2069},-1,-1,-1,-1,-1,-1,-1,-1,-1,-1,-1,-1]
[75,"RCP6-SA7R",50,800,0,{"$f":"LeadData!A220","v":217},{"$f":"StrokeData!A767","v":764},{"$f":"MassDataLink!A2082","v":2079},{"$f":"LeadData!A221","v":218},{"$f":"StrokeData!A770","v":767},{"$f":"MassDataLink!A2089","v":2086},{"$f":"LeadData!A222","v":219},{"$f":"StrokeData!A773","v":770},{"$f":"MassDataLink!A2098","v":2095},{"$f":"LeadData!A223","v":220},{"$f":"StrokeData!A775","v":772},{"$f":"MassDataLink!A2110","v":2107},-1,-1,-1,-1,-1,-1,-1,-1,-1,-1,-1,-1]
[76,"RCP6-WSA10C",50,500,0,{"$f":"LeadData!A224","v":221},{"$f":"StrokeData!A777","v":774},{"$f":"MassDataLink!A2118","v":2115},{"$f":"LeadData!A225","v":222},{"$f":"StrokeData!A780","v":777},{"$f":"MassDataLink!A2126","v":2123},{"$f":"LeadData!A226","v":223},{"$f":"StrokeData!A783","v":780},{"$f":"MassDataLink!A2134","v":2131},{"$f":"LeadData!A227","v":224},{"$f":"StrokeData!A784","v":781},{"$f":"MassDataLink!A2143","v":2140},-1,-1,-1,-1,-1,-1,-1,-1,-1,-1,-1,-1]
[77,"RCP6-WSA12C",50,800,0,{"$f":"LeadData!A228","v":225},{"$f":"StrokeData!A785","v":782},{"$f":"MassDataLink!A2147","v":2144},{"$f":"LeadData!A229","v":226},{"$f":"StrokeData!A792","v":789},{"$f":"MassDataLink!A2156","v":2153},{"$f":"LeadData!A230","v":227},{"$f":"StrokeData!A799","v":796},{"$f":"MassDataLink!A2165","v":2162},{"$f":"LeadData!A231","v":228},{"$f":"StrokeData!A805","v":802},{"$f":"MassDataLink!A2173","v":2170},-1,-1,-1,-1,-1,-1,-1,-1,-1,-1,-1,-1]
[78,"RCP6-WSA14C",50,800,0,{"$f":"LeadData!A232","v":229},{"$f":"StrokeData!A808","v":805},{"$f":"MassDataLink!A2177","v":2174},{"$f":"LeadData!A233","v":230},{"$f":"StrokeData!A809","v":806},{"$f":"MassDataLink!A2183","v":2180},{"$f":"LeadData!A234","v":231},{"$f":"StrokeData!A810","v":807},{"$f":"MassDataLink!A2191","v":2188},{"$f":"LeadData!A235","v":232},{"$f":"StrokeData!A811","v":808},{"$f":"MassDataLink!A2197","v":2194},-1,-1,-1,-1,-1,-1,-1,-1,-1,-1,-1,-1]
[79,"RCP6-WSA10R",50,500,0,{"$f":"LeadData!A236","v":233},{"$f":"StrokeData!A812","v":809},{"$f":"MassDataLink!A2203","v":2200},{"$f":"LeadData!A237","v":234},{"$f":"StrokeData!A815","v":812},{"$f":"MassDataLink!A2211","v":2208},{"$f":"LeadData!A238","v":235},{"$f":"StrokeData!A818","v":815},{"$f":"MassDataLink!A2219","v":2216},{"$f":"LeadData!A239","v":236},{"$f":"StrokeData!A819","v":816},{"$f":"MassDataLink!A2228","v":2225},-1,-1,-1,-1,-1,-1,-1,-1,-1,-1,-1,-1]
[80,"RCP6-WSA12R",50,800,0,{"$f":"LeadData!A240","v":237},{"$f":"StrokeData!A820","v":817},{"$f":"MassDataLink!A2232","v":2229},{"$f":"LeadData!A241","v":238},{"$f":"StrokeData!A827","v":824},{"$f":"MassDataLink!A2241","v":2238},{"$f":"LeadData!A242","v":239},{"$f":"StrokeData!A834","v":831},{"$f":"MassDataLink!A2250","v":2247},{"$f":"LeadData!A243","v":240},{"$f":"StrokeData!A840","v":837},{"$f":"MassDataLink!A2258","v":2255},-1,-1,-1,-1,-1,-1,-1,-1,-1,-1,-1,-1]
[81,"RCP6-WSA14R",50,800,0,{"$f":"LeadData!A244","v":241},{"$f":"StrokeData!A843","v":840},{"$f":"MassDataLink!A2262","v":2259},{"$f":"LeadData!A245","v":242},{"$f":"StrokeData!A844","v":841},{"$f":"MassDataLink!A2268","v":2265},{"$f":"LeadData!A246","v":243},{"$f":"StrokeData!A845","v":842},{"$f":"MassDataLink!A2276","v":2273},{"$f":"LeadData!A247","v":244},{"$f":"StrokeData!A846","v":843},{"$f":"MassDataLink!A2282","v":2279},-1,-1,-1,-1,-1,-1,-1,-1,-1,-1,-1,-1]
[82,"RCP6-RA4C",50,200,0,{"$f":"LeadData!A248","v":245},{"$f":"StrokeData!A847","v":844},{"$f":"MassDataLink!A2288","v":2285},{"$f":"LeadData!A249","v":246},{"$f":"StrokeData!A848","v":845},{"$f":"MassDataLink!A2298","v":2295},{"$f":"LeadData!A250","v":247},{"$f":"StrokeData!A849","v":846},{"$f":"MassDataLink!A2310","v":2307},{"$f":"LeadData!A251","v":248},{"$f":"StrokeData!A850","v":847},{"$f":"MassDataLink!A2322","v":2319},-1,-1,-1,-1,-1,-1,-1,-1,-1,-1,-1,-1]
[83,"RCP6-RA6C",50,300,0,{"$f":"LeadData!A252","v":249},{"$f":"StrokeData!A851","v":848},{"$f":"MassDataLink!A2329","v":2326},{"$f":"LeadData!A253","v":250},{"$f":"StrokeData!A852","v":849},{"$f":"MassDataLink!A2335","v":2332},{"$f":"LeadData!A254","v":251},{"$f":"StrokeData!A853","v":850},{"$f":"MassDataLink!A2345","v":2342},{"$f":"LeadData!A255","v":252},{"$f":"StrokeData!A854","v":851},{"$f":"MassDataLink!A2355","v":2352},-1,-1,-1,-1,-1,-1,-1,-1,-1,-1,-1,-1]
[84,"RCP6-RA7C",50,300,0,{"$f":"LeadData!A256","v":253},{"$f":"StrokeData!A855","v":852},{"$f":"MassDataLink!A2362","v":2359},{"$f":"LeadData!A257","v":254},{"$f":"StrokeData!A856","v":853},{"$f":"MassDataLink!A2369","v":2366},{"$f":"LeadData!A258","v":255},{"$f":"StrokeData!A857","v":854},{"$f":"MassDataLink!A2376","v":2373},{"$f":"LeadData!A259","v":256},{"$f":"StrokeData!A858","v":855},{"$f":"MassDataLink!A2384","v":2381},-1,-1,-1,-1,-1,-1,-1,-1,-1,-1,-1,-1]
[85,"RCP6-RA4R",50,200,0,{"$f":"LeadData!A260","v":257},{"$f":"StrokeData!A859","v":856},{"$f":"MassDataLink!A2393","v":2390},{"$f":"LeadData!A261","v":258},{"$f":"StrokeData!A860","v":857},{"$f":"MassDataLink!A2403","v":2400},{"$f":"LeadData!A262","v":259},{"$f":"StrokeData!A861","v":858},{"$f":"MassDataLink!A2415","v":2412},{"$f":"LeadData!A263","v":260},{"$f":"StrokeData!A862","v":859},{"$f":"MassDataLink!A2427","v":2424},-1,-1,-1,-1,-1,-1,-1,-1,-1,-1,-1,-1]
[86,"RCP6-RA6R",50,300,0,{"$f":"LeadData!A264","v":261},{"$f":"StrokeData!A863","v":860},{"$f":"MassDataLink!A2434","v":2431},{"$f":"LeadData!A265","v":262},{"$f":"StrokeData!A864","v":861},{"$f":"MassDataLink!A2440","v":2437},{"$f":"LeadData!A266","v":263},{"$f":"StrokeData!A865","v":862},{"$f":"MassDataLink!A2450","v":2447},{"$f":"LeadData!A267","v":264},{"$f":"StrokeData!A866","v":863},{"$f":"MassDataLink!A2460","v":2457},-1,-1,-1,-1,-1,-1,-1,-1,-1,-1,-1,-1]
[87,"RCP6-RA7R",50,300,{"$f":"E85","v":0},{"$f":"LeadData!A268","v":265},{"$f":"StrokeData!A867","v":864},{"$f":"MassDataLink!A2467","v":2464},{"$f":"LeadData!A269","v":266},{"$f":"StrokeData!A868","v":865},{"$f":"MassDataLink!A2474","v":2471},{"$f":"LeadData!A270","v":267},{"$f":"StrokeData!A869","v":866},{"$f":"MassDataLink!A2481","v":2478},{"$f":"LeadData!A271","v":268},{"$f":"StrokeData!A870","v":867},{"$f":"MassDataLink!A2489","v":2486},-1,-1,-1,-1,-1,-1,-1,-1,-1,-1,-1,-1]
[88,"RCP6-RRA4C",60,410,{"$f":"E52","v":0},{"$f":"LeadData!A272","v":269},{"$f":"StrokeData!A871","v":868},{"$f":"MassDataLink!A2498","v":2495},{"$f":"LeadData!A273","v":270},{"$f":"StrokeData!A872","v":869},{"$f":"MassDataLink!A2508","v":2505},{"$f":"LeadData!A274","v":271},{"$f":"StrokeData!A873","v":870},{"$f":"MassDataLink!A2520","v":2517},{"$f":"LeadData!A275","v":272},{"$f":"StrokeData!A874","v":871},{"$f":"MassDataLink!A2532","v":2529},-1,-1,-1,-1,-1,-1,-1,-1,-1,-1,-1,-1]
[89,"RCP6-RRA6C",65,415,{"$f":"E53","v":0},{"$f":"LeadData!A276","v":273},{"$f":"StrokeData!A875","v":872},{"$f":"MassDataLink!A2539","v":2536},{"$f":"LeadData!A277","v":274},{"$f":"StrokeData!A876","v":873},{"$f":"MassDataLink!A2545","v":2542},{"$f":"LeadData!A278","v":275},{"$f":"StrokeData!A877","v":874},{"$f":"MassDataLink!A2555","v":2552},{"$f":"LeadData!A279","v":276},{"$f":"StrokeData!A878","v":875},{"$f":"MassDataLink!A2565","v":2562},-1,-1,-1,-1,-1,-1,-1,-1,-1,-1,-1,-1]
[90,"RCP6-RRA7C",70,520,{"$f":"E54","v":0},{"$f":"LeadData!A280","v":277},{"$f":"StrokeData!A879","v":876},{"$f":"MassDataLink!A2572","v":2569},{"$f":"LeadData!A281","v":278},{"$f":"StrokeData!A880","v":877},{"$f":"MassDataLink!A2579","v":2576},{"$f":"LeadData!A282","v":279},{"$f":"StrokeData!A881","v":878},{"$f":"MassDataLink!A2586","v":2583},{"$f":"LeadData!A283","v":280},{"$f":"StrokeData!A882","v":879},{"$f":"MassDataLink!A2594","v":2591},-1,-1,-1,-1,-1,-1,-1,-1,-1,-1,-1,-1]
[91,"RCP6-RRA4R",60,410,{"$f":"E70","v":0},{"$f":"LeadData!A284","v":281},{"$f":"StrokeData!A883","v":880},{"$f":"MassDataLink!A2601","v":2598},{"$f":"LeadData!A285","v":282},{"$f":"StrokeData!A884","v":881},{"$f":"MassDataLink!A2611","v":2608},{"$f":"LeadData!A286","v":283},{"$f":"StrokeData!A885","v":882},{"$f":"MassDataLink!A2623","v":2620},{"$f":"LeadData!A287","v":284},{"$f":"StrokeData!A886","v":883},{"$f":"MassDataLink!A2635","v":2632},-1,-1,-1,-1,-1,-1,-1,-1,-1,-1,-1,-1]
[92,"RCP6-RRA6R",65,415,{"$f":"E71","v":0},{"$f":"LeadData!A288","v":285},{"$f":"StrokeData!A887","v":884},{"$f":"MassDataLink!A2642","v":2639},{"$f":"LeadData!A289","v":286},{"$f":"StrokeData!A888","v":885},{"$f":"MassDataLink!A2648","v":2645},{"$f":"LeadData!A290","v":287},{"$f":"StrokeData!A889","v":886},{"$f":"MassDataLink!A2658","v":2655},{"$f":"LeadData!A291","v":288},{"$f":"StrokeData!A890","v":887},{"$f":"MassDataLink!A2668","v":2665},-1,-1,-1,-1,-1,-1,-1,-1,-1,-1,-1,-1]
[93,"RCP6-RRA7R",70,520,{"$f":"E72","v":0},{"$f":"LeadData!A292","v":289},{"$f":"StrokeData!A891","v":888},{"$f":"MassDataLink!A2675","v":2672},{"$f":"LeadData!A293","v":290},{"$f":"StrokeData!A892","v":889},{"$f":"MassDataLink!A2682","v":2679},{"$f":"LeadData!A294","v":291},{"$f":"StrokeData!A893","v":890},{"$f":"MassDataLink!A2689","v":2686},{"$f":"LeadData!A295","v":292},{"$f":"StrokeData!A894","v":891},{"$f":"MassDataLink!A2697","v":2694},-1,-1,-1,-1,-1,-1,-1,-1,-1,-1,-1,-1]
[94,"RCP6-WRA10C",50,500,0,{"$f":"LeadData!A296","v":293},{"$f":"StrokeData!A895","v":892},{"$f":"MassDataLink!A2704","v":2701},{"$f":"LeadData!A297","v":294},{"$f":"StrokeData!A897","v":894},{"$f":"MassDataLink!A2713","v":2710},{"$f":"LeadData!A298","v":295},{"$f":"StrokeData!A899","v":896},{"$f":"MassDataLink!A2723","v":2720},{"$f":"LeadData!A299","v":296},{"$f":"StrokeData!A900","v":897},{"$f":"MassDataLink!A2730","v":2727},-1,-1,-1,-1,-1,-1,-1,-1,-1,-1,-1,-1]
[95,"RCP6-WRA12C",50,500,0,{"$f":"LeadData!A300","v":297},{"$f":"StrokeData!A901","v":898},{"$f":"MassDataLink!A2733","v":2730},{"$f":"LeadData!A301","v":298},{"$f":"StrokeData!A902","v":899},{"$f":"MassDataLink!A2738","v":2735},{"$f":"LeadData!A302","v":299},{"$f":"StrokeData!A903","v":900},{"$f":"MassDataLink!A2745","v":2742},{"$f":"LeadData!A303","v":300},{"$f":"StrokeData!A904","v":901},{"$f":"MassDataLink!A2752","v":2749},-1,-1,-1,-1,-1,-1,-1,-1,-1,-1,-1,-1]
[96,"RCP6-WRA14C",50,600,0,{"$f":"LeadData!A304","v":301},{"$f":"StrokeData!A905","v":902},{"$f":"MassDataLink!A2757","v":2754},{"$f":"LeadData!A305","v":302},{"$f":"StrokeData!A906","v":903},{"$f":"MassDataLink!A2764","v":2761},{"$f":"LeadData!A306","v":303},{"$f":"StrokeData!A907","v":904},{"$f":"MassDataLink!A2771","v":2768},{"$f":"LeadData!A307","v":304},{"$f":"StrokeData!A908","v":905},{"$f":"MassDataLink!A2776","v":2773},-1,-1,-1,-1,-1,-1,-1,-1,-1,-1,-1,-1]
[97,"RCP6-WRA10R",50,500,0,{"$f":"LeadData!A308","v":305},{"$f":"StrokeData!A909","v":906},{"$f":"MassDataLink!A2780","v":2777},{"$f":"LeadData!A309","v":306},{"$f":"StrokeData!A911","v":908},{"$f":"MassDataLink!A2789","v":2786},{"$f":"LeadData!A310","v":307},{"$f":"StrokeData!A913","v":910},{"$f":"MassDataLink!A2799","v":2796},{"$f":"LeadData!A311","v":308},{"$f":"StrokeData!A914","v":911},{"$f":"MassDataLink!A2806","v":2803},-1,-1,-1,-1,-1,-1,-1,-1,-1,-1,-1,-1]
[98,"RCP6-WRA12R",50,500,0,{"$f":"LeadData!A312","v":309},{"$f":"StrokeData!A915","v":912},{"$f":"MassDataLink!A2809","v":2806},{"$f":"LeadData!A313","v":310},{"$f":"StrokeData!A916","v":913},{"$f":"MassDataLink!A2814","v":2811},{"$f":"LeadData!A314","v":311},{"$f":"StrokeData!A917","v":914},{"$f":"MassDataLink!A2821","v":2818},{"$f":"LeadData!A315","v":312},{"$f":"StrokeData!A918","v":915},{"$f":"MassDataLink!A2828","v":2825},-1,-1,-1,-1,-1,-1,-1,-1,-1,-1,-1,-1]
[99,"RCP6-WRA14R",50,600,0,{"$f":"LeadData!A316","v":313},{"$f":"StrokeData!A919","v":916},{"$f":"MassDataLink!A2833","v":2830},{"$f":"LeadData!A317","v":314},{"$f":"StrokeData!A920","v":917},{"$f":"MassDataLink!A2840","v":2837},{"$f":"LeadData!A318","v":315},{"$f":"StrokeData!A921","v":918},{"$f":"MassDataLink!A2847","v":2844},{"$f":"LeadData!A319","v":316},{"$f":"StrokeData!A922","v":919},{"$f":"MassDataLink!A2852","v":2849},-1,-1,-1,-1,-1,-1,-1,-1,-1,-1,-1,-1]
[100,"RCP6-TA4C(SB)",25,150,0,{"$f":"LeadData!A320","v":317},{"$f":"StrokeData!A923","v":920},{"$f":"MassDataLink!A2856","v":2853},{"$f":"LeadData!A321","v":318},{"$f":"StrokeData!A924","v":921},{"$f":"MassDataLink!A2861","v":2858},{"$f":"LeadData!A322","v":319},{"$f":"StrokeData!A925","v":922},{"$f":"MassDataLink!A2866","v":2863},{"$f":"LeadData!A323","v":320},{"$f":"StrokeData!A926","v":923},{"$f":"MassDataLink!A2873","v":2870},-1,-1,-1,-1,-1,-1,-1,-1,-1,-1,-1,-1]
[101,"RCP6-TA6C(SB)",25,200,0,{"$f":"LeadData!A324","v":321},{"$f":"StrokeData!A927","v":924},{"$f":"MassDataLink!A2880","v":2877},{"$f":"LeadData!A325","v":322},{"$f":"StrokeData!A928","v":925},{"$f":"MassDataLink!A2889","v":2886},{"$f":"LeadData!A326","v":323},{"$f":"StrokeData!A929","v":926},{"$f":"MassDataLink!A2898","v":2895},{"$f":"LeadData!A327","v":324},{"$f":"StrokeData!A930","v":927},{"$f":"MassDataLink!A2909","v":2906},-1,-1,-1,-1,-1,-1,-1,-1,-1,-1,-1,-1]
[102,"RCP6-TA7C(SB)",50,300,0,{"$f":"LeadData!A328","v":325},{"$f":"StrokeData!A931","v":928},{"$f":"MassDataLink!A2916","v":2913},{"$f":"LeadData!A329","v":326},{"$f":"StrokeData!A932","v":929},{"$f":"MassDataLink!A2922","v":2919},{"$f":"LeadData!A330","v":327},{"$f":"StrokeData!A933","v":930},{"$f":"MassDataLink!A2927","v":2924},{"$f":"LeadData!A331","v":328},{"$f":"StrokeData!A934","v":931},{"$f":"MassDataLink!A2932","v":2929},-1,-1,-1,-1,-1,-1,-1,-1,-1,-1,-1,-1]
[103,"RCP6-TA4R(SB)",25,150,{"$f":"E82","v":0},{"$f":"LeadData!A332","v":329},{"$f":"StrokeData!A935","v":932},{"$f":"MassDataLink!A2937","v":2934},{"$f":"LeadData!A333","v":330},{"$f":"StrokeData!A936","v":933},{"$f":"MassDataLink!A2942","v":2939},{"$f":"LeadData!A334","v":331},{"$f":"StrokeData!A937","v":934},{"$f":"MassDataLink!A2947","v":2944},{"$f":"LeadData!A335","v":332},{"$f":"StrokeData!A938","v":935},{"$f":"MassDataLink!A2954","v":2951},-1,-1,-1,-1,-1,-1,-1,-1,-1,-1,-1,-1]
[104,"RCP6-TA6R(SB)",25,200,{"$f":"E83","v":0},{"$f":"LeadData!A336","v":333},{"$f":"StrokeData!A939","v":936},{"$f":"MassDataLink!A2961","v":2958},{"$f":"LeadData!A337","v":334},{"$f":"StrokeData!A940","v":937},{"$f":"MassDataLink!A2970","v":2967},{"$f":"LeadData!A338","v":335},{"$f":"StrokeData!A941","v":938},{"$f":"MassDataLink!A2979","v":2976},{"$f":"LeadData!A339","v":336},{"$f":"StrokeData!A942","v":939},{"$f":"MassDataLink!A2990","v":2987},-1,-1,-1,-1,-1,-1,-1,-1,-1,-1,-1,-1]
[105,"RCP6-TA7R(SB)",50,300,{"$f":"E84","v":0},{"$f":"LeadData!A340","v":337},{"$f":"StrokeData!A943","v":940},{"$f":"MassDataLink!A2997","v":2994},{"$f":"LeadData!A341","v":338},{"$f":"StrokeData!A944","v":941},{"$f":"MassDataLink!A3003","v":3000},{"$f":"LeadData!A342","v":339},{"$f":"StrokeData!A945","v":942},{"$f":"MassDataLink!A3008","v":3005},{"$f":"LeadData!A343","v":340},{"$f":"StrokeData!A946","v":943},{"$f":"MassDataLink!A3013","v":3010},-1,-1,-1,-1,-1,-1,-1,-1,-1,-1,-1,-1]
[106,"RCP6-TA4C(DB)",40,240,0,{"$f":"LeadData!A344","v":341},{"$f":"StrokeData!A947","v":944},{"$f":"MassDataLink!A3018","v":3015},{"$f":"LeadData!A345","v":342},{"$f":"StrokeData!A948","v":945},{"$f":"MassDataLink!A3027","v":3024},{"$f":"LeadData!A346","v":343},{"$f":"StrokeData!A949","v":946},{"$f":"MassDataLink!A3036","v":3033},-1,-1,-1,-1,-1,-1,-1,-1,-1,-1,-1,-1,-1,-1,-1]
[107,"RCP6-TA6C(DB)",70,320,0,{"$f":"LeadData!A347","v":344},{"$f":"StrokeData!A950","v":947},{"$f":"MassDataLink!A3046","v":3043},{"$f":"LeadData!A348","v":345},{"$f":"StrokeData!A952","v":949},{"$f":"MassDataLink!A3057","v":3054},{"$f":"LeadData!A349","v":346},{"$f":"StrokeData!A954","v":951},{"$f":"MassDataLink!A3069","v":3066},-1,-1,-1,-1,-1,-1,-1,-1,-1,-1,-1,-1,-1,-1,-1]
[108,"RCP6-TA7C(DB)",40,390,0,{"$f":"LeadData!A350","v":347},{"$f":"StrokeData!A955","v":952},{"$f":"MassDataLink!A3081","v":3078},{"$f":"LeadData!A351","v":348},{"$f":"StrokeData!A956","v":953},{"$f":"MassDataLink!A3089","v":3086},{"$f":"LeadData!A352","v":349},{"$f":"StrokeData!A957","v":954},{"$f":"MassDataLink!A3097","v":3094},-1,-1,-1,-1,-1,-1,-1,-1,-1,-1,-1,-1,-1,-1,-1]
[109,"RCP6-TA4R(DB)",40,240,{"$f":"E88","v":0},{"$f":"LeadData!A353","v":350},{"$f":"StrokeData!A958","v":955},{"$f":"MassDataLink!A3105","v":3102},{"$f":"LeadData!A354","v":351},{"$f":"StrokeData!A959","v":956},{"$f":"MassDataLink!A3114","v":3111},{"$f":"LeadData!A355","v":352},{"$f":"StrokeData!A960","v":957},{"$f":"MassDataLink!A3123","v":3120},-1,-1,-1,-1,-1,-1,-1,-1,-1,-1,-1,-1,-1,-1,-1]
[110,"RCP6-TA6R(DB)",70,320,{"$f":"E89","v":0},{"$f":"LeadData!A356","v":353},{"$f":"StrokeData!A961","v":958},{"$f":"MassDataLink!A3133","v":3130},{"$f":"LeadData!A357","v":354},{"$f":"StrokeData!A963","v":960},{"$f":"MassDataLink!A3144","v":3141},{"$f":"LeadData!A358","v":355},{"$f":"StrokeData!A965","v":962},{"$f":"MassDataLink!A3156","v":3153},-1,-1,-1,-1,-1,-1,-1,-1,-1,-1,-1,-1,-1,-1,-1]
[111,"RCP6-TA7R(DB)",40,390,{"$f":"E90","v":0},{"$f":"LeadData!A359","v":356},{"$f":"StrokeData!A966","v":963},{"$f":"MassDataLink!A3168","v":3165},{"$f":"LeadData!A360","v":357},{"$f":"StrokeData!A967","v":964},{"$f":"MassDataLink!A3176","v":3173},{"$f":"LeadData!A361","v":358},{"$f":"StrokeData!A968","v":965},{"$f":"MassDataLink!A3184","v":3181},-1,-1,-1,-1,-1,-1,-1,-1,-1,-1,-1,-1,-1,-1,-1]
[112,"RCP6CR-SA4C",{"$f":"C73","v":50},500,0,197,694,1881,198,695,1889,199,696,1898,200,697,1910,-1,-1,-1,-1,-1,-1,-1,-1,-1,-1,-1,-1]
[113,"RCP6CR-SA6C",{"$f":"C74","v":50},800,0,201,698,1919,202,705,1930,203,712,1941,204,719,1952,-1,-1,-1,-1,-1,-1,-1,-1,-1,-1,-1,-1]
[114,"RCP6CR-SA7C",{"$f":"C75","v":50},800,0,205,724,1962,206,727,1969,207,730,1978,208,732,1990,-1,-1,-1,-1,-1,-1,-1,-1,-1,-1,-1,-1]
[115,"RCP6CR-SA8C",{"$f":"C63","v":50},1100,0,165,471,1402,166,481,1421,167,491,1444,168,501,1470,-1,-1,-1,-1,-1,-1,-1,-1,-1,-1,-1,-1]
[116,"RCP6CR-WSA10C",{"$f":"C79","v":50},500,0,221,774,2115,222,777,2123,223,780,2131,224,781,2140,-1,-1,-1,-1,-1,-1,-1,-1,-1,-1,-1,-1]
[117,"RCP6CR-WSA12C",{"$f":"C80","v":50},800,0,225,782,2144,226,789,2153,227,796,2162,228,802,2170,-1,-1,-1,-1,-1,-1,-1,-1,-1,-1,-1,-1]
[118,"RCP6CR-WSA14C",{"$f":"C81","v":50},800,0,229,805,2174,230,806,2180,231,807,2188,232,808,2194,-1,-1,-1,-1,-1,-1,-1,-1,-1,-1,-1,-1]
[119,"RCP6CR-WSA16C",{"$f":"C65","v":50},1100,0,173,547,1590,174,555,1609,175,565,1626,-1,-1,-1,-1,-1,-1,-1,-1,-1,-1,-1,-1,-1,-1,-1]
[120,"RCP6-HSA6C",50,800,0,359,966,3189,360,975,3220,361,984,3246,362,993,3262,-1,-1,-1,-1,-1,-1,-1,-1,-1,-1,-1,-1,"↓ Ver.3.80 追加"]
[121,"RCP6-HSA7C",50,800,0,363,1002,3272,364,1009,3318,365,1016,3359,366,1023,3402,-1,-1,-1,-1,-1,-1,-1,-1,-1,-1,-1,-1]
[122,"RCP6-HSA6C-W",200,800,0,367,1030,3424,368,1039,3452,369,1048,3472,-1,-1,-1,-1,-1,-1,-1,-1,-1,-1,-1,-1,-1,-1,-1]
[123,"RCP6-HSA7C-W",200,800,0,370,1057,3483,371,1063,3526,372,1069,3567,-1,-1,-1,-1,-1,-1,-1,-1,-1,-1,-1,-1,-1,-1,-1,"↑ Ver.3.80 追加"]
[124,"RCP6-HSA6R",50,800,0,373,1076,3598,374,1082,3628,375,1089,3653,376,1095,3672,-1,-1,-1,-1,-1,-1,-1,-1,-1,-1,-1,-1,"↓ Ver.4.1 追加"]
[125,"RCP6-HSA6R-W",200,800,0,377,1099,3682,378,1105,3712,379,1111,3732,-1,-1,-1,-1,-1,-1,-1,-1,-1,-1,-1,-1,-1,-1,-1]
[126,"RCP6-HSA6XC-3",500,1000,0,380,1115,3744,-1,-1,-1,-1,-1,-1,-1,-1,-1,-1,-1,-1,-1,-1,-1,-1,-1,-1,-1,-1,-1]
[127,"RCP6-HSA6XC-6",500,1400,0,381,1119,3774,-1,-1,-1,-1,-1,-1,-1,-1,-1,-1,-1,-1,-1,-1,-1,-1,-1,-1,-1,-1,-1]
[128,"RCP6-HSA6XC-12",500,1500,0,382,1132,3799,-1,-1,-1,-1,-1,-1,-1,-1,-1,-1,-1,-1,-1,-1,-1,-1,-1,-1,-1,-1,-1]
[129,"RCP6-HSA6XC-20",500,1500,0,383,1145,3818,-1,-1,-1,-1,-1,-1,-1,-1,-1,-1,-1,-1,-1,-1,-1,-1,-1,-1,-1,-1,-1]
[130,"RCP6-HSA6XR-3",500,1000,0,384,1156,3828,-1,-1,-1,-1,-1,-1,-1,-1,-1,-1,-1,-1,-1,-1,-1,-1,-1,-1,-1,-1,-1]
[131,"RCP6-HSA6XR-6",500,1400,0,385,1160,3858,-1,-1,-1,-1,-1,-1,-1,-1,-1,-1,-1,-1,-1,-1,-1,-1,-1,-1,-1,-1,-1]
[132,"RCP6-HSA6XR-12",500,1500,0,386,1173,3883,-1,-1,-1,-1,-1,-1,-1,-1,-1,-1,-1,-1,-1,-1,-1,-1,-1,-1,-1,-1,-1]
[133,"RCP6-HSA6XR-20",500,1500,0,387,1186,3902,-1,-1,-1,-1,-1,-1,-1,-1,-1,-1,-1,-1,-1,-1,-1,-1,-1,-1,-1,-1,-1]
[134,"RCP6-HSA7R",50,800,0,388,1197,3912,389,1198,3953,390,1199,3987,391,1201,4024,-1,-1,-1,-1,-1,-1,-1,-1,-1,-1,-1,-1]
[135,"RCP6-HSA7R-W",200,800,0,392,1204,4044,393,1205,4089,394,1206,4124,-1,-1,-1,-1,-1,-1,-1,-1,-1,-1,-1,-1,-1,-1,-1]
[136,"RCP6-HSA7XC-4",700,1100,0,395,1207,4157,-1,-1,-1,-1,-1,-1,-1,-1,-1,-1,-1,-1,-1,-1,-1,-1,-1,-1,-1,-1,-1]
[137,"RCP6-HSA7XC-8",700,1500,0,396,1209,4198,-1,-1,-1,-1,-1,-1,-1,-1,-1,-1,-1,-1,-1,-1,-1,-1,-1,-1,-1,-1,-1]
[138,"RCP6-HSA7XC-16",700,1500,0,397,1214,4232,-1,-1,-1,-1,-1,-1,-1,-1,-1,-1,-1,-1,-1,-1,-1,-1,-1,-1,-1,-1,-1]
[139,"RCP6-HSA7XC-24",700,1500,0,398,1222,4269,-1,-1,-1,-1,-1,-1,-1,-1,-1,-1,-1,-1,-1,-1,-1,-1,-1,-1,-1,-1,-1]
[140,"RCP6-HSA7XR-4",700,1100,0,399,1230,4289,-1,-1,-1,-1,-1,-1,-1,-1,-1,-1,-1,-1,-1,-1,-1,-1,-1,-1,-1,-1,-1]
[141,"RCP6-HSA7XR-8",700,1500,0,400,1231,4330,-1,-1,-1,-1,-1,-1,-1,-1,-1,-1,-1,-1,-1,-1,-1,-1,-1,-1,-1,-1,-1]
[142,"RCP6-HSA7XR-16",700,1500,0,401,1235,4364,-1,-1,-1,-1,-1,-1,-1,-1,-1,-1,-1,-1,-1,-1,-1,-1,-1,-1,-1,-1,-1]
[143,"RCP6-HSA7XR-24",700,1500,0,402,1241,4401,-1,-1,-1,-1,-1,-1,-1,-1,-1,-1,-1,-1,-1,-1,-1,-1,-1,-1,-1,-1,-1,"↑ Ver.4.1 追加"]
[144,"RCP6CR-HSA6C",50,800,0,403,1248,4421,404,1255,4452,405,1262,4478,406,1269,4494,-1,-1,-1,-1,-1,-1,-1,-1,-1,-1,-1,-1,"↓ Ver.4.3 追加"]
[145,"RCP6CR-HSA6C-W",200,800,0,407,1273,4504,408,1280,4532,409,1287,4552,-1,-1,-1,-1,-1,-1,-1,-1,-1,-1,-1,-1,-1,-1,-1]
[146,"RCP6CR-HSA6XC-3",500,1000,0,410,1293,4563,-1,-1,-1,-1,-1,-1,-1,-1,-1,-1,-1,-1,-1,-1,-1,-1,-1,-1,-1,-1,-1]
[147,"RCP6CR-HSA6XC-6",500,1400,0,411,1297,4593,-1,-1,-1,-1,-1,-1,-1,-1,-1,-1,-1,-1,-1,-1,-1,-1,-1,-1,-1,-1,-1]
[148,"RCP6CR-HSA6XC-12",500,1500,0,412,1310,4618,-1,-1,-1,-1,-1,-1,-1,-1,-1,-1,-1,-1,-1,-1,-1,-1,-1,-1,-1,-1,-1]
[149,"RCP6CR-HSA6XC-20",500,1500,0,413,1323,4637,-1,-1,-1,-1,-1,-1,-1,-1,-1,-1,-1,-1,-1,-1,-1,-1,-1,-1,-1,-1,-1]
[150,"RCP6CR-HSA7C",50,800,0,414,1334,4647,415,1337,4693,416,1340,4734,417,1344,4777,-1,-1,-1,-1,-1,-1,-1,-1,-1,-1,-1,-1]
[151,"RCP6CR-HSA7C-W",50,800,0,418,1347,4799,419,1350,4842,420,1353,4883,-1,-1,-1,-1,-1,-1,-1,-1,-1,-1,-1,-1,-1,-1,-1]
[152,"RCP6CR-HSA7XC-4",700,1100,0,421,1355,4914,-1,-1,-1,-1,-1,-1,-1,-1,-1,-1,-1,-1,-1,-1,-1,-1,-1,-1,-1,-1,-1]
[153,"RCP6CR-HSA7XC-8",700,1500,0,422,1357,4955,-1,-1,-1,-1,-1,-1,-1,-1,-1,-1,-1,-1,-1,-1,-1,-1,-1,-1,-1,-1,-1]
[154,"RCP6CR-HSA7XC-16",700,1500,0,423,1362,4989,-1,-1,-1,-1,-1,-1,-1,-1,-1,-1,-1,-1,-1,-1,-1,-1,-1,-1,-1,-1,-1]
[155,"RCP6CR-HSA7XC-24",700,1500,0,424,1370,5026,-1,-1,-1,-1,-1,-1,-1,-1,-1,-1,-1,-1,-1,-1,-1,-1,-1,-1,-1,-1,-1,"↑ Ver.4.3 追加"]
["EOF"]

{"sheet":"LeadData","index":3,"n_rows":428,"n_cols":12,"rows_kept":428,"cut":false,"hidden":true,"merged":[[358,10,360,10],[319,10,322,10],[323,10,326,10],[327,10,330,10],[331,10,334,10],[335,10,338,10],[339,10,342,10],[343,10,345,10],[346,10,348,10],[349,10,351,10],[352,10,354,10],[355,10,357,10],[315,10,318,10],[271,10,274,10],[275,10,278,10],[279,10,282,10],[283,10,286,10],[287,10,290,10],[291,10,294,10],[295,10,298,10],[299,10,302,10],[303,10,306,10],[307,10,310,10],[311,10,314,10],[267,10,270,10],[223,10,226,10],[227,10,230,10],[231,10,234,10],[235,10,238,10],[239,10,242,10],[243,10,246,10],[247,10,250,10],[251,10,254,10],[255,10,258,10],[259,10,262,10],[263,10,266,10],[199,10,202,10],[203,10,206,10],[207,10,210,10],[211,10,214,10],[215,10,218,10],[219,10,222,10],[164,10,166,10],[3,10,6,10],[31,10,34,10],[35,10,38,10],[7,10,10,10],[11,10,14,10],[15,10,18,10],[19,10,22,10],[23,10,26,10],[27,10,30,10],[39,10,42,10],[43,10,46,10],[47,10,50,10],[51,10,54,10],[55,10,58,10],[59,10,62,10],[87,10,90,10],[91,10,94,10],[95,10,98,10],[63,10,66,10],[67,10,70,10],[71,10,74,10],[75,10,78,10],[79,10,82,10],[83,10,86,10],[103,10,105,10],[99,10,101,10],[123,10,125,10],[120,10,122,10],[117,10,119,10],[114,10,116,10],[110,10,113,10],[107,10,109,10],[161,10,163,10],[152,10,155,10],[156,10,159,10],[126,10,128,10],[129,10,132,10],[136,10,139,10],[140,10,143,10],[144,10,147,10],[148,10,151,10],[187,10,189,10],[190,10,192,10],[193,10,195,10],[196,10,198,10],[167,10,170,10],[171,10,174,10],[175,10,177,10],[178,10,180,10],[181,10,183,10],[184,10,186,10]]}
[9.8066499999999994,1,3,4,5,6,10,11,14,15]
["データ№","ﾘｰﾄﾞ長","水平定格加速度","垂直定格加速度","水平最大加速度","垂直最大加速度","ｷﾞｱ比分子","ｷﾞｱ比分母","ｽﾄﾛｰｸ刻み","位置決め幅\n初期値","備考"]
[{"$f":"ModelData!A3","v":0},"0.001㎜","0.001mm/s^2","0.001mm/s^2","0.001mm/s^2","0.001mm/s^2",null,null,"mm","mm"]
[{"$f":"A3+1","v":1},3000,{"$f":"0.3*$A$1*1000000","v":2941995},2941995,{"$f":"0.7*$A$1*1000000","v":6864654.9999999991},{"$f":"0.3*$A$1*1000000","v":2941995},1,1,50,0.1,"RCP4-SA5C"]
[{"$f":"A4+1","v":2},6000,2941995,2941995,6864654.9999999991,{"$f":"0.3*$A$1*1000000","v":2941995},1,1,50,0.1]
[{"$f":"A5+1","v":3},12000,2941995,2941995,6864654.9999999991,{"$f":"0.3*$A$1*1000000","v":2941995},1,1,50,0.1]
[4,20000,{"$f":"0.3*$A$1*1000000","v":2941995},{"$f":"0.2*$A$1*1000000","v":1961330},6864654.9999999991,{"$f":"0.2*$A$1*1000000","v":1961330},1,1,50,0.1]
[5,3000,{"$f":"0.3*$A$1*1000000","v":2941995},{"$f":"0.3*$A$1*1000000","v":2941995},6864654.9999999991,{"$f":"0.3*$A$1*1000000","v":2941995},1,1,50,0.1,"RCP4-SA6C"]
[6,6000,{"$f":"0.3*$A$1*1000000","v":2941995},{"$f":"0.3*$A$1*1000000","v":2941995},6864654.9999999991,{"$f":"0.3*$A$1*1000000","v":2941995},1,1,50,0.1]
[7,12000,{"$f":"0.3*$A$1*1000000","v":2941995},{"$f":"0.3*$A$1*1000000","v":2941995},6864654.9999999991,{"$f":"0.3*$A$1*1000000","v":2941995},1,1,50,0.1]
[8,20000,{"$f":"0.3*$A$1*1000000","v":2941995},{"$f":"0.2*$A$1*1000000","v":1961330},6864654.9999999991,{"$f":"0.2*$A$1*1000000","v":1961330},1,1,50,0.1]
[9,4000,{"$f":"0.2*$A$1*1000000","v":1961330},1961330,{"$f":"0.2*$A$1*1000000","v":1961330},1961330,1,1,50,0.1,"RCP4-SA7C"]
[10,8000,{"$f":"0.3*$A$1*1000000","v":2941995},1961330,{"$f":"0.3*$A$1*1000000","v":2941995},1961330,1,1,50,0.1]
[11,16000,{"$f":"0.3*$A$1*1000000","v":2941995},1961330,{"$f":"0.3*$A$1*1000000","v":2941995},1961330,1,1,50,0.1]
[12,24000,{"$f":"0.3*$A$1*1000000","v":2941995},1961330,{"$f":"0.3*$A$1*1000000","v":2941995},1961330,1,1,50,0.1]
[13,3000,{"$f":"0.2*$A$1*1000000","v":1961330},1961330,{"$f":"0.2*$A$1*1000000","v":1961330},1961330,1,1,50,0.1,"RCP4-RA5C"]
[14,6000,{"$f":"0.2*$A$1*1000000","v":1961330},1961330,{"$f":"0.2*$A$1*1000000","v":1961330},1961330,1,1,50,0.1]
[15,12000,{"$f":"0.2*$A$1*1000000","v":1961330},1961330,{"$f":"0.2*$A$1*1000000","v":1961330},1961330,1,1,50,0.1]
[16,20000,{"$f":"0.3*$A$1*1000000","v":2941995},1961330,{"$f":"0.3*$A$1*1000000","v":2941995},1961330,1,1,50,0.1]
[17,4000,{"$f":"0.2*$A$1*1000000","v":1961330},1961330,{"$f":"0.2*$A$1*1000000","v":1961330},1961330,1,1,50,0.1,"RCP4-RA6C"]
[18,8000,{"$f":"0.2*$A$1*1000000","v":1961330},1961330,{"$f":"0.2*$A$1*1000000","v":1961330},1961330,1,1,50,0.1]
[19,16000,{"$f":"0.2*$A$1*1000000","v":1961330},1961330,{"$f":"0.2*$A$1*1000000","v":1961330},1961330,1,1,50,0.1]
[20,24000,{"$f":"0.3*$A$1*1000000","v":2941995},1961330,{"$f":"0.3*$A$1*1000000","v":2941995},1961330,1,1,50,0.1]
[21,3000,{"$f":"0.2*$A$1*1000000","v":1961330},1961330,{"$f":"0.2*$A$1*1000000","v":1961330},1961330,1,1,50,0.1,"ERC3-SA5"]
[22,6000,{"$f":"0.3*$A$1*1000000","v":2941995},1961330,{"$f":"0.3*$A$1*1000000","v":2941995},1961330,1,1,50,0.1]
[23,12000,{"$f":"0.3*$A$1*1000000","v":2941995},1961330,{"$f":"0.3*$A$1*1000000","v":2941995},1961330,1,1,50,0.1]
[24,20000,{"$f":"0.3*$A$1*1000000","v":2941995},1961330,{"$f":"0.3*$A$1*1000000","v":2941995},1961330,1,1,50,0.1]
[25,4000,{"$f":"0.2*$A$1*1000000","v":1961330},1961330,{"$f":"0.2*$A$1*1000000","v":1961330},1961330,1,1,50,0.1,"ERC3-SA7"]
[26,8000,{"$f":"0.3*$A$1*1000000","v":2941995},1961330,{"$f":"0.3*$A$1*1000000","v":2941995},1961330,1,1,50,0.1]
[27,16000,2941995,1961330,{"$f":"0.3*$A$1*1000000","v":2941995},1961330,1,1,50,0.1]
[28,24000,2941995,1961330,{"$f":"0.3*$A$1*1000000","v":2941995},1961330,1,1,50,0.1]
[29,3000,{"$f":"0.2*$A$1*1000000","v":1961330},1961330,{"$f":"0.2*$A$1*1000000","v":1961330},1961330,1,1,50,0.1,"ERC3-RA4"]
[30,6000,2941995,1961330,{"$f":"0.3*$A$1*1000000","v":2941995},1961330,1,1,50,0.1]
[31,12000,2941995,1961330,{"$f":"0.3*$A$1*1000000","v":2941995},1961330,1,1,50,0.1]
[32,20000,2941995,1961330,{"$f":"0.3*$A$1*1000000","v":2941995},1961330,1,1,50,0.1]
[33,4000,{"$f":"0.2*$A$1*1000000","v":1961330},1961330,{"$f":"0.2*$A$1*1000000","v":1961330},1961330,1,1,50,0.1,"ERC3-RA6"]
[34,8000,{"$f":"0.3*$A$1*1000000","v":2941995},1961330,{"$f":"0.3*$A$1*1000000","v":2941995},1961330,1,1,50,0.1]
[35,16000,2941995,1961330,{"$f":"0.3*$A$1*1000000","v":2941995},1961330,1,1,50,0.1]
[36,24000,2941995,1961330,{"$f":"0.3*$A$1*1000000","v":2941995},1961330,1,1,50,0.1]
[{"$f":"A39+1","v":37},3000,2941995,2941995,{"$f":"0.7*$A$1*1000000","v":6864654.9999999991},{"$f":"0.3*$A$1*1000000","v":2941995},1,1,50,0.1,"RCP4-SA5R"]
[{"$f":"A40+1","v":38},6000,2941995,2941995,6864654.9999999991,{"$f":"0.3*$A$1*1000000","v":2941995},1,1,50,0.1]
[{"$f":"A41+1","v":39},12000,2941995,2941995,6864654.9999999991,{"$f":"0.3*$A$1*1000000","v":2941995},1,1,50,0.1]
[40,20000,2941995,{"$f":"0.2*$A$1*1000000","v":1961330},6864654.9999999991,{"$f":"0.2*$A$1*1000000","v":1961330},1,1,50,0.1]
[41,3000,2941995,2941995,6864654.9999999991,{"$f":"0.3*$A$1*1000000","v":2941995},1,1,50,0.1,"RCP4-SA6R"]
[42,6000,2941995,2941995,6864654.9999999991,{"$f":"0.3*$A$1*1000000","v":2941995},1,1,50,0.1]
[43,12000,2941995,2941995,6864654.9999999991,{"$f":"0.3*$A$1*1000000","v":2941995},1,1,50,0.1]
[44,20000,2941995,{"$f":"0.2*$A$1*1000000","v":1961330},6864654.9999999991,{"$f":"0.2*$A$1*1000000","v":1961330},1,1,50,0.1]
[45,4000,{"$f":"0.2*$A$1*1000000","v":1961330},{"$f":"0.2*$A$1*1000000","v":1961330},{"$f":"0.2*$A$1*1000000","v":1961330},1961330,1,1,50,0.1,"RCP4-SA7R"]
[46,8000,2941995,{"$f":"0.2*$A$1*1000000","v":1961330},{"$f":"0.3*$A$1*1000000","v":2941995},1961330,1,1,50,0.1]
[47,16000,2941995,{"$f":"0.2*$A$1*1000000","v":1961330},{"$f":"0.3*$A$1*1000000","v":2941995},1961330,1,1,50,0.1]
[48,24000,2941995,{"$f":"0.2*$A$1*1000000","v":1961330},{"$f":"0.3*$A$1*1000000","v":2941995},1961330,1,1,50,0.1]
[49,3000,{"$f":"0.2*$A$1*1000000","v":1961330},1961330,{"$f":"0.2*$A$1*1000000","v":1961330},1961330,1,1,50,0.1,"RCP4-RA5R"]
[50,6000,1961330,1961330,{"$f":"0.2*$A$1*1000000","v":1961330},1961330,1,1,50,0.1]
[51,12000,1961330,1961330,{"$f":"0.2*$A$1*1000000","v":1961330},1961330,1,1,50,0.1]
[52,20000,{"$f":"0.3*$A$1*1000000","v":2941995},{"$f":"0.2*$A$1*1000000","v":1961330},{"$f":"0.3*$A$1*1000000","v":2941995},1961330,1,1,50,0.1]
[53,4000,{"$f":"0.2*$A$1*1000000","v":1961330},1961330,{"$f":"0.2*$A$1*1000000","v":1961330},1961330,1,1,50,0.1,"RCP4-RA6R"]
[54,8000,1961330,1961330,{"$f":"0.2*$A$1*1000000","v":1961330},1961330,1,1,50,0.1]
[55,16000,1961330,1961330,{"$f":"0.2*$A$1*1000000","v":1961330},1961330,1,1,50,0.1]
[56,24000,2941995,{"$f":"0.2*$A$1*1000000","v":1961330},{"$f":"0.3*$A$1*1000000","v":2941995},1961330,1,1,50,0.1]
[57,3000,{"$f":"0.2*$A$1*1000000","v":1961330},1961330,{"$f":"0.2*$A$1*1000000","v":1961330},1961330,1,1,50,0.1,"ERC3D-SA5"]
[58,6000,2941995,1961330,{"$f":"0.3*$A$1*1000000","v":2941995},1961330,1,1,50,0.1]
[59,12000,2941995,1961330,{"$f":"0.3*$A$1*1000000","v":2941995},1961330,1,1,50,0.1]
[60,20000,2941995,1961330,{"$f":"0.3*$A$1*1000000","v":2941995},1961330,1,1,50,0.1]
[61,4000,{"$f":"0.2*$A$1*1000000","v":1961330},1961330,{"$f":"0.2*$A$1*1000000","v":1961330},1961330,1,1,50,0.1,"ERC3D-SA7"]
[62,8000,2941995,{"$f":"0.2*$A$1*1000000","v":1961330},{"$f":"0.3*$A$1*1000000","v":2941995},1961330,1,1,50,0.1]
[63,16000,2941995,1961330,{"$f":"0.3*$A$1*1000000","v":2941995},1961330,1,1,50,0.1]
[64,24000,2941995,1961330,{"$f":"0.3*$A$1*1000000","v":2941995},1961330,1,1,50,0.1]
[65,3000,{"$f":"0.2*$A$1*1000000","v":1961330},{"$f":"0.2*$A$1*1000000","v":1961330},{"$f":"0.2*$A$1*1000000","v":1961330},1961330,1,1,50,0.1,"ERC3CR-SA5"]
[66,6000,{"$f":"0.3*$A$1*1000000","v":2941995},1961330,{"$f":"0.3*$A$1*1000000","v":2941995},1961330,1,1,50,0.1]
[67,12000,2941995,1961330,{"$f":"0.3*$A$1*1000000","v":2941995},1961330,1,1,50,0.1]
[68,20000,2941995,1961330,{"$f":"0.3*$A$1*1000000","v":2941995},1961330,1,1,50,0.1]
[69,4000,{"$f":"0.2*$A$1*1000000","v":1961330},{"$f":"0.2*$A$1*1000000","v":1961330},{"$f":"0.2*$A$1*1000000","v":1961330},1961330,1,1,50,0.1,"ERC3CR-SA7"]
[70,8000,2941995,1961330,{"$f":"0.3*$A$1*1000000","v":2941995},1961330,1,1,50,0.1]
[71,16000,2941995,1961330,{"$f":"0.3*$A$1*1000000","v":2941995},1961330,1,1,50,0.1]
[72,24000,2941995,{"$f":"0.2*$A$1*1000000","v":1961330},{"$f":"0.3*$A$1*1000000","v":2941995},1961330,1,1,50,0.1]
[73,2500,2941995,2941995,{"$f":"0.7*$A$1*1000000","v":6864654.9999999991},{"$f":"0.3*$A$1*1000000","v":2941995},1,1,50,0.1,"RCP5-SA4C"]
[74,5000,2941995,2941995,6864654.9999999991,2941995,1,1,50,0.1]
[75,10000,2941995,2941995,6864654.9999999991,2941995,1,1,50,0.1]
[76,16000,2941995,2941995,6864654.9999999991,2941995,1,1,50,0.1]
[77,3000,2941995,2941995,6864654.9999999991,2941995,1,1,50,0.1,"RCP5-SA6C"]
[78,6000,2941995,2941995,6864654.9999999991,2941995,1,1,50,0.1]
[79,12000,2941995,2941995,6864654.9999999991,2941995,1,1,50,0.1]
[80,20000,2941995,{"$f":"0.2*$A$1*1000000","v":1961330},6864654.9999999991,{"$f":"0.2*$A$1*1000000","v":1961330},1,1,50,0.1]
[81,4000,{"$f":"0.2*$A$1*1000000","v":1961330},{"$f":"0.2*$A$1*1000000","v":1961330},{"$f":"0.2*$A$1*1000000","v":1961330},{"$f":"0.2*$A$1*1000000","v":1961330},1,1,50,0.1,"RCP5-SA7C"]
[82,8000,{"$f":"0.3*$A$1*1000000","v":2941995},{"$f":"0.2*$A$1*1000000","v":1961330},{"$f":"0.3*$A$1*1000000","v":2941995},{"$f":"0.2*$A$1*1000000","v":1961330},1,1,50,0.1]
[83,16000,2941995,{"$f":"0.2*$A$1*1000000","v":1961330},{"$f":"0.3*$A$1*1000000","v":2941995},{"$f":"0.2*$A$1*1000000","v":1961330},1,1,50,0.1]
[84,24000,2941995,{"$f":"0.2*$A$1*1000000","v":1961330},{"$f":"0.3*$A$1*1000000","v":2941995},{"$f":"0.2*$A$1*1000000","v":1961330},1,1,50,0.1]
[85,2500,2941995,{"$f":"0.3*$A$1*1000000","v":2941995},{"$f":"1*$A$1*1000000","v":9806650},{"$f":"0.5*$A$1*1000000","v":4903325},1,1,50,0.1,"RCP5-RA4C"]
[86,5000,2941995,{"$f":"0.3*$A$1*1000000","v":2941995},{"$f":"1*$A$1*1000000","v":9806650},{"$f":"0.5*$A$1*1000000","v":4903325},1,1,50,0.1]
[87,10000,2941995,{"$f":"0.3*$A$1*1000000","v":2941995},{"$f":"1*$A$1*1000000","v":9806650},{"$f":"0.5*$A$1*1000000","v":4903325},1,1,50,0.1]
[88,16000,2941995,{"$f":"0.3*$A$1*1000000","v":2941995},{"$f":"1*$A$1*1000000","v":9806650},{"$f":"0.5*$A$1*1000000","v":4903325},1,1,50,0.1]
[89,3000,{"$f":"0.2*$A$1*1000000","v":1961330},1961330,{"$f":"0.2*$A$1*1000000","v":1961330},1961330,1,1,50,0.1,"RCP5-RA6C"]
[90,6000,1961330,1961330,1961330,1961330,1,1,50,0.1]
[91,12000,1961330,1961330,1961330,1961330,1,1,50,0.1]
[92,20000,{"$f":"0.3*$A$1*1000000","v":2941995},{"$f":"0.2*$A$1*1000000","v":1961330},{"$f":"0.3*$A$1*1000000","v":2941995},{"$f":"0.2*$A$1*1000000","v":1961330},1,1,50,0.1]
[93,4000,{"$f":"0.2*$A$1*1000000","v":1961330},1961330,{"$f":"0.2*$A$1*1000000","v":1961330},{"$f":"0.2*$A$1*1000000","v":1961330},1,1,50,0.1,"RCP5-RA7C"]
[94,8000,1961330,1961330,{"$f":"0.2*$A$1*1000000","v":1961330},{"$f":"0.2*$A$1*1000000","v":1961330},1,1,50,0.1]
[95,16000,1961330,1961330,{"$f":"0.2*$A$1*1000000","v":1961330},{"$f":"0.2*$A$1*1000000","v":1961330},1,1,50,0.1]
[{"$f":"A98+1","v":96},24000,{"$f":"0.3*$A$1*1000000","v":2941995},{"$f":"0.2*$A$1*1000000","v":1961330},{"$f":"0.3*$A$1*1000000","v":2941995},{"$f":"0.2*$A$1*1000000","v":1961330},1,1,50,0.1]
[97,3000,{"$f":"0.3*$A$1*1000000","v":2941995},2941995,2941995,2941995,1,1,50,0.1,"RCP4W-RA6C"]
[98,6000,2941995,2941995,2941995,2941995,1,1,50,0.1]
[99,12000,2941995,2941995,2941995,2941995,1,1,50,0.1]
[100,3000,-1,{"$f":"0.3*$A$1*1000000","v":2941995},-1,{"$f":"0.3*$A$1*1000000","v":2941995},1,1,50,0.1,"RCP4W-RA6C(高推力)"]
[101,4000,{"$f":"0.3*$A$1*1000000","v":2941995},{"$f":"0.3*$A$1*1000000","v":2941995},{"$f":"0.3*$A$1*1000000","v":2941995},{"$f":"0.3*$A$1*1000000","v":2941995},1,1,50,0.1,"RCP4W-RA7C"]
[102,8000,{"$f":"0.3*$A$1*1000000","v":2941995},{"$f":"0.3*$A$1*1000000","v":2941995},{"$f":"0.3*$A$1*1000000","v":2941995},{"$f":"0.3*$A$1*1000000","v":2941995},1,1,50,0.1]
[103,16000,{"$f":"0.3*$A$1*1000000","v":2941995},{"$f":"0.3*$A$1*1000000","v":2941995},{"$f":"0.3*$A$1*1000000","v":2941995},{"$f":"0.3*$A$1*1000000","v":2941995},1,1,50,0.1]
[104,4000,-1,{"$f":"0.3*$A$1*1000000","v":2941995},-1,{"$f":"0.5*$A$1*1000000","v":4903325},1,1,50,0.1,"RCP4W-RA7C(高推力)"]
[105,2000,{"$f":"0.1*$A$1*1000000","v":980665},980665,{"$f":"1*$A$1*1000000","v":9806650},{"$f":"0.5*$A$1*1000000","v":4903325},1,1,25,0.1,"RCP4-SA3C"]
[106,4000,980665,980665,9806650,4903325,1,1,25,0.1]
[107,6000,980665,980665,9806650,4903325,1,1,25,0.1]
[108,2500,980665,980665,9806650,4903325,1,1,25,0.1,"RCP4-RA3C"]
[109,5000,980665,980665,9806650,4903325,1,1,25,0.1]
[110,10000,980665,980665,9806650,4903325,1,1,25,0.1]
[111,16000,980665,980665,9806650,4903325,1,1,25,0.1]
[112,5000,{"$f":"0.1*$A$1*1000000","v":980665},{"$f":"0.1*$A$1*1000000","v":980665},{"$f":"0.1*$A$1*1000000","v":980665},{"$f":"0.1*$A$1*1000000","v":980665},1,1,50,0.1,"RCP5-RA8C"]
[113,10000,{"$f":"0.2*$A$1*1000000","v":1961330},1961330,1961330,1961330,1,1,50,0.1]
[114,20000,1961330,1961330,1961330,1961330,1,1,50,0.1]
[115,2500,{"$f":"ROUND(0.01*$A$1*1000000,0)","v":98067},{"$f":"ROUND(0.01*$A$1*1000000,0)","v":98067},{"$f":"ROUND(0.01*$A$1*1000000,0)","v":98067},{"$f":"ROUND(0.01*$A$1*1000000,0)","v":98067},1,1,50,0.1,"RCP5-RA10C"]
[116,5000,{"$f":"0.02*$A$1*1000000","v":196133},{"$f":"0.02*$A$1*1000000","v":196133},{"$f":"0.02*$A$1*1000000","v":196133},{"$f":"0.02*$A$1*1000000","v":196133},1,1,50,0.1]
[117,10000,{"$f":"0.04*$A$1*1000000","v":392266},{"$f":"0.04*$A$1*1000000","v":392266},{"$f":"0.04*$A$1*1000000","v":392266},{"$f":"0.04*$A$1*1000000","v":392266},1,1,50,0.1]
[118,5000,{"$f":"0.1*$A$1*1000000","v":980665},{"$f":"0.1*$A$1*1000000","v":980665},{"$f":"0.1*$A$1*1000000","v":980665},{"$f":"0.1*$A$1*1000000","v":980665},1,1,50,0.1,"RCP5-RA8R"]
[119,10000,{"$f":"0.2*$A$1*1000000","v":1961330},1961330,1961330,1961330,1,1,50,0.1]
[120,20000,1961330,1961330,1961330,1961330,1,1,50,0.1]
[121,2500,{"$f":"ROUND(0.01*$A$1*1000000,0)","v":98067},{"$f":"ROUND(0.01*$A$1*1000000,0)","v":98067},{"$f":"ROUND(0.01*$A$1*1000000,0)","v":98067},{"$f":"ROUND(0.01*$A$1*1000000,0)","v":98067},1,1,50,0.1,"RCP5-RA10R"]
[122,5000,{"$f":"0.02*$A$1*1000000","v":196133},{"$f":"0.02*$A$1*1000000","v":196133},{"$f":"0.02*$A$1*1000000","v":196133},{"$f":"0.02*$A$1*1000000","v":196133},1,1,50,0.1]
[{"$f":"A125+1","v":123},10000,{"$f":"0.04*$A$1*1000000","v":392266},{"$f":"0.04*$A$1*1000000","v":392266},{"$f":"0.04*$A$1*1000000","v":392266},{"$f":"0.04*$A$1*1000000","v":392266},1,1,50,0.1]
[{"$f":"A126+1","v":124},2000,{"$f":"0.1*$A$1*1000000","v":980665},980665,{"$f":"1*$A$1*1000000","v":9806650},{"$f":"0.5*$A$1*1000000","v":4903325},1,1,25,0.1,"RCP4-SA3R"]
[125,4000,980665,980665,9806650,4903325,1,1,25,0.1]
[126,6000,980665,980665,9806650,4903325,1,1,25,0.1]
[127,2500,980665,980665,9806650,4903325,1,1,25,0.1,"RCP4-RA3R"]
[128,5000,980665,980665,9806650,4903325,1,1,25,0.1]
[129,10000,980665,980665,9806650,4903325,1,1,25,0.1]
[{"$f":"A132+1","v":130},16000,{"$f":"0.1*$A$1*1000000","v":980665},980665,{"$f":"1*$A$1*1000000","v":9806650},4903325,1,1,25,0.1]
[{"$f":"A133+1","v":131},48000,{"$f":"0.5*$A$1*1000000","v":4903325},-1,{"$f":"0.5*$A$1*1000000","v":4903325},-1,1,1,100,0.1,"RCP5-BA4"]
[{"$f":"A134+1","v":132},48000,{"$f":"0.5*$A$1*1000000","v":4903325},-1,{"$f":"0.5*$A$1*1000000","v":4903325},-1,1,1,100,0.1,"RCP5-BA6"]
[{"$f":"A135+1","v":133},48000,{"$f":"0.5*$A$1*1000000","v":4903325},-1,{"$f":"0.5*$A$1*1000000","v":4903325},-1,1,1,100,0.1,"RCP5-BA7"]
[{"$f":"A136+1","v":134},2500,{"$f":"0.3*$A$1*1000000","v":2941995},2941995,{"$f":"0.7*$A$1*1000000","v":6864654.9999999991},{"$f":"0.3*$A$1*1000000","v":2941995},1,1,50,0.1,"RCP5-SA4R"]
[135,5000,2941995,2941995,6864654.9999999991,2941995,1,1,50,0.1]
[136,10000,2941995,2941995,6864654.9999999991,2941995,1,1,50,0.1]
[137,16000,2941995,2941995,6864654.9999999991,2941995,1,1,50,0.1]
[138,3000,2941995,2941995,6864654.9999999991,2941995,1,1,50,0.1,"RCP5-SA6R"]
[139,6000,2941995,2941995,6864654.9999999991,2941995,1,1,50,0.1]
[140,12000,2941995,2941995,6864654.9999999991,2941995,1,1,50,0.1]
[141,20000,{"$f":"0.3*$A$1*1000000","v":2941995},{"$f":"0.2*$A$1*1000000","v":1961330},6864654.9999999991,{"$f":"0.2*$A$1*1000000","v":1961330},1,1,50,0.1]
[142,4000,{"$f":"0.2*$A$1*1000000","v":1961330},{"$f":"0.2*$A$1*1000000","v":1961330},{"$f":"0.2*$A$1*1000000","v":1961330},{"$f":"0.2*$A$1*1000000","v":1961330},1,1,50,0.1,"RCP5-SA7R"]
[143,8000,{"$f":"0.3*$A$1*1000000","v":2941995},{"$f":"0.2*$A$1*1000000","v":1961330},{"$f":"0.3*$A$1*1000000","v":2941995},{"$f":"0.2*$A$1*1000000","v":1961330},1,1,50,0.1]
[144,16000,{"$f":"0.3*$A$1*1000000","v":2941995},{"$f":"0.2*$A$1*1000000","v":1961330},{"$f":"0.3*$A$1*1000000","v":2941995},{"$f":"0.2*$A$1*1000000","v":1961330},1,1,50,0.1]
[145,24000,{"$f":"0.3*$A$1*1000000","v":2941995},{"$f":"0.2*$A$1*1000000","v":1961330},{"$f":"0.3*$A$1*1000000","v":2941995},{"$f":"0.2*$A$1*1000000","v":1961330},1,1,50,0.1]
[146,2500,{"$f":"0.3*$A$1*1000000","v":2941995},2941995,{"$f":"0.7*$A$1*1000000","v":6864654.9999999991},{"$f":"0.3*$A$1*1000000","v":2941995},1,1,50,0.1,"RCP5-RA4R"]
[147,5000,2941995,2941995,{"$f":"0.7*$A$1*1000000","v":6864654.9999999991},{"$f":"0.3*$A$1*1000000","v":2941995},1,1,50,0.1]
[148,10000,2941995,2941995,{"$f":"0.7*$A$1*1000000","v":6864654.9999999991},{"$f":"0.3*$A$1*1000000","v":2941995},1,1,50,0.1]
[149,16000,2941995,2941995,{"$f":"0.7*$A$1*1000000","v":6864654.9999999991},{"$f":"0.3*$A$1*1000000","v":2941995},1,1,50,0.1]
[150,3000,{"$f":"0.2*$A$1*1000000","v":1961330},1961330,1961330,1961330,1,1,50,0.1,"RCP5-RA6R"]
[151,6000,1961330,1961330,1961330,1961330,1,1,50,0.1]
[152,12000,1961330,1961330,1961330,1961330,1,1,50,0.1]
[153,20000,1961330,1961330,{"$f":"0.3*$A$1*1000000","v":2941995},1961330,1,1,50,0.1]
[154,4000,{"$f":"0.2*$A$1*1000000","v":1961330},1961330,1961330,1961330,1,1,50,0.1,"RCP5-RA7R"]
[155,8000,1961330,1961330,1961330,1961330,1,1,50,0.1]
[156,16000,1961330,1961330,1961330,1961330,1,1,50,0.1]
[157,24000,1961330,1961330,{"$f":"0.3*$A$1*1000000","v":2941995},1961330,1,1,50,0.1]
[158,4000,-1,{"$f":"0.2*$A$1*1000000","v":1961330},-1,{"$f":"0.5*$A$1*1000000","v":4903325},1,1,50,0.1,"RCP4-RA6C(高推力)"]
[159,5000,{"$f":"0.1*$A$1*1000000","v":980665},{"$f":"0.1*$A$1*1000000","v":980665},{"$f":"0.1*$A$1*1000000","v":980665},{"$f":"0.1*$A$1*1000000","v":980665},1,1,50,0.1,"RCP5W-RA8C"]
[160,10000,{"$f":"0.2*$A$1*1000000","v":1961330},1961330,1961330,1961330,1,1,50,0.1]
[161,20000,1961330,1961330,1961330,1961330,1,1,50,0.1]
[162,2500,{"$f":"ROUND(0.01*$A$1*1000000,0)","v":98067},{"$f":"ROUND(0.01*$A$1*1000000,0)","v":98067},{"$f":"ROUND(0.01*$A$1*1000000,0)","v":98067},{"$f":"ROUND(0.01*$A$1*1000000,0)","v":98067},1,1,50,0.1,"RCP5W-RA10C"]
[163,5000,{"$f":"0.02*$A$1*1000000","v":196133},{"$f":"0.02*$A$1*1000000","v":196133},{"$f":"0.02*$A$1*1000000","v":196133},{"$f":"0.02*$A$1*1000000","v":196133},1,1,50,0.1]
[164,10000,{"$f":"0.04*$A$1*1000000","v":392266},{"$f":"0.04*$A$1*1000000","v":392266},{"$f":"0.04*$A$1*1000000","v":392266},{"$f":"0.04*$A$1*1000000","v":392266},1,1,50,0.1]
[{"$f":"A167+1","v":165},5000,{"$f":"0.3*$A$1*1000000","v":2941995},2941995,{"$f":"1*$A$1*1000000","v":9806650},{"$f":"0.5*$A$1*1000000","v":4903325},1,1,50,0.1,"RCP6-SA8C"]
[166,10000,2941995,2941995,9806650,4903325,1,1,50,0.1]
[167,20000,2941995,2941995,9806650,4903325,1,1,50,0.1]
[168,30000,2941995,2941995,9806650,4903325,1,1,50,0.1]
[169,5000,2941995,2941995,9806650,4903325,1,1,50,0.1,"RCP6-SA8R"]
[170,10000,2941995,2941995,9806650,4903325,1,1,50,0.1]
[171,20000,2941995,2941995,9806650,4903325,1,1,50,0.1]
[172,30000,{"$f":"0.3*$A$1*1000000","v":2941995},2941995,{"$f":"1*$A$1*1000000","v":9806650},{"$f":"0.5*$A$1*1000000","v":4903325},1,1,50,0.1]
[173,5000,2941995,2941995,9806650,4903325,1,1,50,0.1,"RCP6-WSA16C"]
[174,10000,2941995,2941995,9806650,4903325,1,1,50,0.1]
[175,20000,2941995,-1,9806650,-1,1,1,50,0.1]
[176,5000,2941995,2941995,9806650,4903325,1,1,50,0.1,"RCP6-WSA16R"]
[177,10000,2941995,2941995,9806650,4903325,1,1,50,0.1]
[178,20000,2941995,-1,9806650,-1,1,1,50,0.1]
[179,5000,{"$f":"0.1*$A$1*1000000","v":980665},{"$f":"0.1*$A$1*1000000","v":980665},{"$f":"0.1*$A$1*1000000","v":980665},{"$f":"0.1*$A$1*1000000","v":980665},1,1,50,0.1,"RCP6-RA8C"]
[180,10000,{"$f":"0.2*$A$1*1000000","v":1961330},1961330,1961330,1961330,1,1,50,0.1]
[181,20000,1961330,1961330,1961330,1961330,1,1,50,0.1]
[182,5000,{"$f":"0.1*$A$1*1000000","v":980665},{"$f":"0.1*$A$1*1000000","v":980665},{"$f":"0.1*$A$1*1000000","v":980665},{"$f":"0.1*$A$1*1000000","v":980665},1,1,50,0.1,"RCP6-RA8R"]
[183,10000,{"$f":"0.2*$A$1*1000000","v":1961330},1961330,1961330,1961330,1,1,50,0.1]
[184,20000,1961330,1961330,1961330,1961330,1,1,50,0.1]
[185,5000,{"$f":"0.1*$A$1*1000000","v":980665},{"$f":"0.1*$A$1*1000000","v":980665},{"$f":"0.1*$A$1*1000000","v":980665},{"$f":"0.1*$A$1*1000000","v":980665},1,1,50,0.1,"RCP6-RRA8C"]
[186,10000,{"$f":"0.2*$A$1*1000000","v":1961330},1961330,1961330,1961330,1,1,50,0.1]
[187,20000,1961330,1961330,1961330,1961330,1,1,50,0.1]
[188,5000,{"$f":"0.1*$A$1*1000000","v":980665},{"$f":"0.1*$A$1*1000000","v":980665},{"$f":"0.1*$A$1*1000000","v":980665},{"$f":"0.1*$A$1*1000000","v":980665},1,1,50,0.1,"RCP6-RRA8R"]
[189,10000,{"$f":"0.2*$A$1*1000000","v":1961330},1961330,1961330,1961330,1,1,50,0.1]
[190,20000,1961330,1961330,1961330,1961330,1,1,50,0.1]
[191,5000,{"$f":"0.1*$A$1*1000000","v":980665},{"$f":"0.1*$A$1*1000000","v":980665},{"$f":"0.1*$A$1*1000000","v":980665},{"$f":"0.1*$A$1*1000000","v":980665},1,1,50,0.1,"RCP6-WRA16C"]
[192,10000,{"$f":"0.2*$A$1*1000000","v":1961330},1961330,1961330,1961330,1,1,50,0.1]
[193,20000,1961330,-1,1961330,-1,1,1,50,0.1]
[194,5000,{"$f":"0.1*$A$1*1000000","v":980665},{"$f":"0.1*$A$1*1000000","v":980665},{"$f":"0.1*$A$1*1000000","v":980665},{"$f":"0.1*$A$1*1000000","v":980665},1,1,50,0.1,"RCP6-WRA16R"]
[195,10000,{"$f":"0.2*$A$1*1000000","v":1961330},1961330,1961330,1961330,1,1,50,0.1]
[196,20000,1961330,-1,1961330,-1,1,1,50,0.1]
[{"$f":"A199+1","v":197},2500,{"$f":"0.3*$A$1*1000000","v":2941995},2941995,{"$f":"0.7*$A$1*1000000","v":6864654.9999999991},{"$f":"0.3*$A$1*1000000","v":2941995},1,1,50,0.1,"RCP6-SA4C"]
[198,5000,2941995,2941995,6864654.9999999991,2941995,1,1,50,0.1]
[199,10000,2941995,2941995,6864654.9999999991,2941995,1,1,50,0.1]
[200,16000,2941995,2941995,6864654.9999999991,2941995,1,1,50,0.1]
[201,3000,{"$f":"0.3*$A$1*1000000","v":2941995},2941995,6864654.9999999991,2941995,1,1,50,0.1,"RCP6-SA6C"]
[202,6000,2941995,2941995,6864654.9999999991,2941995,1,1,50,0.1]
[203,12000,2941995,2941995,6864654.9999999991,2941995,1,1,50,0.1]
[204,20000,2941995,2941995,6864654.9999999991,2941995,1,1,50,0.1]
[205,4000,{"$f":"0.3*$A$1*1000000","v":2941995},2941995,6864654.9999999991,2941995,1,1,50,0.1,"RCP6-SA7C"]
[206,8000,2941995,2941995,6864654.9999999991,2941995,1,1,50,0.1]
[207,16000,2941995,2941995,6864654.9999999991,2941995,1,1,50,0.1]
[208,24000,2941995,2941995,6864654.9999999991,2941995,1,1,50,0.1]
[209,2500,{"$f":"0.3*$A$1*1000000","v":2941995},2941995,6864654.9999999991,2941995,1,1,50,0.1,"RCP6-SA4R"]
[210,5000,2941995,2941995,6864654.9999999991,2941995,1,1,50,0.1]
[211,10000,2941995,2941995,6864654.9999999991,2941995,1,1,50,0.1]
[212,16000,2941995,2941995,6864654.9999999991,2941995,1,1,50,0.1]
[213,3000,{"$f":"0.3*$A$1*1000000","v":2941995},2941995,6864654.9999999991,2941995,1,1,50,0.1,"RCP6-SA6R"]
[214,6000,2941995,2941995,6864654.9999999991,2941995,1,1,50,0.1]
[215,12000,2941995,2941995,6864654.9999999991,2941995,1,1,50,0.1]
[216,20000,2941995,2941995,6864654.9999999991,2941995,1,1,50,0.1]
[217,4000,{"$f":"0.3*$A$1*1000000","v":2941995},2941995,6864654.9999999991,2941995,1,1,50,0.1,"RCP6-SA7R"]
[218,8000,2941995,2941995,6864654.9999999991,2941995,1,1,50,0.1]
[219,16000,2941995,2941995,6864654.9999999991,2941995,1,1,50,0.1]
[220,24000,2941995,2941995,{"$f":"0.7*$A$1*1000000","v":6864654.9999999991},{"$f":"0.3*$A$1*1000000","v":2941995},1,1,50,0.1]
[221,2500,{"$f":"0.3*$A$1*1000000","v":2941995},{"$f":"0.3*$A$1*1000000","v":2941995},6864654.9999999991,{"$f":"0.3*$A$1*1000000","v":2941995},1,1,50,0.1,"RCP6-WSA10C"]
[222,5000,{"$f":"0.3*$A$1*1000000","v":2941995},{"$f":"0.3*$A$1*1000000","v":2941995},6864654.9999999991,{"$f":"0.3*$A$1*1000000","v":2941995},1,1,50,0.1]
[223,10000,{"$f":"0.3*$A$1*1000000","v":2941995},-1,6864654.9999999991,-1,1,1,50,0.1]
[224,16000,2941995,-1,6864654.9999999991,-1,1,1,50,0.1]
[225,3000,2941995,{"$f":"0.3*$A$1*1000000","v":2941995},6864654.9999999991,{"$f":"0.3*$A$1*1000000","v":2941995},1,1,50,0.1,"RCP6-WSA12C"]
[226,6000,2941995,{"$f":"0.3*$A$1*1000000","v":2941995},6864654.9999999991,{"$f":"0.3*$A$1*1000000","v":2941995},1,1,50,0.1]
[227,12000,2941995,-1,6864654.9999999991,-1,1,1,50,0.1]
[228,20000,2941995,-1,6864654.9999999991,-1,1,1,50,0.1]
[{"$f":"A231+1","v":229},4000,2941995,{"$f":"0.3*$A$1*1000000","v":2941995},6864654.9999999991,{"$f":"0.3*$A$1*1000000","v":2941995},1,1,50,0.1,"RCP6-WSA14C"]
[230,8000,2941995,{"$f":"0.3*$A$1*1000000","v":2941995},6864654.9999999991,{"$f":"0.3*$A$1*1000000","v":2941995},1,1,50,0.1]
[231,16000,2941995,-1,6864654.9999999991,-1,1,1,50,0.1]
[232,24000,2941995,-1,6864654.9999999991,-1,1,1,50,0.1]
[233,2500,2941995,{"$f":"0.3*$A$1*1000000","v":2941995},6864654.9999999991,{"$f":"0.3*$A$1*1000000","v":2941995},1,1,50,0.1,"RCP6-WSA10R"]
[234,5000,2941995,{"$f":"0.3*$A$1*1000000","v":2941995},6864654.9999999991,{"$f":"0.3*$A$1*1000000","v":2941995},1,1,50,0.1]
[235,10000,2941995,-1,6864654.9999999991,-1,1,1,50,0.1]
[236,16000,2941995,-1,6864654.9999999991,-1,1,1,50,0.1]
[237,3000,2941995,{"$f":"0.3*$A$1*1000000","v":2941995},6864654.9999999991,{"$f":"0.3*$A$1*1000000","v":2941995},1,1,50,0.1,"RCP6-WSA12R"]
[238,6000,2941995,{"$f":"0.3*$A$1*1000000","v":2941995},6864654.9999999991,{"$f":"0.3*$A$1*1000000","v":2941995},1,1,50,0.1]
[239,12000,2941995,-1,6864654.9999999991,-1,1,1,50,0.1]
[240,20000,2941995,-1,6864654.9999999991,-1,1,1,50,0.1]
[241,4000,2941995,{"$f":"0.3*$A$1*1000000","v":2941995},6864654.9999999991,{"$f":"0.3*$A$1*1000000","v":2941995},1,1,50,0.1,"RCP6-WSA14R"]
[242,8000,2941995,{"$f":"0.3*$A$1*1000000","v":2941995},6864654.9999999991,{"$f":"0.3*$A$1*1000000","v":2941995},1,1,50,0.1]
[243,16000,2941995,-1,6864654.9999999991,-1,1,1,50,0.1]
[244,24000,2941995,-1,6864654.9999999991,-1,1,1,50,0.1]
[245,2500,{"$f":"0.3*$A$1*1000000","v":2941995},2941995,6864654.9999999991,{"$f":"0.3*$A$1*1000000","v":2941995},1,1,50,0.1,"RCP6-RA4C"]
[246,5000,2941995,2941995,6864654.9999999991,2941995,1,1,50,0.1]
[247,10000,2941995,2941995,6864654.9999999991,2941995,1,1,50,0.1]
[248,16000,2941995,2941995,6864654.9999999991,2941995,1,1,50,0.1]
[249,3000,{"$f":"0.3*$A$1*1000000","v":2941995},2941995,6864654.9999999991,2941995,1,1,50,0.1,"RCP6-RA6C"]
[250,6000,2941995,2941995,6864654.9999999991,2941995,1,1,50,0.1]
[251,12000,2941995,2941995,6864654.9999999991,2941995,1,1,50,0.1]
[252,20000,2941995,2941995,{"$f":"0.7*$A$1*1000000","v":6864654.9999999991},{"$f":"0.3*$A$1*1000000","v":2941995},1,1,50,0.1]
[253,4000,{"$f":"0.3*$A$1*1000000","v":2941995},2941995,6864654.9999999991,2941995,1,1,50,0.1,"RCP6-RA7C"]
[254,8000,2941995,2941995,6864654.9999999991,2941995,1,1,50,0.1]
[255,16000,2941995,2941995,6864654.9999999991,2941995,1,1,50,0.1]
[256,24000,2941995,2941995,6864654.9999999991,2941995,1,1,50,0.1]
[257,2500,{"$f":"0.3*$A$1*1000000","v":2941995},2941995,6864654.9999999991,2941995,1,1,50,0.1,"RCP6-RA4R"]
[258,5000,2941995,2941995,6864654.9999999991,2941995,1,1,50,0.1]
[259,10000,2941995,2941995,6864654.9999999991,2941995,1,1,50,0.1]
[260,16000,2941995,2941995,6864654.9999999991,2941995,1,1,50,0.1]
[{"$f":"A263+1","v":261},3000,{"$f":"0.3*$A$1*1000000","v":2941995},2941995,6864654.9999999991,2941995,1,1,50,0.1,"RCP6-RA6R"]
[262,6000,2941995,2941995,6864654.9999999991,2941995,1,1,50,0.1]
[263,12000,2941995,2941995,6864654.9999999991,2941995,1,1,50,0.1]
[264,20000,2941995,2941995,6864654.9999999991,2941995,1,1,50,0.1]
[265,4000,{"$f":"0.3*$A$1*1000000","v":2941995},2941995,6864654.9999999991,2941995,1,1,50,0.1,"RCP6-RA7R"]
[266,8000,2941995,2941995,6864654.9999999991,2941995,1,1,50,0.1]
[267,16000,2941995,2941995,6864654.9999999991,2941995,1,1,50,0.1]
[268,24000,{"$f":"0.3*$A$1*1000000","v":2941995},2941995,{"$f":"0.7*$A$1*1000000","v":6864654.9999999991},{"$f":"0.3*$A$1*1000000","v":2941995},1,1,50,0.1]
[269,2500,2941995,2941995,6864654.9999999991,2941995,1,1,50,0.1,"RCP6-RRA4C"]
[270,5000,2941995,2941995,6864654.9999999991,2941995,1,1,50,0.1]
[271,10000,2941995,2941995,6864654.9999999991,2941995,1,1,50,0.1]
[272,16000,{"$f":"0.3*$A$1*1000000","v":2941995},2941995,6864654.9999999991,2941995,1,1,50,0.1]
[273,3000,2941995,2941995,6864654.9999999991,2941995,1,1,50,0.1,"RCP6-RRA6C"]
[274,6000,2941995,2941995,6864654.9999999991,2941995,1,1,50,0.1]
[275,12000,2941995,2941995,6864654.9999999991,2941995,1,1,50,0.1]
[276,20000,{"$f":"0.3*$A$1*1000000","v":2941995},2941995,{"$f":"0.7*$A$1*1000000","v":6864654.9999999991},{"$f":"0.3*$A$1*1000000","v":2941995},1,1,50,0.1]
[277,4000,2941995,2941995,6864654.9999999991,2941995,1,1,50,0.1,"RCP6-RRA7C"]
[278,8000,2941995,2941995,6864654.9999999991,2941995,1,1,50,0.1]
[279,16000,2941995,2941995,6864654.9999999991,2941995,1,1,50,0.1]
[280,24000,2941995,2941995,6864654.9999999991,2941995,1,1,50,0.1]
[281,2500,{"$f":"0.3*$A$1*1000000","v":2941995},2941995,6864654.9999999991,2941995,1,1,50,0.1,"RCP6-RRA4R"]
[282,5000,2941995,2941995,6864654.9999999991,2941995,1,1,50,0.1]
[283,10000,2941995,2941995,6864654.9999999991,2941995,1,1,50,0.1]
[284,16000,{"$f":"0.3*$A$1*1000000","v":2941995},2941995,6864654.9999999991,2941995,1,1,50,0.1]
[285,3000,2941995,2941995,6864654.9999999991,2941995,1,1,50,0.1,"RCP6-RRA6R"]
[286,6000,2941995,2941995,6864654.9999999991,2941995,1,1,50,0.1]
[287,12000,2941995,2941995,6864654.9999999991,2941995,1,1,50,0.1]
[288,20000,{"$f":"0.3*$A$1*1000000","v":2941995},2941995,6864654.9999999991,2941995,1,1,50,0.1]
[289,4000,2941995,2941995,6864654.9999999991,2941995,1,1,50,0.1,"RCP6-RRA7R"]
[290,8000,2941995,2941995,6864654.9999999991,2941995,1,1,50,0.1]
[291,16000,2941995,2941995,6864654.9999999991,2941995,1,1,50,0.1]
[292,24000,2941995,{"$f":"0.3*$A$1*1000000","v":2941995},{"$f":"0.7*$A$1*1000000","v":6864654.9999999991},{"$f":"0.3*$A$1*1000000","v":2941995},1,1,50,0.1]
[{"$f":"A295+1","v":293},2500,{"$f":"0.3*$A$1*1000000","v":2941995},{"$f":"0.3*$A$1*1000000","v":2941995},6864654.9999999991,{"$f":"0.3*$A$1*1000000","v":2941995},1,1,50,0.1,"RCP6-WRA10C"]
[294,5000,2941995,{"$f":"0.3*$A$1*1000000","v":2941995},6864654.9999999991,{"$f":"0.3*$A$1*1000000","v":2941995},1,1,50,0.1]
[295,10000,2941995,-1,6864654.9999999991,-1,1,1,50,0.1]
[296,16000,2941995,-1,6864654.9999999991,-1,1,1,50,0.1]
[297,3000,2941995,{"$f":"0.3*$A$1*1000000","v":2941995},6864654.9999999991,{"$f":"0.3*$A$1*1000000","v":2941995},1,1,50,0.1,"RCP6-WRA12C"]
[298,6000,2941995,{"$f":"0.3*$A$1*1000000","v":2941995},6864654.9999999991,{"$f":"0.3*$A$1*1000000","v":2941995},1,1,50,0.1]
[299,12000,2941995,-1,6864654.9999999991,-1,1,1,50,0.1]
[300,20000,{"$f":"0.3*$A$1*1000000","v":2941995},-1,{"$f":"0.7*$A$1*1000000","v":6864654.9999999991},-1,1,1,50,0.1]
[301,4000,2941995,{"$f":"0.3*$A$1*1000000","v":2941995},6864654.9999999991,{"$f":"0.3*$A$1*1000000","v":2941995},1,1,50,0.1,"RCP6-WRA14C"]
[302,8000,2941995,{"$f":"0.3*$A$1*1000000","v":2941995},6864654.9999999991,{"$f":"0.3*$A$1*1000000","v":2941995},1,1,50,0.1]
[303,16000,2941995,-1,6864654.9999999991,-1,1,1,50,0.1]
[304,24000,2941995,-1,6864654.9999999991,-1,1,1,50,0.1]
[305,2500,2941995,{"$f":"0.3*$A$1*1000000","v":2941995},6864654.9999999991,{"$f":"0.3*$A$1*1000000","v":2941995},1,1,50,0.1,"RCP6-WRA10R"]
[306,5000,2941995,{"$f":"0.3*$A$1*1000000","v":2941995},6864654.9999999991,{"$f":"0.3*$A$1*1000000","v":2941995},1,1,50,0.1]
[307,10000,2941995,-1,6864654.9999999991,-1,1,1,50,0.1]
[308,16000,2941995,-1,6864654.9999999991,-1,1,1,50,0.1]
[309,3000,2941995,{"$f":"0.3*$A$1*1000000","v":2941995},6864654.9999999991,{"$f":"0.3*$A$1*1000000","v":2941995},1,1,50,0.1,"RCP6-WRA12R"]
[310,6000,2941995,{"$f":"0.3*$A$1*1000000","v":2941995},6864654.9999999991,{"$f":"0.3*$A$1*1000000","v":2941995},1,1,50,0.1]
[311,12000,2941995,-1,6864654.9999999991,-1,1,1,50,0.1]
[312,20000,2941995,-1,6864654.9999999991,-1,1,1,50,0.1]
[313,4000,2941995,{"$f":"0.3*$A$1*1000000","v":2941995},6864654.9999999991,{"$f":"0.3*$A$1*1000000","v":2941995},1,1,50,0.1,"RCP6-WRA14R"]
[314,8000,2941995,{"$f":"0.3*$A$1*1000000","v":2941995},6864654.9999999991,{"$f":"0.3*$A$1*1000000","v":2941995},1,1,50,0.1]
[315,16000,2941995,-1,6864654.9999999991,-1,1,1,50,0.1]
[316,24000,2941995,-1,{"$f":"0.7*$A$1*1000000","v":6864654.9999999991},-1,1,1,50,0.1]
[317,2500,{"$f":"0.3*$A$1*1000000","v":2941995},2941995,6864654.9999999991,{"$f":"0.3*$A$1*1000000","v":2941995},1,1,25,0.1,"RCP6-TA4C(SB)"]
[318,5000,2941995,2941995,6864654.9999999991,2941995,1,1,25,0.1]
[319,10000,2941995,2941995,6864654.9999999991,2941995,1,1,25,0.1]
[320,16000,{"$f":"0.3*$A$1*1000000","v":2941995},2941995,6864654.9999999991,2941995,1,1,25,0.1]
[321,3000,2941995,2941995,6864654.9999999991,2941995,1,1,25,0.1,"RCP6-TA6C(SB)"]
[322,6000,2941995,2941995,6864654.9999999991,2941995,1,1,25,0.1]
[323,12000,2941995,2941995,6864654.9999999991,{"$f":"0.3*$A$1*1000000","v":2941995},1,1,25,0.1]
[324,20000,{"$f":"0.3*$A$1*1000000","v":2941995},2941995,{"$f":"0.7*$A$1*1000000","v":6864654.9999999991},2941995,1,1,25,0.1]
[{"$f":"A327+1","v":325},4000,2941995,2941995,6864654.9999999991,2941995,1,1,50,0.1,"RCP6-TA7C(SB)"]
[326,8000,2941995,2941995,6864654.9999999991,2941995,1,1,50,0.1]
[327,16000,2941995,2941995,6864654.9999999991,2941995,1,1,50,0.1]
[328,24000,2941995,2941995,6864654.9999999991,2941995,1,1,50,0.1]
[329,2500,2941995,2941995,6864654.9999999991,2941995,1,1,25,0.1,"RCP6-TA4R(SB)"]
[330,5000,2941995,2941995,6864654.9999999991,2941995,1,1,25,0.1]
[331,10000,2941995,2941995,6864654.9999999991,2941995,1,1,25,0.1]
[332,16000,2941995,2941995,6864654.9999999991,2941995,1,1,25,0.1]
[333,3000,2941995,2941995,6864654.9999999991,2941995,1,1,25,0.1,"RCP6-TA6R(SB)"]
[334,6000,2941995,2941995,6864654.9999999991,2941995,1,1,25,0.1]
[335,12000,2941995,2941995,6864654.9999999991,2941995,1,1,25,0.1]
[336,20000,2941995,2941995,6864654.9999999991,2941995,1,1,25,0.1]
[337,4000,2941995,2941995,6864654.9999999991,2941995,1,1,50,0.1,"RCP6-TA7R(SB)"]
[338,8000,2941995,2941995,6864654.9999999991,2941995,1,1,50,0.1]
[339,16000,2941995,2941995,6864654.9999999991,2941995,1,1,50,0.1]
[340,24000,2941995,2941995,6864654.9999999991,2941995,1,1,50,0.1]
[341,2500,2941995,2941995,6864654.9999999991,2941995,1,1,50,0.1,"RCP6-TA4C(DB)"]
[342,5000,2941995,2941995,{"$f":"0.7*$A$1*1000000","v":6864654.9999999991},{"$f":"0.3*$A$1*1000000","v":2941995},1,1,50,0.1]
[343,10000,2941995,2941995,6864654.9999999991,2941995,1,1,50,0.1]
[344,3000,{"$f":"0.3*$A$1*1000000","v":2941995},2941995,6864654.9999999991,2941995,1,1,50,0.1,"RCP6-TA6C(DB)"]
[345,6000,2941995,2941995,6864654.9999999991,2941995,1,1,50,0.1]
[346,12000,2941995,2941995,6864654.9999999991,2941995,1,1,50,0.1]
[347,4000,2941995,2941995,6864654.9999999991,2941995,1,1,50,0.1,"RCP6-TA7C(DB)"]
[348,8000,2941995,2941995,6864654.9999999991,2941995,1,1,50,0.1]
[349,16000,2941995,2941995,6864654.9999999991,2941995,1,1,50,0.1]
[350,2500,2941995,2941995,6864654.9999999991,2941995,1,1,50,0.1,"RCP6-TA4R(DB)"]
[351,5000,2941995,2941995,6864654.9999999991,2941995,1,1,50,0.1]
[352,10000,2941995,2941995,6864654.9999999991,2941995,1,1,50,0.1]
[353,3000,2941995,2941995,6864654.9999999991,2941995,1,1,50,0.1,"RCP6-TA6R(DB)"]
[354,6000,2941995,2941995,6864654.9999999991,2941995,1,1,50,0.1]
[355,12000,2941995,2941995,6864654.9999999991,2941995,1,1,50,0.1]
[356,4000,2941995,2941995,6864654.9999999991,2941995,1,1,50,0.1,"RCP6-TA7R(DB)"]
[357,8000,2941995,2941995,6864654.9999999991,2941995,1,1,50,0.1]
[358,16000,2941995,2941995,6864654.9999999991,2941995,1,1,50,0.1]
[359,3000,2941995,2941995,6864655,2941995,1,1,50,0.1,"RCP6-HSA6C","↓ Ver.3.80 追加"]
[360,6000,980665,2941995,6864655,2941995,1,1,50,0.1,"RCP6-HSA6C"]
[361,12000,980665,2941995,6864655,2941995,1,1,50,0.1,"RCP6-HSA6C"]
[362,20000,2941995,2941995,6864655,2941995,1,1,50,0.1,"RCP6-HSA6C"]
[363,4000,980665,2941995,6864655,2941995,1,1,50,0.1,"RCP6-HSA7C"]
[364,8000,980665,2941995,6864655,2941995,1,1,50,0.1,"RCP6-HSA7C"]
[365,16000,980665,2941995,6864655,2941995,1,1,50,0.1,"RCP6-HSA7C"]
[366,24000,2941995,2941995,6864655,2941995,1,1,50,0.1,"RCP6-HSA7C"]
[367,3000,2941995,2941995,6864655,2941995,1,1,50,0.1,"RCP6-HSA6C-W"]
[368,6000,2941995,2941995,6864655,2941995,1,1,50,0.1,"RCP6-HSA6C-W"]
[369,12000,2941995,-1,6864655,-1,1,1,50,0.1,"RCP6-HSA6C-W"]
[370,4000,2941995,2941995,6864655,2941995,1,1,50,0.1,"RCP6-HSA7C-W"]
[371,8000,2941995,2941995,6864655,2941995,1,1,50,0.1,"RCP6-HSA7C-W"]
[372,16000,2941995,-1,6864655,-1,1,1,50,0.1,"RCP6-HSA7C-W","↑ Ver.3.80 追加"]
[373,3000,2941995,2941995,6864655,2941995,1,1,50,0.1,"RCP6-HSA6R","↓ Ver.4.1 追加"]
[374,6000,980665,2941995,6864655,2941995,1,1,50,0.1,"RCP6-HSA6R"]
[375,12000,980665,2941995,6864655,2941995,1,1,50,0.1,"RCP6-HSA6R"]
[376,20000,2941995,2941995,6864655,2941995,1,1,50,0.1,"RCP6-HSA6R"]
[377,3000,2941995,2941995,6864655,2941995,1,1,50,0.1,"RCP6-HSA6R-W"]
[378,6000,2941995,2941995,6864655,2941995,1,1,50,0.1,"RCP6-HSA6R-W"]
[379,12000,2941995,-1,6864655,-1,1,1,50,0.1,"RCP6-HSA6R-W"]
[380,3000,2941995,2941995,6864655,2941995,1,1,50,0.1,"RCP6-HSA6XC-3"]
[381,6000,980665,2941995,6864655,2941995,1,1,50,0.1,"RCP6-HSA6XC-6"]
[382,12000,980665,2941995,6864655,2941995,1,1,50,0.1,"RCP6-HSA6XC-12"]
[383,20000,2941995,2941995,6864655,2941995,1,1,50,0.1,"RCP6-HSA6XC-20"]
[384,3000,2941995,2941995,6864655,2941995,1,1,50,0.1,"RCP6-HSA6XR-3"]
[385,6000,980665,2941995,6864655,2941995,1,1,50,0.1,"RCP6-HSA6XR-6"]
[386,12000,980665,2941995,6864655,2941995,1,1,50,0.1,"RCP6-HSA6XR-12"]
[387,20000,2941995,2941995,6864655,2941995,1,1,50,0.1,"RCP6-HSA6XR-20"]
[388,4000,980665,2941995,6864655,2941995,1,1,50,0.1,"RCP6-HSA7R"]
[389,8000,980665,2941995,6864655,2941995,1,1,50,0.1,"RCP6-HSA7R"]
[390,16000,980665,2941995,6864655,2941995,1,1,50,0.1,"RCP6-HSA7R"]
[391,24000,2941995,2941995,6864655,2941995,1,1,50,0.1,"RCP6-HSA7R"]
[392,4000,2941995,2941995,6864655,2941995,1,1,50,0.1,"RCP6-HSA7R-W"]
[393,8000,2941995,2941995,6864655,2941995,1,1,50,0.1,"RCP6-HSA7R-W"]
[394,16000,2941995,-1,6864655,-1,1,1,50,0.1,"RCP6-HSA7R-W"]
[395,4000,980665,2941995,6864655,2941995,1,1,50,0.1,"RCP6-HSA7XC-4"]
[396,8000,980665,2941995,6864655,2941995,1,1,50,0.1,"RCP6-HSA7XC-8"]
[397,16000,980665,2941995,6864655,2941995,1,1,50,0.1,"RCP6-HSA7XC-16"]
[398,24000,2941995,2941995,6864655,2941995,1,1,50,0.1,"RCP6-HSA7XC-24"]
[399,4000,980665,2941995,6864655,2941995,1,1,50,0.1,"RCP6-HSA7XR-4"]
[400,8000,980665,2941995,6864655,2941995,1,1,50,0.1,"RCP6-HSA7XR-8"]
[401,16000,980665,2941995,6864655,2941995,1,1,50,0.1,"RCP6-HSA7XR-16"]
[402,24000,2941995,2941995,6864655,2941995,1,1,50,0.1,"RCP6-HSA7XR-24","↑ Ver.4.1 追加"]
[403,3000,2941995,2941995,6864655,2941995,1,1,50,0.1,"RCP6CR-HSA6C","↓ Ver.4.3 追加"]
[404,6000,980665,2941995,6864655,2941995,1,1,50,0.1,"RCP6CR-HSA6C"]
[405,12000,980665,2941995,6864655,2941995,1,1,50,0.1,"RCP6CR-HSA6C"]
[406,20000,2941995,2941995,6864655,2941995,1,1,50,0.1,"RCP6CR-HSA6C"]
[407,3000,2941995,2941995,6864655,2941995,1,1,50,0.1,"RCP6CR-HSA6C-W"]
[408,6000,2941995,2941995,6864655,2941995,1,1,50,0.1,"RCP6CR-HSA6C-W"]
[409,12000,2941995,-1,6864655,-1,1,1,50,0.1,"RCP6CR-HSA6C-W"]
[410,3000,2941995,2941995,6864655,2941995,1,1,50,0.1,"RCP6CR-HSA6XC-3"]
[411,6000,980665,2941995,6864655,2941995,1,1,50,0.1,"RCP6CR-HSA6XC-6"]
[412,12000,980665,2941995,6864655,2941995,1,1,50,0.1,"RCP6CR-HSA6XC-12"]
[413,20000,2941995,2941995,6864655,2941995,1,1,50,0.1,"RCP6CR-HSA6XC-20"]
[414,4000,980665,2941995,6864655,2941995,1,1,50,0.1,"RCP6CR-HSA7C"]
[415,8000,980665,2941995,6864655,2941995,1,1,50,0.1,"RCP6CR-HSA7C"]
[416,16000,980665,2941995,6864655,2941995,1,1,50,0.1,"RCP6CR-HSA7C"]
[417,24000,2941995,2941995,6864655,2941995,1,1,50,0.1,"RCP6CR-HSA7C"]
[418,4000,2941995,2941995,6864655,2941995,1,1,50,0.1,"RCP6CR-HSA7C-W"]
[419,8000,2941995,2941995,6864655,2941995,1,1,50,0.1,"RCP6CR-HSA7C-W"]
[420,16000,2941995,-1,6864655,-1,1,1,50,0.1,"RCP6CR-HSA7C-W"]
[421,4000,980665,2941995,6864655,2941995,1,1,50,0.1,"RCP6CR-HSA7XC-4"]
[422,8000,980665,2941995,6864655,2941995,1,1,50,0.1,"RCP6CR-HSA7XC-8"]
[423,16000,980665,2941995,6864655,2941995,1,1,50,0.1,"RCP6CR-HSA7XC-16"]
[424,24000,2941995,2941995,6864655,2941995,1,1,50,0.1,"RCP6CR-HSA7XC-24","↑ Ver.4.3 追加"]
["EOF"]

{"sheet":"StrokeData","index":4,"n_rows":1381,"n_cols":15,"rows_kept":1381,"cut":false,"hidden":true,"merged":[[960,12,961,12],[962,12,963,12],[949,12,950,12],[951,12,952,12],[908,12,909,12],[910,12,911,12],[819,12,825,12],[826,12,832,12],[833,12,838,12],[839,12,841,12],[894,12,895,12],[896,12,897,12],[784,12,790,12],[791,12,797,12],[798,12,803,12],[804,12,806,12],[811,12,813,12],[814,12,816,12],[766,12,768,12],[769,12,771,12],[772,12,773,12],[774,12,775,12],[776,12,778,12],[779,12,781,12],[740,12,746,12],[747,12,753,12],[754,12,760,12],[761,12,765,12],[700,12,706,12],[707,12,713,12],[714,12,720,12],[721,12,725,12],[726,12,728,12],[729,12,731,12],[266,12,267,12],[448,12,454,12],[417,12,418,12],[419,12,420,12],[396,12,401,12],[402,12,407,12],[408,12,412,12],[732,12,733,12],[734,12,735,12],[278,12,279,12],[415,12,416,12],[434,12,440,12],[441,12,447,12],[549,12,556,12],[390,12,395,12],[363,12,370,12],[371,12,375,12],[358,12,362,12],[293,12,300,12],[301,12,308,12],[309,12,316,12],[317,12,323,12],[324,12,332,12],[413,12,414,12],[119,12,124,12],[557,12,566,12],[567,12,574,12],[333,12,339,12],[340,12,345,12],[346,12,351,12],[455,12,459,12],[460,12,467,12],[468,12,472,12],[352,12,357,12],[125,12,129,12],[130,12,135,12],[136,12,141,12],[142,12,147,12],[148,12,152,12],[153,12,154,12],[155,12,156,12],[157,12,158,12],[159,12,160,12],[169,12,174,12],[175,12,180,12],[262,12,263,12],[181,12,186,12],[187,12,191,12],[3,12,8,12],[9,12,14,12],[15,12,20,12],[21,12,25,12],[107,12,112,12],[113,12,118,12],[49,12,50,12],[51,12,52,12],[53,12,54,12],[55,12,57,12],[100,12,101,12],[90,12,91,12],[92,12,93,12],[66,12,71,12],[72,12,77,12],[78,12,83,12],[84,12,89,12],[26,12,31,12],[32,12,37,12],[38,12,43,12],[44,12,48,12],[96,12,97,12],[98,12,99,12],[198,12,203,12],[204,12,209,12],[194,12,195,12],[264,12,265,12],[231,12,236,12],[237,12,242,12],[243,12,248,12],[249,12,253,12],[196,12,197,12],[254,12,255,12],[256,12,257,12],[258,12,259,12],[260,12,261,12],[210,12,215,12],[216,12,220,12],[223,12,224,12],[225,12,226,12],[688,12,695,12],[602,12,609,12],[610,12,617,12],[618,12,625,12],[626,12,631,12],[632,12,637,12],[638,12,643,12],[644,12,652,12],[653,12,661,12],[662,12,669,12],[670,12,678,12],[679,12,687,12],[582,12,589,12],[590,12,595,12],[531,12,540,12],[541,12,548,12],[473,12,482,12],[483,12,492,12],[493,12,502,12],[503,12,510,12],[511,12,520,12],[521,12,530,12],[575,12,581,12]]}
[null,1,2,4,5,6,7,8,9,10,17,18]
["ﾃﾞｰﾀ№","ｽﾄﾛｰｸ長","有効ｽﾄﾛｰｸ補正","基準ｹﾞｲﾝ用搬送質量","水平可搬質量","垂直可搬質量","最大速度","位置ｹﾞｲﾝ","FFｹﾞｲﾝ","速度制御帯域","前ﾃﾞｰﾀ№","次ﾃﾞｰﾀ№","備考"]
[{"$f":"ModelData!A3","v":0},"㎜","㎜","1g","1g","1g","㎜/s","1/s","%","rad/s",null,null,null,"前№ﾁｪｯｸ","後№ﾁｪｯｸ"]
[{"$f":"A3+1","v":1},550,0,16000,16000,10000,150,40,0,400,-1,{"$f":"A5","v":2},"RCP4-SA5C-3",{"$f":"IF(K4<>-1,IF(K4=A3,\"○\",\"◆\"),IF(M4<>\"\",\"先頭\",\"▼\"))","v":"先頭"},{"$f":"IF(L4<>-1,IF(L4=A5,\"○\",\"◆\"),IF(M5<>\"\",\"最後\",\"▼\"))","v":"○"}]
[2,600,0,16000,16000,10000,140,40,0,400,{"$f":"A4","v":1},{"$f":"A6","v":3},null,"○","○"]
[3,650,0,16000,16000,10000,120,40,0,400,{"$f":"A5","v":2},{"$f":"A7","v":4},null,"○","○"]
[4,700,0,16000,16000,10000,105,40,0,400,{"$f":"A6","v":3},{"$f":"A8","v":5},null,"○","○"]
[5,750,0,16000,16000,10000,90,40,0,400,{"$f":"A7","v":4},{"$f":"A9","v":6},null,"○","○"]
[6,800,0,16000,16000,10000,80,40,0,400,{"$f":"A8","v":5},-1,null,"○","最後"]
[7,550,0,13000,13000,5000,300,40,0,400,-1,{"$f":"A11","v":8},"RCP4-SA5C-6","先頭","○"]
[8,600,0,13000,13000,5000,285,40,0,400,{"$f":"A10","v":7},{"$f":"A12","v":9},null,"○","○"]
[9,650,0,13000,13000,5000,245,40,0,400,{"$f":"A11","v":8},{"$f":"A13","v":10},null,"○","○"]
[10,700,0,13000,13000,5000,215,40,0,400,{"$f":"A12","v":9},{"$f":"A14","v":11},null,"○","○"]
[11,750,0,13000,13000,5000,185,40,0,400,{"$f":"A13","v":10},{"$f":"A15","v":12},null,"○","○"]
[12,800,0,13000,13000,5000,165,40,0,400,{"$f":"A14","v":11},-1,null,"○","最後"]
[13,550,0,8000,8000,2000,600,40,0,300,-1,{"$f":"A17","v":14},"RCP4-SA5C-12","先頭","○"]
[14,600,0,8000,8000,2000,570,40,0,300,{"$f":"A16","v":13},{"$f":"A18","v":15},null,"○","○"]
[15,650,0,8000,8000,2000,490,40,0,300,{"$f":"A17","v":14},{"$f":"A19","v":16},null,"○","○"]
[16,700,0,8000,8000,2000,425,40,0,300,{"$f":"A18","v":15},{"$f":"A20","v":17},null,"○","○"]
[17,750,0,8000,8000,2000,375,40,0,300,{"$f":"A19","v":16},{"$f":"A21","v":18},null,"○","○"]
[18,800,0,8000,8000,2000,330,40,0,300,{"$f":"A20","v":17},-1,null,"○","最後"]
[19,600,0,5000,5000,500,960,40,0,220,-1,{"$f":"A23","v":20},"RCP4-SA5C-20","先頭","○"]
[20,650,0,5000,5000,500,900,40,0,220,{"$f":"A22","v":19},{"$f":"A24","v":21},null,"○","○"]
[21,700,0,5000,5000,500,785,40,0,220,{"$f":"A23","v":20},{"$f":"A25","v":22},null,"○","○"]
[22,750,0,5000,5000,500,690,40,0,220,{"$f":"A24","v":21},{"$f":"A26","v":23},null,"○","○"]
[23,800,0,5000,5000,500,610,40,0,220,{"$f":"A25","v":22},-1,null,"○","最後"]
[24,550,0,19000,19000,10000,150,40,0,400,-1,{"$f":"A28","v":25},"RCP4-SA6C-3","先頭","○"]
[25,600,0,19000,19000,10000,140,40,0,400,{"$f":"A27","v":24},{"$f":"A29","v":26},null,"○","○"]
[26,650,0,19000,19000,10000,120,40,0,400,{"$f":"A28","v":25},{"$f":"A30","v":27},null,"○","○"]
[27,700,0,19000,19000,10000,105,40,0,400,{"$f":"A29","v":26},{"$f":"A31","v":28},null,"○","○"]
[28,750,0,19000,19000,10000,90,40,0,400,{"$f":"A30","v":27},{"$f":"A32","v":29},null,"○","○"]
[29,800,0,19000,19000,10000,80,40,0,400,{"$f":"A31","v":28},-1,null,"○","最後"]
[30,550,0,16000,16000,5000,300,40,0,385,-1,{"$f":"A34","v":31},"RCP4-SA6C-6","先頭","○"]
[31,600,0,16000,16000,5000,285,40,0,385,{"$f":"A33","v":30},{"$f":"A35","v":32},null,"○","○"]
[32,650,0,16000,16000,5000,245,40,0,385,{"$f":"A34","v":31},{"$f":"A36","v":33},null,"○","○"]
[33,700,0,16000,16000,5000,215,40,0,385,{"$f":"A35","v":32},{"$f":"A37","v":34},null,"○","○"]
[34,750,0,16000,16000,5000,185,40,0,385,{"$f":"A36","v":33},{"$f":"A38","v":35},null,"○","○"]
[35,800,0,16000,16000,5000,165,40,0,385,{"$f":"A37","v":34},-1,null,"○","最後"]
[36,550,0,8500,8500,2000,600,40,0,350,-1,{"$f":"A40","v":37},"RCP4-SA6C-12","先頭","○"]
[37,600,0,8500,8500,2000,570,40,0,350,{"$f":"A39","v":36},{"$f":"A41","v":38},null,"○","○"]
[38,650,0,8500,8500,2000,490,40,0,350,{"$f":"A40","v":37},{"$f":"A42","v":39},null,"○","○"]
[39,700,0,8500,8500,2000,430,40,0,350,{"$f":"A41","v":38},{"$f":"A43","v":40},null,"○","○"]
[40,750,0,8500,8500,2000,375,40,0,350,{"$f":"A42","v":39},{"$f":"A44","v":41},null,"○","○"]
[41,800,0,8500,8500,2000,335,40,0,350,{"$f":"A43","v":40},-1,null,"○","最後"]
[42,600,0,6000,6000,500,960,40,0,225,-1,{"$f":"A46","v":43},"RCP4-SA6C-20","先頭","○"]
[43,650,0,6000,6000,500,905,40,0,225,{"$f":"A45","v":42},{"$f":"A47","v":44},null,"○","○"]
[44,700,0,6000,6000,500,785,40,0,225,{"$f":"A46","v":43},{"$f":"A48","v":45},null,"○","○"]
[45,750,0,6000,6000,500,690,40,0,225,{"$f":"A47","v":44},{"$f":"A49","v":46},null,"○","○"]
[46,800,0,6000,6000,500,615,40,0,225,{"$f":"A48","v":45},-1,null,"○","最後"]
[47,750,0,40000,40000,15000,140,40,0,400,-1,{"$f":"A51","v":48},"RCP4-SA7C-4","先頭","○"]
[48,800,0,40000,40000,15000,125,40,0,400,{"$f":"A50","v":47},-1,null,"○","最後"]
[49,750,0,40000,40000,10000,280,40,0,290,-1,{"$f":"A53","v":50},"RCP4-SA7C-8","先頭","○"]
[50,800,0,40000,40000,10000,255,40,0,290,{"$f":"A52","v":49},-1,null,"○","最後"]
[51,750,0,35000,35000,5000,560,40,0,240,-1,{"$f":"A55","v":52},"RCP4-SA7C-16","先頭","○"]
[52,800,0,35000,35000,5000,515,40,0,240,{"$f":"A54","v":51},-1,null,"○","最後"]
[53,700,0,18000,18000,2000,1000,40,0,175,-1,{"$f":"A57","v":54},"RCP4-SA7C-24","先頭","○"]
[54,750,0,18000,18000,2000,890,40,0,175,{"$f":"A56","v":53},{"$f":"A58","v":55},null,"○","○"]
[55,800,0,18000,18000,2000,790,40,0,175,{"$f":"A57","v":54},-1,null,"○","最後"]
[56,400,0,40000,40000,20000,125,40,0,380,-1,-1,"RCP4-RA5C-3","先頭","最後"]
[57,400,0,40000,40000,10000,250,40,0,240,-1,-1,"RCP4-RA5C-6","先頭","最後"]
[58,400,0,25000,25000,4000,500,40,0,200,-1,-1,"RCP4-RA5C-12","先頭","最後"]
[59,400,0,6000,6000,1500,640,40,0,210,-1,-1,"RCP4-RA5C-20","先頭","最後"]
[60,500,0,55000,55000,26000,140,40,0,400,-1,-1,"RCP4-RA6C-4","先頭","最後"]
[61,500,0,50000,50000,17500,210,40,0,400,-1,-1,"RCP4-RA6C-8","先頭","最後"]
[62,500,0,40000,40000,5000,420,40,0,300,-1,-1,"RCP4-RA6C-16","先頭","最後"]
[63,500,0,18000,18000,3000,600,40,0,215,-1,-1,"RCP4-RA6C-24","先頭","最後"]
[64,550,0,16000,12000,6000,150,40,0,400,-1,{"$f":"A68","v":65},"ERC3-SA5-3","先頭","○"]
[{"$f":"A67+1","v":65},600,0,16000,12000,6000,140,40,0,400,{"$f":"A67","v":64},{"$f":"A69","v":66},null,{"$f":"IF(K68<>-1,IF(K68=A67,\"○\",\"◆\"),IF(M68<>\"\",\"先頭\",\"▼\"))","v":"○"},{"$f":"IF(L68<>-1,IF(L68=A69,\"○\",\"◆\"),IF(M69<>\"\",\"最後\",\"▼\"))","v":"○"}]
[66,650,0,16000,12000,6000,115,40,0,400,{"$f":"A68","v":65},{"$f":"A70","v":67},null,"○","○"]
[67,700,0,16000,12000,6000,100,40,0,400,{"$f":"A69","v":66},{"$f":"A71","v":68},null,"○","○"]
[68,750,0,16000,12000,6000,85,40,0,400,{"$f":"A70","v":67},{"$f":"A72","v":69},null,"○","○"]
[69,800,0,16000,12000,6000,75,40,0,400,{"$f":"A71","v":68},-1,null,"○","最後"]
[70,550,0,13000,12000,3000,300,40,0,400,-1,{"$f":"A74","v":71},"ERC3-SA5-6","先頭","○"]
[71,600,0,13000,12000,3000,280,40,0,400,{"$f":"A73","v":70},{"$f":"A75","v":72},null,"○","○"]
[72,650,0,13000,12000,3000,235,40,0,400,{"$f":"A74","v":71},{"$f":"A76","v":73},null,"○","○"]
[73,700,0,13000,12000,3000,200,40,0,400,{"$f":"A75","v":72},{"$f":"A77","v":74},null,"○","○"]
[74,750,0,13000,12000,3000,175,40,0,400,{"$f":"A76","v":73},{"$f":"A78","v":75},null,"○","○"]
[75,800,0,13000,12000,3000,150,40,0,400,{"$f":"A77","v":74},-1,null,"○","最後"]
[76,550,0,8000,6000,1500,600,40,0,400,-1,{"$f":"A80","v":77},"ERC3-SA5-12","先頭","○"]
[77,600,0,8000,6000,1500,560,40,0,400,{"$f":"A79","v":76},{"$f":"A81","v":78},null,"○","○"]
[78,650,0,8000,6000,1500,475,40,0,400,{"$f":"A80","v":77},{"$f":"A82","v":79},null,"○","○"]
[79,700,0,8000,6000,1500,405,40,0,400,{"$f":"A81","v":78},{"$f":"A83","v":80},null,"○","○"]
[80,750,0,8000,6000,1500,350,40,0,400,{"$f":"A82","v":79},{"$f":"A84","v":81},null,"○","○"]
[81,800,0,8000,6000,1500,300,40,0,400,{"$f":"A83","v":80},-1,null,"○","最後"]
[82,550,0,5000,3500,1000,1000,40,0,400,-1,{"$f":"A86","v":83},"ERC3-SA5-20","先頭","○"]
[83,600,0,5000,3500,1000,935,40,0,400,{"$f":"A85","v":82},{"$f":"A87","v":84},null,"○","○"]
[84,650,0,5000,3500,1000,795,40,0,400,{"$f":"A86","v":83},{"$f":"A88","v":85},null,"○","○"]
[85,700,0,5000,3500,1000,680,40,0,400,{"$f":"A87","v":84},{"$f":"A89","v":86},null,"○","○"]
[86,750,0,5000,3500,1000,585,40,0,400,{"$f":"A88","v":85},{"$f":"A90","v":87},null,"○","○"]
[87,800,0,5000,3500,1000,510,40,0,400,{"$f":"A89","v":86},-1,null,"○","最後"]
[88,750,0,40000,20000,10000,125,40,0,400,-1,{"$f":"A92","v":89},"ERC3-SA7-4","先頭","○"]
[89,800,0,40000,20000,10000,120,40,0,400,{"$f":"A91","v":88},-1,null,"○","最後"]
[90,750,0,40000,20000,5000,250,40,0,400,-1,{"$f":"A94","v":91},"ERC3-SA7-8","先頭","○"]
[91,800,0,40000,20000,5000,245,40,0,400,{"$f":"A93","v":90},-1,null,"○","最後"]
[92,800,0,35000,10000,2500,450,40,0,400,-1,-1,"ERC3-SA7-16","先頭","最後"]
[93,800,0,13000,6000,1500,675,40,0,400,-1,-1,"ERC3-SA7-24","先頭","最後"]
[94,250,0,33300,40000,18000,150,40,0,400,-1,{"$f":"A98","v":95},"ERC3-RA4-3","先頭","○"]
[95,300,0,33300,40000,18000,120,40,0,400,{"$f":"A97","v":94},-1,null,"○","最後"]
[96,250,0,33300,40000,12000,300,40,0,400,-1,{"$f":"A100","v":97},"ERC3-RA4-6","先頭","○"]
[97,300,0,33300,40000,12000,240,40,0,400,{"$f":"A99","v":96},-1,null,"○","最後"]
[98,250,0,20800,25000,4500,600,40,0,400,-1,{"$f":"A102","v":99},"ERC3-RA4-12","先頭","○"]
[99,300,0,20800,25000,4500,485,40,0,400,{"$f":"A101","v":98},-1,null,"○","最後"]
[100,300,0,12500,12000,2000,667,40,0,400,-1,-1,"ERC3-RA4-20","先頭","最後"]
[101,300,0,55000,55000,25000,125,40,0,400,-1,-1,"ERC3-RA6-4","先頭","最後"]
[102,300,0,50000,50000,17500,250,40,0,400,-1,-1,"ERC3-RA6-8","先頭","最後"]
[103,300,0,40000,40000,5000,450,40,0,400,-1,-1,"ERC3-RA6-16","先頭","最後"]
[104,300,0,26000,25000,3000,675,40,0,400,-1,-1,"ERC3-RA6-24","先頭","最後"]
[105,550,0,16000,16000,10000,150,40,0,400,-1,{"$f":"A109","v":106},"RCP4-SA5R-3","先頭","○"]
[106,600,0,16000,16000,10000,140,40,0,400,{"$f":"A108","v":105},{"$f":"A110","v":107},null,"○","○"]
[107,650,0,16000,16000,10000,120,40,0,400,{"$f":"A109","v":106},{"$f":"A111","v":108},null,"○","○"]
[108,700,0,16000,16000,10000,105,40,0,400,{"$f":"A110","v":107},{"$f":"A112","v":109},null,"○","○"]
[109,750,0,16000,16000,10000,90,40,0,400,{"$f":"A111","v":108},{"$f":"A113","v":110},null,"○","○"]
[110,800,0,16000,16000,10000,80,40,0,400,{"$f":"A112","v":109},-1,null,"○","最後"]
[111,550,0,13000,13000,5000,300,40,0,400,-1,{"$f":"A115","v":112},"RCP4-SA5R-6","先頭","○"]
[112,600,0,13000,13000,5000,285,40,0,400,{"$f":"A114","v":111},{"$f":"A116","v":113},null,"○","○"]
[113,650,0,13000,13000,5000,245,40,0,400,{"$f":"A115","v":112},{"$f":"A117","v":114},null,"○","○"]
[114,700,0,13000,13000,5000,215,40,0,400,{"$f":"A116","v":113},{"$f":"A118","v":115},null,"○","○"]
[115,750,0,13000,13000,5000,185,40,0,400,{"$f":"A117","v":114},{"$f":"A119","v":116},null,"○","○"]
[116,800,0,13000,13000,5000,165,40,0,400,{"$f":"A118","v":115},-1,null,"○","最後"]
[117,550,0,8000,8000,2000,600,40,0,300,-1,{"$f":"A121","v":118},"RCP4-SA5R-12","先頭","○"]
[118,600,0,8000,8000,2000,570,40,0,300,{"$f":"A120","v":117},{"$f":"A122","v":119},null,"○","○"]
[119,650,0,8000,8000,2000,490,40,0,300,{"$f":"A121","v":118},{"$f":"A123","v":120},null,"○","○"]
[120,700,0,8000,8000,2000,425,40,0,300,{"$f":"A122","v":119},{"$f":"A124","v":121},null,"○","○"]
[121,750,0,8000,8000,2000,375,40,0,300,{"$f":"A123","v":120},{"$f":"A125","v":122},null,"○","○"]
[122,800,0,8000,8000,2000,330,40,0,300,{"$f":"A124","v":121},-1,null,"○","最後"]
[123,600,0,5000,5000,500,960,40,0,220,-1,{"$f":"A127","v":124},"RCP4-SA5R-20","先頭","○"]
[124,650,0,5000,5000,500,900,40,0,220,{"$f":"A126","v":123},{"$f":"A128","v":125},null,"○","○"]
[125,700,0,5000,5000,500,785,40,0,220,{"$f":"A127","v":124},{"$f":"A129","v":126},null,"○","○"]
[126,750,0,5000,5000,500,690,40,0,220,{"$f":"A128","v":125},{"$f":"A130","v":127},null,"○","○"]
[127,800,0,5000,5000,500,610,40,0,220,{"$f":"A129","v":126},-1,null,"○","最後"]
[128,550,0,19000,19000,10000,150,40,0,400,-1,{"$f":"A132","v":129},"RCP4-SA6R-3","先頭","○"]
[{"$f":"A131+1","v":129},600,0,19000,19000,10000,140,40,0,400,{"$f":"A131","v":128},{"$f":"A133","v":130},null,{"$f":"IF(K132<>-1,IF(K132=A131,\"○\",\"◆\"),IF(M132<>\"\",\"先頭\",\"▼\"))","v":"○"},{"$f":"IF(L132<>-1,IF(L132=A133,\"○\",\"◆\"),IF(M133<>\"\",\"最後\",\"▼\"))","v":"○"}]
[130,650,0,19000,19000,10000,120,40,0,400,{"$f":"A132","v":129},{"$f":"A134","v":131},null,"○","○"]
[131,700,0,19000,19000,10000,105,40,0,400,{"$f":"A133","v":130},{"$f":"A135","v":132},null,"○","○"]
[132,750,0,19000,19000,10000,90,40,0,400,{"$f":"A134","v":131},{"$f":"A136","v":133},null,"○","○"]
[133,800,0,19000,19000,10000,80,40,0,400,{"$f":"A135","v":132},-1,null,"○","最後"]
[134,550,0,16000,16000,5000,300,40,0,385,-1,{"$f":"A138","v":135},"RCP4-SA6R-6","先頭","○"]
[135,600,0,16000,16000,5000,285,40,0,385,{"$f":"A137","v":134},{"$f":"A139","v":136},null,"○","○"]
[136,650,0,16000,16000,5000,245,40,0,385,{"$f":"A138","v":135},{"$f":"A140","v":137},null,"○","○"]
[137,700,0,16000,16000,5000,215,40,0,385,{"$f":"A139","v":136},{"$f":"A141","v":138},null,"○","○"]
[138,750,0,16000,16000,5000,185,40,0,385,{"$f":"A140","v":137},{"$f":"A142","v":139},null,"○","○"]
[139,800,0,16000,16000,5000,165,40,0,385,{"$f":"A141","v":138},-1,null,"○","最後"]
[140,550,0,8500,8500,2000,600,40,0,350,-1,{"$f":"A144","v":141},"RCP4-SA6R-12","先頭","○"]
[141,600,0,8500,8500,2000,570,40,0,350,{"$f":"A143","v":140},{"$f":"A145","v":142},null,"○","○"]
[142,650,0,8500,8500,2000,490,40,0,350,{"$f":"A144","v":141},{"$f":"A146","v":143},null,"○","○"]
[143,700,0,8500,8500,2000,430,40,0,350,{"$f":"A145","v":142},{"$f":"A147","v":144},null,"○","○"]
[144,750,0,8500,8500,2000,375,40,0,350,{"$f":"A146","v":143},{"$f":"A148","v":145},null,"○","○"]
[145,800,0,8500,8500,2000,335,40,0,350,{"$f":"A147","v":144},-1,null,"○","最後"]
[146,600,0,6000,6000,500,960,40,0,225,-1,{"$f":"A150","v":147},"RCP4-SA6R-20","先頭","○"]
[147,650,0,6000,6000,500,905,40,0,225,{"$f":"A149","v":146},{"$f":"A151","v":148},null,"○","○"]
[148,700,0,6000,6000,500,785,40,0,225,{"$f":"A150","v":147},{"$f":"A152","v":149},null,"○","○"]
[149,750,0,6000,6000,500,690,40,0,225,{"$f":"A151","v":148},{"$f":"A153","v":150},null,"○","○"]
[150,800,0,6000,6000,500,615,40,0,225,{"$f":"A152","v":149},-1,null,"○","最後"]
[151,750,0,40000,40000,15000,140,40,0,400,-1,{"$f":"A155","v":152},"RCP4-SA7R-4","先頭","○"]
[152,800,0,40000,40000,15000,125,40,0,400,{"$f":"A154","v":151},-1,null,"○","最後"]
[153,750,0,40000,40000,10000,280,40,0,290,-1,{"$f":"A157","v":154},"RCP4-SA7R-8","先頭","○"]
[154,800,0,40000,40000,10000,255,40,0,290,{"$f":"A156","v":153},-1,null,"○","最後"]
[155,750,0,35000,35000,5000,560,40,0,240,-1,{"$f":"A159","v":156},"RCP4-SA7R-16","先頭","○"]
[156,800,0,35000,35000,5000,515,40,0,240,{"$f":"A158","v":155},-1,null,"○","最後"]
[157,750,0,18000,18000,2000,800,40,0,175,-1,{"$f":"A161","v":158},"RCP4-SA7R-24","先頭","○"]
[158,800,0,18000,18000,2000,790,40,0,175,{"$f":"A160","v":157},-1,null,"○","最後"]
[159,400,0,40000,40000,20000,125,40,0,380,-1,-1,"RCP4-RA5R-3","先頭","最後"]
[160,400,0,40000,40000,10000,250,40,0,240,-1,-1,"RCP4-RA5R-6","先頭","最後"]
[161,400,0,25000,25000,4000,500,40,0,200,-1,-1,"RCP4-RA5R-12","先頭","最後"]
[162,400,0,6000,6000,1500,640,40,0,210,-1,-1,"RCP4-RA5R-20","先頭","最後"]
[163,500,0,55000,55000,26000,140,40,0,400,-1,-1,"RCP4-RA6R-4","先頭","最後"]
[164,500,0,50000,50000,17500,210,40,0,400,-1,-1,"RCP4-RA6R-8","先頭","最後"]
[165,500,0,40000,40000,5000,420,40,0,300,-1,-1,"RCP4-RA6R-16","先頭","最後"]
[166,500,0,18000,18000,3000,600,40,0,215,-1,-1,"RCP4-RA6R-24","先頭","最後"]
[167,550,0,12000,12000,6000,150,40,0,425,-1,{"$f":"A171","v":168},"ERC3D-SA5-3","先頭","○"]
[168,600,0,12000,12000,6000,140,40,0,422,{"$f":"A170","v":167},{"$f":"A172","v":169},null,"○","○"]
[169,650,0,12000,12000,6000,120,40,0,421,{"$f":"A171","v":168},{"$f":"A173","v":170},null,"○","○"]
[170,700,0,12000,12000,6000,105,40,0,421,{"$f":"A172","v":169},{"$f":"A174","v":171},null,"○","○"]
[171,750,0,12000,12000,6000,90,40,0,419,{"$f":"A173","v":170},{"$f":"A175","v":172},null,"○","○"]
[172,800,0,12000,12000,6000,80,40,0,419,{"$f":"A174","v":171},-1,null,"○","最後"]
[173,550,0,12000,12000,3000,300,40,0,416,-1,{"$f":"A177","v":174},"ERC3D-SA5-6","先頭","○"]
[174,600,0,12000,12000,3000,285,40,0,414,{"$f":"A176","v":173},{"$f":"A178","v":175},null,"○","○"]
[175,650,0,12000,12000,3000,245,40,0,414,{"$f":"A177","v":174},{"$f":"A179","v":176},null,"○","○"]
[176,700,0,12000,12000,3000,215,40,0,414,{"$f":"A178","v":175},{"$f":"A180","v":177},null,"○","○"]
[177,750,0,12000,12000,3000,185,40,0,413,{"$f":"A179","v":176},{"$f":"A181","v":178},null,"○","○"]
[178,800,0,12000,12000,3000,165,40,0,413,{"$f":"A180","v":177},-1,null,"○","最後"]
[179,550,0,6000,6000,1500,600,40,0,361,-1,{"$f":"A183","v":180},"ERC3D-SA5-12","先頭","○"]
[180,600,0,6000,6000,1500,570,40,0,358,{"$f":"A182","v":179},{"$f":"A184","v":181},null,"○","○"]
[181,650,0,6000,6000,1500,490,40,0,357,{"$f":"A183","v":180},{"$f":"A185","v":182},null,"○","○"]
[182,700,0,6000,6000,1500,425,40,0,357,{"$f":"A184","v":181},{"$f":"A186","v":183},null,"○","○"]
[183,750,0,6000,6000,1500,375,40,0,356,{"$f":"A185","v":182},{"$f":"A187","v":184},null,"○","○"]
[184,800,0,6000,6000,1500,330,40,0,356,{"$f":"A186","v":183},-1,null,"○","最後"]
[185,600,0,3500,3500,1000,1000,40,0,284,-1,{"$f":"A189","v":186},"ERC3D-SA5-20","先頭","○"]
[186,650,0,3500,3500,1000,900,40,0,281,{"$f":"A188","v":185},{"$f":"A190","v":187},null,"○","○"]
[187,700,0,3500,3500,1000,785,40,0,281,{"$f":"A189","v":186},{"$f":"A191","v":188},null,"○","○"]
[188,750,0,3500,3500,1000,690,40,0,280,{"$f":"A190","v":187},{"$f":"A192","v":189},null,"○","○"]
[189,800,0,3500,3500,1000,610,40,0,280,{"$f":"A191","v":188},-1,null,"○","最後"]
[190,800,0,20000,20000,10000,125,40,0,457,-1,-1,"ERC3D-SA7-4","先頭","最後"]
[191,800,0,20000,20000,5000,250,40,0,405,-1,-1,"ERC3D-SA7-8","先頭","最後"]
[{"$f":"A194+1","v":192},400,0,10000,10000,2500,450,40,0,581,-1,{"$f":"A196","v":193},"ERC3D-SA7-16","先頭","○"]
[{"$f":"A195+1","v":193},800,0,10000,10000,2500,450,40,0,563,{"$f":"A195","v":192},-1,null,{"$f":"IF(K196<>-1,IF(K196=A195,\"○\",\"◆\"),IF(M196<>\"\",\"先頭\",\"▼\"))","v":"○"},{"$f":"IF(L196<>-1,IF(L196=A197,\"○\",\"◆\"),IF(M197<>\"\",\"最後\",\"▼\"))","v":"最後"}]
[{"$f":"A196+1","v":194},400,0,6000,6000,1500,675,40,0,393,-1,{"$f":"A198","v":195},"ERC3D-SA7-24","先頭","○"]
[{"$f":"A197+1","v":195},800,0,6000,6000,1500,675,40,0,383,{"$f":"A197","v":194},-1,null,"○","最後"]
[{"$f":"A198+1","v":196},550,0,12000,12000,6000,150,40,0,425,-1,{"$f":"A200","v":197},"ERC3CR-SA5-3","先頭","○"]
[{"$f":"A199+1","v":197},600,0,12000,12000,6000,140,40,0,422,{"$f":"A199","v":196},{"$f":"A201","v":198},null,"○","○"]
[198,650,0,12000,12000,6000,120,40,0,421,{"$f":"A200","v":197},{"$f":"A202","v":199},null,"○","○"]
[199,700,0,12000,12000,6000,105,40,0,421,{"$f":"A201","v":198},{"$f":"A203","v":200},null,"○","○"]
[200,750,0,12000,12000,6000,90,40,0,419,{"$f":"A202","v":199},{"$f":"A204","v":201},null,"○","○"]
[201,800,0,12000,12000,6000,80,40,0,419,{"$f":"A203","v":200},-1,null,"○","最後"]
[202,550,0,12000,12000,3000,300,40,0,416,-1,{"$f":"A206","v":203},"ERC3CR-SA5-6","先頭","○"]
[203,600,0,12000,12000,3000,285,40,0,414,{"$f":"A205","v":202},{"$f":"A207","v":204},null,"○","○"]
[204,650,0,12000,12000,3000,245,40,0,414,{"$f":"A206","v":203},{"$f":"A208","v":205},null,"○","○"]
[205,700,0,12000,12000,3000,215,40,0,414,{"$f":"A207","v":204},{"$f":"A209","v":206},null,"○","○"]
[206,750,0,12000,12000,3000,185,40,0,413,{"$f":"A208","v":205},{"$f":"A210","v":207},null,"○","○"]
[207,800,0,12000,12000,3000,165,40,0,413,{"$f":"A209","v":206},-1,null,"○","最後"]
[208,550,0,6000,6000,1500,600,40,0,361,-1,{"$f":"A212","v":209},"ERC3CR-SA5-12","先頭","○"]
[209,600,0,6000,6000,1500,570,40,0,358,{"$f":"A211","v":208},{"$f":"A213","v":210},null,"○","○"]
[210,650,0,6000,6000,1500,490,40,0,357,{"$f":"A212","v":209},{"$f":"A214","v":211},null,"○","○"]
[211,700,0,6000,6000,1500,425,40,0,357,{"$f":"A213","v":210},{"$f":"A215","v":212},null,"○","○"]
[212,750,0,6000,6000,1500,375,40,0,356,{"$f":"A214","v":211},{"$f":"A216","v":213},null,"○","○"]
[213,800,0,6000,6000,1500,330,40,0,356,{"$f":"A215","v":212},-1,null,"○","最後"]
[214,600,0,3500,3500,1000,1000,40,0,284,-1,{"$f":"A218","v":215},"ERC3CR-SA5-20","先頭","○"]
[215,650,0,3500,3500,1000,900,40,0,281,{"$f":"A217","v":214},{"$f":"A219","v":216},null,"○","○"]
[216,700,0,3500,3500,1000,785,40,0,281,{"$f":"A218","v":215},{"$f":"A220","v":217},null,"○","○"]
[217,750,0,3500,3500,1000,690,40,0,280,{"$f":"A219","v":216},{"$f":"A221","v":218},null,"○","○"]
[218,800,0,3500,3500,1000,610,40,0,280,{"$f":"A220","v":217},-1,null,"○","最後"]
[219,800,0,20000,20000,10000,125,40,0,457,-1,-1,"ERC3CR-SA7-4","先頭","最後"]
[220,800,0,20000,20000,5000,250,40,0,405,-1,-1,"ERC3CR-SA7-8","先頭","最後"]
[{"$f":"A223+1","v":221},400,0,10000,10000,2500,450,40,0,581,-1,{"$f":"A225","v":222},"ERC3CR-SA7-16","先頭","○"]
[{"$f":"A224+1","v":222},800,0,10000,10000,2500,450,40,0,563,{"$f":"A224","v":221},-1,null,"○","最後"]
[{"$f":"A225+1","v":223},400,0,6000,6000,1500,675,40,0,393,-1,{"$f":"A227","v":224},"ERC3CR-SA7-24","先頭","○"]
[{"$f":"A226+1","v":224},800,0,6000,6000,1500,675,40,0,383,{"$f":"A226","v":223},-1,null,"○","最後"]
[{"$f":"A227+1","v":225},500,0,12000,12000,9000,130,40,0,400,-1,-1,"RCP5-SA4C-2.5","先頭","最後"]
[226,500,0,12000,12000,4500,260,40,0,400,-1,-1,"RCP5-SA4C-5","先頭","最後"]
[227,500,0,10000,10000,2250,525,40,0,180,-1,-1,"RCP5-SA4C-10","先頭","最後"]
[228,500,0,4000,4000,1000,840,40,0,160,-1,-1,"RCP5-SA4C-16","先頭","最後"]
[229,550,0,19000,19000,10000,150,40,0,400,-1,{"$f":"A233","v":230},"RCP5-SA6C-3","先頭","○"]
[230,600,0,19000,19000,10000,130,40,0,400,{"$f":"A232","v":229},{"$f":"A234","v":231},null,"○","○"]
[231,650,0,19000,19000,10000,115,40,0,400,{"$f":"A233","v":230},{"$f":"A235","v":232},null,"○","○"]
[232,700,0,19000,19000,10000,100,40,0,400,{"$f":"A234","v":231},{"$f":"A236","v":233},null,"○","○"]
[233,750,0,19000,19000,10000,85,40,0,400,{"$f":"A235","v":232},{"$f":"A237","v":234},null,"○","○"]
[234,800,0,19000,19000,10000,75,40,0,400,{"$f":"A236","v":233},-1,null,"○","最後"]
[235,550,0,16000,16000,5000,300,40,0,385,-1,{"$f":"A239","v":236},"RCP5-SA6C-6","先頭","○"]
[236,600,0,16000,16000,5000,265,40,0,385,{"$f":"A238","v":235},{"$f":"A240","v":237},null,"○","○"]
[237,650,0,16000,16000,5000,230,40,0,385,{"$f":"A239","v":236},{"$f":"A241","v":238},null,"○","○"]
[238,700,0,16000,16000,5000,200,40,0,385,{"$f":"A240","v":237},{"$f":"A242","v":239},null,"○","○"]
[239,750,0,16000,16000,5000,175,40,0,385,{"$f":"A241","v":238},{"$f":"A243","v":240},null,"○","○"]
[240,800,0,16000,16000,5000,155,40,0,385,{"$f":"A242","v":239},-1,null,"○","最後"]
[241,550,0,8500,8500,2000,600,40,0,350,-1,{"$f":"A245","v":242},"RCP5-SA6C-12","先頭","○"]
[242,600,0,8500,8500,2000,535,40,0,350,{"$f":"A244","v":241},{"$f":"A246","v":243},null,"○","○"]
[243,650,0,8500,8500,2000,460,40,0,350,{"$f":"A245","v":242},{"$f":"A247","v":244},null,"○","○"]
[244,700,0,8500,8500,2000,405,40,0,350,{"$f":"A246","v":243},{"$f":"A248","v":245},null,"○","○"]
[245,750,0,8500,8500,2000,355,40,0,350,{"$f":"A247","v":244},{"$f":"A249","v":246},null,"○","○"]
[246,800,0,8500,8500,2000,315,40,0,350,{"$f":"A248","v":245},-1,null,"○","最後"]
[247,600,0,6000,6000,500,960,40,0,225,-1,{"$f":"A251","v":248},"RCP5-SA6C-20","先頭","○"]
[248,650,0,6000,6000,500,840,40,0,225,{"$f":"A250","v":247},{"$f":"A252","v":249},null,"○","○"]
[249,700,0,6000,6000,500,735,40,0,225,{"$f":"A251","v":248},{"$f":"A253","v":250},null,"○","○"]
[250,750,0,6000,6000,500,650,40,0,225,{"$f":"A252","v":249},{"$f":"A254","v":251},null,"○","○"]
[251,800,0,6000,6000,500,575,40,0,225,{"$f":"A253","v":250},-1,null,"○","最後"]
[252,750,0,40000,40000,15000,140,40,0,400,-1,{"$f":"A256","v":253},"RCP5-SA7C-4","先頭","○"]
[253,800,0,40000,40000,15000,125,40,0,400,{"$f":"A255","v":252},-1,null,"○","最後"]
[254,750,0,40000,40000,10000,280,40,0,290,-1,{"$f":"A258","v":255},"RCP5-SA7C-8","先頭","○"]
[255,800,0,40000,40000,10000,255,40,0,290,{"$f":"A257","v":254},-1,null,"○","最後"]
[256,750,0,35000,35000,5000,560,40,0,240,-1,{"$f":"A260","v":257},"RCP5-SA7C-16","先頭","○"]
[257,800,0,35000,35000,5000,520,40,0,240,{"$f":"A259","v":256},-1,null,{"$f":"IF(K260<>-1,IF(K260=A259,\"○\",\"◆\"),IF(M260<>\"\",\"先頭\",\"▼\"))","v":"○"},{"$f":"IF(L260<>-1,IF(L260=A261,\"○\",\"◆\"),IF(M261<>\"\",\"最後\",\"▼\"))","v":"最後"}]
[258,750,0,18000,18000,2000,800,40,0,175,-1,{"$f":"A262","v":259},"RCP5-SA7C-24","先頭","○"]
[259,800,0,18000,18000,2000,785,40,0,175,{"$f":"A261","v":258},-1,null,"○","最後"]
[260,360,0,36000,36000,10000,175,40,0,230,-1,{"$f":"A264","v":261},"RCP5-RA4C-2.5","先頭","○"]
[{"$f":"A263+1","v":261},410,0,36000,36000,10000,170,40,0,230,{"$f":"A263","v":260},-1,null,"○","最後"]
[262,360,0,28000,28000,5000,350,40,0,200,-1,{"$f":"A266","v":263},"RCP5-RA4C-5","先頭","○"]
[263,410,0,28000,28000,5000,340,40,0,200,{"$f":"A265","v":262},-1,null,"○","最後"]
[264,360,0,15000,15000,2500,700,40,0,170,-1,{"$f":"A268","v":265},"RCP5-RA4C-10","先頭","○"]
[265,410,0,15000,15000,2500,685,40,0,170,{"$f":"A267","v":264},-1,null,"○","最後"]
[266,410,0,6000,6000,1500,840,40,0,155,-1,-1,"RCP5-RA4C-16","先頭","最後"]
[267,415,0,40000,40000,20000,125,40,0,375,-1,-1,"RCP5-RA6C-3","先頭","最後"]
[268,415,0,40000,40000,10000,250,40,0,235,-1,-1,"RCP5-RA6C-6","先頭","最後"]
[269,415,0,25000,25000,4000,500,40,0,200,-1,-1,"RCP5-RA6C-12","先頭","最後"]
[270,415,0,6000,6000,1500,640,40,0,205,-1,-1,"RCP5-RA6C-20","先頭","最後"]
[271,520,0,55000,55000,26000,140,40,0,475,-1,-1,"RCP5-RA7C-4","先頭","最後"]
[272,520,0,50000,50000,17500,210,40,0,395,-1,-1,"RCP5-RA7C-8","先頭","最後"]
[273,520,0,40000,40000,5000,420,40,0,200,-1,-1,"RCP5-RA7C-16","先頭","最後"]
[{"$f":"A276+1","v":274},520,0,18000,18000,3000,600,40,0,180,-1,-1,"RCP5-RA7C-24","先頭","最後"]
[{"$f":"A277+1","v":275},400,0,50000,40000,16000,125,40,0,190,-1,-1,"RCP4W-RA6C-3","先頭","最後"]
[{"$f":"A278+1","v":276},300,0,40000,40000,8000,250,40,0,240,-1,{"$f":"A280","v":277},"RCP4W-RA6C-6","先頭","○"]
[{"$f":"A279+1","v":277},400,0,40000,40000,8000,250,40,0,240,{"$f":"A279","v":276},-1,null,"○","最後"]
[{"$f":"A280+1","v":278},400,0,20000,20000,3000,500,40,0,120,-1,-1,"RCP4W-RA6C-12","先頭","最後"]
[279,400,0,30000,-1,30000,60,40,0,400,-1,-1,"RCP4W-RA6C(高推力)-3","先頭","最後"]
[280,500,0,70000,70000,25000,140,40,0,205,-1,-1,"RCP4W-RA7C-4","先頭","最後"]
[281,500,0,50000,50000,15000,210,40,0,210,-1,-1,"RCP4W-RA7C-8","先頭","最後"]
[282,500,0,40000,40000,5000,420,40,0,200,-1,-1,"RCP4W-RA7C-16","先頭","最後"]
[283,500,0,45000,-1,45000,80,40,0,400,-1,-1,"RCP4W-RA7C(高推力)-4","先頭","最後"]
[284,300,0,8000,8000,3500,140,40,0,400,-1,-1,"RCP4-SA3C-2","先頭","最後"]
[285,300,0,5000,5000,2500,280,40,0,400,-1,-1,"RCP4-SA3C-4","先頭","最後"]
[286,300,0,3000,3000,1500,420,40,0,400,-1,-1,"RCP4-SA3C-6","先頭","最後"]
[287,300,0,36000,36000,10000,175,40,0,385,-1,-1,"RCP4-RA3C-2.5","先頭","最後"]
[288,300,0,24000,24000,5000,350,40,0,315,-1,-1,"RCP4-RA3C-5","先頭","最後"]
[289,300,0,12000,12000,2500,700,40,0,200,-1,-1,"RCP4-RA3C-10","先頭","最後"]
[290,300,0,6000,6000,1500,840,40,0,180,-1,-1,"RCP4-RA3C-16","先頭","最後"]
[291,350,0,100000,100000,70000,150,40,0,400,-1,{"$f":"A295","v":292},"RCP5-RA8C-5","先頭","○"]
[292,{"$f":"B294+50","v":400},0,100000,100000,70000,130,40,0,400,{"$f":"A294","v":291},293,null,"○","○"]
[293,450,0,100000,100000,70000,110,40,0,400,292,294,null,"○","○"]
[294,500,0,100000,100000,70000,90,40,0,400,293,295,null,"○","○"]
[295,550,0,100000,100000,70000,80,40,0,400,294,296,null,"○","○"]
[296,600,0,100000,100000,70000,70,40,0,400,295,297,null,"○","○"]
[297,650,0,100000,100000,70000,60,40,0,400,296,298,null,"○","○"]
[298,700,0,100000,100000,70000,55,40,0,400,297,-1,null,"○","最後"]
[299,350,0,60000,60000,40000,300,40,0,400,-1,{"$f":"A303","v":300},"RCP5-RA8C-10","先頭","○"]
[300,{"$f":"B302+50","v":400},0,60000,60000,40000,260,40,0,400,{"$f":"A302","v":299},301,null,"○","○"]
[301,450,0,60000,60000,40000,220,40,0,400,300,302,null,"○","○"]
[302,500,0,60000,60000,40000,180,40,0,400,301,303,null,"○","○"]
[303,550,0,60000,60000,40000,160,40,0,400,302,304,null,"○","○"]
[304,600,0,60000,60000,40000,140,40,0,400,303,305,null,"○","○"]
[305,650,0,60000,60000,40000,120,40,0,400,304,306,null,"○","○"]
[306,700,0,60000,60000,40000,110,40,0,400,305,-1,null,"○","最後"]
[307,350,0,30000,30000,5000,600,40,0,250,-1,{"$f":"A311","v":308},"RCP5-RA8C-20","先頭","○"]
[{"$f":"A310+1","v":308},{"$f":"B310+50","v":400},0,30000,30000,5000,520,40,0,250,{"$f":"A310","v":307},309,null,"○","○"]
[309,450,0,30000,30000,5000,440,40,0,250,308,310,null,"○","○"]
[310,500,0,30000,30000,5000,360,40,0,250,309,311,null,"○","○"]
[311,550,0,30000,30000,5000,320,40,0,250,310,312,null,"○","○"]
[312,600,0,30000,30000,5000,280,40,0,250,311,313,null,"○","○"]
[313,650,0,30000,30000,5000,240,40,0,250,312,314,null,"○","○"]
[314,700,0,30000,30000,5000,220,40,0,250,313,-1,null,"○","最後"]
[315,500,0,300000,300000,150000,63,60,0,400,-1,{"$f":"A319","v":316},"RCP5-RA10C-2.5","先頭","○"]
[316,{"$f":"B318+50","v":550},0,300000,300000,150000,55,60,0,400,{"$f":"A318","v":315},317,null,"○","○"]
[317,600,0,300000,300000,150000,50,60,0,400,316,318,null,"○","○"]
[318,650,0,300000,300000,150000,45,60,0,400,317,319,null,"○","○"]
[319,700,0,300000,300000,150000,40,60,0,400,318,320,null,"○","○"]
[320,750,0,300000,300000,150000,35,60,0,400,319,321,null,"○","○"]
[321,800,0,300000,300000,150000,30,60,0,400,320,-1,null,{"$f":"IF(K324<>-1,IF(K324=A323,\"○\",\"◆\"),IF(M324<>\"\",\"先頭\",\"▼\"))","v":"○"},{"$f":"IF(L324<>-1,IF(L324=A325,\"○\",\"◆\"),IF(M325<>\"\",\"最後\",\"▼\"))","v":"最後"}]
[322,400,0,150000,150000,100000,125,60,0,400,-1,{"$f":"A326","v":323},"RCP5-RA10C-5","先頭","○"]
[323,{"$f":"B325+50","v":450},0,150000,150000,100000,110,60,0,400,{"$f":"A325","v":322},324,null,"○","○"]
[324,500,0,150000,150000,100000,90,60,0,400,323,325,null,"○","○"]
[325,550,0,150000,150000,100000,80,60,0,400,324,326,null,"○","○"]
[326,600,0,150000,150000,100000,70,60,0,400,325,327,null,"○","○"]
[327,650,0,150000,150000,100000,60,60,0,400,326,328,null,"○","○"]
[328,700,0,150000,150000,100000,55,60,0,400,327,329,null,"○","○"]
[329,750,0,150000,150000,100000,50,60,0,400,328,330,null,"○","○"]
[330,800,0,150000,150000,100000,45,60,0,400,329,-1,null,"○","最後"]
[331,500,0,80000,80000,80000,250,60,0,400,-1,{"$f":"A335","v":332},"RCP5-RA10C-10","先頭","○"]
[332,{"$f":"B334+50","v":550},0,80000,80000,80000,220,60,0,400,{"$f":"A334","v":331},333,null,"○","○"]
[333,600,0,80000,80000,80000,200,60,0,400,332,334,null,"○","○"]
[334,650,0,80000,80000,80000,180,60,0,400,333,335,null,"○","○"]
[335,700,0,80000,80000,80000,160,60,0,400,334,336,null,"○","○"]
[336,750,0,80000,80000,80000,140,60,0,400,335,337,null,"○","○"]
[337,800,0,80000,80000,80000,120,60,0,400,336,-1,null,"○","最後"]
[338,450,0,100000,100000,70000,100,40,0,400,-1,{"$f":"A342","v":339},"RCP5-RA8R-5","先頭","○"]
[339,{"$f":"B341+50","v":500},0,100000,100000,70000,90,40,0,400,{"$f":"A341","v":338},{"$f":"A343","v":340},null,"○","○"]
[{"$f":"A342+1","v":340},{"$f":"B342+50","v":550},0,100000,100000,70000,80,40,0,400,{"$f":"A342","v":339},{"$f":"A344","v":341},null,"○","○"]
[341,{"$f":"B343+50","v":600},0,100000,100000,70000,70,40,0,400,{"$f":"A343","v":340},{"$f":"A345","v":342},null,"○","○"]
[342,{"$f":"B344+50","v":650},0,100000,100000,70000,60,40,0,400,{"$f":"A344","v":341},{"$f":"A346","v":343},null,"○","○"]
[343,{"$f":"B345+50","v":700},0,100000,100000,70000,55,40,0,400,{"$f":"A345","v":342},-1,null,"○","最後"]
[344,450,0,60000,60000,40000,200,40,0,400,-1,{"$f":"A348","v":345},"RCP5-RA8R-10","先頭","○"]
[345,{"$f":"B347+50","v":500},0,60000,60000,40000,180,40,0,400,{"$f":"A347","v":344},{"$f":"A349","v":346},null,"○","○"]
[346,{"$f":"B348+50","v":550},0,60000,60000,40000,160,40,0,400,{"$f":"A348","v":345},{"$f":"A350","v":347},null,"○","○"]
[347,{"$f":"B349+50","v":600},0,60000,60000,40000,140,40,0,400,{"$f":"A349","v":346},{"$f":"A351","v":348},null,"○","○"]
[348,{"$f":"B350+50","v":650},0,60000,60000,40000,120,40,0,400,{"$f":"A350","v":347},{"$f":"A352","v":349},null,"○","○"]
[349,{"$f":"B351+50","v":700},0,60000,60000,40000,110,40,0,400,{"$f":"A351","v":348},-1,null,"○","最後"]
[350,450,0,30000,30000,5000,400,40,0,250,-1,{"$f":"A354","v":351},"RCP5-RA8R-20","先頭","○"]
[351,{"$f":"B353+50","v":500},0,30000,30000,5000,360,40,0,250,{"$f":"A353","v":350},{"$f":"A355","v":352},null,"○","○"]
[352,{"$f":"B354+50","v":550},0,30000,30000,5000,320,40,0,250,{"$f":"A354","v":351},{"$f":"A356","v":353},null,"○","○"]
[353,{"$f":"B355+50","v":600},0,30000,30000,5000,280,40,0,250,{"$f":"A355","v":352},{"$f":"A357","v":354},null,"○","○"]
[354,{"$f":"B356+50","v":650},0,30000,30000,5000,240,40,0,250,{"$f":"A356","v":353},{"$f":"A358","v":355},null,"○","○"]
[355,{"$f":"B357+50","v":700},0,30000,30000,5000,220,40,0,250,{"$f":"A357","v":354},-1,null,"○","最後"]
[356,600,0,300000,300000,150000,50,60,0,400,-1,{"$f":"A360","v":357},"RCP5-RA10R-2.5","先頭","○"]
[357,{"$f":"B359+50","v":650},0,300000,300000,150000,45,60,0,400,{"$f":"A359","v":356},{"$f":"A361","v":358},null,"○","○"]
[358,{"$f":"B360+50","v":700},0,300000,300000,150000,40,60,0,400,{"$f":"A360","v":357},{"$f":"A362","v":359},null,"○","○"]
[359,{"$f":"B361+50","v":750},0,300000,300000,150000,35,60,0,400,{"$f":"A361","v":358},{"$f":"A363","v":360},null,"○","○"]
[360,{"$f":"B362+50","v":800},0,300000,300000,150000,30,60,0,400,{"$f":"A362","v":359},-1,null,"○","最後"]
[361,450,0,150000,150000,100000,100,60,0,400,-1,{"$f":"A365","v":362},"RCP5-RA10R-5","先頭","○"]
[362,{"$f":"B364+50","v":500},0,150000,150000,100000,90,60,0,400,{"$f":"A364","v":361},363,null,"○","○"]
[363,550,0,150000,150000,100000,80,60,0,400,362,364,null,"○","○"]
[364,600,0,150000,150000,100000,70,60,0,400,363,365,null,"○","○"]
[365,650,0,150000,150000,100000,60,60,0,400,364,366,null,"○","○"]
[366,700,0,150000,150000,100000,55,60,0,400,365,367,null,"○","○"]
[367,750,0,150000,150000,100000,50,60,0,400,366,368,null,"○","○"]
[368,800,0,150000,150000,100000,45,60,0,400,367,-1,null,"○","最後"]
[369,600,0,80000,80000,80000,200,60,0,400,-1,{"$f":"A373","v":370},"RCP5-RA10R-10","先頭","○"]
[370,{"$f":"B372+50","v":650},0,80000,80000,80000,180,60,0,400,{"$f":"A372","v":369},{"$f":"A374","v":371},null,"○","○"]
[371,{"$f":"B373+50","v":700},0,80000,80000,80000,160,60,0,400,{"$f":"A373","v":370},{"$f":"A375","v":372},null,"○","○"]
[372,{"$f":"B374+50","v":750},0,80000,80000,80000,140,60,0,400,{"$f":"A374","v":371},{"$f":"A376","v":373},null,"○","○"]
[{"$f":"A375+1","v":373},{"$f":"B375+50","v":800},0,80000,80000,80000,120,60,0,400,{"$f":"A375","v":372},-1,null,"○","最後"]
[374,300,0,8000,8000,3500,140,40,0,325,-1,-1,"RCP4-SA3R-2","先頭","最後"]
[375,300,0,5000,5000,2500,280,40,0,345,-1,-1,"RCP4-SA3R-4","先頭","最後"]
[376,300,0,3000,3000,1500,420,40,0,355,-1,-1,"RCP4-SA3R-6","先頭","最後"]
[377,300,0,36000,36000,10000,175,40,0,390,-1,-1,"RCP4-RA3R-2.5","先頭","最後"]
[378,300,0,24000,24000,5000,350,40,0,315,-1,-1,"RCP4-RA3R-5","先頭","最後"]
[379,300,0,12000,12000,2500,700,40,0,200,-1,-1,"RCP4-RA3R-10","先頭","最後"]
[{"$f":"A382+1","v":380},300,0,6000,5000,1000,840,40,0,180,-1,-1,"RCP4-RA3R-16","先頭","最後"]
[{"$f":"A383+1","v":381},1200,0,1500,1000,-1,1200,10,0,60,-1,-1,"RCP5-BA4-48","先頭","最後"]
[{"$f":"A384+1","v":382},2200,0,6000,3000,-1,1400,10,0,50,-1,-1,"RCP5-BA6-48","先頭","最後"]
[383,2600,0,16000,14000,-1,1200,10,0,55,-1,-1,"RCP5-BA7-48","先頭","最後"]
[384,500,0,12000,12000,9000,130,40,0,350,-1,-1,"RCP5-SA4R-2.5","先頭","最後"]
[385,500,0,12000,12000,4500,260,40,0,370,-1,-1,"RCP5-SA4R-5",{"$f":"IF(K388<>-1,IF(K388=A387,\"○\",\"◆\"),IF(M388<>\"\",\"先頭\",\"▼\"))","v":"先頭"},{"$f":"IF(L388<>-1,IF(L388=A389,\"○\",\"◆\"),IF(M389<>\"\",\"最後\",\"▼\"))","v":"最後"}]
[386,500,0,10000,10000,2250,525,40,0,175,-1,-1,"RCP5-SA4R-10","先頭","最後"]
[387,500,0,4000,4000,1000,840,40,0,155,-1,-1,"RCP5-SA4R-16","先頭","最後"]
[388,550,0,19000,19000,10000,150,40,0,370,-1,{"$f":"A392","v":389},"RCP5-SA6R-3","先頭","○"]
[389,{"$f":"B391+50","v":600},0,19000,19000,10000,130,40,0,370,{"$f":"A391","v":388},{"$f":"A393","v":390},null,"○","○"]
[390,{"$f":"B392+50","v":650},0,19000,19000,10000,115,40,0,370,{"$f":"A392","v":389},{"$f":"A394","v":391},null,"○","○"]
[391,{"$f":"B393+50","v":700},0,19000,19000,10000,100,40,0,370,{"$f":"A393","v":390},{"$f":"A395","v":392},null,"○","○"]
[392,{"$f":"B394+50","v":750},0,19000,19000,10000,85,40,0,370,{"$f":"A394","v":391},{"$f":"A396","v":393},null,"○","○"]
[393,{"$f":"B395+50","v":800},0,19000,19000,10000,75,40,0,370,{"$f":"A395","v":392},-1,null,"○","最後"]
[394,550,0,16000,16000,5000,300,40,0,365,-1,{"$f":"A398","v":395},"RCP5-SA6R-6","先頭","○"]
[395,{"$f":"B397+50","v":600},0,16000,16000,5000,265,40,0,365,{"$f":"A397","v":394},{"$f":"A399","v":396},null,"○","○"]
[396,{"$f":"B398+50","v":650},0,16000,16000,5000,230,40,0,365,{"$f":"A398","v":395},{"$f":"A400","v":397},null,"○","○"]
[397,{"$f":"B399+50","v":700},0,16000,16000,5000,200,40,0,365,{"$f":"A399","v":396},{"$f":"A401","v":398},null,"○","○"]
[398,{"$f":"B400+50","v":750},0,16000,16000,5000,175,40,0,365,{"$f":"A400","v":397},{"$f":"A402","v":399},null,"○","○"]
[399,{"$f":"B401+50","v":800},0,16000,16000,5000,155,40,0,365,{"$f":"A401","v":398},-1,null,"○","最後"]
[400,550,0,8500,8500,2000,600,40,0,340,-1,{"$f":"A404","v":401},"RCP5-SA6R-12","先頭","○"]
[{"$f":"A403+1","v":401},{"$f":"B403+50","v":600},0,8500,8500,2000,535,40,0,340,{"$f":"A403","v":400},{"$f":"A405","v":402},null,"○","○"]
[402,{"$f":"B404+50","v":650},0,8500,8500,2000,460,40,0,340,{"$f":"A404","v":401},{"$f":"A406","v":403},null,"○","○"]
[403,{"$f":"B405+50","v":700},0,8500,8500,2000,405,40,0,340,{"$f":"A405","v":402},{"$f":"A407","v":404},null,"○","○"]
[404,{"$f":"B406+50","v":750},0,8500,8500,2000,355,40,0,340,{"$f":"A406","v":403},{"$f":"A408","v":405},null,"○","○"]
[{"$f":"A407+1","v":405},{"$f":"B407+50","v":800},0,8500,8500,2000,315,40,0,340,{"$f":"A407","v":404},-1,null,"○","最後"]
[{"$f":"A408+1","v":406},600,0,6000,6000,500,960,40,0,220,-1,{"$f":"A410","v":407},"RCP5-SA6R-20","先頭","○"]
[407,{"$f":"B409+50","v":650},0,6000,6000,500,840,40,0,220,{"$f":"A409","v":406},{"$f":"A411","v":408},null,"○","○"]
[408,{"$f":"B410+50","v":700},0,6000,6000,500,735,40,0,220,{"$f":"A410","v":407},{"$f":"A412","v":409},null,"○","○"]
[409,{"$f":"B411+50","v":750},0,6000,6000,500,650,40,0,220,{"$f":"A411","v":408},{"$f":"A413","v":410},null,"○","○"]
[{"$f":"A412+1","v":410},{"$f":"B412+50","v":800},0,6000,6000,500,575,40,0,220,{"$f":"A412","v":409},-1,null,"○","最後"]
[411,750,0,40000,40000,15000,140,40,0,375,-1,{"$f":"A415","v":412},"RCP5-SA7R-4","先頭","○"]
[412,{"$f":"B414+50","v":800},0,40000,40000,15000,125,40,0,375,{"$f":"A414","v":411},-1,null,"○","最後"]
[413,750,0,40000,40000,10000,280,40,0,280,-1,{"$f":"A417","v":414},"RCP5-SA7R-8","先頭","○"]
[414,{"$f":"B416+50","v":800},0,40000,40000,10000,255,40,0,280,{"$f":"A416","v":413},-1,null,"○","最後"]
[415,750,0,35000,35000,5000,560,40,0,235,-1,{"$f":"A419","v":416},"RCP5-SA7R-16","先頭","○"]
[416,{"$f":"B418+50","v":800},0,35000,35000,5000,520,40,0,235,{"$f":"A418","v":415},-1,null,"○","最後"]
[417,750,0,18000,18000,2000,800,40,0,175,-1,{"$f":"A421","v":418},"RCP5-SA7R-24","先頭","○"]
[418,{"$f":"B420+50","v":800},0,18000,18000,2000,785,40,0,175,{"$f":"A420","v":417},-1,null,"○","最後"]
[419,410,0,35000,35000,10000,130,40,0,210,-1,-1,"RCP5-RA4R-2.5","先頭","最後"]
[420,410,0,22000,22000,5000,260,40,0,225,-1,-1,"RCP5-RA4R-5","先頭","最後"]
[421,410,0,10000,10000,2000,525,40,0,230,-1,-1,"RCP5-RA4R-10","先頭","最後"]
[{"$f":"A424+1","v":422},410,0,5000,5000,1000,560,40,0,175,-1,-1,"RCP5-RA4R-16","先頭","最後"]
[{"$f":"A425+1","v":423},415,0,40000,40000,20000,125,40,0,350,-1,-1,"RCP5-RA6R-3","先頭","最後"]
[{"$f":"A426+1","v":424},415,0,40000,40000,10000,250,40,0,230,-1,-1,"RCP5-RA6R-6","先頭","最後"]
[425,415,0,25000,25000,4000,500,40,0,200,-1,-1,"RCP5-RA6R-12","先頭","最後"]
[426,415,0,6000,6000,1500,640,40,0,200,-1,-1,"RCP5-RA6R-20","先頭","最後"]
[427,520,0,55000,55000,26000,140,40,0,445,-1,-1,"RCP5-RA7R-4","先頭","最後"]
[428,520,0,50000,50000,17500,210,40,0,380,-1,-1,"RCP5-RA7R-8","先頭","最後"]
[429,520,0,40000,40000,5000,420,40,0,200,-1,-1,"RCP5-RA7R-16","先頭","最後"]
[430,520,0,18000,18000,3000,600,40,0,180,-1,-1,"RCP5-RA7R-24","先頭","最後"]
[431,500,0,55000,-1,55000,90,40,0,400,-1,-1,"RCP4-RA6C(高推力)-4","先頭","最後"]
[432,400,0,80000,80000,56000,120,40,0,400,-1,{"$f":"A436","v":433},"RCP5W-RA8C-5","先頭","○"]
[433,{"$f":"B435+50","v":450},0,80000,80000,56000,110,40,0,400,{"$f":"A435","v":432},434,null,"○","○"]
[434,500,0,80000,80000,56000,90,40,0,400,433,435,null,"○","○"]
[435,550,0,80000,80000,56000,80,40,0,400,434,436,null,"○","○"]
[436,600,0,80000,80000,56000,70,40,0,400,435,437,null,"○","○"]
[437,650,0,80000,80000,56000,60,40,0,400,436,438,null,"○","○"]
[438,700,0,80000,80000,56000,55,40,0,400,437,-1,null,"○","最後"]
[439,400,0,48000,48000,32000,240,40,0,400,-1,{"$f":"A443","v":440},"RCP5W-RA8C-10","先頭","○"]
[440,{"$f":"B442+50","v":450},0,48000,48000,32000,220,40,0,400,{"$f":"A442","v":439},441,null,"○","○"]
[441,500,0,48000,48000,32000,180,40,0,400,440,442,null,"○","○"]
[442,550,0,48000,48000,32000,160,40,0,400,441,443,null,"○","○"]
[443,600,0,48000,48000,32000,140,40,0,400,442,444,null,"○","○"]
[444,650,0,48000,48000,32000,120,40,0,400,443,445,null,"○","○"]
[445,700,0,48000,48000,32000,110,40,0,400,444,-1,null,"○","最後"]
[446,400,0,24000,24000,4000,480,40,0,250,-1,{"$f":"A450","v":447},"RCP5W-RA8C-20","先頭","○"]
[447,{"$f":"B449+50","v":450},0,24000,24000,4000,440,40,0,250,{"$f":"A449","v":446},448,null,"○","○"]
[448,500,0,24000,24000,4000,360,40,0,250,447,449,null,"○","○"]
[449,550,0,24000,24000,4000,320,40,0,250,448,450,null,{"$f":"IF(K452<>-1,IF(K452=A451,\"○\",\"◆\"),IF(M452<>\"\",\"先頭\",\"▼\"))","v":"○"},{"$f":"IF(L452<>-1,IF(L452=A453,\"○\",\"◆\"),IF(M453<>\"\",\"最後\",\"▼\"))","v":"○"}]
[450,600,0,24000,24000,4000,280,40,0,250,449,451,null,"○","○"]
[451,650,0,24000,24000,4000,240,40,0,250,450,452,null,"○","○"]
[452,700,0,24000,24000,4000,220,40,0,250,451,-1,null,"○","最後"]
[453,600,0,240000,240000,120000,50,60,0,400,-1,{"$f":"A457","v":454},"RCP5W-RA10C-2.5","先頭","○"]
[454,650,0,240000,240000,120000,45,60,0,400,{"$f":"A456","v":453},{"$f":"A458","v":455},null,"○","○"]
[455,700,0,240000,240000,120000,40,60,0,400,{"$f":"A457","v":454},{"$f":"A459","v":456},null,"○","○"]
[456,750,0,240000,240000,120000,35,60,0,400,{"$f":"A458","v":455},{"$f":"A460","v":457},null,"○","○"]
[457,800,0,240000,240000,120000,30,60,0,400,{"$f":"A459","v":456},-1,null,"○","最後"]
[458,450,0,120000,120000,80000,100,60,0,400,-1,{"$f":"A462","v":459},"RCP5W-RA10C-5","先頭","○"]
[459,500,0,120000,120000,80000,90,60,0,400,{"$f":"A461","v":458},460,null,"○","○"]
[460,550,0,120000,120000,80000,80,60,0,400,459,461,null,"○","○"]
[461,600,0,120000,120000,80000,70,60,0,400,460,462,null,"○","○"]
[462,650,0,120000,120000,80000,60,60,0,400,461,463,null,"○","○"]
[463,700,0,120000,120000,80000,55,60,0,400,462,464,null,"○","○"]
[464,750,0,120000,120000,80000,50,60,0,400,463,{"$f":"A468","v":465},null,"○","○"]
[465,800,0,120000,120000,80000,45,60,0,400,{"$f":"A467","v":464},-1,null,"○","最後"]
[466,600,0,64000,64000,64000,200,60,0,400,-1,{"$f":"A470","v":467},"RCP5W-RA10C-10","先頭","○"]
[467,650,0,64000,64000,64000,180,60,0,400,{"$f":"A469","v":466},{"$f":"A471","v":468},null,"○","○"]
[468,700,0,64000,64000,64000,160,60,0,400,{"$f":"A470","v":467},{"$f":"A472","v":469},null,"○","○"]
[469,750,0,64000,64000,64000,140,60,0,400,{"$f":"A471","v":468},{"$f":"A473","v":470},null,"○","○"]
[470,800,0,64000,64000,64000,120,60,0,400,{"$f":"A472","v":469},-1,null,"○","最後"]
[{"$f":"A473+1","v":471},650,0,80000,80000,55000,250,35,0,170,-1,{"$f":"A475","v":472},"RCP6-SA8C-5","先頭","○"]
[472,{"$f":"B474+50","v":700},0,80000,80000,55000,240,35,0,170,{"$f":"A474","v":471},473,null,"○","○"]
[473,750,0,80000,80000,55000,215,35,0,170,472,474,null,"○","○"]
[474,800,0,80000,80000,55000,190,35,0,170,473,475,null,"○","○"]
[475,850,0,80000,80000,55000,175,35,0,170,474,476,null,"○","○"]
[476,900,0,80000,80000,55000,155,35,0,170,475,477,null,"○","○"]
[477,950,0,80000,80000,55000,140,35,0,170,476,478,null,"○","○"]
[478,1000,0,80000,80000,55000,130,35,0,170,477,479,null,"○","○"]
[479,1050,0,80000,80000,55000,120,35,0,170,478,480,null,"○","○"]
[480,1100,0,80000,80000,55000,110,35,0,170,479,-1,null,"○","最後"]
[481,650,0,70000,70000,25000,500,35,0,110,-1,{"$f":"A485","v":482},"RCP6-SA8C-10","先頭","○"]
[482,{"$f":"B484+50","v":700},0,70000,70000,25000,480,35,0,110,{"$f":"A484","v":481},483,null,"○","○"]
[483,750,0,70000,70000,25000,430,35,0,110,482,484,null,"○","○"]
[484,800,0,70000,70000,25000,385,35,0,110,483,485,null,"○","○"]
[485,850,0,70000,70000,25000,345,35,0,110,484,486,null,"○","○"]
[486,900,0,70000,70000,25000,310,35,0,110,485,487,null,"○","○"]
[487,950,0,70000,70000,25000,285,35,0,110,486,488,null,"○","○"]
[488,1000,0,70000,70000,25000,260,35,0,110,487,489,null,"○","○"]
[489,1050,0,70000,70000,25000,235,35,0,110,488,490,null,"○","○"]
[490,1100,0,70000,70000,25000,220,35,0,110,489,-1,null,"○","最後"]
[491,650,0,60000,60000,4000,1000,40,0,85,-1,{"$f":"A495","v":492},"RCP6-SA8C-20","先頭","○"]
[492,{"$f":"B494+50","v":700},0,60000,60000,4000,950,40,0,85,{"$f":"A494","v":491},493,null,"○","○"]
[493,750,0,60000,60000,4000,860,40,0,85,492,494,null,"○","○"]
[494,800,0,60000,60000,4000,770,40,0,85,493,495,null,"○","○"]
[495,850,0,60000,60000,4000,695,40,0,85,494,496,null,"○","○"]
[496,900,0,60000,60000,4000,630,40,0,85,495,497,null,"○","○"]
[497,950,0,60000,60000,4000,570,40,0,85,496,498,null,"○","○"]
[498,1000,0,60000,60000,4000,520,40,0,85,497,499,null,"○","○"]
[499,1050,0,60000,60000,4000,480,40,0,85,498,500,null,"○","○"]
[500,1100,0,60000,60000,4000,440,40,0,85,499,-1,null,"○","最後"]
[501,750,0,28000,28000,3000,1200,35,0,75,-1,{"$f":"A505","v":502},"RCP6-SA8C-30","先頭","○"]
[502,{"$f":"B504+50","v":800},0,28000,28000,3000,1155,35,0,75,{"$f":"A504","v":501},503,null,"○","○"]
[503,850,0,28000,28000,3000,1040,35,0,75,502,504,null,"○","○"]
[504,900,0,28000,28000,3000,940,35,0,75,503,505,null,"○","○"]
[505,950,0,28000,28000,3000,855,35,0,75,504,506,null,"○","○"]
[506,1000,0,28000,28000,3000,780,35,0,75,505,507,null,"○","○"]
[507,1050,0,28000,28000,3000,715,35,0,75,506,508,null,"○","○"]
[508,1100,0,28000,28000,3000,660,35,0,75,507,-1,null,"○","最後"]
[509,650,0,80000,80000,55000,250,35,0,170,-1,{"$f":"A513","v":510},"RCP6-SA8R-5","先頭","○"]
[510,{"$f":"B512+50","v":700},0,80000,80000,55000,240,35,0,170,{"$f":"A512","v":509},511,null,"○","○"]
[511,750,0,80000,80000,55000,215,35,0,170,510,512,null,"○","○"]
[512,800,0,80000,80000,55000,190,35,0,170,511,513,null,"○","○"]
[513,850,0,80000,80000,55000,175,35,0,170,512,514,null,{"$f":"IF(K516<>-1,IF(K516=A515,\"○\",\"◆\"),IF(M516<>\"\",\"先頭\",\"▼\"))","v":"○"},{"$f":"IF(L516<>-1,IF(L516=A517,\"○\",\"◆\"),IF(M517<>\"\",\"最後\",\"▼\"))","v":"○"}]
[514,900,0,80000,80000,55000,155,35,0,170,513,515,null,"○","○"]
[515,950,0,80000,80000,55000,145,35,0,170,514,516,null,"○","○"]
[516,1000,0,80000,80000,55000,130,35,0,170,515,517,null,"○","○"]
[517,1050,0,80000,80000,55000,120,35,0,170,516,518,null,"○","○"]
[518,1100,0,80000,80000,55000,110,35,0,170,517,-1,null,"○","最後"]
[519,650,0,70000,70000,25000,500,35,0,110,-1,{"$f":"A523","v":520},"RCP6-SA8R-10","先頭","○"]
[520,{"$f":"B522+50","v":700},0,70000,70000,25000,480,35,0,110,{"$f":"A522","v":519},521,null,"○","○"]
[521,750,0,70000,70000,25000,430,35,0,110,520,522,null,"○","○"]
[522,800,0,70000,70000,25000,385,35,0,110,521,523,null,"○","○"]
[523,850,0,70000,70000,25000,345,35,0,110,522,524,null,"○","○"]
[524,900,0,70000,70000,25000,310,35,0,110,523,525,null,"○","○"]
[525,950,0,70000,70000,25000,285,35,0,110,524,526,null,"○","○"]
[526,1000,0,70000,70000,25000,260,35,0,110,525,527,null,"○","○"]
[527,1050,0,70000,70000,25000,235,35,0,110,526,528,null,"○","○"]
[528,1100,0,70000,70000,25000,220,35,0,110,527,-1,null,"○","最後"]
[529,650,0,55000,55000,4000,1000,35,0,90,-1,{"$f":"A533","v":530},"RCP6-SA8R-20","先頭","○"]
[530,{"$f":"B532+50","v":700},0,55000,55000,4000,950,35,0,90,{"$f":"A532","v":529},531,null,"○","○"]
[531,750,0,55000,55000,4000,860,35,0,90,530,532,null,"○","○"]
[532,800,0,55000,55000,4000,770,35,0,90,531,533,null,"○","○"]
[533,850,0,55000,55000,4000,695,35,0,90,532,534,null,"○","○"]
[534,900,0,55000,55000,4000,630,35,0,90,533,535,null,"○","○"]
[{"$f":"A537+1","v":535},950,0,55000,55000,4000,570,35,0,90,534,536,null,"○","○"]
[536,1000,0,55000,55000,4000,520,35,0,90,535,537,null,"○","○"]
[537,1050,0,55000,55000,4000,480,35,0,90,536,538,null,"○","○"]
[538,1100,0,55000,55000,4000,440,35,0,90,537,-1,null,"○","最後"]
[539,750,0,26000,26000,3000,1200,35,0,75,-1,{"$f":"A543","v":540},"RCP6-SA8R-30","先頭","○"]
[540,{"$f":"B542+50","v":800},0,26000,26000,3000,1155,35,0,75,{"$f":"A542","v":539},541,null,"○","○"]
[541,850,0,26000,26000,3000,1040,35,0,75,540,542,null,"○","○"]
[542,900,0,26000,26000,3000,940,35,0,75,541,543,null,"○","○"]
[543,950,0,26000,26000,3000,855,35,0,75,542,544,null,"○","○"]
[544,1000,0,26000,26000,3000,780,35,0,75,543,545,null,"○","○"]
[545,1050,0,26000,26000,3000,715,35,0,75,544,546,null,"○","○"]
[546,1100,0,26000,26000,3000,660,35,0,75,545,-1,null,"○","最後"]
[547,750,0,100000,100000,50000,195,40,0,300,-1,{"$f":"A551","v":548},"RCP6-WSA16C-5","先頭","○"]
[548,800,0,100000,100000,50000,175,40,0,300,{"$f":"A550","v":547},549,null,"○","○"]
[549,850,0,100000,100000,50000,160,40,0,300,548,550,null,"○","○"]
[550,900,0,100000,100000,50000,145,40,0,300,549,551,null,"○","○"]
[551,950,0,100000,100000,50000,130,40,0,300,550,552,null,"○","○"]
[552,1000,0,100000,100000,50000,120,40,0,300,551,553,null,"○","○"]
[553,1050,0,100000,100000,50000,110,40,0,300,552,554,null,"○","○"]
[554,1100,0,100000,100000,50000,100,40,0,300,553,-1,null,"○","最後"]
[555,650,0,70000,70000,15000,450,40,0,220,-1,{"$f":"A559","v":556},"RCP6-WSA16C-10","先頭","○"]
[556,{"$f":"B558+50","v":700},0,70000,70000,15000,440,40,0,220,{"$f":"A558","v":555},557,null,"○","○"]
[557,750,0,70000,70000,15000,395,40,0,220,556,558,null,"○","○"]
[558,800,0,70000,70000,15000,355,40,0,220,557,559,null,"○","○"]
[559,850,0,70000,70000,15000,320,40,0,220,558,560,null,"○","○"]
[560,900,0,70000,70000,15000,290,40,0,220,559,561,null,"○","○"]
[561,950,0,70000,70000,15000,265,40,0,220,560,562,null,"○","○"]
[562,1000,0,70000,70000,15000,240,40,0,220,561,563,null,"○","○"]
[563,1050,0,70000,70000,15000,225,40,0,220,562,564,null,"○","○"]
[564,1100,0,70000,70000,15000,205,40,0,220,563,-1,null,"○","最後"]
[565,750,0,50000,50000,-1,720,40,0,80,-1,{"$f":"A569","v":566},"RCP6-WSA16C-20","先頭","○"]
[566,{"$f":"B568+50","v":800},0,50000,50000,-1,715,40,0,80,{"$f":"A568","v":565},567,null,"○","○"]
[567,850,0,50000,50000,-1,645,40,0,80,566,568,null,"○","○"]
[568,900,0,50000,50000,-1,590,40,0,80,567,569,null,"○","○"]
[569,950,0,50000,50000,-1,535,40,0,80,568,570,null,"○","○"]
[570,1000,0,50000,50000,-1,490,40,0,80,569,571,null,"○","○"]
[571,1050,0,50000,50000,-1,450,40,0,80,570,572,null,"○","○"]
[572,1100,0,50000,50000,-1,415,40,0,80,571,-1,null,"○","最後"]
[573,800,0,100000,100000,45000,170,40,0,300,-1,{"$f":"A577","v":574},"RCP6-WSA16R-5","先頭","○"]
[574,850,0,100000,100000,45000,160,40,0,300,{"$f":"A576","v":573},575,null,"○","○"]
[575,900,0,100000,100000,45000,145,40,0,300,574,576,null,"○","○"]
[576,950,0,100000,100000,45000,130,40,0,300,575,577,null,"○","○"]
[577,1000,0,100000,100000,45000,120,40,0,300,576,578,null,{"$f":"IF(K580<>-1,IF(K580=A579,\"○\",\"◆\"),IF(M580<>\"\",\"先頭\",\"▼\"))","v":"○"},{"$f":"IF(L580<>-1,IF(L580=A581,\"○\",\"◆\"),IF(M581<>\"\",\"最後\",\"▼\"))","v":"○"}]
[578,1050,0,100000,100000,45000,110,40,0,300,577,579,null,"○","○"]
[579,1100,0,100000,100000,45000,100,40,0,300,578,-1,null,"○","最後"]
[580,750,0,70000,70000,15000,365,40,0,220,-1,{"$f":"A584","v":581},"RCP6-WSA16R-10","先頭","○"]
[581,800,0,70000,70000,15000,355,40,0,220,{"$f":"A583","v":580},582,null,"○","○"]
[582,850,0,70000,70000,15000,320,40,0,220,581,583,null,"○","○"]
[583,900,0,70000,70000,15000,290,40,0,220,582,584,null,"○","○"]
[584,950,0,70000,70000,15000,265,40,0,220,583,585,null,"○","○"]
[585,1000,0,70000,70000,15000,240,40,0,220,584,586,null,"○","○"]
[586,1050,0,70000,70000,15000,225,40,0,220,585,587,null,"○","○"]
[587,1100,0,70000,70000,15000,205,40,0,220,586,-1,null,"○","最後"]
[588,850,0,30000,30000,-1,600,40,0,150,-1,{"$f":"A592","v":589},"RCP6-WSA16R-20","先頭","○"]
[589,900,0,30000,30000,-1,590,40,0,150,{"$f":"A591","v":588},{"$f":"A593","v":590},null,"○","○"]
[590,950,0,30000,30000,-1,535,40,0,150,{"$f":"A592","v":589},{"$f":"A594","v":591},null,"○","○"]
[591,1000,0,30000,30000,-1,490,40,0,150,{"$f":"A593","v":590},{"$f":"A595","v":592},null,"○","○"]
[592,1050,0,30000,30000,-1,450,40,0,150,{"$f":"A594","v":591},{"$f":"A596","v":593},null,"○","○"]
[593,1100,0,30000,30000,-1,415,40,0,150,{"$f":"A595","v":592},-1,null,"○","最後"]
[594,300,0,100000,100000,70000,150,35,0,500,-1,-1,"RCP6-RA8C-5","先頭","最後"]
[595,300,0,60000,60000,40000,300,40,0,450,-1,-1,"RCP6-RA8C-10","先頭","最後"]
[596,300,0,30000,30000,5000,600,40,0,250,-1,-1,"RCP6-RA8C-20","先頭","最後"]
[597,300,0,100000,100000,70000,100,40,0,400,-1,-1,"RCP6-RA8R-5","先頭","最後"]
[598,300,0,60000,60000,40000,200,40,0,380,-1,-1,"RCP6-RA8R-10","先頭","最後"]
[{"$f":"A601+1","v":599},300,0,30000,30000,5000,400,40,0,250,-1,-1,"RCP6-RA8R-20","先頭","最後"]
[600,350,0,100000,100000,70000,150,40,0,400,-1,{"$f":"A604","v":601},"RCP6-RRA8C-5","先頭","○"]
[601,{"$f":"B603+50","v":400},0,100000,100000,70000,130,40,0,400,{"$f":"A603","v":600},602,null,"○","○"]
[602,450,0,100000,100000,70000,110,40,0,400,601,603,null,"○","○"]
[603,500,0,100000,100000,70000,90,40,0,400,602,604,null,"○","○"]
[604,550,0,100000,100000,70000,80,40,0,400,603,605,null,"○","○"]
[605,600,0,100000,100000,70000,70,40,0,400,604,606,null,"○","○"]
[606,650,0,100000,100000,70000,60,40,0,400,605,607,null,"○","○"]
[607,700,0,100000,100000,70000,55,40,0,400,606,-1,null,"○","最後"]
[608,350,0,60000,60000,40000,300,40,0,400,-1,{"$f":"A612","v":609},"RCP6-RRA8C-10","先頭","○"]
[609,{"$f":"B611+50","v":400},0,60000,60000,40000,260,40,0,400,{"$f":"A611","v":608},610,null,"○","○"]
[610,450,0,60000,60000,40000,220,40,0,400,609,611,null,"○","○"]
[611,500,0,60000,60000,40000,180,40,0,400,610,612,null,"○","○"]
[612,550,0,60000,60000,40000,160,40,0,400,611,613,null,"○","○"]
[613,600,0,60000,60000,40000,140,40,0,400,612,614,null,"○","○"]
[614,650,0,60000,60000,40000,120,40,0,400,613,615,null,"○","○"]
[615,700,0,60000,60000,40000,110,40,0,400,614,-1,null,"○","最後"]
[616,350,0,30000,30000,5000,600,40,0,250,-1,{"$f":"A620","v":617},"RCP6-RRA8C-20","先頭","○"]
[617,{"$f":"B619+50","v":400},0,30000,30000,5000,520,40,0,250,{"$f":"A619","v":616},618,null,"○","○"]
[618,450,0,30000,30000,5000,440,40,0,250,617,619,null,"○","○"]
[619,500,0,30000,30000,5000,360,40,0,250,618,620,null,"○","○"]
[620,550,0,30000,30000,5000,320,40,0,250,619,621,null,"○","○"]
[621,600,0,30000,30000,5000,280,40,0,250,620,622,null,"○","○"]
[622,650,0,30000,30000,5000,240,40,0,250,621,623,null,"○","○"]
[623,700,0,30000,30000,5000,220,40,0,250,622,-1,null,"○","最後"]
[624,450,0,100000,100000,70000,100,40,0,400,-1,{"$f":"A628","v":625},"RCP6-RRA8R-5","先頭","○"]
[625,{"$f":"B627+50","v":500},0,100000,100000,70000,90,40,0,400,{"$f":"A627","v":624},{"$f":"A629","v":626},null,"○","○"]
[626,{"$f":"B628+50","v":550},0,100000,100000,70000,80,40,0,400,{"$f":"A628","v":625},{"$f":"A630","v":627},null,"○","○"]
[627,{"$f":"B629+50","v":600},0,100000,100000,70000,70,40,0,400,{"$f":"A629","v":626},{"$f":"A631","v":628},null,"○","○"]
[628,{"$f":"B630+50","v":650},0,100000,100000,70000,60,40,0,400,{"$f":"A630","v":627},{"$f":"A632","v":629},null,"○","○"]
[629,{"$f":"B631+50","v":700},0,100000,100000,70000,55,40,0,400,{"$f":"A631","v":628},-1,null,"○","最後"]
[630,450,0,60000,60000,40000,200,40,0,400,-1,{"$f":"A634","v":631},"RCP6-RRA8R-10","先頭","○"]
[631,{"$f":"B633+50","v":500},0,60000,60000,40000,180,40,0,400,{"$f":"A633","v":630},{"$f":"A635","v":632},null,"○","○"]
[632,{"$f":"B634+50","v":550},0,60000,60000,40000,160,40,0,400,{"$f":"A634","v":631},{"$f":"A636","v":633},null,"○","○"]
[633,{"$f":"B635+50","v":600},0,60000,60000,40000,140,40,0,400,{"$f":"A635","v":632},{"$f":"A637","v":634},null,"○","○"]
[634,{"$f":"B636+50","v":650},0,60000,60000,40000,120,40,0,400,{"$f":"A636","v":633},{"$f":"A638","v":635},null,"○","○"]
[635,{"$f":"B637+50","v":700},0,60000,60000,40000,110,40,0,400,{"$f":"A637","v":634},-1,null,"○","最後"]
[636,450,0,30000,30000,5000,400,40,0,250,-1,{"$f":"A640","v":637},"RCP6-RRA8R-20","先頭","○"]
[637,{"$f":"B639+50","v":500},0,30000,30000,5000,360,40,0,250,{"$f":"A639","v":636},{"$f":"A641","v":638},null,"○","○"]
[638,{"$f":"B640+50","v":550},0,30000,30000,5000,320,40,0,250,{"$f":"A640","v":637},{"$f":"A642","v":639},null,"○","○"]
[639,{"$f":"B641+50","v":600},0,30000,30000,5000,280,40,0,250,{"$f":"A641","v":638},{"$f":"A643","v":640},null,"○","○"]
[640,{"$f":"B642+50","v":650},0,30000,30000,5000,240,40,0,250,{"$f":"A642","v":639},{"$f":"A644","v":641},null,"○","○"]
[641,{"$f":"B643+50","v":700},0,30000,30000,5000,220,40,0,250,{"$f":"A643","v":640},-1,null,{"$f":"IF(K644<>-1,IF(K644=A643,\"○\",\"◆\"),IF(M644<>\"\",\"先頭\",\"▼\"))","v":"○"},{"$f":"IF(L644<>-1,IF(L644=A645,\"○\",\"◆\"),IF(M645<>\"\",\"最後\",\"▼\"))","v":"最後"}]
[642,400,0,100000,100000,70000,130,40,0,360,-1,{"$f":"A646","v":643},"RCP6-WRA16C-5","先頭","○"]
[643,{"$f":"B645+50","v":450},0,100000,100000,70000,115,40,0,360,{"$f":"A645","v":642},644,null,"○","○"]
[644,500,0,100000,100000,70000,95,40,0,360,643,645,null,"○","○"]
[645,550,0,100000,100000,70000,80,40,0,360,644,646,null,"○","○"]
[646,600,0,100000,100000,70000,70,40,0,360,645,647,null,"○","○"]
[647,650,0,100000,100000,70000,60,40,0,360,646,648,null,"○","○"]
[648,700,0,100000,100000,70000,55,40,0,360,647,649,null,"○","○"]
[649,750,0,100000,100000,70000,50,40,0,360,648,650,null,"○","○"]
[650,800,0,100000,100000,70000,45,40,0,360,649,-1,null,"○","最後"]
[651,400,0,60000,60000,36500,240,40,0,260,-1,{"$f":"A655","v":652},"RCP6-WRA16C-10","先頭","○"]
[652,{"$f":"B654+50","v":450},0,60000,60000,36500,230,40,0,260,{"$f":"A654","v":651},653,null,"○","○"]
[653,500,0,60000,60000,36500,195,40,0,260,652,654,null,"○","○"]
[654,550,0,60000,60000,36500,165,40,0,260,653,655,null,"○","○"]
[655,600,0,60000,60000,36500,145,40,0,260,654,656,null,"○","○"]
[656,650,0,60000,60000,36500,125,40,0,260,655,657,null,"○","○"]
[657,700,0,60000,60000,36500,110,40,0,260,656,658,null,"○","○"]
[658,750,0,60000,60000,36500,100,40,0,260,657,659,null,"○","○"]
[659,800,0,60000,60000,36500,90,40,0,260,658,-1,null,"○","最後"]
[660,450,0,30000,30000,-1,450,40,0,180,-1,{"$f":"A664","v":661},"RCP6-WRA16C-20","先頭","○"]
[661,{"$f":"B663+50","v":500},0,30000,30000,-1,400,40,0,180,{"$f":"A663","v":660},662,null,"○","○"]
[662,550,0,30000,30000,-1,340,40,0,180,661,663,null,"○","○"]
[{"$f":"A665+1","v":663},600,0,30000,30000,-1,295,40,0,180,662,664,null,"○","○"]
[664,650,0,30000,30000,-1,260,40,0,180,663,665,null,"○","○"]
[665,700,0,30000,30000,-1,225,40,0,180,664,666,null,"○","○"]
[666,750,0,30000,30000,-1,200,40,0,180,665,667,null,"○","○"]
[667,800,0,30000,30000,-1,180,40,0,180,666,-1,null,"○","最後"]
[668,400,0,100000,100000,63000,120,40,0,360,-1,{"$f":"A672","v":669},"RCP6-WRA16R-5","先頭","○"]
[669,{"$f":"B671+50","v":450},0,100000,100000,63000,115,40,0,360,{"$f":"A671","v":668},670,null,"○","○"]
[670,500,0,100000,100000,63000,95,40,0,360,669,671,null,"○","○"]
[671,550,0,100000,100000,63000,80,40,0,360,670,672,null,"○","○"]
[672,600,0,100000,100000,63000,70,40,0,360,671,673,null,"○","○"]
[673,650,0,100000,100000,63000,60,40,0,360,672,674,null,"○","○"]
[674,700,0,100000,100000,63000,55,40,0,360,673,675,null,"○","○"]
[675,750,0,100000,100000,63000,50,40,0,360,674,676,null,"○","○"]
[676,800,0,100000,100000,63000,45,40,0,360,675,-1,null,"○","最後"]
[677,400,0,60000,60000,34500,240,40,0,260,-1,{"$f":"A681","v":678},"RCP6-WRA16R-10","先頭","○"]
[678,{"$f":"B680+50","v":450},0,60000,60000,34500,230,40,0,260,{"$f":"A680","v":677},679,null,"○","○"]
[679,500,0,60000,60000,34500,195,40,0,260,678,680,null,"○","○"]
[680,550,0,60000,60000,34500,165,40,0,260,679,681,null,"○","○"]
[681,600,0,60000,60000,34500,145,40,0,260,680,682,null,"○","○"]
[682,650,0,60000,60000,34500,125,40,0,260,681,683,null,"○","○"]
[683,700,0,60000,60000,34500,110,40,0,260,682,684,null,"○","○"]
[684,750,0,60000,60000,34500,100,40,0,260,683,685,null,"○","○"]
[685,800,0,60000,60000,34500,90,40,0,260,684,-1,null,"○","最後"]
[686,450,0,30000,30000,-1,420,40,0,180,-1,{"$f":"A690","v":687},"RCP6-WRA16R-20","先頭","○"]
[687,{"$f":"B689+50","v":500},0,30000,30000,-1,400,40,0,180,{"$f":"A689","v":686},688,null,"○","○"]
[688,550,0,30000,30000,-1,340,40,0,180,687,689,null,"○","○"]
[689,600,0,30000,30000,-1,295,40,0,180,688,690,null,"○","○"]
[690,650,0,30000,30000,-1,260,40,0,180,689,691,null,"○","○"]
[691,700,0,30000,30000,-1,225,40,0,180,690,692,null,"○","○"]
[692,750,0,30000,30000,-1,200,40,0,180,691,693,null,"○","○"]
[693,800,0,30000,30000,-1,180,40,0,180,692,-1,null,"○","最後"]
[{"$f":"A696+1","v":694},500,0,12000,12000,9000,130,40,0,439,-1,-1,"RCP6-SA4C-2.5","先頭","最後"]
[{"$f":"A697+1","v":695},500,0,12000,12000,4500,260,40,0,396,-1,-1,"RCP6-SA4C-5","先頭","最後"]
[{"$f":"A698+1","v":696},500,0,10000,10000,2250,525,40,0,162,-1,-1,"RCP6-SA4C-10","先頭","最後"]
[{"$f":"A699+1","v":697},500,0,4000,4000,1000,840,40,0,179,-1,-1,"RCP6-SA4C-16","先頭","最後"]
[698,500,0,25000,25000,10000,170,40,0,546,-1,{"$f":"A702","v":699},"RCP6-SA6C-3","先頭","○"]
[699,{"$f":"B701+50","v":550},0,25000,25000,10000,150,40,0,546,{"$f":"A701","v":698},700,null,"○","○"]
[700,600,0,25000,25000,10000,130,40,0,546,699,701,null,"○","○"]
[701,650,0,25000,25000,10000,115,40,0,546,700,702,null,"○","○"]
[702,700,0,25000,25000,10000,100,40,0,546,701,703,null,"○","○"]
[703,750,0,25000,25000,10000,85,40,0,546,702,704,null,"○","○"]
[{"$f":"A706+1","v":704},800,0,25000,25000,10000,75,40,0,546,703,-1,null,"○","最後"]
[705,500,0,20000,20000,5000,340,40,0,447,-1,{"$f":"A709","v":706},"RCP6-SA6C-6",{"$f":"IF(K708<>-1,IF(K708=A707,\"○\",\"◆\"),IF(M708<>\"\",\"先頭\",\"▼\"))","v":"先頭"},{"$f":"IF(L708<>-1,IF(L708=A709,\"○\",\"◆\"),IF(M709<>\"\",\"最後\",\"▼\"))","v":"○"}]
[706,{"$f":"B708+50","v":550},0,20000,20000,5000,305,40,0,447,{"$f":"A708","v":705},707,null,"○","○"]
[707,600,0,20000,20000,5000,265,40,0,447,706,708,null,"○","○"]
[708,650,0,20000,20000,5000,230,40,0,447,707,709,null,"○","○"]
[709,700,0,20000,20000,5000,200,40,0,447,708,710,null,"○","○"]
[710,750,0,20000,20000,5000,175,40,0,447,709,711,null,"○","○"]
[{"$f":"A713+1","v":711},800,0,20000,20000,5000,155,40,0,447,710,-1,null,"○","最後"]
[712,500,0,14000,14000,2000,680,40,0,269,-1,{"$f":"A716","v":713},"RCP6-SA6C-12","先頭","○"]
[713,{"$f":"B715+50","v":550},0,14000,14000,2000,620,40,0,269,{"$f":"A715","v":712},714,null,"○","○"]
[714,600,0,14000,14000,2000,535,40,0,269,713,715,null,"○","○"]
[715,650,0,14000,14000,2000,460,40,0,269,714,716,null,"○","○"]
[716,700,0,14000,14000,2000,405,40,0,269,715,717,null,"○","○"]
[717,750,0,14000,14000,2000,355,40,0,269,716,718,null,"○","○"]
[{"$f":"A720+1","v":718},800,0,14000,14000,2000,315,40,0,269,717,-1,null,"○","最後"]
[719,600,0,8000,8000,750,960,40,0,226,-1,{"$f":"A723","v":720},"RCP6-SA6C-20","先頭","○"]
[720,{"$f":"B722+50","v":650},0,8000,8000,750,840,40,0,226,{"$f":"A722","v":719},{"$f":"A724","v":721},null,"○","○"]
[721,{"$f":"B723+50","v":700},0,8000,8000,750,735,40,0,226,{"$f":"A723","v":720},{"$f":"A725","v":722},null,"○","○"]
[722,{"$f":"B724+50","v":750},0,8000,8000,750,650,40,0,226,{"$f":"A724","v":721},{"$f":"A726","v":723},null,"○","○"]
[723,{"$f":"B725+50","v":800},0,8000,8000,750,575,40,0,226,{"$f":"A725","v":722},-1,null,"○","最後"]
[724,700,0,40000,40000,15000,140,40,0,414,-1,{"$f":"A728","v":725},"RCP6-SA7C-4","先頭","○"]
[725,{"$f":"B727+50","v":750},0,40000,40000,15000,135,40,0,414,{"$f":"A727","v":724},{"$f":"A729","v":726},null,"○","○"]
[726,{"$f":"B728+50","v":800},0,40000,40000,15000,120,40,0,414,{"$f":"A728","v":725},-1,null,"○","最後"]
[727,700,0,40000,40000,10000,280,40,0,310,-1,{"$f":"A731","v":728},"RCP6-SA7C-8","先頭","○"]
[728,{"$f":"B730+50","v":750},0,40000,40000,10000,275,40,0,310,{"$f":"A730","v":727},{"$f":"A732","v":729},null,"○","○"]
[729,{"$f":"B731+50","v":800},0,40000,40000,10000,245,40,0,310,{"$f":"A731","v":728},-1,null,"○","最後"]
[730,750,0,35000,35000,5000,560,40,0,257,-1,{"$f":"A734","v":731},"RCP6-SA7C-16","先頭","○"]
[731,{"$f":"B733+50","v":800},0,35000,35000,5000,500,40,0,257,{"$f":"A733","v":730},-1,null,"○","最後"]
[732,750,0,18000,18000,2000,800,35,0,195,-1,{"$f":"A736","v":733},"RCP6-SA7C-24","先頭","○"]
[733,{"$f":"B735+50","v":800},0,18000,18000,2000,760,35,0,195,{"$f":"A735","v":732},-1,null,"○","最後"]
[734,500,0,12000,12000,9000,130,40,0,395,-1,-1,"RCP6-SA4R-2.5","先頭","最後"]
[735,500,0,12000,12000,4500,260,40,0,386,-1,-1,"RCP6-SA4R-5","先頭","最後"]
[736,500,0,10000,10000,2250,525,40,0,161,-1,-1,"RCP6-SA4R-10","先頭","最後"]
[{"$f":"A739+1","v":737},500,0,4000,4000,1000,840,40,0,273,-1,-1,"RCP6-SA4R-16","先頭","最後"]
[738,500,0,25000,25000,10000,170,40,0,543,-1,{"$f":"A742","v":739},"RCP6-SA6R-3","先頭","○"]
[739,{"$f":"B741+50","v":550},0,25000,25000,10000,150,40,0,543,{"$f":"A741","v":738},740,null,"○","○"]
[740,600,0,25000,25000,10000,130,40,0,543,739,741,null,"○","○"]
[741,650,0,25000,25000,10000,115,40,0,543,740,742,null,"○","○"]
[742,700,0,25000,25000,10000,100,40,0,543,741,743,null,"○","○"]
[743,750,0,25000,25000,10000,85,40,0,543,742,744,null,"○","○"]
[{"$f":"A746+1","v":744},800,0,25000,25000,10000,75,40,0,543,743,-1,null,"○","最後"]
[745,500,0,20000,20000,5000,340,40,0,445,-1,{"$f":"A749","v":746},"RCP6-SA6R-6","先頭","○"]
[746,{"$f":"B748+50","v":550},0,20000,20000,5000,305,40,0,445,{"$f":"A748","v":745},747,null,"○","○"]
[747,600,0,20000,20000,5000,265,40,0,445,746,748,null,"○","○"]
[748,650,0,20000,20000,5000,230,40,0,445,747,749,null,"○","○"]
[749,700,0,20000,20000,5000,200,40,0,445,748,750,null,"○","○"]
[750,750,0,20000,20000,5000,175,40,0,445,749,751,null,"○","○"]
[{"$f":"A753+1","v":751},800,0,20000,20000,5000,155,40,0,445,750,-1,null,"○","最後"]
[752,500,0,14000,14000,2000,680,40,0,374,-1,{"$f":"A756","v":753},"RCP6-SA6R-12","先頭","○"]
[753,{"$f":"B755+50","v":550},0,14000,14000,2000,620,40,0,374,{"$f":"A755","v":752},754,null,"○","○"]
[754,600,0,14000,14000,2000,535,40,0,374,753,755,null,"○","○"]
[755,650,0,14000,14000,2000,460,40,0,374,754,756,null,"○","○"]
[756,700,0,14000,14000,2000,405,40,0,374,755,757,null,"○","○"]
[757,750,0,14000,14000,2000,355,40,0,374,756,758,null,"○","○"]
[{"$f":"A760+1","v":758},800,0,14000,14000,2000,315,40,0,374,757,-1,null,"○","最後"]
[759,600,0,8000,8000,750,960,40,0,225,-1,{"$f":"A763","v":760},"RCP6-SA6R-20","先頭","○"]
[760,{"$f":"B762+50","v":650},0,8000,8000,750,840,40,0,225,{"$f":"A762","v":759},{"$f":"A764","v":761},null,"○","○"]
[761,{"$f":"B763+50","v":700},0,8000,8000,750,735,40,0,225,{"$f":"A763","v":760},{"$f":"A765","v":762},null,"○","○"]
[762,{"$f":"B764+50","v":750},0,8000,8000,750,650,40,0,225,{"$f":"A764","v":761},{"$f":"A766","v":763},null,"○","○"]
[763,{"$f":"B765+50","v":800},0,8000,8000,750,575,40,0,225,{"$f":"A765","v":762},-1,null,"○","最後"]
[764,700,0,40000,40000,15000,140,40,0,412,-1,{"$f":"A768","v":765},"RCP6-SA7R-4","先頭","○"]
[765,{"$f":"B767+50","v":750},0,40000,40000,15000,135,40,0,412,{"$f":"A767","v":764},{"$f":"A769","v":766},null,"○","○"]
[766,{"$f":"B768+50","v":800},0,40000,40000,15000,120,40,0,412,{"$f":"A768","v":765},-1,null,"○","最後"]
[767,700,0,40000,40000,10000,280,40,0,310,-1,{"$f":"A771","v":768},"RCP6-SA7R-8","先頭","○"]
[768,{"$f":"B770+50","v":750},0,40000,40000,10000,275,40,0,310,{"$f":"A770","v":767},{"$f":"A772","v":769},null,"○","○"]
[769,{"$f":"B771+50","v":800},0,40000,40000,10000,245,40,0,310,{"$f":"A771","v":768},-1,null,{"$f":"IF(K772<>-1,IF(K772=A771,\"○\",\"◆\"),IF(M772<>\"\",\"先頭\",\"▼\"))","v":"○"},{"$f":"IF(L772<>-1,IF(L772=A773,\"○\",\"◆\"),IF(M773<>\"\",\"最後\",\"▼\"))","v":"最後"}]
[770,750,0,35000,35000,5000,560,40,0,256,-1,{"$f":"A774","v":771},"RCP6-SA7R-16","先頭","○"]
[771,{"$f":"B773+50","v":800},0,35000,35000,5000,500,40,0,256,{"$f":"A773","v":770},-1,null,"○","最後"]
[772,750,0,18000,18000,2000,800,35,0,194,-1,{"$f":"A776","v":773},"RCP6-SA7R-24","先頭","○"]
[773,{"$f":"B775+50","v":800},0,18000,18000,2000,760,35,0,194,{"$f":"A775","v":772},-1,null,"○","最後"]
[774,400,0,36000,36000,10000,130,40,0,390,-1,{"$f":"A778","v":775},"RCP6-WSA10C-2.5","先頭","○"]
[775,{"$f":"B777+50","v":450},0,36000,36000,10000,120,40,0,390,{"$f":"A777","v":774},{"$f":"A779","v":776},null,"○","○"]
[776,{"$f":"B778+50","v":500},0,36000,36000,10000,100,40,0,390,{"$f":"A778","v":775},-1,null,"○","最後"]
[777,400,0,25000,25000,3000,260,40,0,400,-1,{"$f":"A781","v":778},"RCP6-WSA10C-5","先頭","○"]
[778,{"$f":"B780+50","v":450},0,25000,25000,3000,245,40,0,400,{"$f":"A780","v":777},{"$f":"A782","v":779},null,"○","○"]
[779,{"$f":"B781+50","v":500},0,25000,25000,3000,205,40,0,400,{"$f":"A781","v":778},-1,null,"○","最後"]
[780,500,0,12000,12000,-1,525,40,0,220,-1,-1,"RCP6-WSA10C-10","先頭","最後"]
[{"$f":"A783+1","v":781},500,0,4000,4000,-1,560,40,0,195,-1,-1,"RCP6-WSA10C-16","先頭","最後"]
[782,500,0,42000,42000,15000,150,40,0,460,-1,{"$f":"A786","v":783},"RCP6-WSA12C-3","先頭","○"]
[783,{"$f":"B785+50","v":550},0,42000,42000,15000,130,40,0,460,{"$f":"A785","v":782},784,null,"○","○"]
[784,600,0,42000,42000,15000,115,40,0,460,783,785,null,"○","○"]
[785,650,0,42000,42000,15000,100,40,0,460,784,786,null,"○","○"]
[786,700,0,42000,42000,15000,85,40,0,460,785,787,null,"○","○"]
[787,750,0,42000,42000,15000,75,40,0,460,786,788,null,"○","○"]
[{"$f":"A790+1","v":788},800,0,42000,42000,15000,70,40,0,460,787,-1,null,"○","最後"]
[789,500,0,30000,30000,8000,290,40,0,410,-1,{"$f":"A793","v":790},"RCP6-WSA12C-6","先頭","○"]
[790,{"$f":"B792+50","v":550},0,30000,30000,8000,265,40,0,410,{"$f":"A792","v":789},791,null,"○","○"]
[791,600,0,30000,30000,8000,230,40,0,410,790,792,null,"○","○"]
[792,650,0,30000,30000,8000,200,40,0,410,791,793,null,"○","○"]
[793,700,0,30000,30000,8000,175,40,0,410,792,794,null,"○","○"]
[794,750,0,30000,30000,8000,155,40,0,410,793,795,null,"○","○"]
[{"$f":"A797+1","v":795},800,0,30000,30000,8000,140,40,0,410,794,-1,null,"○","最後"]
[796,550,0,18000,18000,-1,500,40,0,185,-1,{"$f":"A800","v":797},"RCP6-WSA12C-12","先頭","○"]
[797,{"$f":"B799+50","v":600},0,18000,18000,-1,465,40,0,185,{"$f":"A799","v":796},{"$f":"A801","v":798},null,"○","○"]
[798,{"$f":"B800+50","v":650},0,18000,18000,-1,405,40,0,185,{"$f":"A800","v":797},{"$f":"A802","v":799},null,"○","○"]
[799,{"$f":"B801+50","v":700},0,18000,18000,-1,355,40,0,185,{"$f":"A801","v":798},{"$f":"A803","v":800},null,"○","○"]
[800,{"$f":"B802+50","v":750},0,18000,18000,-1,315,40,0,185,{"$f":"A802","v":799},{"$f":"A804","v":801},null,"○","○"]
[{"$f":"A803+1","v":801},{"$f":"B803+50","v":800},0,18000,18000,-1,285,40,0,185,{"$f":"A803","v":800},-1,null,"○","最後"]
[802,700,0,8000,8000,-1,640,40,0,195,-1,{"$f":"A806","v":803},"RCP6-WSA12C-20","先頭","○"]
[803,{"$f":"B805+50","v":750},0,8000,8000,-1,580,40,0,195,{"$f":"A805","v":802},{"$f":"A807","v":804},null,"○","○"]
[804,{"$f":"B806+50","v":800},0,8000,8000,-1,520,40,0,195,{"$f":"A806","v":803},-1,null,"○","最後"]
[805,800,0,54000,54000,18000,105,40,0,260,-1,-1,"RCP6-WSA14C-4","先頭","最後"]
[806,800,0,45000,45000,11000,210,40,0,220,-1,-1,"RCP6-WSA14C-8","先頭","最後"]
[807,800,0,33000,33000,-1,420,40,0,250,-1,-1,"RCP6-WSA14C-16","先頭","最後"]
[808,800,0,15500,15500,-1,560,35,0,180,-1,-1,"RCP6-WSA14C-24","先頭","最後"]
[809,400,0,36000,36000,10000,130,40,0,390,-1,{"$f":"A813","v":810},"RCP6-WSA10R-2.5","先頭","○"]
[810,{"$f":"B812+50","v":450},0,36000,36000,10000,120,40,0,390,{"$f":"A812","v":809},{"$f":"A814","v":811},null,"○","○"]
[811,{"$f":"B813+50","v":500},0,36000,36000,10000,100,40,0,390,{"$f":"A813","v":810},-1,null,"○","最後"]
[812,400,0,25000,25000,3000,260,40,0,400,-1,{"$f":"A816","v":813},"RCP6-WSA10R-5","先頭","○"]
[813,{"$f":"B815+50","v":450},0,25000,25000,3000,245,40,0,400,{"$f":"A815","v":812},{"$f":"A817","v":814},null,"○","○"]
[814,{"$f":"B816+50","v":500},0,25000,25000,3000,205,40,0,400,{"$f":"A816","v":813},-1,null,"○","最後"]
[815,500,0,12000,12000,-1,525,40,0,230,-1,-1,"RCP6-WSA10R-10","先頭","最後"]
[{"$f":"A818+1","v":816},500,0,4000,4000,-1,560,40,0,214,-1,-1,"RCP6-WSA10R-16","先頭","最後"]
[817,500,0,42000,42000,15000,150,40,0,490,-1,{"$f":"A821","v":818},"RCP6-WSA12R-3","先頭","○"]
[818,{"$f":"B820+50","v":550},0,42000,42000,15000,130,40,0,490,{"$f":"A820","v":817},819,null,"○","○"]
[819,600,0,42000,42000,15000,115,40,0,490,818,820,null,"○","○"]
[820,650,0,42000,42000,15000,100,40,0,490,819,821,null,"○","○"]
[821,700,0,42000,42000,15000,85,40,0,490,820,822,null,"○","○"]
[822,750,0,42000,42000,15000,75,40,0,490,821,823,null,"○","○"]
[{"$f":"A825+1","v":823},800,0,42000,42000,15000,70,40,0,490,822,-1,null,"○","最後"]
[824,500,0,30000,30000,8000,290,40,0,400,-1,{"$f":"A828","v":825},"RCP6-WSA12R-6","先頭","○"]
[825,{"$f":"B827+50","v":550},0,30000,30000,8000,265,40,0,400,{"$f":"A827","v":824},826,null,"○","○"]
[826,600,0,30000,30000,8000,230,40,0,400,825,827,null,"○","○"]
[827,650,0,30000,30000,8000,200,40,0,400,826,828,null,"○","○"]
[828,700,0,30000,30000,8000,175,40,0,400,827,829,null,"○","○"]
[829,750,0,30000,30000,8000,155,40,0,400,828,830,null,"○","○"]
[{"$f":"A832+1","v":830},800,0,30000,30000,8000,140,40,0,400,829,-1,null,"○","最後"]
[831,550,0,18000,18000,-1,500,40,0,200,-1,{"$f":"A835","v":832},"RCP6-WSA12R-12","先頭","○"]
[832,{"$f":"B834+50","v":600},0,18000,18000,-1,465,40,0,200,{"$f":"A834","v":831},{"$f":"A836","v":833},null,"○","○"]
[833,{"$f":"B835+50","v":650},0,18000,18000,-1,405,40,0,200,{"$f":"A835","v":832},{"$f":"A837","v":834},null,{"$f":"IF(K836<>-1,IF(K836=A835,\"○\",\"◆\"),IF(M836<>\"\",\"先頭\",\"▼\"))","v":"○"},{"$f":"IF(L836<>-1,IF(L836=A837,\"○\",\"◆\"),IF(M837<>\"\",\"最後\",\"▼\"))","v":"○"}]
[834,{"$f":"B836+50","v":700},0,18000,18000,-1,355,40,0,200,{"$f":"A836","v":833},{"$f":"A838","v":835},null,"○","○"]
[835,{"$f":"B837+50","v":750},0,18000,18000,-1,315,40,0,200,{"$f":"A837","v":834},{"$f":"A839","v":836},null,"○","○"]
[{"$f":"A838+1","v":836},{"$f":"B838+50","v":800},0,18000,18000,-1,285,40,0,200,{"$f":"A838","v":835},-1,null,"○","最後"]
[837,700,0,8000,8000,-1,640,40,0,150,-1,{"$f":"A841","v":838},"RCP6-WSA12R-20","先頭","○"]
[838,{"$f":"B840+50","v":750},0,8000,8000,-1,580,40,0,150,{"$f":"A840","v":837},{"$f":"A842","v":839},null,"○","○"]
[839,{"$f":"B841+50","v":800},0,8000,8000,-1,520,40,0,150,{"$f":"A841","v":838},-1,null,"○","最後"]
[840,800,0,54000,54000,18000,105,40,0,260,-1,-1,"RCP6-WSA14R-4","先頭","最後"]
[841,800,0,45000,45000,11000,210,40,0,260,-1,-1,"RCP6-WSA14R-8","先頭","最後"]
[842,800,0,33000,33000,-1,420,40,0,260,-1,-1,"RCP6-WSA14R-16","先頭","最後"]
[{"$f":"A845+1","v":843},800,0,15500,15500,-1,560,40,0,200,-1,-1,"RCP6-WSA14R-24","先頭","最後"]
[844,200,0,35000,35000,10000,130,40,0,388,-1,-1,"RCP6-RA4C-2.5","先頭","最後"]
[845,200,0,22000,22000,5000,260,40,0,261,-1,-1,"RCP6-RA4C-5","先頭","最後"]
[846,200,0,10000,10000,2000,525,40,0,274,-1,-1,"RCP6-RA4C-10","先頭","最後"]
[847,200,0,5000,5000,1000,560,40,0,152,-1,-1,"RCP6-RA4C-16","先頭","最後"]
[848,300,0,40000,40000,20000,125,40,0,330,-1,-1,"RCP6-RA6C-3","先頭","最後"]
[849,300,0,40000,40000,10000,250,40,0,220,-1,-1,"RCP6-RA6C-6","先頭","最後"]
[850,300,0,25000,25000,4000,500,40,0,250,-1,-1,"RCP6-RA6C-12","先頭","最後"]
[851,300,0,6000,6000,1000,640,40,0,260,-1,-1,"RCP6-RA6C-20","先頭","最後"]
[852,300,0,55000,55000,26000,105,40,0,570,-1,-1,"RCP6-RA7C-4","先頭","最後"]
[853,300,0,50000,50000,17500,210,40,0,240,-1,-1,"RCP6-RA7C-8","先頭","最後"]
[854,300,0,40000,40000,5000,420,40,0,265,-1,-1,"RCP6-RA7C-16","先頭","最後"]
[855,300,0,18000,18000,3000,600,40,0,155,-1,-1,"RCP6-RA7C-24","先頭","最後"]
[856,200,0,35000,35000,10000,130,40,0,398,-1,-1,"RCP6-RA4R-2.5","先頭","最後"]
[857,200,0,22000,22000,5000,260,40,0,306,-1,-1,"RCP6-RA4R-5","先頭","最後"]
[858,200,0,10000,10000,2000,525,40,0,216,-1,-1,"RCP6-RA4R-10","先頭","最後"]
[859,200,0,5000,5000,1000,560,40,0,158,-1,-1,"RCP6-RA4R-16","先頭","最後"]
[860,300,0,40000,40000,20000,125,40,0,480,-1,-1,"RCP6-RA6R-3","先頭","最後"]
[861,300,0,40000,40000,10000,250,40,0,410,-1,-1,"RCP6-RA6R-6","先頭","最後"]
[862,300,0,25000,25000,4000,500,40,0,205,-1,-1,"RCP6-RA6R-12","先頭","最後"]
[863,300,0,6000,6000,1000,640,40,0,220,-1,-1,"RCP6-RA6R-20","先頭","最後"]
[864,300,0,55000,55000,26000,105,40,0,400,-1,-1,"RCP6-RA7R-4","先頭","最後"]
[865,300,0,50000,50000,17500,210,40,0,340,-1,-1,"RCP6-RA7R-8","先頭","最後"]
[866,300,0,40000,40000,5000,420,40,0,240,-1,-1,"RCP6-RA7R-16","先頭","最後"]
[867,300,0,18000,18000,3000,600,40,0,155,-1,-1,"RCP6-RA7R-24","先頭","最後"]
[{"$f":"A870+1","v":868},410,0,35000,35000,10000,130,40,0,418,-1,-1,"RCP6-RRA4C-2.5","先頭","最後"]
[{"$f":"A871+1","v":869},410,0,22000,22000,5000,260,40,0,265,-1,-1,"RCP6-RRA4C-5","先頭","最後"]
[{"$f":"A872+1","v":870},410,0,10000,10000,2000,525,40,0,197,-1,-1,"RCP6-RRA4C-10","先頭","最後"]
[{"$f":"A873+1","v":871},410,0,5000,5000,1000,560,40,0,141,-1,-1,"RCP6-RRA4C-16","先頭","最後"]
[{"$f":"A874+1","v":872},415,0,40000,40000,20000,125,40,0,236,-1,-1,"RCP6-RRA6C-3","先頭","最後"]
[873,415,0,40000,40000,10000,250,40,0,235,-1,-1,"RCP6-RRA6C-6","先頭","最後"]
[874,415,0,25000,25000,4000,500,40,0,170,-1,-1,"RCP6-RRA6C-12","先頭","最後"]
[875,415,0,6000,6000,1000,640,40,0,255,-1,-1,"RCP6-RRA6C-20","先頭","最後"]
[876,520,0,55000,55000,26000,105,35,0,512,-1,-1,"RCP6-RRA7C-4","先頭","最後"]
[877,520,0,50000,50000,17500,210,35,0,448,-1,-1,"RCP6-RRA7C-8","先頭","最後"]
[878,520,0,40000,40000,5000,420,40,0,253,-1,-1,"RCP6-RRA7C-16","先頭","最後"]
[879,520,0,18000,18000,3000,600,40,0,152,-1,-1,"RCP6-RRA7C-24","先頭","最後"]
[{"$f":"A882+1","v":880},410,0,35000,35000,10000,130,40,0,366,-1,-1,"RCP6-RRA4R-2.5","先頭","最後"]
[{"$f":"A883+1","v":881},410,0,22000,22000,5000,260,40,0,254,-1,-1,"RCP6-RRA4R-5","先頭","最後"]
[{"$f":"A884+1","v":882},410,0,10000,10000,2000,525,40,0,253,-1,-1,"RCP6-RRA4R-10","先頭","最後"]
[{"$f":"A885+1","v":883},410,0,5000,5000,1000,560,40,0,158,-1,-1,"RCP6-RRA4R-16","先頭","最後"]
[{"$f":"A886+1","v":884},415,0,40000,40000,20000,125,40,0,223,-1,-1,"RCP6-RRA6R-3","先頭","最後"]
[885,415,0,40000,40000,10000,250,40,0,235,-1,-1,"RCP6-RRA6R-6","先頭","最後"]
[886,415,0,25000,25000,4000,500,40,0,160,-1,-1,"RCP6-RRA6R-12","先頭","最後"]
[887,415,0,6000,6000,1000,640,40,0,255,-1,-1,"RCP6-RRA6R-20","先頭","最後"]
[888,520,0,55000,55000,26000,105,35,0,452,-1,-1,"RCP6-RRA7R-4","先頭","最後"]
[889,520,0,50000,50000,17500,210,35,0,447,-1,-1,"RCP6-RRA7R-8","先頭","最後"]
[890,520,0,40000,40000,5000,420,35,0,240,-1,-1,"RCP6-RRA7R-16","先頭","最後"]
[891,520,0,18000,18000,3000,600,35,0,217,-1,-1,"RCP6-RRA7R-24","先頭","最後"]
[892,450,0,40000,40000,10000,130,40,0,362,-1,{"$f":"A896","v":893},"RCP6-WRA10C-2.5","先頭","○"]
[{"$f":"A895+1","v":893},{"$f":"B895+50","v":500},0,40000,40000,10000,120,40,0,362,{"$f":"A895","v":892},-1,null,"○","最後"]
[894,450,0,25000,25000,5000,260,40,0,300,-1,{"$f":"A898","v":895},"RCP6-WRA10C-5","先頭","○"]
[895,{"$f":"B897+50","v":500},0,25000,25000,5000,240,40,0,300,{"$f":"A897","v":894},-1,null,"○","最後"]
[896,500,0,9500,9500,-1,435,40,0,240,-1,-1,"RCP6-WRA10C-10","先頭","最後"]
[897,500,0,3500,3500,-1,560,40,0,200,-1,-1,"RCP6-WRA10C-16",{"$f":"IF(K900<>-1,IF(K900=A899,\"○\",\"◆\"),IF(M900<>\"\",\"先頭\",\"▼\"))","v":"先頭"},{"$f":"IF(L900<>-1,IF(L900=A901,\"○\",\"◆\"),IF(M901<>\"\",\"最後\",\"▼\"))","v":"最後"}]
[898,500,0,60000,60000,13000,110,40,0,400,-1,-1,"RCP6-WRA12C-3","先頭","最後"]
[{"$f":"A901+1","v":899},500,0,39000,39000,6000,220,40,0,225,-1,-1,"RCP6-WRA12C-6","先頭","最後"]
[900,500,0,18500,18500,-1,440,40,0,295,-1,-1,"RCP6-WRA12C-12","先頭","最後"]
[901,500,0,7500,7500,-1,480,40,0,280,-1,-1,"RCP6-WRA12C-20","先頭","最後"]
[902,600,0,57000,57000,18000,105,40,0,440,-1,-1,"RCP6-WRA14C-4","先頭","最後"]
[903,600,0,45000,45000,12000,210,40,0,260,-1,-1,"RCP6-WRA14C-8","先頭","最後"]
[904,600,0,37000,37000,-1,420,35,0,330,-1,-1,"RCP6-WRA14C-16","先頭","最後"]
[905,600,0,18000,18000,-1,420,40,0,165,-1,-1,"RCP6-WRA14C-24","先頭","最後"]
[906,450,0,40000,40000,10000,130,40,0,362,-1,{"$f":"A910","v":907},"RCP6-WRA10R-2.5","先頭","○"]
[907,{"$f":"B909+50","v":500},0,40000,40000,10000,120,40,0,362,{"$f":"A909","v":906},-1,null,"○","最後"]
[908,450,0,25000,25000,5000,260,40,0,300,-1,{"$f":"A912","v":909},"RCP6-WRA10R-5","先頭","○"]
[909,{"$f":"B911+50","v":500},0,25000,25000,5000,240,40,0,300,{"$f":"A911","v":908},-1,null,"○","最後"]
[910,500,0,9500,9500,-1,435,40,0,205,-1,-1,"RCP6-WRA10R-10","先頭","最後"]
[911,500,0,3500,3500,-1,560,40,0,190,-1,-1,"RCP6-WRA10R-16","先頭","最後"]
[912,500,0,60000,60000,13000,110,40,0,445,-1,-1,"RCP6-WRA12R-3","先頭","最後"]
[{"$f":"A915+1","v":913},500,0,39000,39000,6000,220,40,0,220,-1,-1,"RCP6-WRA12R-6","先頭","最後"]
[914,500,0,18500,18500,-1,440,40,0,320,-1,-1,"RCP6-WRA12R-12","先頭","最後"]
[915,500,0,7500,7500,-1,480,40,0,210,-1,-1,"RCP6-WRA12R-20","先頭","最後"]
[916,600,0,57000,57000,18000,105,40,0,430,-1,-1,"RCP6-WRA14R-4","先頭","最後"]
[917,600,0,45000,45000,12000,210,40,0,260,-1,-1,"RCP6-WRA14R-8","先頭","最後"]
[918,600,0,37000,37000,-1,420,35,0,275,-1,-1,"RCP6-WRA14R-16","先頭","最後"]
[919,600,0,18000,18000,-1,420,40,0,205,-1,-1,"RCP6-WRA14R-24","先頭","最後"]
[920,150,0,9000,5000,9000,130,40,0,383,-1,-1,"RCP6-TA4C-2.5-SB","先頭","最後"]
[921,150,0,5000,5000,5000,260,40,0,371,-1,-1,"RCP6-TA4C-5-SB","先頭","最後"]
[922,150,0,4000,4000,2500,525,40,0,316,-1,-1,"RCP6-TA4C-10-SB","先頭","最後"]
[923,150,0,3000,3000,1000,840,40,0,251,-1,-1,"RCP6-TA4C-16-SB","先頭","最後"]
[924,200,0,12000,10000,12000,170,40,0,290,-1,-1,"RCP6-TA6C-3-SB","先頭","最後"]
[925,200,0,10000,10000,6000,340,40,0,400,-1,-1,"RCP6-TA6C-6-SB","先頭","最後"]
[926,200,0,8000,8000,3000,680,40,0,240,-1,-1,"RCP6-TA6C-12-SB","先頭","最後"]
[927,200,0,5000,5000,1000,800,40,0,185,-1,-1,"RCP6-TA6C-20-SB","先頭","最後"]
[928,300,0,20000,15000,20000,140,40,0,410,-1,-1,"RCP6-TA7C-4-SB","先頭","最後"]
[929,300,0,15000,15000,12000,280,40,0,390,-1,-1,"RCP6-TA7C-8-SB","先頭","最後"]
[930,300,0,12000,12000,5000,560,40,0,360,-1,-1,"RCP6-TA7C-16-SB","先頭","最後"]
[931,300,0,10000,10000,3000,860,40,0,300,-1,-1,"RCP6-TA7C-24-SB","先頭","最後"]
[932,150,0,9000,5000,9000,130,40,0,430,-1,-1,"RCP6-TA4R-2.5-SB","先頭","最後"]
[933,150,0,5000,5000,5000,260,40,0,373,-1,-1,"RCP6-TA4R-5-SB","先頭","最後"]
[934,150,0,4000,4000,2500,525,40,0,335,-1,-1,"RCP6-TA4R-10-SB","先頭","最後"]
[935,150,0,3000,3000,1000,840,40,0,186,-1,-1,"RCP6-TA4R-16-SB","先頭","最後"]
[936,200,0,12000,10000,12000,170,40,0,400,-1,-1,"RCP6-TA6R-3-SB","先頭","最後"]
[937,200,0,10000,10000,6000,340,40,0,400,-1,-1,"RCP6-TA6R-6-SB","先頭","最後"]
[938,200,0,8000,8000,3000,680,40,0,250,-1,-1,"RCP6-TA6R-12-SB","先頭","最後"]
[939,200,0,5000,5000,1000,800,40,0,280,-1,-1,"RCP6-TA6R-20-SB","先頭","最後"]
[940,300,0,20000,15000,20000,140,40,0,410,-1,-1,"RCP6-TA7R-4-SB","先頭","最後"]
[941,300,0,15000,15000,12000,280,40,0,410,-1,-1,"RCP6-TA7R-8-SB","先頭","最後"]
[942,300,0,12000,12000,5000,560,40,0,410,-1,-1,"RCP6-TA7R-16-SB","先頭","最後"]
[943,300,0,10000,10000,3000,860,40,0,245,-1,-1,"RCP6-TA7R-24-SB","先頭","最後"]
[{"$f":"A946+1","v":944},240,0,10000,10000,9000,130,40,0,373,-1,-1,"RCP6-TA4C-2.5-DB","先頭","最後"]
[945,240,0,10000,10000,5000,260,40,0,372,-1,-1,"RCP6-TA4C-5-DB","先頭","最後"]
[946,240,0,8000,8000,2500,525,40,0,251,-1,-1,"RCP6-TA4C-10-DB","先頭","最後"]
[947,270,0,20000,20000,12000,170,40,0,300,-1,{"$f":"A951","v":948},"RCP6-TA6C-3-DB","先頭","○"]
[948,{"$f":"B950+50","v":320},0,20000,20000,12000,140,40,0,300,{"$f":"A950","v":947},-1,null,"○","最後"]
[949,270,0,20000,20000,6000,340,40,0,215,-1,{"$f":"A953","v":950},"RCP6-TA6C-6-DB","先頭","○"]
[950,{"$f":"B952+50","v":320},0,20000,20000,6000,285,40,0,215,{"$f":"A952","v":949},-1,null,"○","最後"]
[951,320,0,15000,15000,3000,560,40,0,190,-1,-1,"RCP6-TA6C-12-DB","先頭","最後"]
[952,390,0,30000,30000,20000,105,40,0,400,-1,-1,"RCP6-TA7C-4-DB","先頭","最後"]
[953,390,0,30000,30000,12000,280,40,0,400,-1,-1,"RCP6-TA7C-8-DB","先頭","最後"]
[954,390,0,22000,22000,5000,560,40,0,328,-1,-1,"RCP6-TA7C-16-DB","先頭","最後"]
[955,240,0,10000,10000,9000,130,40,0,372,-1,-1,"RCP6-TA4R-2.5-DB","先頭","最後"]
[956,240,0,10000,10000,5000,260,40,0,419,-1,-1,"RCP6-TA4R-5-DB","先頭","最後"]
[957,240,0,8000,8000,2500,525,40,0,233,-1,-1,"RCP6-TA4R-10-DB","先頭","最後"]
[958,270,0,20000,20000,12000,170,40,0,400,-1,{"$f":"A962","v":959},"RCP6-TA6R-3-DB","先頭","○"]
[959,{"$f":"B961+50","v":320},0,20000,20000,12000,140,40,0,400,{"$f":"A961","v":958},-1,null,"○","最後"]
[960,270,0,20000,20000,6000,340,40,0,400,-1,{"$f":"A964","v":961},"RCP6-TA6R-6-DB","先頭","○"]
[961,{"$f":"B963+50","v":320},0,20000,20000,6000,285,40,0,400,{"$f":"A963","v":960},-1,null,{"$f":"IF(K964<>-1,IF(K964=A963,\"○\",\"◆\"),IF(M964<>\"\",\"先頭\",\"▼\"))","v":"○"},"最後"]
[962,320,0,15000,15000,3000,560,40,0,200,-1,-1,"RCP6-TA6R-12-DB",{"$f":"IF(K965<>-1,IF(K965=A964,\"○\",\"◆\"),IF(M965<>\"\",\"先頭\",\"▼\"))","v":"先頭"},"最後"]
[963,390,0,30000,30000,20000,105,40,0,400,-1,-1,"RCP6-TA7R-4-DB",{"$f":"IF(K966<>-1,IF(K966=A965,\"○\",\"◆\"),IF(M966<>\"\",\"先頭\",\"▼\"))","v":"先頭"},"最後"]
[964,390,0,30000,30000,12000,280,40,0,400,-1,-1,"RCP6-TA7R-8-DB",{"$f":"IF(K967<>-1,IF(K967=A966,\"○\",\"◆\"),IF(M967<>\"\",\"先頭\",\"▼\"))","v":"先頭"},"最後"]
[965,390,0,22000,22000,5000,560,40,0,305,-1,-1,"RCP6-TA7R-16-DB",{"$f":"IF(K968<>-1,IF(K968=A967,\"○\",\"◆\"),IF(M968<>\"\",\"先頭\",\"▼\"))","v":"先頭"},"最後"]
[966,400,0,25000,25000,10000,170,40,0,230,-1,967,"RCP6-HSA6C-3","↓ Ver.3.80 追加"]
[967,450,0,25000,25000,10000,170,40,0,230,966,968,"RCP6-HSA6C-3"]
[968,500,0,25000,25000,10000,170,40,0,230,967,969,"RCP6-HSA6C-3"]
[969,550,0,25000,25000,10000,145,40,0,230,968,970,"RCP6-HSA6C-3"]
[970,600,0,25000,25000,10000,125,40,0,230,969,971,"RCP6-HSA6C-3"]
[971,650,0,25000,25000,10000,110,40,0,230,970,972,"RCP6-HSA6C-3"]
[972,700,0,25000,25000,10000,95,40,0,230,971,973,"RCP6-HSA6C-3"]
[973,750,0,25000,25000,10000,85,40,0,230,972,974,"RCP6-HSA6C-3"]
[974,800,0,25000,25000,10000,70,40,0,230,973,-1,"RCP6-HSA6C-3"]
[975,400,0,20000,20000,5000,340,40,0,230,-1,976,"RCP6-HSA6C-6"]
[976,450,0,20000,20000,5000,340,40,0,230,975,977,"RCP6-HSA6C-6"]
[977,500,0,20000,20000,5000,340,40,0,230,976,978,"RCP6-HSA6C-6"]
[978,550,0,20000,20000,5000,295,40,0,230,977,979,"RCP6-HSA6C-6"]
[979,600,0,20000,20000,5000,255,40,0,230,978,980,"RCP6-HSA6C-6"]
[980,650,0,20000,20000,5000,220,40,0,230,979,981,"RCP6-HSA6C-6"]
[981,700,0,20000,20000,5000,190,40,0,230,980,982,"RCP6-HSA6C-6"]
[982,750,0,20000,20000,5000,170,40,0,230,981,983,"RCP6-HSA6C-6"]
[983,800,0,20000,20000,5000,140,40,0,230,982,-1,"RCP6-HSA6C-6"]
[984,400,0,14000,14000,2000,680,40,0,200,-1,985,"RCP6-HSA6C-12"]
[985,450,0,14000,14000,2000,680,40,0,200,984,986,"RCP6-HSA6C-12"]
[986,500,0,14000,14000,2000,680,40,0,200,985,987,"RCP6-HSA6C-12"]
[987,550,0,14000,14000,2000,585,40,0,200,986,988,"RCP6-HSA6C-12"]
[988,600,0,14000,14000,2000,515,40,0,200,987,989,"RCP6-HSA6C-12"]
[989,650,0,14000,14000,2000,445,40,0,200,988,990,"RCP6-HSA6C-12"]
[990,700,0,14000,14000,2000,390,40,0,200,989,991,"RCP6-HSA6C-12"]
[991,750,0,14000,14000,2000,345,40,0,200,990,992,"RCP6-HSA6C-12"]
[992,800,0,14000,14000,2000,305,40,0,200,991,-1,"RCP6-HSA6C-12"]
[993,400,0,8000,8000,750,800,40,0,100,-1,994,"RCP6-HSA6C-20"]
[994,450,0,8000,8000,750,800,40,0,100,993,995,"RCP6-HSA6C-20"]
[995,500,0,8000,8000,750,800,40,0,100,994,996,"RCP6-HSA6C-20"]
[996,550,0,8000,8000,750,800,40,0,100,995,997,"RCP6-HSA6C-20"]
[997,600,0,8000,8000,750,800,40,0,100,996,998,"RCP6-HSA6C-20"]
[998,650,0,8000,8000,750,800,40,0,100,997,999,"RCP6-HSA6C-20"]
[999,700,0,8000,8000,750,715,40,0,100,998,1000,"RCP6-HSA6C-20"]
[1000,750,0,8000,8000,750,630,40,0,100,999,1001,"RCP6-HSA6C-20"]
[1001,800,0,8000,8000,750,560,40,0,100,1000,-1,"RCP6-HSA6C-20"]
[1002,500,0,40000,40000,15000,140,40,0,230,-1,1003,"RCP6-HSA7C-4"]
[1003,550,0,40000,40000,15000,140,40,0,230,1002,1004,"RCP6-HSA7C-4"]
[1004,600,0,40000,40000,15000,140,40,0,230,1003,1005,"RCP6-HSA7C-4"]
[1005,650,0,40000,40000,15000,140,40,0,230,1004,1006,"RCP6-HSA7C-4"]
[1006,700,0,40000,40000,15000,140,40,0,230,1005,1007,"RCP6-HSA7C-4"]
[1007,750,0,40000,40000,15000,135,40,0,230,1006,1008,"RCP6-HSA7C-4"]
[1008,800,0,40000,40000,15000,120,40,0,230,1007,-1,"RCP6-HSA7C-4"]
[1009,500,0,40000,40000,10000,280,40,0,230,-1,1010,"RCP6-HSA7C-8"]
[1010,550,0,40000,40000,10000,280,40,0,230,1009,1011,"RCP6-HSA7C-8"]
[1011,600,0,40000,40000,10000,280,40,0,230,1010,1012,"RCP6-HSA7C-8"]
[1012,650,0,40000,40000,10000,280,40,0,230,1011,1013,"RCP6-HSA7C-8"]
[1013,700,0,40000,40000,10000,280,40,0,230,1012,1014,"RCP6-HSA7C-8"]
[1014,750,0,40000,40000,10000,275,40,0,230,1013,1015,"RCP6-HSA7C-8"]
[1015,800,0,40000,40000,10000,245,40,0,230,1014,-1,"RCP6-HSA7C-8"]
[1016,500,0,35000,35000,5000,560,40,0,230,-1,1017,"RCP6-HSA7C-16"]
[1017,550,0,35000,35000,5000,560,40,0,230,1016,1018,"RCP6-HSA7C-16"]
[1018,600,0,35000,35000,5000,560,40,0,230,1017,1019,"RCP6-HSA7C-16"]
[1019,650,0,35000,35000,5000,560,40,0,230,1018,1020,"RCP6-HSA7C-16"]
[1020,700,0,35000,35000,5000,560,40,0,230,1019,1021,"RCP6-HSA7C-16"]
[1021,750,0,35000,35000,5000,555,40,0,230,1020,1022,"RCP6-HSA7C-16"]
[1022,800,0,35000,35000,5000,495,40,0,230,1021,-1,"RCP6-HSA7C-16"]
[1023,500,0,18000,18000,2000,800,40,0,120,-1,1024,"RCP6-HSA7C-24"]
[1024,550,0,18000,18000,2000,800,40,0,120,1023,1025,"RCP6-HSA7C-24"]
[1025,600,0,18000,18000,2000,800,40,0,120,1024,1026,"RCP6-HSA7C-24"]
[1026,650,0,18000,18000,2000,800,40,0,120,1025,1027,"RCP6-HSA7C-24"]
[1027,700,0,18000,18000,2000,800,40,0,120,1026,1028,"RCP6-HSA7C-24"]
[1028,750,0,18000,18000,2000,800,40,0,120,1027,1029,"RCP6-HSA7C-24"]
[1029,800,0,18000,18000,2000,750,40,0,120,1028,-1,"RCP6-HSA7C-24"]
[1030,400,0,23000,23000,8000,170,40,0,230,-1,1031,"RCP6-HSA6C-W-3"]
[1031,450,0,23000,23000,8000,170,40,0,230,1030,1032,"RCP6-HSA6C-W-3"]
[1032,500,0,23000,23000,8000,170,40,0,230,1031,1033,"RCP6-HSA6C-W-3"]
[1033,550,0,23000,23000,8000,145,40,0,230,1032,1034,"RCP6-HSA6C-W-3"]
[1034,600,0,23000,23000,8000,125,40,0,230,1033,1035,"RCP6-HSA6C-W-3"]
[1035,650,0,23000,23000,8000,110,40,0,230,1034,1036,"RCP6-HSA6C-W-3"]
[1036,700,0,23000,23000,8000,95,40,0,230,1035,1037,"RCP6-HSA6C-W-3"]
[1037,750,0,23000,23000,8000,85,40,0,230,1036,1038,"RCP6-HSA6C-W-3"]
[1038,800,0,23000,23000,8000,70,40,0,230,1037,-1,"RCP6-HSA6C-W-3"]
[1039,400,0,18000,18000,3000,340,40,0,230,-1,1040,"RCP6-HSA6C-W-6"]
[1040,450,0,18000,18000,3000,340,40,0,230,1039,1041,"RCP6-HSA6C-W-6"]
[1041,500,0,18000,18000,3000,340,40,0,230,1040,1042,"RCP6-HSA6C-W-6"]
[1042,550,0,18000,18000,3000,295,40,0,230,1041,1043,"RCP6-HSA6C-W-6"]
[1043,600,0,18000,18000,3000,255,40,0,230,1042,1044,"RCP6-HSA6C-W-6"]
[1044,650,0,18000,18000,3000,220,40,0,230,1043,1045,"RCP6-HSA6C-W-6"]
[1045,700,0,18000,18000,3000,190,40,0,230,1044,1046,"RCP6-HSA6C-W-6"]
[1046,750,0,18000,18000,3000,170,40,0,230,1045,1047,"RCP6-HSA6C-W-6"]
[1047,800,0,18000,18000,3000,140,40,0,230,1046,-1,"RCP6-HSA6C-W-6"]
[1048,400,0,12000,12000,-1,560,40,0,200,-1,1049,"RCP6-HSA6C-W-12"]
[1049,450,0,12000,12000,-1,560,40,0,200,1048,1050,"RCP6-HSA6C-W-12"]
[1050,500,0,12000,12000,-1,560,40,0,200,1049,1051,"RCP6-HSA6C-W-12"]
[1051,550,0,12000,12000,-1,560,40,0,200,1050,1052,"RCP6-HSA6C-W-12"]
[1052,600,0,12000,12000,-1,515,40,0,200,1051,1053,"RCP6-HSA6C-W-12"]
[1053,650,0,12000,12000,-1,445,40,0,200,1052,1054,"RCP6-HSA6C-W-12"]
[1054,700,0,12000,12000,-1,390,40,0,200,1053,1055,"RCP6-HSA6C-W-12"]
[1055,750,0,12000,12000,-1,345,40,0,200,1054,1056,"RCP6-HSA6C-W-12"]
[1056,800,0,12000,12000,-1,315,40,0,200,1055,-1,"RCP6-HSA6C-W-12"]
[1057,550,0,38000,38000,13000,140,40,0,230,-1,1058,"RCP6-HSA7C-W-4"]
[1058,600,0,38000,38000,13000,140,40,0,230,1057,1059,"RCP6-HSA7C-W-4"]
[1059,650,0,38000,38000,13000,140,40,0,230,1058,1060,"RCP6-HSA7C-W-4"]
[1060,700,0,38000,38000,13000,140,40,0,230,1059,1061,"RCP6-HSA7C-W-4"]
[1061,750,0,38000,38000,13000,135,40,0,230,1060,1062,"RCP6-HSA7C-W-4"]
[1062,800,0,38000,38000,13000,120,40,0,230,1061,-1,"RCP6-HSA7C-W-4"]
[1063,550,0,38000,38000,8000,280,40,0,230,-1,1064,"RCP6-HSA7C-W-8"]
[1064,600,0,38000,38000,8000,280,40,0,230,1063,1065,"RCP6-HSA7C-W-8"]
[1065,650,0,38000,38000,8000,280,40,0,230,1064,1066,"RCP6-HSA7C-W-8"]
[1066,700,0,38000,38000,8000,280,40,0,230,1065,1067,"RCP6-HSA7C-W-8"]
[1067,750,0,38000,38000,8000,275,40,0,230,1066,1068,"RCP6-HSA7C-W-8"]
[1068,800,0,38000,38000,8000,245,40,0,230,1067,-1,"RCP6-HSA7C-W-8"]
[1069,500,0,33000,33000,-1,420,40,0,230,-1,1070,"RCP6-HSA7C-W-16"]
[1070,550,0,33000,33000,-1,420,40,0,230,1069,1071,"RCP6-HSA7C-W-16"]
[1071,600,0,33000,33000,-1,420,40,0,230,1070,1072,"RCP6-HSA7C-W-16"]
[1072,650,0,33000,33000,-1,420,40,0,230,1071,1073,"RCP6-HSA7C-W-16"]
[1073,700,0,33000,33000,-1,420,40,0,230,1072,1074,"RCP6-HSA7C-W-16"]
[1074,750,0,33000,33000,-1,420,40,0,230,1073,1075,"RCP6-HSA7C-W-16"]
[1075,800,0,33000,33000,-1,420,40,0,230,1074,-1,"RCP6-HSA7C-W-16","↑ Ver.3.80 追加"]
[1076,550,0,25000,25000,10000,140,40,0,240,-1,1077,"RCP6-HSA6R-3","↓ Ver.4.1 追加"]
[1077,600,0,25000,25000,10000,125,40,0,240,1076,1078,"RCP6-HSA6R-3"]
[1078,650,0,25000,25000,10000,110,40,0,240,1077,1079,"RCP6-HSA6R-3"]
[1079,700,0,25000,25000,10000,95,40,0,240,1078,1080,"RCP6-HSA6R-3"]
[1080,750,0,25000,25000,10000,85,40,0,240,1079,1081,"RCP6-HSA6R-3"]
[1081,800,0,25000,25000,10000,70,40,0,240,1080,-1,"RCP6-HSA6R-3"]
[1082,500,0,20000,20000,5000,340,40,0,240,-1,1083,"RCP6-HSA6R-6"]
[1083,550,0,20000,20000,5000,295,40,0,240,1082,1084,"RCP6-HSA6R-6"]
[1084,600,0,20000,20000,5000,255,40,0,240,1083,1085,"RCP6-HSA6R-6"]
[1085,650,0,20000,20000,5000,220,40,0,240,1084,1086,"RCP6-HSA6R-6"]
[1086,700,0,20000,20000,5000,190,40,0,240,1085,1087,"RCP6-HSA6R-6"]
[1087,750,0,20000,20000,5000,170,40,0,240,1086,1088,"RCP6-HSA6R-6"]
[1088,800,0,20000,20000,5000,140,40,0,240,1087,-1,"RCP6-HSA6R-6"]
[1089,550,0,14000,14000,2000,560,40,0,255,-1,1090,"RCP6-HSA6R-12"]
[1090,600,0,14000,14000,2000,515,40,0,255,1089,1091,"RCP6-HSA6R-12"]
[1091,650,0,14000,14000,2000,445,40,0,255,1090,1092,"RCP6-HSA6R-12"]
[1092,700,0,14000,14000,2000,390,40,0,255,1091,1093,"RCP6-HSA6R-12"]
[1093,750,0,14000,14000,2000,345,40,0,255,1092,1094,"RCP6-HSA6R-12"]
[1094,800,0,14000,14000,2000,315,40,0,255,1093,-1,"RCP6-HSA6R-12"]
[1095,650,0,8000,8000,750,800,40,0,160,-1,1096,"RCP6-HSA6R-20"]
[1096,700,0,8000,8000,750,715,40,0,160,1095,1097,"RCP6-HSA6R-20"]
[1097,750,0,8000,8000,750,630,40,0,160,1096,1098,"RCP6-HSA6R-20"]
[1098,800,0,8000,8000,750,560,40,0,160,1097,-1,"RCP6-HSA6R-20"]
[1099,550,0,23000,23000,8000,140,40,0,240,-1,1100,"RCP6-HSA6R-W-3"]
[1100,600,0,23000,23000,8000,125,40,0,240,1099,1101,"RCP6-HSA6R-W-3"]
[1101,650,0,23000,23000,8000,110,40,0,240,1100,1102,"RCP6-HSA6R-W-3"]
[1102,700,0,23000,23000,8000,95,40,0,240,1101,1103,"RCP6-HSA6R-W-3"]
[1103,750,0,23000,23000,8000,85,40,0,240,1102,1104,"RCP6-HSA6R-W-3"]
[1104,800,0,23000,23000,8000,70,40,0,240,1103,-1,"RCP6-HSA6R-W-3"]
[1105,550,0,18000,18000,3000,280,40,0,240,-1,1106,"RCP6-HSA6R-W-6"]
[1106,600,0,18000,18000,3000,255,40,0,240,1105,1107,"RCP6-HSA6R-W-6"]
[1107,650,0,18000,18000,3000,220,40,0,240,1106,1108,"RCP6-HSA6R-W-6"]
[1108,700,0,18000,18000,3000,190,40,0,240,1107,1109,"RCP6-HSA6R-W-6"]
[1109,750,0,18000,18000,3000,170,40,0,240,1108,1110,"RCP6-HSA6R-W-6"]
[1110,800,0,18000,18000,3000,140,40,0,240,1109,-1,"RCP6-HSA6R-W-6"]
[1111,650,0,12000,12000,-1,440,40,0,255,-1,1112,"RCP6-HSA6R-W-12"]
[1112,700,0,12000,12000,-1,390,40,0,255,1111,1113,"RCP6-HSA6R-W-12"]
[1113,750,0,12000,12000,-1,345,40,0,255,1112,1114,"RCP6-HSA6R-W-12"]
[1114,800,0,12000,12000,-1,315,40,0,255,1113,-1,"RCP6-HSA6R-W-12"]
[1115,850,0,25000,25000,10000,140,40,0,240,-1,1116,"RCP6-HSA6XC-3-3"]
[1116,900,0,25000,25000,10000,135,40,0,240,1115,1117,"RCP6-HSA6XC-3-3"]
[1117,950,0,25000,25000,10000,125,40,0,240,1116,1118,"RCP6-HSA6XC-3-3"]
[1118,1000,0,25000,25000,10000,115,40,0,240,1117,-1,"RCP6-HSA6XC-3-3"]
[1119,800,0,20000,20000,5000,340,40,0,240,-1,1120,"RCP6-HSA6XC-6-6"]
[1120,850,0,20000,20000,5000,310,40,0,240,1119,1121,"RCP6-HSA6XC-6-6"]
[1121,900,0,20000,20000,5000,280,40,0,240,1120,1122,"RCP6-HSA6XC-6-6"]
[1122,950,0,20000,20000,5000,255,40,0,240,1121,1123,"RCP6-HSA6XC-6-6"]
[1123,1000,0,20000,20000,5000,230,40,0,240,1122,1124,"RCP6-HSA6XC-6-6"]
[1124,1050,0,20000,20000,5000,210,40,0,240,1123,1125,"RCP6-HSA6XC-6-6"]
[1125,1100,0,20000,20000,5000,185,40,0,240,1124,1126,"RCP6-HSA6XC-6-6"]
[1126,1150,0,20000,20000,5000,175,40,0,240,1125,1127,"RCP6-HSA6XC-6-6"]
[1127,1200,0,20000,20000,5000,165,40,0,240,1126,1128,"RCP6-HSA6XC-6-6"]
[1128,1250,0,20000,20000,5000,140,40,0,240,1127,1129,"RCP6-HSA6XC-6-6"]
[1129,1300,0,20000,20000,5000,135,40,0,240,1128,1130,"RCP6-HSA6XC-6-6"]
[1130,1350,0,20000,20000,5000,125,40,0,240,1129,1131,"RCP6-HSA6XC-6-6"]
[1131,1400,0,20000,20000,5000,115,40,0,240,1130,-1,"RCP6-HSA6XC-6-6"]
[1132,900,0,14000,14000,2000,560,40,0,150,-1,1133,"RCP6-HSA6XC-12-12"]
[1133,950,0,14000,14000,2000,510,40,0,150,1132,1134,"RCP6-HSA6XC-12-12"]
[1134,1000,0,14000,14000,2000,460,40,0,150,1133,1135,"RCP6-HSA6XC-12-12"]
[1135,1050,0,14000,14000,2000,425,40,0,150,1134,1136,"RCP6-HSA6XC-12-12"]
[1136,1100,0,14000,14000,2000,380,40,0,150,1135,1137,"RCP6-HSA6XC-12-12"]
[1137,1150,0,14000,14000,2000,360,40,0,150,1136,1138,"RCP6-HSA6XC-12-12"]
[1138,1200,0,14000,14000,2000,330,40,0,150,1137,1139,"RCP6-HSA6XC-12-12"]
[1139,1250,0,14000,14000,2000,315,40,0,150,1138,1140,"RCP6-HSA6XC-12-12"]
[1140,1300,0,14000,14000,2000,285,40,0,150,1139,1141,"RCP6-HSA6XC-12-12"]
[1141,1350,0,14000,14000,2000,270,40,0,150,1140,1142,"RCP6-HSA6XC-12-12"]
[1142,1400,0,14000,14000,2000,250,40,0,150,1141,1143,"RCP6-HSA6XC-12-12"]
[1143,1450,0,14000,14000,2000,235,40,0,150,1142,1144,"RCP6-HSA6XC-12-12"]
[1144,1500,0,14000,14000,2000,220,40,0,150,1143,-1,"RCP6-HSA6XC-12-12"]
[1145,1000,0,8000,8000,750,800,40,0,100,-1,1146,"RCP6-HSA6XC-20-20"]
[1146,1050,0,8000,8000,750,790,40,0,100,1145,1147,"RCP6-HSA6XC-20-20"]
[1147,1100,0,8000,8000,750,730,40,0,100,1146,1148,"RCP6-HSA6XC-20-20"]
[1148,1150,0,8000,8000,750,640,40,0,100,1147,1149,"RCP6-HSA6XC-20-20"]
[1149,1200,0,8000,8000,750,610,40,0,100,1148,1150,"RCP6-HSA6XC-20-20"]
[1150,1250,0,8000,8000,750,580,40,0,100,1149,1151,"RCP6-HSA6XC-20-20"]
[1151,1300,0,8000,8000,750,540,40,0,100,1150,1152,"RCP6-HSA6XC-20-20"]
[1152,1350,0,8000,8000,750,470,40,0,100,1151,1153,"RCP6-HSA6XC-20-20"]
[1153,1400,0,8000,8000,750,450,40,0,100,1152,1154,"RCP6-HSA6XC-20-20"]
[1154,1450,0,8000,8000,750,430,40,0,100,1153,1155,"RCP6-HSA6XC-20-20"]
[1155,1500,0,8000,8000,750,400,40,0,100,1154,-1,"RCP6-HSA6XC-20-20"]
[1156,850,0,25000,25000,10000,140,40,0,240,-1,1157,"RCP6-HSA6XR-3-3"]
[1157,900,0,25000,25000,10000,135,40,0,240,1156,1158,"RCP6-HSA6XR-3-3"]
[1158,950,0,25000,25000,10000,125,40,0,240,1157,1159,"RCP6-HSA6XR-3-3"]
[1159,1000,0,25000,25000,10000,115,40,0,240,1158,-1,"RCP6-HSA6XR-3-3"]
[1160,800,0,20000,20000,5000,340,40,0,240,-1,1161,"RCP6-HSA6XR-6-6"]
[1161,850,0,20000,20000,5000,310,40,0,240,1160,1162,"RCP6-HSA6XR-6-6"]
[1162,900,0,20000,20000,5000,280,40,0,240,1161,1163,"RCP6-HSA6XR-6-6"]
[1163,950,0,20000,20000,5000,255,40,0,240,1162,1164,"RCP6-HSA6XR-6-6"]
[1164,1000,0,20000,20000,5000,230,40,0,240,1163,1165,"RCP6-HSA6XR-6-6"]
[1165,1050,0,20000,20000,5000,210,40,0,240,1164,1166,"RCP6-HSA6XR-6-6"]
[1166,1100,0,20000,20000,5000,185,40,0,240,1165,1167,"RCP6-HSA6XR-6-6"]
[1167,1150,0,20000,20000,5000,175,40,0,240,1166,1168,"RCP6-HSA6XR-6-6"]
[1168,1200,0,20000,20000,5000,165,40,0,240,1167,1169,"RCP6-HSA6XR-6-6"]
[1169,1250,0,20000,20000,5000,140,40,0,240,1168,1170,"RCP6-HSA6XR-6-6"]
[1170,1300,0,20000,20000,5000,135,40,0,240,1169,1171,"RCP6-HSA6XR-6-6"]
[1171,1350,0,20000,20000,5000,125,40,0,240,1170,1172,"RCP6-HSA6XR-6-6"]
[1172,1400,0,20000,20000,5000,115,40,0,240,1171,-1,"RCP6-HSA6XR-6-6"]
[1173,900,0,14000,14000,2000,560,40,0,210,-1,1174,"RCP6-HSA6XR-12-12"]
[1174,950,0,14000,14000,2000,510,40,0,210,1173,1175,"RCP6-HSA6XR-12-12"]
[1175,1000,0,14000,14000,2000,460,40,0,210,1174,1176,"RCP6-HSA6XR-12-12"]
[1176,1050,0,14000,14000,2000,425,40,0,210,1175,1177,"RCP6-HSA6XR-12-12"]
[1177,1100,0,14000,14000,2000,380,40,0,210,1176,1178,"RCP6-HSA6XR-12-12"]
[1178,1150,0,14000,14000,2000,360,40,0,210,1177,1179,"RCP6-HSA6XR-12-12"]
[1179,1200,0,14000,14000,2000,330,40,0,210,1178,1180,"RCP6-HSA6XR-12-12"]
[1180,1250,0,14000,14000,2000,315,40,0,210,1179,1181,"RCP6-HSA6XR-12-12"]
[1181,1300,0,14000,14000,2000,285,40,0,210,1180,1182,"RCP6-HSA6XR-12-12"]
[1182,1350,0,14000,14000,2000,270,40,0,210,1181,1183,"RCP6-HSA6XR-12-12"]
[1183,1400,0,14000,14000,2000,250,40,0,210,1182,1184,"RCP6-HSA6XR-12-12"]
[1184,1450,0,14000,14000,2000,235,40,0,210,1183,1185,"RCP6-HSA6XR-12-12"]
[1185,1500,0,14000,14000,2000,220,40,0,210,1184,-1,"RCP6-HSA6XR-12-12"]
[1186,1000,0,8000,8000,750,800,40,0,160,-1,1187,"RCP6-HSA6XR-20-20"]
[1187,1050,0,8000,8000,750,790,40,0,160,1186,1188,"RCP6-HSA6XR-20-20"]
[1188,1100,0,8000,8000,750,730,40,0,160,1187,1189,"RCP6-HSA6XR-20-20"]
[1189,1150,0,8000,8000,750,640,40,0,160,1188,1190,"RCP6-HSA6XR-20-20"]
[1190,1200,0,8000,8000,750,610,40,0,160,1189,1191,"RCP6-HSA6XR-20-20"]
[1191,1250,0,8000,8000,750,580,40,0,160,1190,1192,"RCP6-HSA6XR-20-20"]
[1192,1300,0,8000,8000,750,540,40,0,160,1191,1193,"RCP6-HSA6XR-20-20"]
[1193,1350,0,8000,8000,750,470,40,0,160,1192,1194,"RCP6-HSA6XR-20-20"]
[1194,1400,0,8000,8000,750,450,40,0,160,1193,1195,"RCP6-HSA6XR-20-20"]
[1195,1450,0,8000,8000,750,430,40,0,160,1194,1196,"RCP6-HSA6XR-20-20"]
[1196,1500,0,8000,8000,750,400,40,0,160,1195,-1,"RCP6-HSA6XR-20-20"]
[1197,800,0,40000,40000,15000,120,40,0,240,-1,-1,"RCP6-HSA7R-4"]
[1198,800,0,40000,40000,10000,210,40,0,240,-1,-1,"RCP6-HSA7R-8"]
[1199,750,0,35000,35000,5000,500,40,0,240,-1,1200,"RCP6-HSA7R-16"]
[1200,800,0,35000,35000,5000,495,40,0,240,1199,-1,"RCP6-HSA7R-16"]
[1201,400,0,18000,18000,2000,800,40,0,100,-1,1202,"RCP6-HSA7R-24"]
[1202,750,0,18000,18000,2000,800,40,0,100,1201,1203,"RCP6-HSA7R-24"]
[1203,800,0,18000,18000,2000,750,40,0,100,1202,-1,"RCP6-HSA7R-24"]
[1204,800,0,38000,38000,13000,120,40,0,240,-1,-1,"RCP6-HSA7R-W-4"]
[1205,800,0,38000,38000,8000,210,40,0,240,-1,-1,"RCP6-HSA7R-W-8"]
[1206,800,0,33000,33000,-1,420,40,0,240,-1,-1,"RCP6-HSA7R-W-16"]
[1207,900,0,40000,40000,15000,120,40,0,240,-1,1208,"RCP6-HSA7XC-4-4"]
[1208,1100,0,40000,40000,15000,120,40,0,240,1207,-1,"RCP6-HSA7XC-4-4"]
[1209,800,0,40000,40000,10000,210,40,0,240,-1,1210,"RCP6-HSA7XC-8-8"]
[1210,1350,0,40000,40000,10000,210,40,0,180,1209,1211,"RCP6-HSA7XC-8-8"]
[1211,1400,0,40000,40000,10000,190,40,0,180,1210,1212,"RCP6-HSA7XC-8-8"]
[1212,1450,0,40000,40000,10000,180,40,0,180,1211,1213,"RCP6-HSA7XC-8-8"]
[1213,1500,0,40000,40000,10000,170,40,0,180,1212,-1,"RCP6-HSA7XC-8-8"]
[1214,800,0,35000,35000,5000,500,40,0,240,-1,1215,"RCP6-HSA7XC-16-16"]
[1215,1000,0,35000,35000,5000,500,40,0,140,1214,1216,"RCP6-HSA7XC-16-16"]
[1216,1250,0,35000,35000,5000,500,40,0,140,1215,1217,"RCP6-HSA7XC-16-16"]
[1217,1300,0,35000,35000,5000,470,40,0,140,1216,1218,"RCP6-HSA7XC-16-16"]
[1218,1350,0,35000,35000,5000,440,40,0,140,1217,1219,"RCP6-HSA7XC-16-16"]
[1219,1400,0,35000,35000,5000,420,40,0,140,1218,1220,"RCP6-HSA7XC-16-16"]
[1220,1450,0,35000,35000,5000,375,40,0,140,1219,1221,"RCP6-HSA7XC-16-16"]
[1221,1500,0,35000,35000,5000,355,40,0,140,1220,-1,"RCP6-HSA7XC-16-16"]
[1222,1000,0,18000,18000,2000,800,40,0,100,-1,1223,"RCP6-HSA7XC-24-24"]
[1223,1200,0,18000,18000,2000,800,40,0,100,1222,1224,"RCP6-HSA7XC-24-24"]
[1224,1250,0,18000,18000,2000,770,40,0,100,1223,1225,"RCP6-HSA7XC-24-24"]
[1225,1300,0,18000,18000,2000,735,40,0,100,1224,1226,"RCP6-HSA7XC-24-24"]
[1226,1350,0,18000,18000,2000,680,40,0,100,1225,1227,"RCP6-HSA7XC-24-24"]
[1227,1400,0,18000,18000,2000,635,40,0,100,1226,1228,"RCP6-HSA7XC-24-24"]
[1228,1450,0,18000,18000,2000,565,40,0,100,1227,1229,"RCP6-HSA7XC-24-24"]
[1229,1500,0,18000,18000,2000,550,40,0,100,1228,-1,"RCP6-HSA7XC-24-24"]
[1230,1100,0,40000,40000,15000,120,40,0,240,-1,-1,"RCP6-HSA7XR-4-4"]
[1231,1350,0,40000,40000,10000,210,40,0,240,-1,1232,"RCP6-HSA7XR-8-8"]
[1232,1400,0,40000,40000,10000,190,40,0,240,1231,1233,"RCP6-HSA7XR-8-8"]
[1233,1450,0,40000,40000,10000,180,40,0,240,1232,1234,"RCP6-HSA7XR-8-8"]
[1234,1500,0,40000,40000,10000,170,40,0,240,1233,-1,"RCP6-HSA7XR-8-8"]
[1235,1250,0,35000,35000,5000,500,40,0,240,-1,1236,"RCP6-HSA7XR-16-16"]
[1236,1300,0,35000,35000,5000,470,40,0,240,1235,1237,"RCP6-HSA7XR-16-16"]
[1237,1350,0,35000,35000,5000,440,40,0,240,1236,1238,"RCP6-HSA7XR-16-16"]
[1238,1400,0,35000,35000,5000,420,40,0,240,1237,1239,"RCP6-HSA7XR-16-16"]
[1239,1450,0,35000,35000,5000,375,40,0,240,1238,1240,"RCP6-HSA7XR-16-16"]
[1240,1500,0,35000,35000,5000,355,40,0,240,1239,-1,"RCP6-HSA7XR-16-16"]
[1241,1200,0,18000,18000,2000,800,40,0,100,-1,1242,"RCP6-HSA7XR-24-24"]
[1242,1250,0,18000,18000,2000,770,40,0,100,1241,1243,"RCP6-HSA7XR-24-24"]
[1243,1300,0,18000,18000,2000,735,40,0,100,1242,1244,"RCP6-HSA7XR-24-24"]
[1244,1350,0,18000,18000,2000,680,40,0,100,1243,1245,"RCP6-HSA7XR-24-24"]
[1245,1400,0,18000,18000,2000,635,40,0,100,1244,1246,"RCP6-HSA7XR-24-24"]
[1246,1450,0,18000,18000,2000,565,40,0,100,1245,1247,"RCP6-HSA7XR-24-24"]
[1247,1500,0,18000,18000,2000,550,40,0,100,1246,-1,"RCP6-HSA7XR-24-24","↑ Ver.4.1 追加"]
[1248,500,0,25000,25000,10000,170,40,0,230,-1,1249,"RCP6CR-HSA6C-3","↓ Ver.4.3 追加"]
[1249,550,0,25000,25000,10000,145,40,0,230,1248,1250,"RCP6CR-HSA6C-3"]
[1250,600,0,25000,25000,10000,125,40,0,230,1249,1251,"RCP6CR-HSA6C-3"]
[1251,650,0,25000,25000,10000,110,40,0,230,1250,1252,"RCP6CR-HSA6C-3"]
[1252,700,0,25000,25000,10000,95,40,0,230,1251,1253,"RCP6CR-HSA6C-3"]
[1253,750,0,25000,25000,10000,85,40,0,230,1252,1254,"RCP6CR-HSA6C-3"]
[1254,800,0,25000,25000,10000,70,40,0,230,1253,-1,"RCP6CR-HSA6C-3"]
[1255,500,0,20000,20000,5000,340,40,0,230,-1,1256,"RCP6CR-HSA6C-6"]
[1256,550,0,20000,20000,5000,295,40,0,230,1255,1257,"RCP6CR-HSA6C-6"]
[1257,600,0,20000,20000,5000,255,40,0,230,1256,1258,"RCP6CR-HSA6C-6"]
[1258,650,0,20000,20000,5000,220,40,0,230,1257,1259,"RCP6CR-HSA6C-6"]
[1259,700,0,20000,20000,5000,190,40,0,230,1258,1260,"RCP6CR-HSA6C-6"]
[1260,750,0,20000,20000,5000,170,40,0,230,1259,1261,"RCP6CR-HSA6C-6"]
[1261,800,0,20000,20000,5000,140,40,0,230,1260,-1,"RCP6CR-HSA6C-6"]
[1262,500,0,14000,14000,2000,680,40,0,200,-1,1263,"RCP6CR-HSA6C-12"]
[1263,550,0,14000,14000,2000,585,40,0,200,1262,1264,"RCP6CR-HSA6C-12"]
[1264,600,0,14000,14000,2000,515,40,0,200,1263,1265,"RCP6CR-HSA6C-12"]
[1265,650,0,14000,14000,2000,445,40,0,200,1264,1266,"RCP6CR-HSA6C-12"]
[1266,700,0,14000,14000,2000,390,40,0,200,1265,1267,"RCP6CR-HSA6C-12"]
[1267,750,0,14000,14000,2000,345,40,0,200,1266,1268,"RCP6CR-HSA6C-12"]
[1268,800,0,14000,14000,2000,305,40,0,200,1267,-1,"RCP6CR-HSA6C-12"]
[1269,650,0,8000,8000,750,800,40,0,100,-1,1270,"RCP6CR-HSA6C-20"]
[1270,700,0,8000,8000,750,715,40,0,100,1269,1271,"RCP6CR-HSA6C-20"]
[1271,750,0,8000,8000,750,630,40,0,100,1270,1272,"RCP6CR-HSA6C-20"]
[1272,800,0,8000,8000,750,560,40,0,100,1271,-1,"RCP6CR-HSA6C-20"]
[1273,500,0,23000,23000,8000,170,40,0,230,-1,1274,"RCP6CR-HSA6C-W-3"]
[1274,550,0,23000,23000,8000,145,40,0,230,1273,1275,"RCP6CR-HSA6C-W-3"]
[1275,600,0,23000,23000,8000,125,40,0,230,1274,1276,"RCP6CR-HSA6C-W-3"]
[1276,650,0,23000,23000,8000,110,40,0,230,1275,1277,"RCP6CR-HSA6C-W-3"]
[1277,700,0,23000,23000,8000,95,40,0,230,1276,1278,"RCP6CR-HSA6C-W-3"]
[1278,750,0,23000,23000,8000,85,40,0,230,1277,1279,"RCP6CR-HSA6C-W-3"]
[1279,800,0,23000,23000,8000,70,40,0,230,1278,-1,"RCP6CR-HSA6C-W-3"]
[1280,500,0,18000,18000,3000,340,40,0,230,-1,1281,"RCP6CR-HSA6C-W-6"]
[1281,550,0,18000,18000,3000,295,40,0,230,1280,1282,"RCP6CR-HSA6C-W-6"]
[1282,600,0,18000,18000,3000,255,40,0,230,1281,1283,"RCP6CR-HSA6C-W-6"]
[1283,650,0,18000,18000,3000,220,40,0,230,1282,1284,"RCP6CR-HSA6C-W-6"]
[1284,700,0,18000,18000,3000,190,40,0,230,1283,1285,"RCP6CR-HSA6C-W-6"]
[1285,750,0,18000,18000,3000,170,40,0,230,1284,1286,"RCP6CR-HSA6C-W-6"]
[1286,800,0,18000,18000,3000,140,40,0,230,1285,-1,"RCP6CR-HSA6C-W-6"]
[1287,550,0,12000,12000,-1,560,40,0,200,-1,1288,"RCP6CR-HSA6C-W-12"]
[1288,600,0,12000,12000,-1,515,40,0,200,1287,1289,"RCP6CR-HSA6C-W-12"]
[1289,650,0,12000,12000,-1,445,40,0,200,1288,1290,"RCP6CR-HSA6C-W-12"]
[1290,700,0,12000,12000,-1,390,40,0,200,1289,1291,"RCP6CR-HSA6C-W-12"]
[1291,750,0,12000,12000,-1,345,40,0,200,1290,1292,"RCP6CR-HSA6C-W-12"]
[1292,800,0,12000,12000,-1,315,40,0,200,1291,-1,"RCP6CR-HSA6C-W-12"]
[1293,850,0,25000,25000,10000,140,40,0,240,-1,1294,"RCP6CR-HSA6XC-3-3"]
[1294,900,0,25000,25000,10000,135,40,0,240,1293,1295,"RCP6CR-HSA6XC-3-3"]
[1295,950,0,25000,25000,10000,125,40,0,240,1294,1296,"RCP6CR-HSA6XC-3-3"]
[1296,1000,0,25000,25000,10000,115,40,0,240,1295,-1,"RCP6CR-HSA6XC-3-3"]
[1297,800,0,20000,20000,5000,340,40,0,240,-1,1298,"RCP6CR-HSA6XC-6-6"]
[1298,850,0,20000,20000,5000,310,40,0,240,1297,1299,"RCP6CR-HSA6XC-6-6"]
[1299,900,0,20000,20000,5000,280,40,0,240,1298,1300,"RCP6CR-HSA6XC-6-6"]
[1300,950,0,20000,20000,5000,255,40,0,240,1299,1301,"RCP6CR-HSA6XC-6-6"]
[1301,1000,0,20000,20000,5000,230,40,0,240,1300,1302,"RCP6CR-HSA6XC-6-6"]
[1302,1050,0,20000,20000,5000,210,40,0,240,1301,1303,"RCP6CR-HSA6XC-6-6"]
[1303,1100,0,20000,20000,5000,185,40,0,240,1302,1304,"RCP6CR-HSA6XC-6-6"]
[1304,1150,0,20000,20000,5000,175,40,0,240,1303,1305,"RCP6CR-HSA6XC-6-6"]
[1305,1200,0,20000,20000,5000,165,40,0,240,1304,1306,"RCP6CR-HSA6XC-6-6"]
[1306,1250,0,20000,20000,5000,140,40,0,240,1305,1307,"RCP6CR-HSA6XC-6-6"]
[1307,1300,0,20000,20000,5000,135,40,0,240,1306,1308,"RCP6CR-HSA6XC-6-6"]
[1308,1350,0,20000,20000,5000,125,40,0,240,1307,1309,"RCP6CR-HSA6XC-6-6"]
[1309,1400,0,20000,20000,5000,115,40,0,240,1308,-1,"RCP6CR-HSA6XC-6-6"]
[1310,900,0,14000,14000,2000,560,40,0,150,-1,1311,"RCP6CR-HSA6XC-12-12"]
[1311,950,0,14000,14000,2000,510,40,0,150,1310,1312,"RCP6CR-HSA6XC-12-12"]
[1312,1000,0,14000,14000,2000,460,40,0,150,1311,1313,"RCP6CR-HSA6XC-12-12"]
[1313,1050,0,14000,14000,2000,425,40,0,150,1312,1314,"RCP6CR-HSA6XC-12-12"]
[1314,1100,0,14000,14000,2000,380,40,0,150,1313,1315,"RCP6CR-HSA6XC-12-12"]
[1315,1150,0,14000,14000,2000,360,40,0,150,1314,1316,"RCP6CR-HSA6XC-12-12"]
[1316,1200,0,14000,14000,2000,330,40,0,150,1315,1317,"RCP6CR-HSA6XC-12-12"]
[1317,1250,0,14000,14000,2000,315,40,0,150,1316,1318,"RCP6CR-HSA6XC-12-12"]
[1318,1300,0,14000,14000,2000,285,40,0,150,1317,1319,"RCP6CR-HSA6XC-12-12"]
[1319,1350,0,14000,14000,2000,270,40,0,150,1318,1320,"RCP6CR-HSA6XC-12-12"]
[1320,1400,0,14000,14000,2000,250,40,0,150,1319,1321,"RCP6CR-HSA6XC-12-12"]
[1321,1450,0,14000,14000,2000,235,40,0,150,1320,1322,"RCP6CR-HSA6XC-12-12"]
[1322,1500,0,14000,14000,2000,220,40,0,150,1321,-1,"RCP6CR-HSA6XC-12-12"]
[1323,1000,0,8000,8000,750,800,40,0,100,-1,1324,"RCP6CR-HSA6XC-20-20"]
[1324,1050,0,8000,8000,750,790,40,0,100,1323,1325,"RCP6CR-HSA6XC-20-20"]
[1325,1100,0,8000,8000,750,730,40,0,100,1324,1326,"RCP6CR-HSA6XC-20-20"]
[1326,1150,0,8000,8000,750,640,40,0,100,1325,1327,"RCP6CR-HSA6XC-20-20"]
[1327,1200,0,8000,8000,750,610,40,0,100,1326,1328,"RCP6CR-HSA6XC-20-20"]
[1328,1250,0,8000,8000,750,580,40,0,100,1327,1329,"RCP6CR-HSA6XC-20-20"]
[1329,1300,0,8000,8000,750,540,40,0,100,1328,1330,"RCP6CR-HSA6XC-20-20"]
[1330,1350,0,8000,8000,750,470,40,0,100,1329,1331,"RCP6CR-HSA6XC-20-20"]
[1331,1400,0,8000,8000,750,450,40,0,100,1330,1332,"RCP6CR-HSA6XC-20-20"]
[1332,1450,0,8000,8000,750,430,40,0,100,1331,1333,"RCP6CR-HSA6XC-20-20"]
[1333,1500,0,8000,8000,750,400,40,0,100,1332,-1,"RCP6CR-HSA6XC-20-20"]
[1334,700,0,40000,40000,15000,140,40,0,230,-1,1335,"RCP6CR-HSA7C-4"]
[1335,750,0,40000,40000,15000,135,40,0,230,1334,1336,"RCP6CR-HSA7C-4"]
[1336,800,0,40000,40000,15000,120,40,0,230,1335,-1,"RCP6CR-HSA7C-4"]
[1337,700,0,40000,40000,10000,280,40,0,230,-1,1338,"RCP6CR-HSA7C-8"]
[1338,750,0,40000,40000,10000,275,40,0,230,1337,1339,"RCP6CR-HSA7C-8"]
[1339,800,0,40000,40000,10000,245,40,0,230,1338,-1,"RCP6CR-HSA7C-8"]
[1340,500,0,35000,35000,5000,560,40,0,230,-1,1341,"RCP6CR-HSA7C-16"]
[1341,700,0,35000,35000,5000,560,40,0,230,1340,1342,"RCP6CR-HSA7C-16"]
[1342,750,0,35000,35000,5000,555,40,0,230,1341,1343,"RCP6CR-HSA7C-16"]
[1343,800,0,35000,35000,5000,495,40,0,230,1342,-1,"RCP6CR-HSA7C-16"]
[1344,600,0,18000,18000,2000,800,40,0,120,-1,1345,"RCP6CR-HSA7C-24"]
[1345,750,0,18000,18000,2000,800,40,0,120,1344,1346,"RCP6CR-HSA7C-24"]
[1346,800,0,18000,18000,2000,750,40,0,120,1345,-1,"RCP6CR-HSA7C-24"]
[1347,700,0,38000,38000,13000,140,40,0,230,-1,1348,"RCP6CR-HSA7C-W-4"]
[1348,750,0,38000,38000,13000,135,40,0,230,1347,1349,"RCP6CR-HSA7C-W-4"]
[1349,800,0,38000,38000,13000,120,40,0,230,1348,-1,"RCP6CR-HSA7C-W-4"]
[1350,700,0,38000,38000,8000,280,40,0,230,-1,1351,"RCP6CR-HSA7C-W-8"]
[1351,750,0,38000,38000,8000,275,40,0,230,1350,1352,"RCP6CR-HSA7C-W-8"]
[1352,800,0,38000,38000,8000,245,40,0,230,1351,-1,"RCP6CR-HSA7C-W-8"]
[1353,500,0,33000,33000,-1,420,40,0,230,-1,1354,"RCP6CR-HSA7C-W-16"]
[1354,800,0,33000,33000,-1,420,40,0,230,1353,-1,"RCP6CR-HSA7C-W-16"]
[1355,900,0,40000,40000,15000,120,40,0,240,-1,1356,"RCP6CR-HSA7XC-4-4"]
[1356,1100,0,40000,40000,15000,120,40,0,240,1355,-1,"RCP6CR-HSA7XC-4-4"]
[1357,800,0,40000,40000,10000,210,40,0,240,-1,1358,"RCP6CR-HSA7XC-8-8"]
[1358,1350,0,40000,40000,10000,210,40,0,180,1357,1359,"RCP6CR-HSA7XC-8-8"]
[1359,1400,0,40000,40000,10000,190,40,0,180,1358,1360,"RCP6CR-HSA7XC-8-8"]
[1360,1450,0,40000,40000,10000,180,40,0,180,1359,1361,"RCP6CR-HSA7XC-8-8"]
[1361,1500,0,40000,40000,10000,170,40,0,180,1360,-1,"RCP6CR-HSA7XC-8-8"]
[1362,800,0,35000,35000,5000,500,40,0,240,-1,1363,"RCP6CR-HSA7XC-16-16"]
[1363,1000,0,35000,35000,5000,500,40,0,140,1362,1364,"RCP6CR-HSA7XC-16-16"]
[1364,1250,0,35000,35000,5000,500,40,0,140,1363,1365,"RCP6CR-HSA7XC-16-16"]
[1365,1300,0,35000,35000,5000,470,40,0,140,1364,1366,"RCP6CR-HSA7XC-16-16"]
[1366,1350,0,35000,35000,5000,440,40,0,140,1365,1367,"RCP6CR-HSA7XC-16-16"]
[1367,1400,0,35000,35000,5000,420,40,0,140,1366,1368,"RCP6CR-HSA7XC-16-16"]
[1368,1450,0,35000,35000,5000,375,40,0,140,1367,1369,"RCP6CR-HSA7XC-16-16"]
[1369,1500,0,35000,35000,5000,355,40,0,140,1368,-1,"RCP6CR-HSA7XC-16-16"]
[1370,1000,0,18000,18000,2000,800,40,0,100,-1,1371,"RCP6CR-HSA7XC-24-24"]
[1371,1200,0,18000,18000,2000,800,40,0,100,1370,1372,"RCP6CR-HSA7XC-24-24"]
[1372,1250,0,18000,18000,2000,770,40,0,100,1371,1373,"RCP6CR-HSA7XC-24-24"]
[1373,1300,0,18000,18000,2000,735,40,0,100,1372,1374,"RCP6CR-HSA7XC-24-24"]
[1374,1350,0,18000,18000,2000,680,40,0,100,1373,1375,"RCP6CR-HSA7XC-24-24"]
[1375,1400,0,18000,18000,2000,635,40,0,100,1374,1376,"RCP6CR-HSA7XC-24-24"]
[1376,1450,0,18000,18000,2000,565,40,0,100,1375,1377,"RCP6CR-HSA7XC-24-24"]
[1377,1500,0,18000,18000,2000,550,40,0,100,1376,-1,"RCP6CR-HSA7XC-24-24","↑ Ver.4.3 追加"]
["EOF"]

{"sheet":"MassDataLink","index":5,"n_rows":5049,"n_cols":11,"rows_kept":5049,"cut":false,"hidden":true,"merged":[[1100,6,1106,6],[3181,6,3182,6],[3183,6,3189,6],[3151,6,3154,6],[3155,6,3163,6],[3164,6,3166,6],[3167,6,3172,6],[3173,6,3174,6],[3175,6,3180,6],[3118,6,3121,6],[3122,6,3127,6],[3128,6,3131,6],[3132,6,3138,6],[3139,6,3142,6],[3143,6,3150,6],[3088,6,3093,6],[3094,6,3095,6],[3096,6,3102,6],[3104,6,3108,6],[3109,6,3112,6],[3113,6,3117,6],[3056,6,3063,6],[3064,6,3067,6],[3068,6,3076,6],[3077,6,3079,6],[3080,6,3085,6],[3086,6,3087,6],[3026,6,3030,6],[3031,6,3034,6],[3035,6,3040,6],[3041,6,3044,6],[3045,6,3051,6],[3052,6,3055,6],[3002,6,3004,6],[3005,6,3006,6],[3007,6,3010,6],[3012,6,3015,6],[3017,6,3021,6],[3022,6,3025,6],[2978,6,2984,6],[2985,6,2988,6],[2989,6,2993,6],[2994,6,2995,6],[2996,6,2998,6],[2999,6,3001,6],[2953,6,2957,6],[2958,6,2959,6],[2960,6,2964,6],[2965,6,2968,6],[2969,6,2973,6],[2974,6,2977,6],[2926,6,2929,6],[2931,6,2934,6],[2937,6,2940,6],[2942,6,2945,6],[2946,6,2948,6],[2949,6,2952,6],[2908,6,2912,6],[2913,6,2914,6],[2915,6,2917,6],[2918,6,2920,6],[2921,6,2923,6],[2924,6,2925,6],[2879,6,2883,6],[2884,6,2887,6],[2888,6,2892,6],[2893,6,2896,6],[2897,6,2903,6],[2904,6,2907,6],[2856,6,2859,6],[2861,6,2864,6],[2865,6,2867,6],[2868,6,2871,6],[2872,6,2876,6],[2877,6,2878,6],[2832,6,2835,6],[2836,6,2838,6],[2839,6,2843,6],[2844,6,2845,6],[2846,6,2850,6],[2851,6,2854,6],[2808,6,2809,6],[2810,6,2812,6],[2813,6,2816,6],[2817,6,2819,6],[2820,6,2826,6],[2827,6,2831,6],[2779,6,2783,6],[2784,6,2787,6],[2788,6,2794,6],[2795,6,2797,6],[2798,6,2804,6],[2805,6,2807,6],[2756,6,2759,6],[2760,6,2762,6],[2763,6,2767,6],[2768,6,2769,6],[2770,6,2774,6],[2775,6,2778,6],[2732,6,2733,6],[2734,6,2736,6],[2737,6,2740,6],[2741,6,2743,6],[2744,6,2750,6],[2751,6,2755,6],[2703,6,2707,6],[2708,6,2711,6],[2712,6,2718,6],[2719,6,2721,6],[2722,6,2728,6],[2729,6,2731,6],[2681,6,2684,6],[2685,6,2687,6],[2688,6,2693,6],[2694,6,2695,6],[2696,6,2700,6],[2701,6,2702,6],[2657,6,2662,6],[2663,6,2666,6],[2667,6,2671,6],[2672,6,2673,6],[2674,6,2677,6],[2678,6,2680,6],[2634,6,2638,6],[2639,6,2640,6],[2641,6,2642,6],[2643,6,2646,6],[2647,6,2652,6],[2653,6,2656,6],[2600,6,2605,6],[2606,6,2609,6],[2610,6,2617,6],[2618,6,2621,6],[2622,6,2629,6],[2630,6,2633,6],[2578,6,2581,6],[2582,6,2584,6],[2585,6,2590,6],[2591,6,2592,6],[2593,6,2597,6],[2598,6,2599,6],[2554,6,2559,6],[2560,6,2563,6],[2564,6,2568,6],[2569,6,2570,6],[2571,6,2574,6],[2575,6,2577,6],[2531,6,2535,6],[2536,6,2537,6],[2538,6,2539,6],[2540,6,2543,6],[2544,6,2549,6],[2550,6,2553,6],[2497,6,2502,6],[2503,6,2506,6],[2507,6,2514,6],[2515,6,2518,6],[2519,6,2526,6],[2527,6,2530,6],[2473,6,2476,6],[2477,6,2479,6],[2480,6,2485,6],[2486,6,2487,6],[2488,6,2494,6],[2495,6,2496,6],[2449,6,2454,6],[2455,6,2458,6],[2459,6,2463,6],[2464,6,2465,6],[2466,6,2469,6],[2470,6,2472,6],[2426,6,2430,6],[2431,6,2432,6],[2433,6,2434,6],[2435,6,2438,6],[2439,6,2444,6],[2445,6,2448,6],[2392,6,2397,6],[2398,6,2401,6],[2402,6,2409,6],[2410,6,2413,6],[2414,6,2421,6],[2422,6,2425,6],[2368,6,2371,6],[2372,6,2374,6],[2375,6,2380,6],[2381,6,2382,6],[2383,6,2389,6],[2390,6,2391,6],[2344,6,2349,6],[2350,6,2353,6],[2354,6,2358,6],[2359,6,2360,6],[2361,6,2364,6],[2365,6,2367,6],[2321,6,2325,6],[2326,6,2327,6],[2328,6,2329,6],[2330,6,2333,6],[2334,6,2339,6],[2340,6,2343,6],[2287,6,2292,6],[2293,6,2296,6],[2297,6,2304,6],[2305,6,2308,6],[2309,6,2316,6],[2317,6,2320,6],[2261,6,2264,6],[2265,6,2266,6],[2267,6,2271,6],[2272,6,2274,6],[2275,6,2280,6],[2281,6,2286,6],[2231,6,2234,6],[2235,6,2239,6],[2240,6,2244,6],[2245,6,2248,6],[2249,6,2256,6],[2257,6,2260,6],[2202,6,2205,6],[2206,6,2209,6],[2210,6,2215,6],[2216,6,2217,6],[2218,6,2226,6],[2227,6,2230,6],[2176,6,2179,6],[2180,6,2181,6],[2182,6,2186,6],[2187,6,2189,6],[2190,6,2195,6],[2196,6,2201,6],[2146,6,2149,6],[2150,6,2154,6],[2155,6,2159,6],[2160,6,2163,6],[2164,6,2171,6],[2172,6,2175,6],[2117,6,2120,6],[2121,6,2124,6],[2125,6,2130,6],[2131,6,2132,6],[2133,6,2141,6],[2142,6,2145,6],[2088,6,2092,6],[2093,6,2096,6],[2097,6,2104,6],[2105,6,2108,6],[2109,6,2113,6],[2114,6,2116,6],[2060,6,2066,6],[2067,6,2070,6],[2071,6,2078,6],[2079,6,2080,6],[2081,6,2084,6],[2085,6,2087,6],[2029,6,2034,6],[2035,6,2037,6],[2038,6,2044,6],[2045,6,2048,6],[2049,6,2055,6],[2056,6,2059,6],[2000,6,2004,6],[2005,6,2007,6],[2008,6,2013,6],[2014,6,2016,6],[2017,6,2024,6],[2025,6,2028,6],[1971,6,1975,6],[1976,6,1979,6],[1980,6,1987,6],[1988,6,1991,6],[1992,6,1996,6],[1997,6,1999,6],[1943,6,1949,6],[1950,6,1953,6],[1954,6,1961,6],[1962,6,1963,6],[1964,6,1967,6],[1968,6,1970,6],[1912,6,1917,6],[1918,6,1920,6],[1921,6,1927,6],[1928,6,1931,6],[1932,6,1938,6],[1939,6,1942,6],[1883,6,1887,6],[1888,6,1890,6],[1891,6,1896,6],[1897,6,1899,6],[1900,6,1907,6],[1908,6,1911,6],[747,6,748,6],[733,6,734,6],[735,6,737,6],[738,6,739,6],[740,6,742,6],[743,6,744,6],[745,6,746,6],[772,6,777,6],[778,6,780,6],[781,6,785,6],[817,6,821,6],[822,6,835,6],[836,6,840,6],[841,6,850,6],[851,6,853,6],[786,6,798,6],[799,6,803,6],[804,6,816,6],[721,6,722,6],[723,6,724,6],[725,6,726,6],[727,6,728,6],[729,6,730,6],[731,6,732,6],[749,6,758,6],[759,6,765,6],[766,6,771,6],[897,6,903,6],[905,6,919,6],[920,6,923,6],[924,6,933,6],[854,6,857,6],[858,6,865,6],[866,6,869,6],[870,6,883,6],[884,6,891,6],[892,6,895,6],[968,6,972,6],[974,6,986,6],[988,6,995,6],[934,6,935,6],[936,6,941,6],[942,6,946,6],[947,6,959,6],[960,6,962,6],[963,6,966,6],[1880,6,1882,6],[1843,6,1854,6],[1840,6,1842,6],[1855,6,1858,6],[1859,6,1860,6],[1861,6,1866,6],[1870,6,1879,6],[1867,6,1869,6],[1811,6,1823,6],[1806,6,1810,6],[1827,6,1830,6],[1824,6,1826,6],[1834,6,1839,6],[1831,6,1833,6],[1768,6,1771,6],[1772,6,1785,6],[1786,6,1793,6],[1794,6,1797,6],[1798,6,1799,6],[1800,6,1805,6],[1736,6,1748,6],[1731,6,1735,6],[1749,6,1751,6],[1752,6,1755,6],[1756,6,1759,6],[1760,6,1767,6],[1697,6,1710,6],[1693,6,1696,6],[1711,6,1718,6],[1719,6,1722,6],[1723,6,1724,6],[1725,6,1730,6],[1649,6,1652,6],[1653,6,1666,6],[1667,6,1670,6],[1671,6,1680,6],[1681,6,1684,6],[1685,6,1692,6],[1568,6,1587,6],[1588,6,1591,6],[1611,6,1623,6],[1624,6,1627,6],[1628,6,1640,6],[1641,6,1648,6],[1592,6,1603,6],[1604,6,1610,6],[1509,6,1519,6],[1498,6,1508,6],[1536,6,1542,6],[1520,6,1535,6],[1543,6,1563,6],[1564,6,1567,6],[1404,6,1412,6],[1413,6,1422,6],[1438,6,1445,6],[1423,6,1437,6],[1468,6,1471,6],[1446,6,1467,6],[1494,6,1497,6],[1472,6,1493,6],[1363,6,1365,6],[1322,6,1325,6],[1306,6,1307,6],[1308,6,1310,6],[1367,6,1373,6],[1375,6,1389,6],[1390,6,1393,6],[1394,6,1403,6],[1311,6,1313,6],[1314,6,1316,6],[1317,6,1319,6],[1320,6,1321,6],[1341,6,1354,6],[1355,6,1362,6],[1330,6,1336,6],[1337,6,1340,6],[1286,6,1289,6],[1290,6,1293,6],[1294,6,1296,6],[1297,6,1299,6],[1300,6,1301,6],[1302,6,1305,6],[1261,6,1264,6],[1265,6,1270,6],[1271,6,1272,6],[1274,6,1278,6],[1279,6,1281,6],[1282,6,1285,6],[1224,6,1225,6],[1226,6,1232,6],[1233,6,1238,6],[1239,6,1247,6],[1248,6,1251,6],[1252,6,1260,6],[1203,6,1205,6],[1206,6,1208,6],[1209,6,1212,6],[1213,6,1216,6],[1217,6,1220,6],[1221,6,1223,6],[1164,6,1171,6],[1172,6,1178,6],[1179,6,1187,6],[1188,6,1191,6],[1192,6,1199,6],[1201,6,1202,6],[1126,6,1133,6],[1134,6,1137,6],[1138,6,1143,6],[1144,6,1146,6],[1156,6,1163,6],[1147,6,1155,6],[1085,6,1093,6],[1094,6,1095,6],[1032,6,1044,6],[1045,6,1049,6],[1050,6,1062,6],[1063,6,1067,6],[1068,6,1079,6],[1080,6,1084,6],[996,6,1005,6],[1006,6,1012,6],[1013,6,1018,6],[1019,6,1024,6],[1025,6,1027,6],[1028,6,1031,6],[718,6,719,6],[692,6,694,6],[695,6,697,6],[698,6,699,6],[700,6,703,6],[704,6,705,6],[706,6,708,6],[680,6,683,6],[684,6,687,6],[688,6,691,6],[709,6,711,6],[712,6,714,6],[715,6,717,6],[639,6,652,6],[653,6,657,6],[658,6,667,6],[668,6,670,6],[672,6,676,6],[677,6,679,6],[600,6,602,6],[603,6,605,6],[606,6,614,6],[615,6,619,6],[620,6,633,6],[634,6,638,6],[573,6,579,6],[582,6,584,6],[585,6,587,6],[588,6,591,6],[592,6,595,6],[596,6,599,6],[529,6,537,6],[538,6,545,6],[546,6,553,6],[554,6,559,6],[560,6,568,6],[569,6,572,6],[497,6,502,6],[503,6,507,6],[508,6,515,6],[516,6,519,6],[520,6,525,6],[526,6,528,6],[481,6,482,6],[483,6,484,6],[485,6,486,6],[487,6,488,6],[489,6,493,6],[494,6,496,6],[467,6,468,6],[469,6,470,6],[471,6,472,6],[474,6,475,6],[476,6,477,6],[478,6,480,6],[453,6,454,6],[455,6,456,6],[457,6,458,6],[460,6,461,6],[463,6,464,6],[465,6,466,6],[439,6,440,6],[441,6,442,6],[444,6,445,6],[446,6,447,6],[448,6,450,6],[451,6,452,6],[424,6,426,6],[427,6,428,6],[430,6,431,6],[433,6,434,6],[435,6,436,6],[437,6,438,6],[407,6,408,6],[409,6,412,6],[413,6,414,6],[415,6,417,6],[418,6,420,6],[421,6,423,6],[386,6,388,6],[389,6,392,6],[393,6,396,6],[397,6,400,6],[401,6,403,6],[404,6,406,6],[363,6,366,6],[367,6,370,6],[371,6,374,6],[375,6,377,6],[378,6,379,6],[381,6,385,6],[333,6,341,6],[342,6,345,6],[346,6,353,6],[355,6,356,6],[357,6,359,6],[360,6,362,6],[287,6,290,6],[291,6,299,6],[301,6,309,6],[310,6,317,6],[318,6,325,6],[326,6,332,6],[245,6,246,6],[247,6,254,6],[255,6,262,6],[263,6,270,6],[271,6,277,6],[278,6,286,6],[232,6,233,6],[234,6,235,6],[236,6,237,6],[238,6,239,6],[240,6,241,6],[242,6,244,6],[218,6,219,6],[220,6,222,6],[223,6,224,6],[225,6,227,6],[228,6,229,6],[230,6,231,6],[209,6,210,6],[211,6,212,6],[214,6,215,6],[216,6,217,6],[191,6,192,6],[193,6,194,6],[195,6,196,6],[198,6,199,6],[200,6,201,6],[202,6,204,6],[189,6,190,6],[158,6,160,6],[161,6,162,6],[163,6,166,6],[167,6,168,6],[169,6,171,6],[172,6,174,6],[205,6,206,6],[207,6,208,6],[3,6,10,6],[11,6,18,6],[19,6,26,6],[27,6,32,6],[33,6,41,6],[42,6,45,6],[46,6,54,6],[56,6,64,6],[135,6,139,6],[112,6,114,6],[115,6,118,6],[119,6,122,6],[123,6,126,6],[127,6,130,6],[131,6,133,6],[1096,6,1097,6],[1098,6,1099,6],[1326,6,1329,6],[1107,6,1111,6],[1112,6,1114,6],[1115,6,1120,6],[1121,6,1125,6],[65,6,72,6],[73,6,80,6],[81,6,86,6],[87,6,95,6],[96,6,99,6],[100,6,106,6],[109,6,111,6],[140,6,142,6],[143,6,146,6],[147,6,150,6],[151,6,154,6],[155,6,157,6],[175,6,177,6],[178,6,180,6],[181,6,182,6],[184,6,185,6],[187,6,188,6]]}
[null,1,2,3,4,5,null,1000]
["ﾃﾞｰﾀ№","ｱｸﾁｭｴｰﾀ姿勢","搬送負荷質量","加減速・速度ﾃﾞｰﾀ","前ﾃﾞｰﾀ№","次ﾃﾞｰﾀ№","備考"]
[{"$f":"ModelData!A3","v":0},"0/1","1g","ﾚｺｰﾄﾞ№","ﾚｺｰﾄﾞ№","ﾚｺｰﾄﾞ№","型式-姿勢","質量","先頭RNO","前№ﾁｪｯｸ","後№ﾁｪｯｸ"]
[{"$f":"A3+1","v":1},0,{"$f":"H4*$H$1","v":8000},{"$f":"I4","v":1},-1,{"$f":"A5","v":2},{"$f":"AccVelDataLink!F4","v":"RCP4-SA5C-3-水平"},{"$f":"AccVelDataLink!G4","v":8},{"$f":"AccVelDataLink!A4","v":1},{"$f":"IF(E4=A3,\"○\",IF(G4=0,\"つなぎまちがい\",\"先頭\"))","v":"先頭"},{"$f":"IF(F4=A5,\"○\",IF(F4<>E5,\"つなぎまちがい\",\"終端\"))","v":"○"}]
[2,0,9000,2,{"$f":"A4","v":1},3,null,{"$f":"AccVelDataLink!G5","v":9},{"$f":"AccVelDataLink!A5","v":2},"○","○"]
[3,0,10000,3,2,4,null,{"$f":"AccVelDataLink!G6","v":10},{"$f":"AccVelDataLink!A6","v":3},"○","○"]
[4,0,11000,5,3,5,null,{"$f":"AccVelDataLink!G8","v":11},{"$f":"AccVelDataLink!A8","v":5},"○","○"]
[5,0,12000,6,4,6,null,{"$f":"AccVelDataLink!G9","v":12},{"$f":"AccVelDataLink!A9","v":6},"○","○"]
[6,0,13000,7,5,7,null,{"$f":"AccVelDataLink!G10","v":13},{"$f":"AccVelDataLink!A10","v":7},"○","○"]
[7,0,14000,8,6,8,null,{"$f":"AccVelDataLink!G11","v":14},{"$f":"AccVelDataLink!A11","v":8},"○","○"]
[8,0,16000,10,7,9,null,{"$f":"AccVelDataLink!G13","v":16},{"$f":"AccVelDataLink!A13","v":10},"○","○"]
[9,1,3000,14,8,10,{"$f":"AccVelDataLink!F17","v":"RCP4-SA5C-3-垂直"},{"$f":"AccVelDataLink!G17","v":3},{"$f":"AccVelDataLink!A17","v":14},"○","○"]
[10,1,4500,15,9,11,null,{"$f":"AccVelDataLink!G18","v":4.5},{"$f":"AccVelDataLink!A18","v":15},"○","○"]
[11,1,5000,16,10,12,null,{"$f":"AccVelDataLink!G19","v":5},{"$f":"AccVelDataLink!A19","v":16},"○","○"]
[12,1,6000,17,11,13,null,{"$f":"AccVelDataLink!G20","v":6},{"$f":"AccVelDataLink!A20","v":17},"○","○"]
[13,1,7000,18,12,14,null,{"$f":"AccVelDataLink!G21","v":7},{"$f":"AccVelDataLink!A21","v":18},"○","○"]
[14,1,8000,19,13,15,null,{"$f":"AccVelDataLink!G22","v":8},{"$f":"AccVelDataLink!A22","v":19},"○","○"]
[15,1,9000,20,14,16,null,{"$f":"AccVelDataLink!G23","v":9},{"$f":"AccVelDataLink!A23","v":20},"○","○"]
[16,1,10000,21,15,-1,null,{"$f":"AccVelDataLink!G24","v":10},{"$f":"AccVelDataLink!A24","v":21},"○","終端"]
[17,0,{"$f":"H20*$H$1","v":4000},23,-1,{"$f":"A21","v":18},{"$f":"AccVelDataLink!F26","v":"RCP4-SA5C-6-水平"},{"$f":"AccVelDataLink!G26","v":4},{"$f":"AccVelDataLink!A26","v":23},"先頭","○"]
[18,0,5000,24,{"$f":"A20","v":17},19,null,{"$f":"AccVelDataLink!G27","v":5},{"$f":"AccVelDataLink!A27","v":24},"○","○"]
[19,0,7000,25,18,20,null,{"$f":"AccVelDataLink!G28","v":7},{"$f":"AccVelDataLink!A28","v":25},"○","○"]
[20,0,8000,26,19,21,null,{"$f":"AccVelDataLink!G29","v":8},{"$f":"AccVelDataLink!A29","v":26},"○","○"]
[21,0,9000,27,20,22,null,{"$f":"AccVelDataLink!G30","v":9},{"$f":"AccVelDataLink!A30","v":27},"○","○"]
[22,0,10000,28,21,23,null,{"$f":"AccVelDataLink!G31","v":10},{"$f":"AccVelDataLink!A31","v":28},"○","○"]
[23,0,12000,29,22,24,null,{"$f":"AccVelDataLink!G32","v":12},{"$f":"AccVelDataLink!A32","v":29},"○","○"]
[24,0,13000,30,23,25,null,{"$f":"AccVelDataLink!G33","v":13},{"$f":"AccVelDataLink!A33","v":30},"○","○"]
[25,1,2000,32,24,26,{"$f":"AccVelDataLink!F35","v":"RCP4-SA5C-6-垂直"},{"$f":"AccVelDataLink!G35","v":2},{"$f":"AccVelDataLink!A35","v":32},"○","○"]
[26,1,2500,33,25,27,null,{"$f":"AccVelDataLink!G36","v":2.5},{"$f":"AccVelDataLink!A36","v":33},"○","○"]
[27,1,3000,34,26,28,null,{"$f":"AccVelDataLink!G37","v":3},{"$f":"AccVelDataLink!A37","v":34},"○","○"]
[28,1,4000,36,27,29,null,{"$f":"AccVelDataLink!G39","v":4},{"$f":"AccVelDataLink!A39","v":36},"○","○"]
[29,1,4500,38,28,30,null,{"$f":"AccVelDataLink!G41","v":4.5},{"$f":"AccVelDataLink!A41","v":38},"○","○"]
[30,1,5000,39,29,-1,null,{"$f":"AccVelDataLink!G42","v":5},{"$f":"AccVelDataLink!A42","v":39},"○","終端"]
[{"$f":"A33+1","v":31},0,{"$f":"H34*$H$1","v":1500},41,-1,{"$f":"A35","v":32},{"$f":"AccVelDataLink!F44","v":"RCP4-SA5C-12-水平"},{"$f":"AccVelDataLink!G44","v":1.5},{"$f":"AccVelDataLink!A44","v":41},"先頭","○"]
[32,0,2000,42,{"$f":"A34","v":31},33,null,{"$f":"AccVelDataLink!G45","v":2},{"$f":"AccVelDataLink!A45","v":42},"○","○"]
[33,0,3500,43,32,34,null,{"$f":"AccVelDataLink!G46","v":3.5},{"$f":"AccVelDataLink!A46","v":43},"○","○"]
[34,0,4000,44,33,35,null,{"$f":"AccVelDataLink!G47","v":4},{"$f":"AccVelDataLink!A47","v":44},"○","○"]
[35,0,5000,46,34,36,null,{"$f":"AccVelDataLink!G49","v":5},{"$f":"AccVelDataLink!A49","v":46},"○","○"]
[36,0,5500,49,35,37,null,{"$f":"AccVelDataLink!G52","v":5.5},{"$f":"AccVelDataLink!A52","v":49},"○","○"]
[37,0,6000,50,36,38,null,{"$f":"AccVelDataLink!G53","v":6},{"$f":"AccVelDataLink!A53","v":50},"○","○"]
[38,0,7000,51,37,39,null,{"$f":"AccVelDataLink!G54","v":7},{"$f":"AccVelDataLink!A54","v":51},"○","○"]
[39,0,8000,52,38,40,null,{"$f":"AccVelDataLink!G55","v":8},{"$f":"AccVelDataLink!A55","v":52},"○","○"]
[40,1,500,53,39,41,{"$f":"AccVelDataLink!F56","v":"RCP4-SA5C-12-垂直"},{"$f":"AccVelDataLink!G56","v":0.5},{"$f":"AccVelDataLink!A56","v":53},"○","○"]
[41,1,1000,54,40,42,null,{"$f":"AccVelDataLink!G57","v":1},{"$f":"AccVelDataLink!A57","v":54},"○","○"]
[42,1,1500,56,41,43,null,{"$f":"AccVelDataLink!G59","v":1.5},{"$f":"AccVelDataLink!A59","v":56},"○","○"]
[43,1,2000,58,42,-1,null,{"$f":"AccVelDataLink!G61","v":2},{"$f":"AccVelDataLink!A61","v":58},"○","終端"]
[{"$f":"A46+1","v":44},0,{"$f":"H47*$H$1","v":500},60,-1,{"$f":"A48","v":45},{"$f":"AccVelDataLink!F63","v":"RCP4-SA5C-20-水平"},{"$f":"AccVelDataLink!G63","v":0.5},{"$f":"AccVelDataLink!A63","v":60},"先頭","○"]
[45,0,1000,61,{"$f":"A47","v":44},46,null,{"$f":"AccVelDataLink!G64","v":1},{"$f":"AccVelDataLink!A64","v":61},"○","○"]
[46,0,2000,63,45,47,null,{"$f":"AccVelDataLink!G66","v":2},{"$f":"AccVelDataLink!A66","v":63},"○","○"]
[47,0,2500,65,46,48,null,{"$f":"AccVelDataLink!G68","v":2.5},{"$f":"AccVelDataLink!A68","v":65},"○","○"]
[48,0,3000,66,47,49,null,{"$f":"AccVelDataLink!G69","v":3},{"$f":"AccVelDataLink!A69","v":66},"○","○"]
[49,0,3500,68,48,50,null,{"$f":"AccVelDataLink!G71","v":3.5},{"$f":"AccVelDataLink!A71","v":68},"○","○"]
[50,0,4000,69,49,51,null,{"$f":"AccVelDataLink!G72","v":4},{"$f":"AccVelDataLink!A72","v":69},"○","○"]
[51,0,4500,71,50,52,null,{"$f":"AccVelDataLink!G74","v":4.5},{"$f":"AccVelDataLink!A74","v":71},"○","○"]
[52,0,5000,72,51,53,null,{"$f":"AccVelDataLink!G75","v":5},{"$f":"AccVelDataLink!A75","v":72},"○","○"]
[53,1,500,73,52,-1,{"$f":"AccVelDataLink!F76","v":"RCP4-SA5C-20-垂直"},{"$f":"AccVelDataLink!G76","v":0.5},{"$f":"AccVelDataLink!A76","v":73},"○","終端"]
[{"$f":"A56+1","v":54},0,{"$f":"H57*$H$1","v":9000},74,-1,{"$f":"A58","v":55},{"$f":"AccVelDataLink!F77","v":"RCP4-SA6C-3-水平"},{"$f":"AccVelDataLink!G77","v":9},{"$f":"AccVelDataLink!A77","v":74},"先頭","○"]
[55,0,10000,75,{"$f":"A57","v":54},56,null,{"$f":"AccVelDataLink!G78","v":10},{"$f":"AccVelDataLink!A78","v":75},"○","○"]
[56,0,11000,77,55,57,null,{"$f":"AccVelDataLink!G80","v":11},{"$f":"AccVelDataLink!A80","v":77},"○","○"]
[57,0,12000,78,56,58,null,{"$f":"AccVelDataLink!G81","v":12},{"$f":"AccVelDataLink!A81","v":78},"○","○"]
[58,0,13000,79,57,59,null,{"$f":"AccVelDataLink!G82","v":13},{"$f":"AccVelDataLink!A82","v":79},"○","○"]
[59,0,14000,80,58,60,null,{"$f":"AccVelDataLink!G83","v":14},{"$f":"AccVelDataLink!A83","v":80},"○","○"]
[60,0,16000,82,59,61,null,{"$f":"AccVelDataLink!G85","v":16},{"$f":"AccVelDataLink!A85","v":82},"○","○"]
[61,0,18000,84,60,62,null,{"$f":"AccVelDataLink!G87","v":18},{"$f":"AccVelDataLink!A87","v":84},"○","○"]
[62,0,19000,85,61,63,null,{"$f":"AccVelDataLink!G88","v":19},{"$f":"AccVelDataLink!A88","v":85},"○","○"]
[63,1,3000,87,62,64,{"$f":"AccVelDataLink!F90","v":"RCP4-SA6C-3-垂直"},{"$f":"AccVelDataLink!G90","v":3},{"$f":"AccVelDataLink!A90","v":87},"○","○"]
[64,1,4500,88,63,65,null,{"$f":"AccVelDataLink!G91","v":4.5},{"$f":"AccVelDataLink!A91","v":88},"○","○"]
[65,1,5000,{"$f":"I68","v":89},64,66,null,{"$f":"AccVelDataLink!G92","v":5},{"$f":"AccVelDataLink!A92","v":89},{"$f":"IF(E68=A67,\"○\",IF(G68=0,\"つなぎまちがい\",\"先頭\"))","v":"○"},{"$f":"IF(F68=A69,\"○\",IF(F68<>E69,\"つなぎまちがい\",\"終端\"))","v":"○"}]
[66,1,6000,90,65,67,null,{"$f":"AccVelDataLink!G93","v":6},{"$f":"AccVelDataLink!A93","v":90},"○","○"]
[67,1,7000,91,66,68,null,{"$f":"AccVelDataLink!G94","v":7},{"$f":"AccVelDataLink!A94","v":91},"○","○"]
[68,1,8000,92,67,69,null,{"$f":"AccVelDataLink!G95","v":8},{"$f":"AccVelDataLink!A95","v":92},"○","○"]
[69,1,9000,93,68,70,null,{"$f":"AccVelDataLink!G96","v":9},{"$f":"AccVelDataLink!A96","v":93},"○","○"]
[70,1,10000,94,69,-1,null,{"$f":"AccVelDataLink!G97","v":10},{"$f":"AccVelDataLink!A97","v":94},"○","終端"]
[{"$f":"A73+1","v":71},0,{"$f":"H74*$H$1","v":4000},96,-1,{"$f":"A75","v":72},{"$f":"AccVelDataLink!F99","v":"RCP4-SA6C-6-水平"},{"$f":"AccVelDataLink!G99","v":4},{"$f":"AccVelDataLink!A99","v":96},"先頭","○"]
[72,0,6000,97,{"$f":"A74","v":71},73,null,{"$f":"AccVelDataLink!G100","v":6},{"$f":"AccVelDataLink!A100","v":97},"○","○"]
[73,0,7000,98,72,74,null,{"$f":"AccVelDataLink!G101","v":7},{"$f":"AccVelDataLink!A101","v":98},"○","○"]
[74,0,10000,99,73,75,null,{"$f":"AccVelDataLink!G102","v":10},{"$f":"AccVelDataLink!A102","v":99},"○","○"]
[75,0,12000,100,74,76,null,{"$f":"AccVelDataLink!G103","v":12},{"$f":"AccVelDataLink!A103","v":100},"○","○"]
[76,0,13000,102,75,77,null,{"$f":"AccVelDataLink!G105","v":13},{"$f":"AccVelDataLink!A105","v":102},"○","○"]
[77,0,15000,104,76,78,null,{"$f":"AccVelDataLink!G107","v":15},{"$f":"AccVelDataLink!A107","v":104},"○","○"]
[78,0,16000,106,77,79,null,{"$f":"AccVelDataLink!G109","v":16},{"$f":"AccVelDataLink!A109","v":106},"○","○"]
[79,1,2000,107,78,80,{"$f":"AccVelDataLink!F110","v":"RCP4-SA6C-6-垂直"},{"$f":"AccVelDataLink!G110","v":2},{"$f":"AccVelDataLink!A110","v":107},"○","○"]
[80,1,2500,108,79,81,null,{"$f":"AccVelDataLink!G111","v":2.5},{"$f":"AccVelDataLink!A111","v":108},"○","○"]
[81,1,3000,109,80,82,null,{"$f":"AccVelDataLink!G112","v":3},{"$f":"AccVelDataLink!A112","v":109},"○","○"]
[82,1,4000,111,81,83,null,{"$f":"AccVelDataLink!G114","v":4},{"$f":"AccVelDataLink!A114","v":111},"○","○"]
[83,1,4500,113,82,84,null,{"$f":"AccVelDataLink!G116","v":4.5},{"$f":"AccVelDataLink!A116","v":113},"○","○"]
[84,1,5000,114,83,-1,null,{"$f":"AccVelDataLink!G117","v":5},{"$f":"AccVelDataLink!A117","v":114},"○","終端"]
[{"$f":"A87+1","v":85},0,{"$f":"H88*$H$1","v":1500},116,-1,{"$f":"A89","v":86},{"$f":"AccVelDataLink!F119","v":"RCP4-SA6C-12-水平"},{"$f":"AccVelDataLink!G119","v":1.5},{"$f":"AccVelDataLink!A119","v":116},"先頭","○"]
[86,0,2000,117,{"$f":"A88","v":85},87,null,{"$f":"AccVelDataLink!G120","v":2},{"$f":"AccVelDataLink!A120","v":117},"○","○"]
[87,0,3000,119,86,88,null,{"$f":"AccVelDataLink!G122","v":3},{"$f":"AccVelDataLink!A122","v":119},"○","○"]
[88,0,3500,120,87,89,null,{"$f":"AccVelDataLink!G123","v":3.5},{"$f":"AccVelDataLink!A123","v":120},"○","○"]
[89,0,4000,121,88,90,null,{"$f":"AccVelDataLink!G124","v":4},{"$f":"AccVelDataLink!A124","v":121},"○","○"]
[90,0,6000,122,89,91,null,{"$f":"AccVelDataLink!G125","v":6},{"$f":"AccVelDataLink!A125","v":122},"○","○"]
[91,0,7000,124,90,92,null,{"$f":"AccVelDataLink!G127","v":7},{"$f":"AccVelDataLink!A127","v":124},"○","○"]
[92,0,8000,127,91,93,null,{"$f":"AccVelDataLink!G130","v":8},{"$f":"AccVelDataLink!A130","v":127},"○","○"]
[93,0,8500,128,92,94,null,{"$f":"AccVelDataLink!G131","v":8.5},{"$f":"AccVelDataLink!A131","v":128},"○","○"]
[94,1,500,129,93,95,{"$f":"AccVelDataLink!F132","v":"RCP4-SA6C-12-垂直"},{"$f":"AccVelDataLink!G132","v":0.5},{"$f":"AccVelDataLink!A132","v":129},"○","○"]
[95,1,1000,130,94,96,null,{"$f":"AccVelDataLink!G133","v":1},{"$f":"AccVelDataLink!A133","v":130},"○","○"]
[96,1,1500,132,95,97,null,{"$f":"AccVelDataLink!G135","v":1.5},{"$f":"AccVelDataLink!A135","v":132},"○","○"]
[97,1,2000,134,96,-1,null,{"$f":"AccVelDataLink!G137","v":2},{"$f":"AccVelDataLink!A137","v":134},"○","終端"]
[{"$f":"A100+1","v":98},0,{"$f":"H101*$H$1","v":500},136,-1,{"$f":"A102","v":99},{"$f":"AccVelDataLink!F139","v":"RCP4-SA6C-20-水平"},{"$f":"AccVelDataLink!G139","v":0.5},{"$f":"AccVelDataLink!A139","v":136},"先頭","○"]
[99,0,1000,137,{"$f":"A101","v":98},100,null,{"$f":"AccVelDataLink!G140","v":1},{"$f":"AccVelDataLink!A140","v":137},"○","○"]
[100,0,2000,139,99,101,null,{"$f":"AccVelDataLink!G142","v":2},{"$f":"AccVelDataLink!A142","v":139},"○","○"]
[101,0,3000,141,100,102,null,{"$f":"AccVelDataLink!G144","v":3},{"$f":"AccVelDataLink!A144","v":141},"○","○"]
[102,0,4000,143,101,103,null,{"$f":"AccVelDataLink!G146","v":4},{"$f":"AccVelDataLink!A146","v":143},"○","○"]
[103,0,5000,145,102,104,null,{"$f":"AccVelDataLink!G148","v":5},{"$f":"AccVelDataLink!A148","v":145},"○","○"]
[104,0,6000,146,103,105,null,{"$f":"AccVelDataLink!G149","v":6},{"$f":"AccVelDataLink!A149","v":146},"○","○"]
[105,1,500,147,104,-1,{"$f":"AccVelDataLink!F150","v":"RCP4-SA6C-20-垂直"},{"$f":"AccVelDataLink!G150","v":0.5},{"$f":"AccVelDataLink!A150","v":147},"○","終端"]
[{"$f":"A108+1","v":106},0,{"$f":"H109*$H$1","v":40000},148,-1,{"$f":"A110","v":107},{"$f":"AccVelDataLink!F151","v":"RCP4-SA7C-4-水平"},{"$f":"AccVelDataLink!G151","v":40},{"$f":"AccVelDataLink!A151","v":148},"先頭","○"]
[{"$f":"A109+1","v":107},1,{"$f":"H110*$H$1","v":5000},149,{"$f":"A109","v":106},{"$f":"A111","v":108},{"$f":"AccVelDataLink!F152","v":"RCP4-SA7C-4-垂直"},{"$f":"AccVelDataLink!G152","v":5},{"$f":"AccVelDataLink!A152","v":149},"○","○"]
[{"$f":"A110+1","v":108},1,{"$f":"H111*$H$1","v":10000},150,{"$f":"A110","v":107},{"$f":"A112","v":109},null,{"$f":"AccVelDataLink!G153","v":10},{"$f":"AccVelDataLink!A153","v":150},"○","○"]
[{"$f":"A111+1","v":109},1,{"$f":"H112*$H$1","v":15000},151,{"$f":"A111","v":108},-1,null,{"$f":"AccVelDataLink!G154","v":15},{"$f":"AccVelDataLink!A154","v":151},"○","終端"]
[{"$f":"A112+1","v":110},0,{"$f":"H113*$H$1","v":10000},152,-1,{"$f":"A114","v":111},{"$f":"AccVelDataLink!F155","v":"RCP4-SA7C-8-水平"},{"$f":"AccVelDataLink!G155","v":10},{"$f":"AccVelDataLink!A155","v":152},"先頭","○"]
[111,0,25000,153,{"$f":"A113","v":110},112,null,{"$f":"AccVelDataLink!G156","v":25},{"$f":"AccVelDataLink!A156","v":153},"○","○"]
[112,0,40000,154,111,113,null,{"$f":"AccVelDataLink!G157","v":40},{"$f":"AccVelDataLink!A157","v":154},"○","○"]
[113,1,1500,155,112,114,{"$f":"AccVelDataLink!F158","v":"RCP4-SA7C-8-垂直"},{"$f":"AccVelDataLink!G158","v":1.5},{"$f":"AccVelDataLink!A158","v":155},"○","○"]
[114,1,4000,156,113,115,null,{"$f":"AccVelDataLink!G159","v":4},{"$f":"AccVelDataLink!A159","v":156},"○","○"]
[115,1,7000,157,114,116,null,{"$f":"AccVelDataLink!G160","v":7},{"$f":"AccVelDataLink!A160","v":157},"○","○"]
[116,1,10000,158,115,-1,null,{"$f":"AccVelDataLink!G161","v":10},{"$f":"AccVelDataLink!A161","v":158},"○","終端"]
[117,0,7000,159,-1,118,{"$f":"AccVelDataLink!F162","v":"RCP4-SA7C-16-水平"},{"$f":"AccVelDataLink!G162","v":7},{"$f":"AccVelDataLink!A162","v":159},"先頭","○"]
[118,0,15000,160,117,119,null,{"$f":"AccVelDataLink!G163","v":15},{"$f":"AccVelDataLink!A163","v":160},"○","○"]
[119,0,25000,161,118,120,null,{"$f":"AccVelDataLink!G164","v":25},{"$f":"AccVelDataLink!A164","v":161},"○","○"]
[120,0,35000,162,119,121,null,{"$f":"AccVelDataLink!G165","v":35},{"$f":"AccVelDataLink!A165","v":162},"○","○"]
[121,1,500,163,120,122,{"$f":"AccVelDataLink!F166","v":"RCP4-SA7C-16-垂直"},{"$f":"AccVelDataLink!G166","v":0.5},{"$f":"AccVelDataLink!A166","v":163},"○","○"]
[122,1,1500,164,121,123,null,{"$f":"AccVelDataLink!G167","v":1.5},{"$f":"AccVelDataLink!A167","v":164},"○","○"]
[123,1,3000,165,122,124,null,{"$f":"AccVelDataLink!G168","v":3},{"$f":"AccVelDataLink!A168","v":165},"○","○"]
[124,1,5000,166,123,-1,null,{"$f":"AccVelDataLink!G169","v":5},{"$f":"AccVelDataLink!A169","v":166},"○","終端"]
[125,0,1500,167,-1,126,{"$f":"AccVelDataLink!F170","v":"RCP4-SA7C-24-水平"},{"$f":"AccVelDataLink!G170","v":1.5},{"$f":"AccVelDataLink!A170","v":167},"先頭","○"]
[126,0,5000,168,125,127,null,{"$f":"AccVelDataLink!G171","v":5},{"$f":"AccVelDataLink!A171","v":168},"○","○"]
[127,0,10000,169,126,128,null,{"$f":"AccVelDataLink!G172","v":10},{"$f":"AccVelDataLink!A172","v":169},"○","○"]
[128,0,18000,170,127,129,null,{"$f":"AccVelDataLink!G173","v":18},{"$f":"AccVelDataLink!A173","v":170},"○","○"]
[129,1,1000,{"$f":"I132","v":171},128,130,{"$f":"AccVelDataLink!F174","v":"RCP4-SA7C-24-垂直"},{"$f":"AccVelDataLink!G174","v":1},{"$f":"AccVelDataLink!A174","v":171},{"$f":"IF(E132=A131,\"○\",IF(G132=0,\"つなぎまちがい\",\"先頭\"))","v":"○"},{"$f":"IF(F132=A133,\"○\",IF(F132<>E133,\"つなぎまちがい\",\"終端\"))","v":"○"}]
[130,1,1500,172,129,131,null,{"$f":"AccVelDataLink!G175","v":1.5},{"$f":"AccVelDataLink!A175","v":172},"○","○"]
[131,1,2000,173,130,-1,null,{"$f":"AccVelDataLink!G176","v":2},{"$f":"AccVelDataLink!A176","v":173},"○","終端"]
[132,0,40000,174,-1,133,{"$f":"AccVelDataLink!F177","v":"RCP4-RA5C-3-水平"},{"$f":"AccVelDataLink!G177","v":40},{"$f":"AccVelDataLink!A177","v":174},"先頭","○"]
[133,1,5000,175,132,134,{"$f":"AccVelDataLink!F178","v":"RCP4-RA5C-3-垂直"},{"$f":"AccVelDataLink!G178","v":5},{"$f":"AccVelDataLink!A178","v":175},"○","○"]
[134,1,9000,176,133,135,null,{"$f":"AccVelDataLink!G179","v":9},{"$f":"AccVelDataLink!A179","v":176},"○","○"]
[135,1,12000,177,134,136,null,{"$f":"AccVelDataLink!G180","v":12},{"$f":"AccVelDataLink!A180","v":177},"○","○"]
[136,1,16000,178,135,137,null,{"$f":"AccVelDataLink!G181","v":16},{"$f":"AccVelDataLink!A181","v":178},"○","○"]
[137,1,20000,179,136,-1,null,{"$f":"AccVelDataLink!G182","v":20},{"$f":"AccVelDataLink!A182","v":179},"○","終端"]
[138,0,10000,180,-1,139,{"$f":"AccVelDataLink!F183","v":"RCP4-RA5C-6-水平"},{"$f":"AccVelDataLink!G183","v":10},{"$f":"AccVelDataLink!A183","v":180},"先頭","○"]
[139,0,35000,181,138,140,null,{"$f":"AccVelDataLink!G184","v":35},{"$f":"AccVelDataLink!A184","v":181},"○","○"]
[140,0,40000,182,139,141,null,{"$f":"AccVelDataLink!G185","v":40},{"$f":"AccVelDataLink!A185","v":182},"○","○"]
[141,1,3000,183,140,142,{"$f":"AccVelDataLink!F186","v":"RCP4-RA5C-6-垂直"},{"$f":"AccVelDataLink!G186","v":3},{"$f":"AccVelDataLink!A186","v":183},"○","○"]
[142,1,5000,184,141,143,null,{"$f":"AccVelDataLink!G187","v":5},{"$f":"AccVelDataLink!A187","v":184},"○","○"]
[143,1,8000,185,142,144,null,{"$f":"AccVelDataLink!G188","v":8},{"$f":"AccVelDataLink!A188","v":185},"○","○"]
[144,1,10000,186,143,-1,null,{"$f":"AccVelDataLink!G189","v":10},{"$f":"AccVelDataLink!A189","v":186},"○","終端"]
[145,0,5000,187,-1,146,{"$f":"AccVelDataLink!F190","v":"RCP4-RA5C-12-水平"},{"$f":"AccVelDataLink!G190","v":5},{"$f":"AccVelDataLink!A190","v":187},"先頭","○"]
[146,0,10000,188,145,147,null,{"$f":"AccVelDataLink!G191","v":10},{"$f":"AccVelDataLink!A191","v":188},"○","○"]
[147,0,20000,189,146,148,null,{"$f":"AccVelDataLink!G192","v":20},{"$f":"AccVelDataLink!A192","v":189},"○","○"]
[148,0,25000,190,147,149,null,{"$f":"AccVelDataLink!G193","v":25},{"$f":"AccVelDataLink!A193","v":190},"○","○"]
[149,1,1000,191,148,150,{"$f":"AccVelDataLink!F194","v":"RCP4-RA5C-12-垂直"},{"$f":"AccVelDataLink!G194","v":1},{"$f":"AccVelDataLink!A194","v":191},"○","○"]
[150,1,2000,192,149,151,null,{"$f":"AccVelDataLink!G195","v":2},{"$f":"AccVelDataLink!A195","v":192},"○","○"]
[151,1,3000,193,150,152,null,{"$f":"AccVelDataLink!G196","v":3},{"$f":"AccVelDataLink!A196","v":193},"○","○"]
[152,1,4000,194,151,-1,null,{"$f":"AccVelDataLink!G197","v":4},{"$f":"AccVelDataLink!A197","v":194},"○","終端"]
[153,0,3000,195,-1,154,{"$f":"AccVelDataLink!F198","v":"RCP4-RA5C-20-水平"},{"$f":"AccVelDataLink!G198","v":3},{"$f":"AccVelDataLink!A198","v":195},"先頭","○"]
[154,0,4000,196,153,155,null,{"$f":"AccVelDataLink!G199","v":4},{"$f":"AccVelDataLink!A199","v":196},"○","○"]
[155,0,6000,197,154,156,null,{"$f":"AccVelDataLink!G200","v":6},{"$f":"AccVelDataLink!A200","v":197},"○","○"]
[156,1,500,198,155,157,{"$f":"AccVelDataLink!F201","v":"RCP4-RA5C-20-垂直"},{"$f":"AccVelDataLink!G201","v":0.5},{"$f":"AccVelDataLink!A201","v":198},"○","○"]
[157,1,1000,199,156,158,null,{"$f":"AccVelDataLink!G202","v":1},{"$f":"AccVelDataLink!A202","v":199},"○","○"]
[158,1,1500,200,157,-1,null,{"$f":"AccVelDataLink!G203","v":1.5},{"$f":"AccVelDataLink!A203","v":200},"○","終端"]
[159,0,35000,201,-1,160,{"$f":"AccVelDataLink!F204","v":"RCP4-RA6C-4-水平"},{"$f":"AccVelDataLink!G204","v":35},{"$f":"AccVelDataLink!A204","v":201},"先頭","○"]
[160,0,55000,202,159,161,null,{"$f":"AccVelDataLink!G205","v":55},{"$f":"AccVelDataLink!A205","v":202},"○","○"]
[161,1,2000,203,160,162,{"$f":"AccVelDataLink!F206","v":"RCP4-RA6C-4-垂直"},{"$f":"AccVelDataLink!G206","v":2},{"$f":"AccVelDataLink!A206","v":203},"○","○"]
[162,1,4000,204,161,163,null,{"$f":"AccVelDataLink!G207","v":4},{"$f":"AccVelDataLink!A207","v":204},"○","○"]
[163,1,15000,205,162,164,null,{"$f":"AccVelDataLink!G208","v":15},{"$f":"AccVelDataLink!A208","v":205},"○","○"]
[164,1,26000,206,163,-1,null,{"$f":"AccVelDataLink!G209","v":26},{"$f":"AccVelDataLink!A209","v":206},"○","終端"]
[165,0,30000,207,-1,166,{"$f":"AccVelDataLink!F210","v":"RCP4-RA6C-8-水平"},{"$f":"AccVelDataLink!G210","v":30},{"$f":"AccVelDataLink!A210","v":207},"先頭","○"]
[166,0,50000,208,165,167,null,{"$f":"AccVelDataLink!G211","v":50},{"$f":"AccVelDataLink!A211","v":208},"○","○"]
[167,1,2000,209,166,168,{"$f":"AccVelDataLink!F212","v":"RCP4-RA6C-8-垂直"},{"$f":"AccVelDataLink!G212","v":2},{"$f":"AccVelDataLink!A212","v":209},"○","○"]
[168,1,7000,210,167,169,null,{"$f":"AccVelDataLink!G213","v":7},{"$f":"AccVelDataLink!A213","v":210},"○","○"]
[169,1,17500,211,168,-1,null,{"$f":"AccVelDataLink!G214","v":17.5},{"$f":"AccVelDataLink!A214","v":211},"○","終端"]
[170,0,15000,212,-1,171,{"$f":"AccVelDataLink!F215","v":"RCP4-RA6C-16-水平"},{"$f":"AccVelDataLink!G215","v":15},{"$f":"AccVelDataLink!A215","v":212},"先頭","○"]
[171,0,30000,213,170,172,null,{"$f":"AccVelDataLink!G216","v":30},{"$f":"AccVelDataLink!A216","v":213},"○","○"]
[172,0,40000,214,171,173,null,{"$f":"AccVelDataLink!G217","v":40},{"$f":"AccVelDataLink!A217","v":214},"○","○"]
[173,1,1000,215,172,174,{"$f":"AccVelDataLink!F218","v":"RCP4-RA6C-16-垂直"},{"$f":"AccVelDataLink!G218","v":1},{"$f":"AccVelDataLink!A218","v":215},"○","○"]
[{"$f":"A176+1","v":174},1,{"$f":"H177*$H$1","v":3000},216,{"$f":"A176","v":173},{"$f":"A178","v":175},null,{"$f":"AccVelDataLink!G219","v":3},{"$f":"AccVelDataLink!A219","v":216},"○","○"]
[175,1,5000,217,174,-1,null,{"$f":"AccVelDataLink!G220","v":5},{"$f":"AccVelDataLink!A220","v":217},"○","終端"]
[176,0,1000,218,-1,177,{"$f":"AccVelDataLink!F221","v":"RCP4-RA6C-24-水平"},{"$f":"AccVelDataLink!G221","v":1},{"$f":"AccVelDataLink!A221","v":218},"先頭","○"]
[177,0,10000,219,176,178,null,{"$f":"AccVelDataLink!G222","v":10},{"$f":"AccVelDataLink!A222","v":219},"○","○"]
[178,0,18000,220,177,179,null,{"$f":"AccVelDataLink!G223","v":18},{"$f":"AccVelDataLink!A223","v":220},"○","○"]
[179,1,2000,221,178,180,{"$f":"AccVelDataLink!F224","v":"RCP4-RA6C-24-垂直"},{"$f":"AccVelDataLink!G224","v":2},{"$f":"AccVelDataLink!A224","v":221},"○","○"]
[180,1,3000,222,179,-1,null,{"$f":"AccVelDataLink!G225","v":3},{"$f":"AccVelDataLink!A225","v":222},"○","終端"]
[181,0,12000,223,-1,182,{"$f":"AccVelDataLink!F226","v":"ERC3-SA5-3-水平"},{"$f":"AccVelDataLink!G226","v":12},{"$f":"AccVelDataLink!A226","v":223},"先頭","○"]
[182,1,4000,224,181,183,{"$f":"AccVelDataLink!F227","v":"ERC3-SA5-3-垂直"},{"$f":"AccVelDataLink!G227","v":4},{"$f":"AccVelDataLink!A227","v":224},"○","○"]
[183,1,6000,225,182,-1,null,{"$f":"AccVelDataLink!G228","v":6},{"$f":"AccVelDataLink!A228","v":225},"○","終端"]
[184,0,12000,226,-1,185,{"$f":"AccVelDataLink!F229","v":"ERC3-SA5-6-水平"},{"$f":"AccVelDataLink!G229","v":12},{"$f":"AccVelDataLink!A229","v":226},"先頭","○"]
[185,1,2500,227,184,186,{"$f":"AccVelDataLink!F230","v":"ERC3-SA5-6-垂直"},{"$f":"AccVelDataLink!G230","v":2.5},{"$f":"AccVelDataLink!A230","v":227},"○","○"]
[186,1,3000,228,185,-1,null,{"$f":"AccVelDataLink!G231","v":3},{"$f":"AccVelDataLink!A231","v":228},"○","終端"]
[187,0,2000,229,-1,188,{"$f":"AccVelDataLink!F232","v":"ERC3-SA5-12-水平"},{"$f":"AccVelDataLink!G232","v":2},{"$f":"AccVelDataLink!A232","v":229},"先頭","○"]
[188,0,6000,230,187,189,null,{"$f":"AccVelDataLink!G233","v":6},{"$f":"AccVelDataLink!A233","v":230},"○","○"]
[189,1,1000,231,188,190,{"$f":"AccVelDataLink!F234","v":"ERC3-SA5-12-垂直"},{"$f":"AccVelDataLink!G234","v":1},{"$f":"AccVelDataLink!A234","v":231},"○","○"]
[190,1,1500,232,189,-1,null,{"$f":"AccVelDataLink!G235","v":1.5},{"$f":"AccVelDataLink!A235","v":232},"○","終端"]
[191,0,1000,233,-1,192,{"$f":"AccVelDataLink!F236","v":"ERC3-SA5-20-水平"},{"$f":"AccVelDataLink!G236","v":1},{"$f":"AccVelDataLink!A236","v":233},"先頭","○"]
[192,0,3500,234,191,193,null,{"$f":"AccVelDataLink!G237","v":3.5},{"$f":"AccVelDataLink!A237","v":234},"○","○"]
[193,1,500,{"$f":"I196","v":235},192,194,{"$f":"AccVelDataLink!F238","v":"ERC3-SA5-20-垂直"},{"$f":"AccVelDataLink!G238","v":0.5},{"$f":"AccVelDataLink!A238","v":235},{"$f":"IF(E196=A195,\"○\",IF(G196=0,\"つなぎまちがい\",\"先頭\"))","v":"○"},{"$f":"IF(F196=A197,\"○\",IF(F196<>E197,\"つなぎまちがい\",\"終端\"))","v":"○"}]
[194,1,1000,236,193,-1,null,{"$f":"AccVelDataLink!G239","v":1},{"$f":"AccVelDataLink!A239","v":236},"○","終端"]
[195,0,20000,237,-1,196,{"$f":"AccVelDataLink!F240","v":"ERC3-SA7-4-水平"},{"$f":"AccVelDataLink!G240","v":20},{"$f":"AccVelDataLink!A240","v":237},"先頭","○"]
[196,1,2000,238,195,197,{"$f":"AccVelDataLink!F241","v":"ERC3-SA7-4-垂直"},{"$f":"AccVelDataLink!G241","v":2},{"$f":"AccVelDataLink!A241","v":238},"○","○"]
[197,1,10000,239,196,-1,null,{"$f":"AccVelDataLink!G242","v":10},{"$f":"AccVelDataLink!A242","v":239},"○","終端"]
[198,0,3500,240,-1,199,{"$f":"AccVelDataLink!F243","v":"ERC3-SA7-8-水平"},{"$f":"AccVelDataLink!G243","v":3.5},{"$f":"AccVelDataLink!A243","v":240},"先頭","○"]
[199,0,20000,241,198,200,null,{"$f":"AccVelDataLink!G244","v":20},{"$f":"AccVelDataLink!A244","v":241},"○","○"]
[200,1,500,242,199,201,{"$f":"AccVelDataLink!F245","v":"ERC3-SA7-8-垂直"},{"$f":"AccVelDataLink!G245","v":0.5},{"$f":"AccVelDataLink!A245","v":242},"○","○"]
[201,1,1000,243,200,202,null,{"$f":"AccVelDataLink!G246","v":1},{"$f":"AccVelDataLink!A246","v":243},"○","○"]
[202,1,5000,244,201,-1,null,{"$f":"AccVelDataLink!G247","v":5},{"$f":"AccVelDataLink!A247","v":244},"○","終端"]
[203,0,2000,245,-1,204,{"$f":"AccVelDataLink!F248","v":"ERC3-SA7-16-水平"},{"$f":"AccVelDataLink!G248","v":2},{"$f":"AccVelDataLink!A248","v":245},"先頭","○"]
[204,0,10000,246,203,205,null,{"$f":"AccVelDataLink!G249","v":10},{"$f":"AccVelDataLink!A249","v":246},"○","○"]
[205,1,500,247,204,206,{"$f":"AccVelDataLink!F250","v":"ERC3-SA7-16-垂直"},{"$f":"AccVelDataLink!G250","v":0.5},{"$f":"AccVelDataLink!A250","v":247},"○","○"]
[206,1,2500,248,205,-1,null,{"$f":"AccVelDataLink!G251","v":2.5},{"$f":"AccVelDataLink!A251","v":248},"○","終端"]
[207,0,1000,249,-1,208,{"$f":"AccVelDataLink!F252","v":"ERC3-SA7-24-水平"},{"$f":"AccVelDataLink!G252","v":1},{"$f":"AccVelDataLink!A252","v":249},"先頭","○"]
[208,0,6000,250,207,209,null,{"$f":"AccVelDataLink!G253","v":6},{"$f":"AccVelDataLink!A253","v":250},"○","○"]
[209,1,500,251,208,210,{"$f":"AccVelDataLink!F254","v":"ERC3-SA7-24-垂直"},{"$f":"AccVelDataLink!G254","v":0.5},{"$f":"AccVelDataLink!A254","v":251},"○","○"]
[210,1,1500,252,209,-1,null,{"$f":"AccVelDataLink!G255","v":1.5},{"$f":"AccVelDataLink!A255","v":252},"○","終端"]
[211,0,40000,253,-1,212,{"$f":"AccVelDataLink!F256","v":"ERC3-RA4-3-水平"},{"$f":"AccVelDataLink!G256","v":40},{"$f":"AccVelDataLink!A256","v":253},"先頭","○"]
[212,1,4000,254,211,213,{"$f":"AccVelDataLink!F257","v":"ERC3-RA4-3-垂直"},{"$f":"AccVelDataLink!G257","v":4},{"$f":"AccVelDataLink!A257","v":254},"○","○"]
[213,1,18000,255,212,-1,null,{"$f":"AccVelDataLink!G258","v":18},{"$f":"AccVelDataLink!A258","v":255},"○","終端"]
[214,0,12000,256,-1,215,{"$f":"AccVelDataLink!F259","v":"ERC3-RA4-6-水平"},{"$f":"AccVelDataLink!G259","v":12},{"$f":"AccVelDataLink!A259","v":256},"先頭","○"]
[215,0,40000,257,214,216,null,{"$f":"AccVelDataLink!G260","v":40},{"$f":"AccVelDataLink!A260","v":257},"○","○"]
[216,1,2500,258,215,217,{"$f":"AccVelDataLink!F261","v":"ERC3-RA4-6-垂直"},{"$f":"AccVelDataLink!G261","v":2.5},{"$f":"AccVelDataLink!A261","v":258},"○","○"]
[217,1,12000,259,216,-1,null,{"$f":"AccVelDataLink!G262","v":12},{"$f":"AccVelDataLink!A262","v":259},"○","終端"]
[218,0,2500,260,-1,219,{"$f":"AccVelDataLink!F263","v":"ERC3-RA4-12-水平"},{"$f":"AccVelDataLink!G263","v":2.5},{"$f":"AccVelDataLink!A263","v":260},"先頭","○"]
[219,0,12000,261,218,220,null,{"$f":"AccVelDataLink!G264","v":12},{"$f":"AccVelDataLink!A264","v":261},"○","○"]
[220,0,25000,262,219,221,null,{"$f":"AccVelDataLink!G265","v":25},{"$f":"AccVelDataLink!A265","v":262},"○","○"]
[221,1,500,263,220,222,{"$f":"AccVelDataLink!F266","v":"ERC3-RA4-12-垂直"},{"$f":"AccVelDataLink!G266","v":0.5},{"$f":"AccVelDataLink!A266","v":263},"○","○"]
[222,1,4500,264,221,-1,null,{"$f":"AccVelDataLink!G267","v":4.5},{"$f":"AccVelDataLink!A267","v":264},"○","終端"]
[223,0,6000,265,-1,224,{"$f":"AccVelDataLink!F268","v":"ERC3-RA4-20-水平"},{"$f":"AccVelDataLink!G268","v":6},{"$f":"AccVelDataLink!A268","v":265},"先頭","○"]
[224,0,7000,266,223,225,null,{"$f":"AccVelDataLink!G269","v":7},{"$f":"AccVelDataLink!A269","v":266},"○","○"]
[225,0,12000,267,224,226,null,{"$f":"AccVelDataLink!G270","v":12},{"$f":"AccVelDataLink!A270","v":267},"○","○"]
[226,1,500,268,225,227,{"$f":"AccVelDataLink!F271","v":"ERC3-RA4-20-垂直"},{"$f":"AccVelDataLink!G271","v":0.5},{"$f":"AccVelDataLink!A271","v":268},"○","○"]
[227,1,2000,269,226,-1,null,{"$f":"AccVelDataLink!G272","v":2},{"$f":"AccVelDataLink!A272","v":269},"○","終端"]
[228,0,25000,270,-1,229,{"$f":"AccVelDataLink!F273","v":"ERC3-RA6-4-水平"},{"$f":"AccVelDataLink!G273","v":25},{"$f":"AccVelDataLink!A273","v":270},"先頭","○"]
[229,0,55000,271,228,230,null,{"$f":"AccVelDataLink!G274","v":55},{"$f":"AccVelDataLink!A274","v":271},"○","○"]
[230,1,2000,272,229,231,{"$f":"AccVelDataLink!F275","v":"ERC3-RA6-4-垂直"},{"$f":"AccVelDataLink!G275","v":2},{"$f":"AccVelDataLink!A275","v":272},"○","○"]
[231,1,25000,273,230,-1,null,{"$f":"AccVelDataLink!G276","v":25},{"$f":"AccVelDataLink!A276","v":273},"○","終端"]
[232,0,3500,274,-1,233,{"$f":"AccVelDataLink!F277","v":"ERC3-RA6-8-水平"},{"$f":"AccVelDataLink!G277","v":3.5},{"$f":"AccVelDataLink!A277","v":274},"先頭","○"]
[233,0,50000,275,232,234,null,{"$f":"AccVelDataLink!G278","v":50},{"$f":"AccVelDataLink!A278","v":275},"○","○"]
[234,1,1000,276,233,235,{"$f":"AccVelDataLink!F279","v":"ERC3-RA6-8-垂直"},{"$f":"AccVelDataLink!G279","v":1},{"$f":"AccVelDataLink!A279","v":276},"○","○"]
[235,1,17500,277,234,-1,null,{"$f":"AccVelDataLink!G280","v":17.5},{"$f":"AccVelDataLink!A280","v":277},"○","終端"]
[236,0,2000,278,-1,237,{"$f":"AccVelDataLink!F281","v":"ERC3-RA6-16-水平"},{"$f":"AccVelDataLink!G281","v":2},{"$f":"AccVelDataLink!A281","v":278},"先頭","○"]
[237,0,40000,279,236,238,null,{"$f":"AccVelDataLink!G282","v":40},{"$f":"AccVelDataLink!A282","v":279},"○","○"]
[{"$f":"A240+1","v":238},1,{"$f":"H241*$H$1","v":500},280,{"$f":"A240","v":237},{"$f":"A242","v":239},{"$f":"AccVelDataLink!F283","v":"ERC3-RA6-16-垂直"},{"$f":"AccVelDataLink!G283","v":0.5},{"$f":"AccVelDataLink!A283","v":280},"○","○"]
[239,1,5000,281,238,-1,null,{"$f":"AccVelDataLink!G284","v":5},{"$f":"AccVelDataLink!A284","v":281},"○","終端"]
[240,0,1500,282,-1,241,{"$f":"AccVelDataLink!F285","v":"ERC3-RA6-24-水平"},{"$f":"AccVelDataLink!G285","v":1.5},{"$f":"AccVelDataLink!A285","v":282},"先頭","○"]
[241,0,20000,283,240,242,null,{"$f":"AccVelDataLink!G286","v":20},{"$f":"AccVelDataLink!A286","v":283},"○","○"]
[242,0,25000,284,241,243,null,{"$f":"AccVelDataLink!G287","v":25},{"$f":"AccVelDataLink!A287","v":284},"○","○"]
[243,1,500,285,242,244,{"$f":"AccVelDataLink!F288","v":"ERC3-RA6-24-垂直"},{"$f":"AccVelDataLink!G288","v":0.5},{"$f":"AccVelDataLink!A288","v":285},"○","○"]
[244,1,3000,286,243,-1,null,{"$f":"AccVelDataLink!G289","v":3},{"$f":"AccVelDataLink!A289","v":286},"○","終端"]
[245,0,8000,287,-1,246,{"$f":"AccVelDataLink!F290","v":"RCP4-SA5R-3-水平"},{"$f":"AccVelDataLink!G290","v":8},{"$f":"AccVelDataLink!A290","v":287},"先頭","○"]
[246,0,9000,288,245,247,null,{"$f":"AccVelDataLink!G291","v":9},{"$f":"AccVelDataLink!A291","v":288},"○","○"]
[247,0,10000,289,246,248,null,{"$f":"AccVelDataLink!G292","v":10},{"$f":"AccVelDataLink!A292","v":289},"○","○"]
[248,0,11000,291,247,249,null,{"$f":"AccVelDataLink!G294","v":11},{"$f":"AccVelDataLink!A294","v":291},"○","○"]
[249,0,12000,292,248,250,null,{"$f":"AccVelDataLink!G295","v":12},{"$f":"AccVelDataLink!A295","v":292},"○","○"]
[250,0,13000,293,249,251,null,{"$f":"AccVelDataLink!G296","v":13},{"$f":"AccVelDataLink!A296","v":293},"○","○"]
[251,0,14000,294,250,252,null,{"$f":"AccVelDataLink!G297","v":14},{"$f":"AccVelDataLink!A297","v":294},"○","○"]
[252,0,16000,296,251,253,null,{"$f":"AccVelDataLink!G299","v":16},{"$f":"AccVelDataLink!A299","v":296},"○","○"]
[253,1,3000,300,252,254,{"$f":"AccVelDataLink!F303","v":"RCP4-SA5R-3-垂直"},{"$f":"AccVelDataLink!G303","v":3},{"$f":"AccVelDataLink!A303","v":300},"○","○"]
[254,1,4500,301,253,255,null,{"$f":"AccVelDataLink!G304","v":4.5},{"$f":"AccVelDataLink!A304","v":301},"○","○"]
[255,1,5000,302,254,256,null,{"$f":"AccVelDataLink!G305","v":5},{"$f":"AccVelDataLink!A305","v":302},"○","○"]
[256,1,6000,303,255,257,null,{"$f":"AccVelDataLink!G306","v":6},{"$f":"AccVelDataLink!A306","v":303},"○","○"]
[257,1,7000,{"$f":"I260","v":304},256,258,null,{"$f":"AccVelDataLink!G307","v":7},{"$f":"AccVelDataLink!A307","v":304},{"$f":"IF(E260=A259,\"○\",IF(G260=0,\"つなぎまちがい\",\"先頭\"))","v":"○"},{"$f":"IF(F260=A261,\"○\",IF(F260<>E261,\"つなぎまちがい\",\"終端\"))","v":"○"}]
[258,1,8000,305,257,259,null,{"$f":"AccVelDataLink!G308","v":8},{"$f":"AccVelDataLink!A308","v":305},"○","○"]
[259,1,9000,306,258,260,null,{"$f":"AccVelDataLink!G309","v":9},{"$f":"AccVelDataLink!A309","v":306},"○","○"]
[260,1,10000,307,259,-1,null,{"$f":"AccVelDataLink!G310","v":10},{"$f":"AccVelDataLink!A310","v":307},"○","終端"]
[261,0,4000,309,-1,262,{"$f":"AccVelDataLink!F312","v":"RCP4-SA5R-6-水平"},{"$f":"AccVelDataLink!G312","v":4},{"$f":"AccVelDataLink!A312","v":309},"先頭","○"]
[262,0,5000,310,261,263,null,{"$f":"AccVelDataLink!G313","v":5},{"$f":"AccVelDataLink!A313","v":310},"○","○"]
[263,0,7000,311,262,264,null,{"$f":"AccVelDataLink!G314","v":7},{"$f":"AccVelDataLink!A314","v":311},"○","○"]
[264,0,8000,312,263,265,null,{"$f":"AccVelDataLink!G315","v":8},{"$f":"AccVelDataLink!A315","v":312},"○","○"]
[265,0,9000,313,264,266,null,{"$f":"AccVelDataLink!G316","v":9},{"$f":"AccVelDataLink!A316","v":313},"○","○"]
[266,0,10000,314,265,267,null,{"$f":"AccVelDataLink!G317","v":10},{"$f":"AccVelDataLink!A317","v":314},"○","○"]
[267,0,12000,315,266,268,null,{"$f":"AccVelDataLink!G318","v":12},{"$f":"AccVelDataLink!A318","v":315},"○","○"]
[268,0,13000,316,267,269,null,{"$f":"AccVelDataLink!G319","v":13},{"$f":"AccVelDataLink!A319","v":316},"○","○"]
[269,1,1500,318,268,270,{"$f":"AccVelDataLink!F321","v":"RCP4-SA5R-6-垂直"},{"$f":"AccVelDataLink!G321","v":1.5},{"$f":"AccVelDataLink!A321","v":318},"○","○"]
[270,1,2000,319,269,271,null,{"$f":"AccVelDataLink!G322","v":2},{"$f":"AccVelDataLink!A322","v":319},"○","○"]
[271,1,2500,320,270,272,null,{"$f":"AccVelDataLink!G323","v":2.5},{"$f":"AccVelDataLink!A323","v":320},"○","○"]
[272,1,3000,321,271,273,null,{"$f":"AccVelDataLink!G324","v":3},{"$f":"AccVelDataLink!A324","v":321},"○","○"]
[273,1,4000,322,272,274,null,{"$f":"AccVelDataLink!G325","v":4},{"$f":"AccVelDataLink!A325","v":322},"○","○"]
[274,1,4500,324,273,275,null,{"$f":"AccVelDataLink!G327","v":4.5},{"$f":"AccVelDataLink!A327","v":324},"○","○"]
[275,1,5000,325,274,-1,null,{"$f":"AccVelDataLink!G328","v":5},{"$f":"AccVelDataLink!A328","v":325},"○","終端"]
[276,0,1500,327,-1,277,{"$f":"AccVelDataLink!F330","v":"RCP4-SA5R-12-水平"},{"$f":"AccVelDataLink!G330","v":1.5},{"$f":"AccVelDataLink!A330","v":327},"先頭","○"]
[277,0,2000,328,276,278,null,{"$f":"AccVelDataLink!G331","v":2},{"$f":"AccVelDataLink!A331","v":328},"○","○"]
[278,0,3500,329,277,279,null,{"$f":"AccVelDataLink!G332","v":3.5},{"$f":"AccVelDataLink!A332","v":329},"○","○"]
[279,0,4000,330,278,280,null,{"$f":"AccVelDataLink!G333","v":4},{"$f":"AccVelDataLink!A333","v":330},"○","○"]
[280,0,5000,332,279,281,null,{"$f":"AccVelDataLink!G335","v":5},{"$f":"AccVelDataLink!A335","v":332},"○","○"]
[281,0,5500,335,280,282,null,{"$f":"AccVelDataLink!G338","v":5.5},{"$f":"AccVelDataLink!A338","v":335},"○","○"]
[282,0,6000,336,281,283,null,{"$f":"AccVelDataLink!G339","v":6},{"$f":"AccVelDataLink!A339","v":336},"○","○"]
[283,0,7000,337,282,284,null,{"$f":"AccVelDataLink!G340","v":7},{"$f":"AccVelDataLink!A340","v":337},"○","○"]
[284,0,8000,338,283,285,null,{"$f":"AccVelDataLink!G341","v":8},{"$f":"AccVelDataLink!A341","v":338},"○","○"]
[285,1,500,339,284,286,{"$f":"AccVelDataLink!F342","v":"RCP4-SA5R-12-垂直"},{"$f":"AccVelDataLink!G342","v":0.5},{"$f":"AccVelDataLink!A342","v":339},"○","○"]
[286,1,1000,340,285,287,null,{"$f":"AccVelDataLink!G343","v":1},{"$f":"AccVelDataLink!A343","v":340},"○","○"]
[287,1,1500,342,286,288,null,{"$f":"AccVelDataLink!G345","v":1.5},{"$f":"AccVelDataLink!A345","v":342},"○","○"]
[288,1,2000,344,287,-1,null,{"$f":"AccVelDataLink!G347","v":2},{"$f":"AccVelDataLink!A347","v":344},"○","終端"]
[289,0,500,346,-1,290,{"$f":"AccVelDataLink!F349","v":"RCP4-SA5R-20-水平"},{"$f":"AccVelDataLink!G349","v":0.5},{"$f":"AccVelDataLink!A349","v":346},"先頭","○"]
[290,0,1000,347,289,291,null,{"$f":"AccVelDataLink!G350","v":1},{"$f":"AccVelDataLink!A350","v":347},"○","○"]
[291,0,2000,349,290,292,null,{"$f":"AccVelDataLink!G352","v":2},{"$f":"AccVelDataLink!A352","v":349},"○","○"]
[292,0,2500,351,291,293,null,{"$f":"AccVelDataLink!G354","v":2.5},{"$f":"AccVelDataLink!A354","v":351},"○","○"]
[293,0,3000,352,292,294,null,{"$f":"AccVelDataLink!G355","v":3},{"$f":"AccVelDataLink!A355","v":352},"○","○"]
[294,0,3500,354,293,295,null,{"$f":"AccVelDataLink!G357","v":3.5},{"$f":"AccVelDataLink!A357","v":354},"○","○"]
[295,0,4000,355,294,296,null,{"$f":"AccVelDataLink!G358","v":4},{"$f":"AccVelDataLink!A358","v":355},"○","○"]
[296,0,4500,357,295,297,null,{"$f":"AccVelDataLink!G360","v":4.5},{"$f":"AccVelDataLink!A360","v":357},"○","○"]
[297,0,5000,358,296,298,null,{"$f":"AccVelDataLink!G361","v":5},{"$f":"AccVelDataLink!A361","v":358},"○","○"]
[298,1,500,359,297,-1,{"$f":"AccVelDataLink!F362","v":"RCP4-SA5R-20-垂直"},{"$f":"AccVelDataLink!G362","v":0.5},{"$f":"AccVelDataLink!A362","v":359},"○","終端"]
[299,0,9000,360,-1,300,{"$f":"AccVelDataLink!F363","v":"RCP4-SA6R-3-水平"},{"$f":"AccVelDataLink!G363","v":9},{"$f":"AccVelDataLink!A363","v":360},"先頭","○"]
[300,0,10000,361,299,301,null,{"$f":"AccVelDataLink!G364","v":10},{"$f":"AccVelDataLink!A364","v":361},"○","○"]
[301,0,11000,363,300,302,null,{"$f":"AccVelDataLink!G366","v":11},{"$f":"AccVelDataLink!A366","v":363},"○","○"]
[{"$f":"A304+1","v":302},0,{"$f":"H305*$H$1","v":12000},364,{"$f":"A304","v":301},{"$f":"A306","v":303},null,{"$f":"AccVelDataLink!G367","v":12},{"$f":"AccVelDataLink!A367","v":364},"○","○"]
[303,0,13000,365,302,304,null,{"$f":"AccVelDataLink!G368","v":13},{"$f":"AccVelDataLink!A368","v":365},"○","○"]
[304,0,14000,366,303,305,null,{"$f":"AccVelDataLink!G369","v":14},{"$f":"AccVelDataLink!A369","v":366},"○","○"]
[305,0,16000,368,304,306,null,{"$f":"AccVelDataLink!G371","v":16},{"$f":"AccVelDataLink!A371","v":368},"○","○"]
[306,0,18000,370,305,307,null,{"$f":"AccVelDataLink!G373","v":18},{"$f":"AccVelDataLink!A373","v":370},"○","○"]
[307,0,19000,371,306,308,null,{"$f":"AccVelDataLink!G374","v":19},{"$f":"AccVelDataLink!A374","v":371},"○","○"]
[308,1,3000,373,307,309,{"$f":"AccVelDataLink!F376","v":"RCP4-SA6R-3-垂直"},{"$f":"AccVelDataLink!G376","v":3},{"$f":"AccVelDataLink!A376","v":373},"○","○"]
[309,1,4500,374,308,310,null,{"$f":"AccVelDataLink!G377","v":4.5},{"$f":"AccVelDataLink!A377","v":374},"○","○"]
[310,1,5000,375,309,311,null,{"$f":"AccVelDataLink!G378","v":5},{"$f":"AccVelDataLink!A378","v":375},"○","○"]
[311,1,6000,376,310,312,null,{"$f":"AccVelDataLink!G379","v":6},{"$f":"AccVelDataLink!A379","v":376},"○","○"]
[312,1,7000,377,311,313,null,{"$f":"AccVelDataLink!G380","v":7},{"$f":"AccVelDataLink!A380","v":377},"○","○"]
[313,1,8000,378,312,314,null,{"$f":"AccVelDataLink!G381","v":8},{"$f":"AccVelDataLink!A381","v":378},"○","○"]
[314,1,9000,379,313,315,null,{"$f":"AccVelDataLink!G382","v":9},{"$f":"AccVelDataLink!A382","v":379},"○","○"]
[315,1,10000,380,314,-1,null,{"$f":"AccVelDataLink!G383","v":10},{"$f":"AccVelDataLink!A383","v":380},"○","終端"]
[316,0,4000,382,-1,317,{"$f":"AccVelDataLink!F385","v":"RCP4-SA6R-6-水平"},{"$f":"AccVelDataLink!G385","v":4},{"$f":"AccVelDataLink!A385","v":382},"先頭","○"]
[317,0,6000,383,316,318,null,{"$f":"AccVelDataLink!G386","v":6},{"$f":"AccVelDataLink!A386","v":383},"○","○"]
[318,0,7000,384,317,319,null,{"$f":"AccVelDataLink!G387","v":7},{"$f":"AccVelDataLink!A387","v":384},"○","○"]
[319,0,10000,385,318,320,null,{"$f":"AccVelDataLink!G388","v":10},{"$f":"AccVelDataLink!A388","v":385},"○","○"]
[320,0,12000,386,319,321,null,{"$f":"AccVelDataLink!G389","v":12},{"$f":"AccVelDataLink!A389","v":386},"○","○"]
[321,0,13000,{"$f":"I324","v":388},320,322,null,{"$f":"AccVelDataLink!G391","v":13},{"$f":"AccVelDataLink!A391","v":388},{"$f":"IF(E324=A323,\"○\",IF(G324=0,\"つなぎまちがい\",\"先頭\"))","v":"○"},{"$f":"IF(F324=A325,\"○\",IF(F324<>E325,\"つなぎまちがい\",\"終端\"))","v":"○"}]
[322,0,15000,390,321,323,null,{"$f":"AccVelDataLink!G393","v":15},{"$f":"AccVelDataLink!A393","v":390},"○","○"]
[323,0,16000,392,322,324,null,{"$f":"AccVelDataLink!G395","v":16},{"$f":"AccVelDataLink!A395","v":392},"○","○"]
[324,1,1500,393,323,325,{"$f":"AccVelDataLink!F396","v":"RCP4-SA6R-6-垂直"},{"$f":"AccVelDataLink!G396","v":1.5},{"$f":"AccVelDataLink!A396","v":393},"○","○"]
[325,1,2000,394,324,326,null,{"$f":"AccVelDataLink!G397","v":2},{"$f":"AccVelDataLink!A397","v":394},"○","○"]
[326,1,2500,395,325,327,null,{"$f":"AccVelDataLink!G398","v":2.5},{"$f":"AccVelDataLink!A398","v":395},"○","○"]
[327,1,3000,396,326,328,null,{"$f":"AccVelDataLink!G399","v":3},{"$f":"AccVelDataLink!A399","v":396},"○","○"]
[328,1,4000,397,327,329,null,{"$f":"AccVelDataLink!G400","v":4},{"$f":"AccVelDataLink!A400","v":397},"○","○"]
[329,1,4500,399,328,330,null,{"$f":"AccVelDataLink!G402","v":4.5},{"$f":"AccVelDataLink!A402","v":399},"○","○"]
[330,1,5000,400,329,-1,null,{"$f":"AccVelDataLink!G403","v":5},{"$f":"AccVelDataLink!A403","v":400},"○","終端"]
[331,0,1500,402,-1,332,{"$f":"AccVelDataLink!F405","v":"RCP4-SA6R-12-水平"},{"$f":"AccVelDataLink!G405","v":1.5},{"$f":"AccVelDataLink!A405","v":402},"先頭","○"]
[332,0,2000,403,331,333,null,{"$f":"AccVelDataLink!G406","v":2},{"$f":"AccVelDataLink!A406","v":403},"○","○"]
[333,0,3000,405,332,334,null,{"$f":"AccVelDataLink!G408","v":3},{"$f":"AccVelDataLink!A408","v":405},"○","○"]
[334,0,3500,406,333,335,null,{"$f":"AccVelDataLink!G409","v":3.5},{"$f":"AccVelDataLink!A409","v":406},"○","○"]
[335,0,4000,407,334,336,null,{"$f":"AccVelDataLink!G410","v":4},{"$f":"AccVelDataLink!A410","v":407},"○","○"]
[336,0,6000,408,335,337,null,{"$f":"AccVelDataLink!G411","v":6},{"$f":"AccVelDataLink!A411","v":408},"○","○"]
[337,0,7000,410,336,338,null,{"$f":"AccVelDataLink!G413","v":7},{"$f":"AccVelDataLink!A413","v":410},"○","○"]
[338,0,8000,413,337,339,null,{"$f":"AccVelDataLink!G416","v":8},{"$f":"AccVelDataLink!A416","v":413},"○","○"]
[339,0,8500,414,338,340,null,{"$f":"AccVelDataLink!G417","v":8.5},{"$f":"AccVelDataLink!A417","v":414},"○","○"]
[340,1,500,415,339,341,{"$f":"AccVelDataLink!F418","v":"RCP4-SA6R-12-垂直"},{"$f":"AccVelDataLink!G418","v":0.5},{"$f":"AccVelDataLink!A418","v":415},"○","○"]
[341,1,1000,416,340,342,null,{"$f":"AccVelDataLink!G419","v":1},{"$f":"AccVelDataLink!A419","v":416},"○","○"]
[342,1,1500,418,341,343,null,{"$f":"AccVelDataLink!G421","v":1.5},{"$f":"AccVelDataLink!A421","v":418},"○","○"]
[343,1,2000,420,342,-1,null,{"$f":"AccVelDataLink!G423","v":2},{"$f":"AccVelDataLink!A423","v":420},"○","終端"]
[344,0,500,422,-1,345,{"$f":"AccVelDataLink!F425","v":"RCP4-SA6R-20-水平"},{"$f":"AccVelDataLink!G425","v":0.5},{"$f":"AccVelDataLink!A425","v":422},"先頭","○"]
[345,0,1000,423,344,346,null,{"$f":"AccVelDataLink!G426","v":1},{"$f":"AccVelDataLink!A426","v":423},"○","○"]
[346,0,1500,424,345,347,null,{"$f":"AccVelDataLink!G427","v":1.5},{"$f":"AccVelDataLink!A427","v":424},"○","○"]
[347,0,2000,425,346,348,null,{"$f":"AccVelDataLink!G428","v":2},{"$f":"AccVelDataLink!A428","v":425},"○","○"]
[348,0,3000,427,347,349,null,{"$f":"AccVelDataLink!G430","v":3},{"$f":"AccVelDataLink!A430","v":427},"○","○"]
[349,0,4000,429,348,350,null,{"$f":"AccVelDataLink!G432","v":4},{"$f":"AccVelDataLink!A432","v":429},"○","○"]
[350,0,5000,431,349,351,null,{"$f":"AccVelDataLink!G434","v":5},{"$f":"AccVelDataLink!A434","v":431},"○","○"]
[351,0,6000,432,350,352,null,{"$f":"AccVelDataLink!G435","v":6},{"$f":"AccVelDataLink!A435","v":432},"○","○"]
[352,1,500,433,351,-1,{"$f":"AccVelDataLink!F436","v":"RCP4-SA6R-20-垂直"},{"$f":"AccVelDataLink!G436","v":0.5},{"$f":"AccVelDataLink!A436","v":433},"○","終端"]
[353,0,22000,434,-1,354,{"$f":"AccVelDataLink!F437","v":"RCP4-SA7R-4-水平"},{"$f":"AccVelDataLink!G437","v":22},{"$f":"AccVelDataLink!A437","v":434},"先頭","○"]
[354,0,40000,435,353,355,null,{"$f":"AccVelDataLink!G438","v":40},{"$f":"AccVelDataLink!A438","v":435},"○","○"]
[355,1,3000,436,354,356,{"$f":"AccVelDataLink!F439","v":"RCP4-SA7R-4-垂直"},{"$f":"AccVelDataLink!G439","v":3},{"$f":"AccVelDataLink!A439","v":436},"○","○"]
[356,1,10000,437,355,357,null,{"$f":"AccVelDataLink!G440","v":10},{"$f":"AccVelDataLink!A440","v":437},"○","○"]
[357,1,15000,438,356,-1,null,{"$f":"AccVelDataLink!G441","v":15},{"$f":"AccVelDataLink!A441","v":438},"○","終端"]
[358,0,6000,439,-1,359,{"$f":"AccVelDataLink!F442","v":"RCP4-SA7R-8-水平"},{"$f":"AccVelDataLink!G442","v":6},{"$f":"AccVelDataLink!A442","v":439},"先頭","○"]
[359,0,25000,440,358,360,null,{"$f":"AccVelDataLink!G443","v":25},{"$f":"AccVelDataLink!A443","v":440},"○","○"]
[360,0,40000,441,359,361,null,{"$f":"AccVelDataLink!G444","v":40},{"$f":"AccVelDataLink!A444","v":441},"○","○"]
[361,1,1000,442,360,362,{"$f":"AccVelDataLink!F445","v":"RCP4-SA7R-8-垂直"},{"$f":"AccVelDataLink!G445","v":1},{"$f":"AccVelDataLink!A445","v":442},"○","○"]
[362,1,4000,443,361,363,null,{"$f":"AccVelDataLink!G446","v":4},{"$f":"AccVelDataLink!A446","v":443},"○","○"]
[363,1,7000,444,362,364,null,{"$f":"AccVelDataLink!G447","v":7},{"$f":"AccVelDataLink!A447","v":444},"○","○"]
[364,1,10000,445,363,-1,null,{"$f":"AccVelDataLink!G448","v":10},{"$f":"AccVelDataLink!A448","v":445},"○","終端"]
[365,0,4000,446,-1,366,{"$f":"AccVelDataLink!F449","v":"RCP4-SA7R-16-水平"},{"$f":"AccVelDataLink!G449","v":4},{"$f":"AccVelDataLink!A449","v":446},"先頭","○"]
[{"$f":"A368+1","v":366},0,{"$f":"H369*$H$1","v":15000},447,{"$f":"A368","v":365},{"$f":"A370","v":367},null,{"$f":"AccVelDataLink!G450","v":15},{"$f":"AccVelDataLink!A450","v":447},"○","○"]
[367,0,25000,448,366,368,null,{"$f":"AccVelDataLink!G451","v":25},{"$f":"AccVelDataLink!A451","v":448},"○","○"]
[368,0,35000,449,367,369,null,{"$f":"AccVelDataLink!G452","v":35},{"$f":"AccVelDataLink!A452","v":449},"○","○"]
[369,1,500,450,368,370,{"$f":"AccVelDataLink!F453","v":"RCP4-SA7R-16-垂直"},{"$f":"AccVelDataLink!G453","v":0.5},{"$f":"AccVelDataLink!A453","v":450},"○","○"]
[370,1,1500,451,369,371,null,{"$f":"AccVelDataLink!G454","v":1.5},{"$f":"AccVelDataLink!A454","v":451},"○","○"]
[371,1,3000,452,370,372,null,{"$f":"AccVelDataLink!G455","v":3},{"$f":"AccVelDataLink!A455","v":452},"○","○"]
[372,1,5000,453,371,-1,null,{"$f":"AccVelDataLink!G456","v":5},{"$f":"AccVelDataLink!A456","v":453},"○","終端"]
[373,0,1000,454,-1,374,{"$f":"AccVelDataLink!F457","v":"RCP4-SA7R-24-水平"},{"$f":"AccVelDataLink!G457","v":1},{"$f":"AccVelDataLink!A457","v":454},"先頭","○"]
[374,0,9000,455,373,375,null,{"$f":"AccVelDataLink!G458","v":9},{"$f":"AccVelDataLink!A458","v":455},"○","○"]
[375,0,18000,456,374,376,null,{"$f":"AccVelDataLink!G459","v":18},{"$f":"AccVelDataLink!A459","v":456},"○","○"]
[376,1,1500,457,375,377,{"$f":"AccVelDataLink!F460","v":"RCP4-SA7R-24-垂直"},{"$f":"AccVelDataLink!G460","v":1.5},{"$f":"AccVelDataLink!A460","v":457},"○","○"]
[377,1,2000,458,376,-1,null,{"$f":"AccVelDataLink!G461","v":2},{"$f":"AccVelDataLink!A461","v":458},"○","終端"]
[378,0,40000,459,-1,379,{"$f":"AccVelDataLink!F462","v":"RCP4-RA5R-3-水平"},{"$f":"AccVelDataLink!G462","v":40},{"$f":"AccVelDataLink!A462","v":459},"先頭","○"]
[379,1,5000,460,378,380,{"$f":"AccVelDataLink!F463","v":"RCP4-RA5R-3-垂直"},{"$f":"AccVelDataLink!G463","v":5},{"$f":"AccVelDataLink!A463","v":460},"○","○"]
[380,1,9000,461,379,381,null,{"$f":"AccVelDataLink!G464","v":9},{"$f":"AccVelDataLink!A464","v":461},"○","○"]
[381,1,12000,462,380,382,null,{"$f":"AccVelDataLink!G465","v":12},{"$f":"AccVelDataLink!A465","v":462},"○","○"]
[382,1,16000,463,381,383,null,{"$f":"AccVelDataLink!G466","v":16},{"$f":"AccVelDataLink!A466","v":463},"○","○"]
[383,1,20000,464,382,-1,null,{"$f":"AccVelDataLink!G467","v":20},{"$f":"AccVelDataLink!A467","v":464},"○","終端"]
[384,0,10000,465,-1,385,{"$f":"AccVelDataLink!F468","v":"RCP4-RA5R-6-水平"},{"$f":"AccVelDataLink!G468","v":10},{"$f":"AccVelDataLink!A468","v":465},"先頭","○"]
[385,0,35000,{"$f":"I388","v":466},384,386,null,{"$f":"AccVelDataLink!G469","v":35},{"$f":"AccVelDataLink!A469","v":466},{"$f":"IF(E388=A387,\"○\",IF(G388=0,\"つなぎまちがい\",\"先頭\"))","v":"○"},{"$f":"IF(F388=A389,\"○\",IF(F388<>E389,\"つなぎまちがい\",\"終端\"))","v":"○"}]
[386,0,40000,467,385,387,null,{"$f":"AccVelDataLink!G470","v":40},{"$f":"AccVelDataLink!A470","v":467},"○","○"]
[387,1,3000,468,386,388,{"$f":"AccVelDataLink!F471","v":"RCP4-RA5R-6-垂直"},{"$f":"AccVelDataLink!G471","v":3},{"$f":"AccVelDataLink!A471","v":468},"○","○"]
[388,1,5000,469,387,389,null,{"$f":"AccVelDataLink!G472","v":5},{"$f":"AccVelDataLink!A472","v":469},"○","○"]
[389,1,8000,470,388,390,null,{"$f":"AccVelDataLink!G473","v":8},{"$f":"AccVelDataLink!A473","v":470},"○","○"]
[390,1,10000,471,389,-1,null,{"$f":"AccVelDataLink!G474","v":10},{"$f":"AccVelDataLink!A474","v":471},"○","終端"]
[391,0,5000,472,-1,392,{"$f":"AccVelDataLink!F475","v":"RCP4-RA5R-12-水平"},{"$f":"AccVelDataLink!G475","v":5},{"$f":"AccVelDataLink!A475","v":472},"先頭","○"]
[392,0,10000,473,391,393,null,{"$f":"AccVelDataLink!G476","v":10},{"$f":"AccVelDataLink!A476","v":473},"○","○"]
[393,0,20000,474,392,394,null,{"$f":"AccVelDataLink!G477","v":20},{"$f":"AccVelDataLink!A477","v":474},"○","○"]
[394,0,25000,475,393,395,null,{"$f":"AccVelDataLink!G478","v":25},{"$f":"AccVelDataLink!A478","v":475},"○","○"]
[395,1,1000,476,394,396,{"$f":"AccVelDataLink!F479","v":"RCP4-RA5R-12-垂直"},{"$f":"AccVelDataLink!G479","v":1},{"$f":"AccVelDataLink!A479","v":476},"○","○"]
[396,1,2000,477,395,397,null,{"$f":"AccVelDataLink!G480","v":2},{"$f":"AccVelDataLink!A480","v":477},"○","○"]
[397,1,3000,478,396,398,null,{"$f":"AccVelDataLink!G481","v":3},{"$f":"AccVelDataLink!A481","v":478},"○","○"]
[398,1,4000,479,397,-1,null,{"$f":"AccVelDataLink!G482","v":4},{"$f":"AccVelDataLink!A482","v":479},"○","終端"]
[399,0,3000,480,-1,400,{"$f":"AccVelDataLink!F483","v":"RCP4-RA5R-20-水平"},{"$f":"AccVelDataLink!G483","v":3},{"$f":"AccVelDataLink!A483","v":480},"先頭","○"]
[400,0,4000,481,399,401,null,{"$f":"AccVelDataLink!G484","v":4},{"$f":"AccVelDataLink!A484","v":481},"○","○"]
[401,0,6000,482,400,402,null,{"$f":"AccVelDataLink!G485","v":6},{"$f":"AccVelDataLink!A485","v":482},"○","○"]
[402,1,500,483,401,403,{"$f":"AccVelDataLink!F486","v":"RCP4-RA5R-20-垂直"},{"$f":"AccVelDataLink!G486","v":0.5},{"$f":"AccVelDataLink!A486","v":483},"○","○"]
[403,1,1000,484,402,404,null,{"$f":"AccVelDataLink!G487","v":1},{"$f":"AccVelDataLink!A487","v":484},"○","○"]
[404,1,1500,485,403,-1,null,{"$f":"AccVelDataLink!G488","v":1.5},{"$f":"AccVelDataLink!A488","v":485},"○","終端"]
[405,0,5000,486,-1,406,{"$f":"AccVelDataLink!F489","v":"RCP4-RA6R-4-水平"},{"$f":"AccVelDataLink!G489","v":5},{"$f":"AccVelDataLink!A489","v":486},"先頭","○"]
[406,0,55000,487,405,407,null,{"$f":"AccVelDataLink!G490","v":55},{"$f":"AccVelDataLink!A490","v":487},"○","○"]
[407,1,500,488,406,408,{"$f":"AccVelDataLink!F491","v":"RCP4-RA6R-4-垂直"},{"$f":"AccVelDataLink!G491","v":0.5},{"$f":"AccVelDataLink!A491","v":488},"○","○"]
[408,1,4000,489,407,409,null,{"$f":"AccVelDataLink!G492","v":4},{"$f":"AccVelDataLink!A492","v":489},"○","○"]
[409,1,15000,490,408,410,null,{"$f":"AccVelDataLink!G493","v":15},{"$f":"AccVelDataLink!A493","v":490},"○","○"]
[410,1,26000,491,409,-1,null,{"$f":"AccVelDataLink!G494","v":26},{"$f":"AccVelDataLink!A494","v":491},"○","終端"]
[411,0,30000,492,-1,412,{"$f":"AccVelDataLink!F495","v":"RCP4-RA6R-8-水平"},{"$f":"AccVelDataLink!G495","v":30},{"$f":"AccVelDataLink!A495","v":492},"先頭","○"]
[412,0,50000,493,411,413,null,{"$f":"AccVelDataLink!G496","v":50},{"$f":"AccVelDataLink!A496","v":493},"○","○"]
[413,1,2000,494,412,414,{"$f":"AccVelDataLink!F497","v":"RCP4-RA6R-8-垂直"},{"$f":"AccVelDataLink!G497","v":2},{"$f":"AccVelDataLink!A497","v":494},"○","○"]
[414,1,7000,495,413,415,null,{"$f":"AccVelDataLink!G498","v":7},{"$f":"AccVelDataLink!A498","v":495},"○","○"]
[415,1,17500,496,414,-1,null,{"$f":"AccVelDataLink!G499","v":17.5},{"$f":"AccVelDataLink!A499","v":496},"○","終端"]
[416,0,6000,497,-1,417,{"$f":"AccVelDataLink!F500","v":"RCP4-RA6R-16-水平"},{"$f":"AccVelDataLink!G500","v":6},{"$f":"AccVelDataLink!A500","v":497},"先頭","○"]
[417,0,30000,498,416,418,null,{"$f":"AccVelDataLink!G501","v":30},{"$f":"AccVelDataLink!A501","v":498},"○","○"]
[418,0,40000,499,417,419,null,{"$f":"AccVelDataLink!G502","v":40},{"$f":"AccVelDataLink!A502","v":499},"○","○"]
[419,1,500,500,418,420,{"$f":"AccVelDataLink!F503","v":"RCP4-RA6R-16-垂直"},{"$f":"AccVelDataLink!G503","v":0.5},{"$f":"AccVelDataLink!A503","v":500},"○","○"]
[420,1,3000,501,419,421,null,{"$f":"AccVelDataLink!G504","v":3},{"$f":"AccVelDataLink!A504","v":501},"○","○"]
[421,1,5000,502,420,-1,null,{"$f":"AccVelDataLink!G505","v":5},{"$f":"AccVelDataLink!A505","v":502},"○","終端"]
[422,0,1000,503,-1,423,{"$f":"AccVelDataLink!F506","v":"RCP4-RA6R-24-水平"},{"$f":"AccVelDataLink!G506","v":1},{"$f":"AccVelDataLink!A506","v":503},"先頭","○"]
[423,0,10000,504,422,424,null,{"$f":"AccVelDataLink!G507","v":10},{"$f":"AccVelDataLink!A507","v":504},"○","○"]
[424,0,18000,505,423,425,null,{"$f":"AccVelDataLink!G508","v":18},{"$f":"AccVelDataLink!A508","v":505},"○","○"]
[425,1,2000,506,424,426,{"$f":"AccVelDataLink!F509","v":"RCP4-RA6R-24-垂直"},{"$f":"AccVelDataLink!G509","v":2},{"$f":"AccVelDataLink!A509","v":506},"○","○"]
[426,1,3000,507,425,-1,null,{"$f":"AccVelDataLink!G510","v":3},{"$f":"AccVelDataLink!A510","v":507},"○","終端"]
[427,0,12000,508,-1,428,{"$f":"AccVelDataLink!F511","v":"ERC3D-SA5-3-水平"},{"$f":"AccVelDataLink!G511","v":12},{"$f":"AccVelDataLink!A511","v":508},"先頭","○"]
[428,1,4000,509,427,429,{"$f":"AccVelDataLink!F512","v":"ERC3D-SA5-3-垂直"},{"$f":"AccVelDataLink!G512","v":4},{"$f":"AccVelDataLink!A512","v":509},"○","○"]
[429,1,6000,510,428,-1,null,{"$f":"AccVelDataLink!G513","v":6},{"$f":"AccVelDataLink!A513","v":510},"○","終端"]
[{"$f":"A432+1","v":430},0,{"$f":"H433*$H$1","v":12000},511,-1,{"$f":"A434","v":431},{"$f":"AccVelDataLink!F514","v":"ERC3D-SA5-6-水平"},{"$f":"AccVelDataLink!G514","v":12},{"$f":"AccVelDataLink!A514","v":511},"先頭","○"]
[431,1,2500,512,{"$f":"A433","v":430},432,{"$f":"AccVelDataLink!F515","v":"ERC3D-SA5-6-垂直"},{"$f":"AccVelDataLink!G515","v":2.5},{"$f":"AccVelDataLink!A515","v":512},"○","○"]
[432,1,3000,513,431,-1,null,{"$f":"AccVelDataLink!G516","v":3},{"$f":"AccVelDataLink!A516","v":513},"○","終端"]
[433,0,2000,514,-1,434,{"$f":"AccVelDataLink!F517","v":"ERC3D-SA5-12-水平"},{"$f":"AccVelDataLink!G517","v":2},{"$f":"AccVelDataLink!A517","v":514},"先頭","○"]
[434,0,6000,515,433,435,null,{"$f":"AccVelDataLink!G518","v":6},{"$f":"AccVelDataLink!A518","v":515},"○","○"]
[435,1,1000,516,434,436,{"$f":"AccVelDataLink!F519","v":"ERC3D-SA5-12-垂直"},{"$f":"AccVelDataLink!G519","v":1},{"$f":"AccVelDataLink!A519","v":516},"○","○"]
[436,1,1500,517,435,-1,null,{"$f":"AccVelDataLink!G520","v":1.5},{"$f":"AccVelDataLink!A520","v":517},"○","終端"]
[437,0,1000,518,-1,438,{"$f":"AccVelDataLink!F521","v":"ERC3D-SA5-20-水平"},{"$f":"AccVelDataLink!G521","v":1},{"$f":"AccVelDataLink!A521","v":518},"先頭","○"]
[438,0,3500,519,437,439,null,{"$f":"AccVelDataLink!G522","v":3.5},{"$f":"AccVelDataLink!A522","v":519},"○","○"]
[439,1,500,520,438,440,{"$f":"AccVelDataLink!F523","v":"ERC3D-SA5-20-垂直"},{"$f":"AccVelDataLink!G523","v":0.5},{"$f":"AccVelDataLink!A523","v":520},"○","○"]
[440,1,1000,521,439,-1,null,{"$f":"AccVelDataLink!G524","v":1},{"$f":"AccVelDataLink!A524","v":521},"○","終端"]
[441,0,20000,522,-1,442,{"$f":"AccVelDataLink!F525","v":"ERC3D-SA7-4-水平"},{"$f":"AccVelDataLink!G525","v":20},{"$f":"AccVelDataLink!A525","v":522},"先頭","○"]
[442,1,2000,523,441,443,{"$f":"AccVelDataLink!F526","v":"ERC3D-SA7-4-垂直"},{"$f":"AccVelDataLink!G526","v":2},{"$f":"AccVelDataLink!A526","v":523},"○","○"]
[443,1,10000,524,442,-1,null,{"$f":"AccVelDataLink!G527","v":10},{"$f":"AccVelDataLink!A527","v":524},"○","終端"]
[444,0,3500,525,-1,445,{"$f":"AccVelDataLink!F528","v":"ERC3D-SA7-8-水平"},{"$f":"AccVelDataLink!G528","v":3.5},{"$f":"AccVelDataLink!A528","v":525},"先頭","○"]
[445,0,20000,526,444,446,null,{"$f":"AccVelDataLink!G529","v":20},{"$f":"AccVelDataLink!A529","v":526},"○","○"]
[446,1,500,527,445,447,{"$f":"AccVelDataLink!F530","v":"ERC3D-SA7-8-垂直"},{"$f":"AccVelDataLink!G530","v":0.5},{"$f":"AccVelDataLink!A530","v":527},"○","○"]
[447,1,1000,528,446,448,null,{"$f":"AccVelDataLink!G531","v":1},{"$f":"AccVelDataLink!A531","v":528},"○","○"]
[448,1,5000,529,447,-1,null,{"$f":"AccVelDataLink!G532","v":5},{"$f":"AccVelDataLink!A532","v":529},"○","終端"]
[449,0,2000,{"$f":"I452","v":530},-1,450,{"$f":"AccVelDataLink!F533","v":"ERC3D-SA7-16-水平"},{"$f":"AccVelDataLink!G533","v":2},{"$f":"AccVelDataLink!A533","v":530},{"$f":"IF(E452=A451,\"○\",IF(G452=0,\"つなぎまちがい\",\"先頭\"))","v":"先頭"},{"$f":"IF(F452=A453,\"○\",IF(F452<>E453,\"つなぎまちがい\",\"終端\"))","v":"○"}]
[450,0,10000,531,449,451,null,{"$f":"AccVelDataLink!G534","v":10},{"$f":"AccVelDataLink!A534","v":531},"○","○"]
[451,1,500,532,450,452,{"$f":"AccVelDataLink!F535","v":"ERC3D-SA7-16-垂直"},{"$f":"AccVelDataLink!G535","v":0.5},{"$f":"AccVelDataLink!A535","v":532},"○","○"]
[452,1,2500,533,451,-1,null,{"$f":"AccVelDataLink!G536","v":2.5},{"$f":"AccVelDataLink!A536","v":533},"○","終端"]
[453,0,1000,534,-1,454,{"$f":"AccVelDataLink!F537","v":"ERC3D-SA7-24-水平"},{"$f":"AccVelDataLink!G537","v":1},{"$f":"AccVelDataLink!A537","v":534},"先頭","○"]
[454,0,6000,535,453,455,null,{"$f":"AccVelDataLink!G538","v":6},{"$f":"AccVelDataLink!A538","v":535},"○","○"]
[455,1,500,536,454,456,{"$f":"AccVelDataLink!F539","v":"ERC3D-SA7-24-垂直"},{"$f":"AccVelDataLink!G539","v":0.5},{"$f":"AccVelDataLink!A539","v":536},"○","○"]
[456,1,1500,537,455,-1,null,{"$f":"AccVelDataLink!G540","v":1.5},{"$f":"AccVelDataLink!A540","v":537},"○","終端"]
[457,0,12000,538,-1,458,{"$f":"AccVelDataLink!F541","v":"ERC3CR-SA5-3-水平"},{"$f":"AccVelDataLink!G541","v":12},{"$f":"AccVelDataLink!A541","v":538},"先頭","○"]
[458,1,4000,539,457,459,{"$f":"AccVelDataLink!F542","v":"ERC3CR-SA5-3-垂直"},{"$f":"AccVelDataLink!G542","v":4},{"$f":"AccVelDataLink!A542","v":539},"○","○"]
[459,1,6000,540,458,-1,null,{"$f":"AccVelDataLink!G543","v":6},{"$f":"AccVelDataLink!A543","v":540},"○","終端"]
[460,0,12000,541,-1,461,{"$f":"AccVelDataLink!F544","v":"ERC3CR-SA5-6-水平"},{"$f":"AccVelDataLink!G544","v":12},{"$f":"AccVelDataLink!A544","v":541},"先頭","○"]
[461,1,2500,542,460,462,{"$f":"AccVelDataLink!F545","v":"ERC3CR-SA5-6-垂直"},{"$f":"AccVelDataLink!G545","v":2.5},{"$f":"AccVelDataLink!A545","v":542},"○","○"]
[462,1,3000,543,461,-1,null,{"$f":"AccVelDataLink!G546","v":3},{"$f":"AccVelDataLink!A546","v":543},"○","終端"]
[463,0,2000,544,-1,464,{"$f":"AccVelDataLink!F547","v":"ERC3CR-SA5-12-水平"},{"$f":"AccVelDataLink!G547","v":2},{"$f":"AccVelDataLink!A547","v":544},"先頭","○"]
[464,0,6000,545,463,465,null,{"$f":"AccVelDataLink!G548","v":6},{"$f":"AccVelDataLink!A548","v":545},"○","○"]
[465,1,1000,546,464,466,{"$f":"AccVelDataLink!F549","v":"ERC3CR-SA5-12-垂直"},{"$f":"AccVelDataLink!G549","v":1},{"$f":"AccVelDataLink!A549","v":546},"○","○"]
[466,1,1500,547,465,-1,null,{"$f":"AccVelDataLink!G550","v":1.5},{"$f":"AccVelDataLink!A550","v":547},"○","終端"]
[467,0,1000,548,-1,468,{"$f":"AccVelDataLink!F551","v":"ERC3CR-SA5-20-水平"},{"$f":"AccVelDataLink!G551","v":1},{"$f":"AccVelDataLink!A551","v":548},"先頭","○"]
[468,0,3500,549,467,469,null,{"$f":"AccVelDataLink!G552","v":3.5},{"$f":"AccVelDataLink!A552","v":549},"○","○"]
[469,1,500,550,468,470,{"$f":"AccVelDataLink!F553","v":"ERC3CR-SA5-20-垂直"},{"$f":"AccVelDataLink!G553","v":0.5},{"$f":"AccVelDataLink!A553","v":550},"○","○"]
[470,1,1000,551,469,-1,null,{"$f":"AccVelDataLink!G554","v":1},{"$f":"AccVelDataLink!A554","v":551},"○","終端"]
[471,0,20000,552,-1,472,{"$f":"AccVelDataLink!F555","v":"ERC3CR-SA7-4-水平"},{"$f":"AccVelDataLink!G555","v":20},{"$f":"AccVelDataLink!A555","v":552},"先頭","○"]
[472,1,2000,553,471,473,{"$f":"AccVelDataLink!F556","v":"ERC3CR-SA7-4-垂直"},{"$f":"AccVelDataLink!G556","v":2},{"$f":"AccVelDataLink!A556","v":553},"○","○"]
[473,1,10000,554,472,-1,null,{"$f":"AccVelDataLink!G557","v":10},{"$f":"AccVelDataLink!A557","v":554},"○","終端"]
[474,0,3500,555,-1,475,{"$f":"AccVelDataLink!F558","v":"ERC3CR-SA7-8-水平"},{"$f":"AccVelDataLink!G558","v":3.5},{"$f":"AccVelDataLink!A558","v":555},"先頭","○"]
[475,0,20000,556,474,476,null,{"$f":"AccVelDataLink!G559","v":20},{"$f":"AccVelDataLink!A559","v":556},"○","○"]
[476,1,500,557,475,477,{"$f":"AccVelDataLink!F560","v":"ERC3CR-SA7-8-垂直"},{"$f":"AccVelDataLink!G560","v":0.5},{"$f":"AccVelDataLink!A560","v":557},"○","○"]
[477,1,1000,558,476,478,null,{"$f":"AccVelDataLink!G561","v":1},{"$f":"AccVelDataLink!A561","v":558},"○","○"]
[478,1,5000,559,477,-1,null,{"$f":"AccVelDataLink!G562","v":5},{"$f":"AccVelDataLink!A562","v":559},"○","終端"]
[479,0,2000,560,-1,480,{"$f":"AccVelDataLink!F563","v":"ERC3CR-SA7-16-水平"},{"$f":"AccVelDataLink!G563","v":2},{"$f":"AccVelDataLink!A563","v":560},"先頭","○"]
[480,0,10000,561,479,481,null,{"$f":"AccVelDataLink!G564","v":10},{"$f":"AccVelDataLink!A564","v":561},"○","○"]
[481,1,500,562,480,482,{"$f":"AccVelDataLink!F565","v":"ERC3CR-SA7-16-垂直"},{"$f":"AccVelDataLink!G565","v":0.5},{"$f":"AccVelDataLink!A565","v":562},"○","○"]
[482,1,2500,563,481,-1,null,{"$f":"AccVelDataLink!G566","v":2.5},{"$f":"AccVelDataLink!A566","v":563},"○","終端"]
[483,0,1000,564,-1,484,{"$f":"AccVelDataLink!F567","v":"ERC3CR-SA7-24-水平"},{"$f":"AccVelDataLink!G567","v":1},{"$f":"AccVelDataLink!A567","v":564},"先頭","○"]
[484,0,6000,565,483,485,null,{"$f":"AccVelDataLink!G568","v":6},{"$f":"AccVelDataLink!A568","v":565},"○","○"]
[485,1,500,566,484,486,{"$f":"AccVelDataLink!F569","v":"ERC3CR-SA7-24-垂直"},{"$f":"AccVelDataLink!G569","v":0.5},{"$f":"AccVelDataLink!A569","v":566},"○","○"]
[486,1,1500,567,485,-1,null,{"$f":"AccVelDataLink!G570","v":1.5},{"$f":"AccVelDataLink!A570","v":567},"○","終端"]
[487,0,8000,568,-1,488,{"$f":"AccVelDataLink!F571","v":"RCP5-SA4C-2.5-水平"},{"$f":"AccVelDataLink!G571","v":8},{"$f":"AccVelDataLink!A571","v":568},"先頭","○"]
[488,0,9000,569,487,489,null,{"$f":"AccVelDataLink!G572","v":9},{"$f":"AccVelDataLink!A572","v":569},"○","○"]
[489,0,10000,571,488,490,null,{"$f":"AccVelDataLink!G574","v":10},{"$f":"AccVelDataLink!A574","v":571},"○","○"]
[490,0,11000,574,489,491,null,{"$f":"AccVelDataLink!G577","v":11},{"$f":"AccVelDataLink!A577","v":574},"○","○"]
[491,0,12000,576,490,492,null,{"$f":"AccVelDataLink!G579","v":12},{"$f":"AccVelDataLink!A579","v":576},"○","○"]
[492,1,5000,579,491,493,{"$f":"AccVelDataLink!F582","v":"RCP5-SA4C-2.5-垂直"},{"$f":"AccVelDataLink!G582","v":5},{"$f":"AccVelDataLink!A582","v":579},"○","○"]
[493,1,8000,580,492,494,null,{"$f":"AccVelDataLink!G583","v":8},{"$f":"AccVelDataLink!A583","v":580},"○","○"]
[{"$f":"A496+1","v":494},1,{"$f":"H497*$H$1","v":9000},581,{"$f":"A496","v":493},-1,null,{"$f":"AccVelDataLink!G584","v":9},{"$f":"AccVelDataLink!A584","v":581},"○","終端"]
[495,0,6000,582,-1,{"$f":"A499","v":496},{"$f":"AccVelDataLink!F585","v":"RCP5-SA4C-5-水平"},{"$f":"AccVelDataLink!G585","v":6},{"$f":"AccVelDataLink!A585","v":582},"先頭","○"]
[496,0,7000,583,495,497,null,{"$f":"AccVelDataLink!G586","v":7},{"$f":"AccVelDataLink!A586","v":583},"○","○"]
[497,0,8000,585,496,498,null,{"$f":"AccVelDataLink!G588","v":8},{"$f":"AccVelDataLink!A588","v":585},"○","○"]
[498,0,9000,588,497,499,null,{"$f":"AccVelDataLink!G591","v":9},{"$f":"AccVelDataLink!A591","v":588},"○","○"]
[499,0,10000,592,498,500,null,{"$f":"AccVelDataLink!G595","v":10},{"$f":"AccVelDataLink!A595","v":592},"○","○"]
[500,0,12000,596,499,501,null,{"$f":"AccVelDataLink!G599","v":12},{"$f":"AccVelDataLink!A599","v":596},"○","○"]
[501,1,2500,597,500,502,{"$f":"AccVelDataLink!F600","v":"RCP5-SA4C-5-垂直"},{"$f":"AccVelDataLink!G600","v":2.5},{"$f":"AccVelDataLink!A600","v":597},"○","○"]
[502,1,3000,598,501,503,null,{"$f":"AccVelDataLink!G601","v":3},{"$f":"AccVelDataLink!A601","v":598},"○","○"]
[503,1,3500,599,502,504,null,{"$f":"AccVelDataLink!G602","v":3.5},{"$f":"AccVelDataLink!A602","v":599},"○","○"]
[504,1,4000,600,503,505,null,{"$f":"AccVelDataLink!G603","v":4},{"$f":"AccVelDataLink!A603","v":600},"○","○"]
[505,1,4500,601,504,-1,null,{"$f":"AccVelDataLink!G604","v":4.5},{"$f":"AccVelDataLink!A604","v":601},"○","終端"]
[506,0,3000,602,-1,507,{"$f":"AccVelDataLink!F605","v":"RCP5-SA4C-10-水平"},{"$f":"AccVelDataLink!G605","v":3},{"$f":"AccVelDataLink!A605","v":602},"先頭","○"]
[507,0,4000,603,506,508,null,{"$f":"AccVelDataLink!G606","v":4},{"$f":"AccVelDataLink!A606","v":603},"○","○"]
[508,0,5000,605,507,509,null,{"$f":"AccVelDataLink!G608","v":5},{"$f":"AccVelDataLink!A608","v":605},"○","○"]
[509,0,6000,608,508,510,null,{"$f":"AccVelDataLink!G611","v":6},{"$f":"AccVelDataLink!A611","v":608},"○","○"]
[510,0,7000,612,509,511,null,{"$f":"AccVelDataLink!G615","v":7},{"$f":"AccVelDataLink!A615","v":612},"○","○"]
[511,0,8000,614,510,512,null,{"$f":"AccVelDataLink!G617","v":8},{"$f":"AccVelDataLink!A617","v":614},"○","○"]
[512,0,9000,617,511,513,null,{"$f":"AccVelDataLink!G620","v":9},{"$f":"AccVelDataLink!A620","v":617},"○","○"]
[513,0,10000,{"$f":"I516","v":619},512,514,null,{"$f":"AccVelDataLink!G622","v":10},{"$f":"AccVelDataLink!A622","v":619},{"$f":"IF(E516=A515,\"○\",IF(G516=0,\"つなぎまちがい\",\"先頭\"))","v":"○"},{"$f":"IF(F516=A517,\"○\",IF(F516<>E517,\"つなぎまちがい\",\"終端\"))","v":"○"}]
[514,1,1000,620,513,515,{"$f":"AccVelDataLink!F623","v":"RCP5-SA4C-10-垂直"},{"$f":"AccVelDataLink!G623","v":1},{"$f":"AccVelDataLink!A623","v":620},"○","○"]
[515,1,1500,621,514,516,null,{"$f":"AccVelDataLink!G624","v":1.5},{"$f":"AccVelDataLink!A624","v":621},"○","○"]
[516,1,2000,623,515,517,null,{"$f":"AccVelDataLink!G626","v":2},{"$f":"AccVelDataLink!A626","v":623},"○","○"]
[517,1,2250,625,516,-1,null,{"$f":"AccVelDataLink!G628","v":2.25},{"$f":"AccVelDataLink!A628","v":625},"○","終端"]
[518,0,1500,626,-1,519,{"$f":"AccVelDataLink!F629","v":"RCP5-SA4C-16-水平"},{"$f":"AccVelDataLink!G629","v":1.5},{"$f":"AccVelDataLink!A629","v":626},"先頭","○"]
[519,0,2000,627,518,520,null,{"$f":"AccVelDataLink!G630","v":2},{"$f":"AccVelDataLink!A630","v":627},"○","○"]
[520,0,2500,629,519,521,null,{"$f":"AccVelDataLink!G632","v":2.5},{"$f":"AccVelDataLink!A632","v":629},"○","○"]
[521,0,3000,632,520,522,null,{"$f":"AccVelDataLink!G635","v":3},{"$f":"AccVelDataLink!A635","v":632},"○","○"]
[522,0,3500,635,521,523,null,{"$f":"AccVelDataLink!G638","v":3.5},{"$f":"AccVelDataLink!A638","v":635},"○","○"]
[523,0,4000,639,522,524,null,{"$f":"AccVelDataLink!G642","v":4},{"$f":"AccVelDataLink!A642","v":639},"○","○"]
[524,1,500,642,523,525,{"$f":"AccVelDataLink!F645","v":"RCP5-SA4C-16-垂直"},{"$f":"AccVelDataLink!G645","v":0.5},{"$f":"AccVelDataLink!A645","v":642},"○","○"]
[525,1,750,643,524,526,null,{"$f":"AccVelDataLink!G646","v":0.75},{"$f":"AccVelDataLink!A646","v":643},"○","○"]
[526,1,1000,645,525,-1,null,{"$f":"AccVelDataLink!G648","v":1},{"$f":"AccVelDataLink!A648","v":645},"○","終端"]
[527,0,9000,648,-1,528,{"$f":"AccVelDataLink!F651","v":"RCP5-SA6C-3-水平"},{"$f":"AccVelDataLink!G651","v":9},{"$f":"AccVelDataLink!A651","v":648},"先頭","○"]
[528,0,10000,649,527,529,null,{"$f":"AccVelDataLink!G652","v":10},{"$f":"AccVelDataLink!A652","v":649},"○","○"]
[529,0,11000,651,528,530,null,{"$f":"AccVelDataLink!G654","v":11},{"$f":"AccVelDataLink!A654","v":651},"○","○"]
[530,0,12000,652,529,531,null,{"$f":"AccVelDataLink!G655","v":12},{"$f":"AccVelDataLink!A655","v":652},"○","○"]
[531,0,13000,653,530,532,null,{"$f":"AccVelDataLink!G656","v":13},{"$f":"AccVelDataLink!A656","v":653},"○","○"]
[532,0,14000,654,531,533,null,{"$f":"AccVelDataLink!G657","v":14},{"$f":"AccVelDataLink!A657","v":654},"○","○"]
[533,0,16000,656,532,534,null,{"$f":"AccVelDataLink!G659","v":16},{"$f":"AccVelDataLink!A659","v":656},"○","○"]
[534,0,18000,658,533,535,null,{"$f":"AccVelDataLink!G661","v":18},{"$f":"AccVelDataLink!A661","v":658},"○","○"]
[535,0,19000,659,534,536,null,{"$f":"AccVelDataLink!G662","v":19},{"$f":"AccVelDataLink!A662","v":659},"○","○"]
[536,1,3000,661,535,537,{"$f":"AccVelDataLink!F664","v":"RCP5-SA6C-3-垂直"},{"$f":"AccVelDataLink!G664","v":3},{"$f":"AccVelDataLink!A664","v":661},"○","○"]
[537,1,4500,662,536,538,null,{"$f":"AccVelDataLink!G665","v":4.5},{"$f":"AccVelDataLink!A665","v":662},"○","○"]
[538,1,5000,663,537,539,null,{"$f":"AccVelDataLink!G666","v":5},{"$f":"AccVelDataLink!A666","v":663},"○","○"]
[539,1,6000,664,538,540,null,{"$f":"AccVelDataLink!G667","v":6},{"$f":"AccVelDataLink!A667","v":664},"○","○"]
[540,1,7000,665,539,541,null,{"$f":"AccVelDataLink!G668","v":7},{"$f":"AccVelDataLink!A668","v":665},"○","○"]
[541,1,8000,666,540,542,null,{"$f":"AccVelDataLink!G669","v":8},{"$f":"AccVelDataLink!A669","v":666},"○","○"]
[542,1,9000,667,541,543,null,{"$f":"AccVelDataLink!G670","v":9},{"$f":"AccVelDataLink!A670","v":667},"○","○"]
[543,1,10000,668,542,-1,null,{"$f":"AccVelDataLink!G671","v":10},{"$f":"AccVelDataLink!A671","v":668},"○","終端"]
[544,0,4000,670,-1,545,{"$f":"AccVelDataLink!F673","v":"RCP5-SA6C-6-水平"},{"$f":"AccVelDataLink!G673","v":4},{"$f":"AccVelDataLink!A673","v":670},"先頭","○"]
[545,0,6000,671,544,546,null,{"$f":"AccVelDataLink!G674","v":6},{"$f":"AccVelDataLink!A674","v":671},"○","○"]
[546,0,7000,672,545,547,null,{"$f":"AccVelDataLink!G675","v":7},{"$f":"AccVelDataLink!A675","v":672},"○","○"]
[547,0,10000,673,546,548,null,{"$f":"AccVelDataLink!G676","v":10},{"$f":"AccVelDataLink!A676","v":673},"○","○"]
[548,0,12000,674,547,549,null,{"$f":"AccVelDataLink!G677","v":12},{"$f":"AccVelDataLink!A677","v":674},"○","○"]
[549,0,13000,676,548,550,null,{"$f":"AccVelDataLink!G679","v":13},{"$f":"AccVelDataLink!A679","v":676},"○","○"]
[550,0,15000,678,549,551,null,{"$f":"AccVelDataLink!G681","v":15},{"$f":"AccVelDataLink!A681","v":678},"○","○"]
[551,0,16000,680,550,552,null,{"$f":"AccVelDataLink!G683","v":16},{"$f":"AccVelDataLink!A683","v":680},"○","○"]
[552,1,2000,681,551,553,{"$f":"AccVelDataLink!F684","v":"RCP5-SA6C-6-垂直"},{"$f":"AccVelDataLink!G684","v":2},{"$f":"AccVelDataLink!A684","v":681},"○","○"]
[553,1,2500,682,552,554,null,{"$f":"AccVelDataLink!G685","v":2.5},{"$f":"AccVelDataLink!A685","v":682},"○","○"]
[554,1,3000,683,553,555,null,{"$f":"AccVelDataLink!G686","v":3},{"$f":"AccVelDataLink!A686","v":683},"○","○"]
[555,1,4000,685,554,556,null,{"$f":"AccVelDataLink!G688","v":4},{"$f":"AccVelDataLink!A688","v":685},"○","○"]
[556,1,4500,687,555,557,null,{"$f":"AccVelDataLink!G690","v":4.5},{"$f":"AccVelDataLink!A690","v":687},"○","○"]
[557,1,5000,688,556,-1,null,{"$f":"AccVelDataLink!G691","v":5},{"$f":"AccVelDataLink!A691","v":688},"○","終端"]
[{"$f":"A560+1","v":558},0,{"$f":"H561*$H$1","v":1500},690,-1,{"$f":"A562","v":559},{"$f":"AccVelDataLink!F693","v":"RCP5-SA6C-12-水平"},{"$f":"AccVelDataLink!G693","v":1.5},{"$f":"AccVelDataLink!A693","v":690},"先頭","○"]
[559,0,2000,691,{"$f":"A561","v":558},560,null,{"$f":"AccVelDataLink!G694","v":2},{"$f":"AccVelDataLink!A694","v":691},"○","○"]
[560,0,3000,693,559,561,null,{"$f":"AccVelDataLink!G696","v":3},{"$f":"AccVelDataLink!A696","v":693},"○","○"]
[561,0,3500,694,560,562,null,{"$f":"AccVelDataLink!G697","v":3.5},{"$f":"AccVelDataLink!A697","v":694},"○","○"]
[562,0,4000,695,561,563,null,{"$f":"AccVelDataLink!G698","v":4},{"$f":"AccVelDataLink!A698","v":695},"○","○"]
[563,0,6000,696,562,564,null,{"$f":"AccVelDataLink!G699","v":6},{"$f":"AccVelDataLink!A699","v":696},"○","○"]
[564,0,7000,698,563,565,null,{"$f":"AccVelDataLink!G701","v":7},{"$f":"AccVelDataLink!A701","v":698},"○","○"]
[565,0,8000,701,564,566,null,{"$f":"AccVelDataLink!G704","v":8},{"$f":"AccVelDataLink!A704","v":701},"○","○"]
[566,0,8500,702,565,567,null,{"$f":"AccVelDataLink!G705","v":8.5},{"$f":"AccVelDataLink!A705","v":702},"○","○"]
[567,1,500,703,566,568,{"$f":"AccVelDataLink!F706","v":"RCP5-SA6C-12-垂直"},{"$f":"AccVelDataLink!G706","v":0.5},{"$f":"AccVelDataLink!A706","v":703},"○","○"]
[568,1,1000,704,567,569,null,{"$f":"AccVelDataLink!G707","v":1},{"$f":"AccVelDataLink!A707","v":704},"○","○"]
[569,1,1500,706,568,570,null,{"$f":"AccVelDataLink!G709","v":1.5},{"$f":"AccVelDataLink!A709","v":706},"○","○"]
[570,1,2000,708,569,-1,null,{"$f":"AccVelDataLink!G711","v":2},{"$f":"AccVelDataLink!A711","v":708},"○","終端"]
[571,0,500,710,-1,572,{"$f":"AccVelDataLink!F713","v":"RCP5-SA6C-20-水平"},{"$f":"AccVelDataLink!G713","v":0.5},{"$f":"AccVelDataLink!A713","v":710},"先頭","○"]
[572,0,1000,711,571,573,null,{"$f":"AccVelDataLink!G714","v":1},{"$f":"AccVelDataLink!A714","v":711},"○","○"]
[573,0,2000,713,572,574,null,{"$f":"AccVelDataLink!G716","v":2},{"$f":"AccVelDataLink!A716","v":713},"○","○"]
[574,0,3000,715,573,575,null,{"$f":"AccVelDataLink!G718","v":3},{"$f":"AccVelDataLink!A718","v":715},"○","○"]
[575,0,4000,717,574,576,null,{"$f":"AccVelDataLink!G720","v":4},{"$f":"AccVelDataLink!A720","v":717},"○","○"]
[576,0,5000,719,575,577,null,{"$f":"AccVelDataLink!G722","v":5},{"$f":"AccVelDataLink!A722","v":719},"○","○"]
[577,0,6000,{"$f":"I580","v":720},576,578,null,{"$f":"AccVelDataLink!G723","v":6},{"$f":"AccVelDataLink!A723","v":720},{"$f":"IF(E580=A579,\"○\",IF(G580=0,\"つなぎまちがい\",\"先頭\"))","v":"○"},{"$f":"IF(F580=A581,\"○\",IF(F580<>E581,\"つなぎまちがい\",\"終端\"))","v":"○"}]
[578,1,500,721,577,-1,{"$f":"AccVelDataLink!F724","v":"RCP5-SA6C-20-垂直"},{"$f":"AccVelDataLink!G724","v":0.5},{"$f":"AccVelDataLink!A724","v":721},"○","終端"]
[579,0,40000,722,-1,580,{"$f":"AccVelDataLink!F725","v":"RCP5-SA7C-4-水平"},{"$f":"AccVelDataLink!G725","v":40},{"$f":"AccVelDataLink!A725","v":722},"先頭","○"]
[580,1,5000,723,579,581,{"$f":"AccVelDataLink!F726","v":"RCP5-SA7C-4-垂直"},{"$f":"AccVelDataLink!G726","v":5},{"$f":"AccVelDataLink!A726","v":723},"○","○"]
[581,1,10000,724,580,582,null,{"$f":"AccVelDataLink!G727","v":10},{"$f":"AccVelDataLink!A727","v":724},"○","○"]
[582,1,15000,725,581,-1,null,{"$f":"AccVelDataLink!G728","v":15},{"$f":"AccVelDataLink!A728","v":725},"○","終端"]
[583,0,10000,726,-1,584,{"$f":"AccVelDataLink!F729","v":"RCP5-SA7C-8-水平"},{"$f":"AccVelDataLink!G729","v":10},{"$f":"AccVelDataLink!A729","v":726},"先頭","○"]
[584,0,25000,727,583,585,null,{"$f":"AccVelDataLink!G730","v":25},{"$f":"AccVelDataLink!A730","v":727},"○","○"]
[585,0,40000,728,584,586,null,{"$f":"AccVelDataLink!G731","v":40},{"$f":"AccVelDataLink!A731","v":728},"○","○"]
[586,1,1500,729,585,587,{"$f":"AccVelDataLink!F732","v":"RCP5-SA7C-8-垂直"},{"$f":"AccVelDataLink!G732","v":1.5},{"$f":"AccVelDataLink!A732","v":729},"○","○"]
[587,1,4000,730,586,588,null,{"$f":"AccVelDataLink!G733","v":4},{"$f":"AccVelDataLink!A733","v":730},"○","○"]
[588,1,7000,731,587,589,null,{"$f":"AccVelDataLink!G734","v":7},{"$f":"AccVelDataLink!A734","v":731},"○","○"]
[589,1,10000,732,588,-1,null,{"$f":"AccVelDataLink!G735","v":10},{"$f":"AccVelDataLink!A735","v":732},"○","終端"]
[590,0,7000,733,-1,591,{"$f":"AccVelDataLink!F736","v":"RCP5-SA7C-16-水平"},{"$f":"AccVelDataLink!G736","v":7},{"$f":"AccVelDataLink!A736","v":733},"先頭","○"]
[591,0,15000,734,590,592,null,{"$f":"AccVelDataLink!G737","v":15},{"$f":"AccVelDataLink!A737","v":734},"○","○"]
[592,0,25000,735,591,593,null,{"$f":"AccVelDataLink!G738","v":25},{"$f":"AccVelDataLink!A738","v":735},"○","○"]
[593,0,35000,736,592,594,null,{"$f":"AccVelDataLink!G739","v":35},{"$f":"AccVelDataLink!A739","v":736},"○","○"]
[594,1,500,737,593,595,{"$f":"AccVelDataLink!F740","v":"RCP5-SA7C-16-垂直"},{"$f":"AccVelDataLink!G740","v":0.5},{"$f":"AccVelDataLink!A740","v":737},"○","○"]
[595,1,1500,738,594,596,null,{"$f":"AccVelDataLink!G741","v":1.5},{"$f":"AccVelDataLink!A741","v":738},"○","○"]
[596,1,3000,739,595,597,null,{"$f":"AccVelDataLink!G742","v":3},{"$f":"AccVelDataLink!A742","v":739},"○","○"]
[597,1,5000,740,596,-1,null,{"$f":"AccVelDataLink!G743","v":5},{"$f":"AccVelDataLink!A743","v":740},"○","終端"]
[598,0,5000,741,-1,599,{"$f":"AccVelDataLink!F744","v":"RCP5-SA7C-24-水平"},{"$f":"AccVelDataLink!G744","v":5},{"$f":"AccVelDataLink!A744","v":741},"先頭","○"]
[599,0,10000,742,598,600,null,{"$f":"AccVelDataLink!G745","v":10},{"$f":"AccVelDataLink!A745","v":742},"○","○"]
[600,0,18000,743,599,601,null,{"$f":"AccVelDataLink!G746","v":18},{"$f":"AccVelDataLink!A746","v":743},"○","○"]
[601,1,1000,744,600,602,{"$f":"AccVelDataLink!F747","v":"RCP5-SA7C-24-垂直"},{"$f":"AccVelDataLink!G747","v":1},{"$f":"AccVelDataLink!A747","v":744},"○","○"]
[602,1,1500,745,601,603,null,{"$f":"AccVelDataLink!G748","v":1.5},{"$f":"AccVelDataLink!A748","v":745},"○","○"]
[603,1,2000,746,602,-1,null,{"$f":"AccVelDataLink!G749","v":2},{"$f":"AccVelDataLink!A749","v":746},"○","終端"]
[604,0,12000,747,-1,605,{"$f":"AccVelDataLink!F750","v":"RCP5-RA4C-2.5-水平"},{"$f":"AccVelDataLink!G750","v":12},{"$f":"AccVelDataLink!A750","v":747},"先頭","○"]
[605,0,16000,748,604,606,null,{"$f":"AccVelDataLink!G751","v":16},{"$f":"AccVelDataLink!A751","v":748},"○","○"]
[606,0,18000,749,605,607,null,{"$f":"AccVelDataLink!G752","v":18},{"$f":"AccVelDataLink!A752","v":749},"○","○"]
[607,0,20000,750,606,608,null,{"$f":"AccVelDataLink!G753","v":20},{"$f":"AccVelDataLink!A753","v":750},"○","○"]
[608,0,24000,751,607,609,null,{"$f":"AccVelDataLink!G754","v":24},{"$f":"AccVelDataLink!A754","v":751},"○","○"]
[609,0,28000,752,608,610,null,{"$f":"AccVelDataLink!G755","v":28},{"$f":"AccVelDataLink!A755","v":752},"○","○"]
[610,0,30000,754,609,611,null,{"$f":"AccVelDataLink!G757","v":30},{"$f":"AccVelDataLink!A757","v":754},"○","○"]
[611,0,32000,755,610,612,null,{"$f":"AccVelDataLink!G758","v":32},{"$f":"AccVelDataLink!A758","v":755},"○","○"]
[612,0,36000,758,611,613,null,{"$f":"AccVelDataLink!G761","v":36},{"$f":"AccVelDataLink!A761","v":758},"○","○"]
[613,1,2000,761,612,614,{"$f":"AccVelDataLink!F764","v":"RCP5-RA4C-2.5-垂直"},{"$f":"AccVelDataLink!G764","v":2},{"$f":"AccVelDataLink!A764","v":761},"○","○"]
[614,1,5000,762,613,615,null,{"$f":"AccVelDataLink!G765","v":5},{"$f":"AccVelDataLink!A765","v":762},"○","○"]
[615,1,8000,763,614,616,null,{"$f":"AccVelDataLink!G766","v":8},{"$f":"AccVelDataLink!A766","v":763},"○","○"]
[616,1,9000,764,615,617,null,{"$f":"AccVelDataLink!G767","v":9},{"$f":"AccVelDataLink!A767","v":764},"○","○"]
[617,1,10000,765,616,-1,null,{"$f":"AccVelDataLink!G768","v":10},{"$f":"AccVelDataLink!A768","v":765},"○","終端"]
[618,0,4000,766,-1,619,{"$f":"AccVelDataLink!F769","v":"RCP5-RA4C-5-水平"},{"$f":"AccVelDataLink!G769","v":4},{"$f":"AccVelDataLink!A769","v":766},"先頭","○"]
[619,0,6000,767,618,620,null,{"$f":"AccVelDataLink!G770","v":6},{"$f":"AccVelDataLink!A770","v":767},"○","○"]
[620,0,7000,768,619,621,null,{"$f":"AccVelDataLink!G771","v":7},{"$f":"AccVelDataLink!A771","v":768},"○","○"]
[621,0,8500,769,620,622,null,{"$f":"AccVelDataLink!G772","v":8.5},{"$f":"AccVelDataLink!A772","v":769},"○","○"]
[{"$f":"A624+1","v":622},0,{"$f":"H625*$H$1","v":10000},770,{"$f":"A624","v":621},{"$f":"A626","v":623},null,{"$f":"AccVelDataLink!G773","v":10},{"$f":"AccVelDataLink!A773","v":770},"○","○"]
[623,0,11000,771,622,624,null,{"$f":"AccVelDataLink!G774","v":11},{"$f":"AccVelDataLink!A774","v":771},"○","○"]
[624,0,12000,772,623,625,null,{"$f":"AccVelDataLink!G775","v":12},{"$f":"AccVelDataLink!A775","v":772},"○","○"]
[625,0,15000,773,624,626,null,{"$f":"AccVelDataLink!G776","v":15},{"$f":"AccVelDataLink!A776","v":773},"○","○"]
[626,0,16000,774,625,627,null,{"$f":"AccVelDataLink!G777","v":16},{"$f":"AccVelDataLink!A777","v":774},"○","○"]
[627,0,17000,776,626,628,null,{"$f":"AccVelDataLink!G779","v":17},{"$f":"AccVelDataLink!A779","v":776},"○","○"]
[628,0,20000,778,627,629,null,{"$f":"AccVelDataLink!G781","v":20},{"$f":"AccVelDataLink!A781","v":778},"○","○"]
[629,0,22000,780,628,630,null,{"$f":"AccVelDataLink!G783","v":22},{"$f":"AccVelDataLink!A783","v":780},"○","○"]
[630,0,25000,781,629,631,null,{"$f":"AccVelDataLink!G784","v":25},{"$f":"AccVelDataLink!A784","v":781},"○","○"]
[631,0,28000,782,630,632,null,{"$f":"AccVelDataLink!G785","v":28},{"$f":"AccVelDataLink!A785","v":782},"○","○"]
[632,1,2000,783,631,633,{"$f":"AccVelDataLink!F786","v":"RCP5-RA4C-5-垂直"},{"$f":"AccVelDataLink!G786","v":2},{"$f":"AccVelDataLink!A786","v":783},"○","○"]
[633,1,3000,784,632,634,null,{"$f":"AccVelDataLink!G787","v":3},{"$f":"AccVelDataLink!A787","v":784},"○","○"]
[634,1,4000,785,633,635,null,{"$f":"AccVelDataLink!G788","v":4},{"$f":"AccVelDataLink!A788","v":785},"○","○"]
[635,1,4500,786,634,636,null,{"$f":"AccVelDataLink!G789","v":4.5},{"$f":"AccVelDataLink!A789","v":786},"○","○"]
[636,1,5000,787,635,-1,null,{"$f":"AccVelDataLink!G790","v":5},{"$f":"AccVelDataLink!A790","v":787},"○","終端"]
[637,0,1000,788,-1,638,{"$f":"AccVelDataLink!F791","v":"RCP5-RA4C-10-水平"},{"$f":"AccVelDataLink!G791","v":1},{"$f":"AccVelDataLink!A791","v":788},"先頭","○"]
[638,0,1500,789,637,639,null,{"$f":"AccVelDataLink!G792","v":1.5},{"$f":"AccVelDataLink!A792","v":789},"○","○"]
[639,0,2000,790,638,640,null,{"$f":"AccVelDataLink!G793","v":2},{"$f":"AccVelDataLink!A793","v":790},"○","○"]
[640,0,2500,791,639,641,null,{"$f":"AccVelDataLink!G794","v":2.5},{"$f":"AccVelDataLink!A794","v":791},"○","○"]
[641,0,3000,{"$f":"I644","v":792},640,642,null,{"$f":"AccVelDataLink!G795","v":3},{"$f":"AccVelDataLink!A795","v":792},{"$f":"IF(E644=A643,\"○\",IF(G644=0,\"つなぎまちがい\",\"先頭\"))","v":"○"},{"$f":"IF(F644=A645,\"○\",IF(F644<>E645,\"つなぎまちがい\",\"終端\"))","v":"○"}]
[642,0,4000,794,641,643,null,{"$f":"AccVelDataLink!G797","v":4},{"$f":"AccVelDataLink!A797","v":794},"○","○"]
[643,0,6000,796,642,644,null,{"$f":"AccVelDataLink!G799","v":6},{"$f":"AccVelDataLink!A799","v":796},"○","○"]
[644,0,7000,797,643,645,null,{"$f":"AccVelDataLink!G800","v":7},{"$f":"AccVelDataLink!A800","v":797},"○","○"]
[645,0,8000,798,644,646,null,{"$f":"AccVelDataLink!G801","v":8},{"$f":"AccVelDataLink!A801","v":798},"○","○"]
[646,0,10000,799,645,647,null,{"$f":"AccVelDataLink!G802","v":10},{"$f":"AccVelDataLink!A802","v":799},"○","○"]
[647,0,11000,800,646,648,null,{"$f":"AccVelDataLink!G803","v":11},{"$f":"AccVelDataLink!A803","v":800},"○","○"]
[648,0,12000,801,647,649,null,{"$f":"AccVelDataLink!G804","v":12},{"$f":"AccVelDataLink!A804","v":801},"○","○"]
[649,0,13000,804,648,650,null,{"$f":"AccVelDataLink!G807","v":13},{"$f":"AccVelDataLink!A807","v":804},"○","○"]
[650,0,15000,805,649,651,null,{"$f":"AccVelDataLink!G808","v":15},{"$f":"AccVelDataLink!A808","v":805},"○","○"]
[651,1,500,806,650,652,{"$f":"AccVelDataLink!F809","v":"RCP5-RA4C-10-垂直"},{"$f":"AccVelDataLink!G809","v":0.5},{"$f":"AccVelDataLink!A809","v":806},"○","○"]
[652,1,1000,807,651,653,null,{"$f":"AccVelDataLink!G810","v":1},{"$f":"AccVelDataLink!A810","v":807},"○","○"]
[653,1,2000,808,652,654,null,{"$f":"AccVelDataLink!G811","v":2},{"$f":"AccVelDataLink!A811","v":808},"○","○"]
[654,1,2250,809,653,655,null,{"$f":"AccVelDataLink!G812","v":2.25},{"$f":"AccVelDataLink!A812","v":809},"○","○"]
[655,1,2500,810,654,-1,null,{"$f":"AccVelDataLink!G813","v":2.5},{"$f":"AccVelDataLink!A813","v":810},"○","終端"]
[656,0,1000,811,-1,657,{"$f":"AccVelDataLink!F814","v":"RCP5-RA4C-16-水平"},{"$f":"AccVelDataLink!G814","v":1},{"$f":"AccVelDataLink!A814","v":811},"先頭","○"]
[657,0,1500,812,656,658,null,{"$f":"AccVelDataLink!G815","v":1.5},{"$f":"AccVelDataLink!A815","v":812},"○","○"]
[658,0,2000,813,657,659,null,{"$f":"AccVelDataLink!G816","v":2},{"$f":"AccVelDataLink!A816","v":813},"○","○"]
[659,0,2500,814,658,660,null,{"$f":"AccVelDataLink!G817","v":2.5},{"$f":"AccVelDataLink!A817","v":814},"○","○"]
[660,0,3500,815,659,661,null,{"$f":"AccVelDataLink!G818","v":3.5},{"$f":"AccVelDataLink!A818","v":815},"○","○"]
[661,0,4000,817,660,662,null,{"$f":"AccVelDataLink!G820","v":4},{"$f":"AccVelDataLink!A820","v":817},"○","○"]
[662,0,4500,819,661,663,null,{"$f":"AccVelDataLink!G822","v":4.5},{"$f":"AccVelDataLink!A822","v":819},"○","○"]
[663,0,5000,820,662,664,null,{"$f":"AccVelDataLink!G823","v":5},{"$f":"AccVelDataLink!A823","v":820},"○","○"]
[664,0,5500,822,663,665,null,{"$f":"AccVelDataLink!G825","v":5.5},{"$f":"AccVelDataLink!A825","v":822},"○","○"]
[665,0,6000,823,664,666,null,{"$f":"AccVelDataLink!G826","v":6},{"$f":"AccVelDataLink!A826","v":823},"○","○"]
[666,1,750,825,665,667,{"$f":"AccVelDataLink!F828","v":"RCP5-RA4C-16-垂直"},{"$f":"AccVelDataLink!G828","v":0.75},{"$f":"AccVelDataLink!A828","v":825},"○","○"]
[667,1,1000,826,666,668,null,{"$f":"AccVelDataLink!G829","v":1},{"$f":"AccVelDataLink!A829","v":826},"○","○"]
[668,1,1500,828,667,-1,null,{"$f":"AccVelDataLink!G831","v":1.5},{"$f":"AccVelDataLink!A831","v":828},"○","終端"]
[669,0,40000,829,-1,670,{"$f":"AccVelDataLink!F832","v":"RCP5-RA6C-3-水平"},{"$f":"AccVelDataLink!G832","v":40},{"$f":"AccVelDataLink!A832","v":829},"先頭","○"]
[670,1,5000,830,669,671,{"$f":"AccVelDataLink!F833","v":"RCP5-RA6C-3-垂直"},{"$f":"AccVelDataLink!G833","v":5},{"$f":"AccVelDataLink!A833","v":830},"○","○"]
[671,1,9000,831,670,672,null,{"$f":"AccVelDataLink!G834","v":9},{"$f":"AccVelDataLink!A834","v":831},"○","○"]
[672,1,12000,832,671,673,null,{"$f":"AccVelDataLink!G835","v":12},{"$f":"AccVelDataLink!A835","v":832},"○","○"]
[673,1,16000,833,672,674,null,{"$f":"AccVelDataLink!G836","v":16},{"$f":"AccVelDataLink!A836","v":833},"○","○"]
[674,1,20000,834,673,-1,null,{"$f":"AccVelDataLink!G837","v":20},{"$f":"AccVelDataLink!A837","v":834},"○","終端"]
[675,0,10000,835,-1,676,{"$f":"AccVelDataLink!F838","v":"RCP5-RA6C-6-水平"},{"$f":"AccVelDataLink!G838","v":10},{"$f":"AccVelDataLink!A838","v":835},"先頭","○"]
[676,0,35000,836,675,677,null,{"$f":"AccVelDataLink!G839","v":35},{"$f":"AccVelDataLink!A839","v":836},"○","○"]
[677,0,40000,837,676,678,null,{"$f":"AccVelDataLink!G840","v":40},{"$f":"AccVelDataLink!A840","v":837},"○","○"]
[678,1,3000,838,677,679,{"$f":"AccVelDataLink!F841","v":"RCP5-RA6C-6-垂直"},{"$f":"AccVelDataLink!G841","v":3},{"$f":"AccVelDataLink!A841","v":838},"○","○"]
[679,1,5000,839,678,680,null,{"$f":"AccVelDataLink!G842","v":5},{"$f":"AccVelDataLink!A842","v":839},"○","○"]
[680,1,8000,840,679,681,null,{"$f":"AccVelDataLink!G843","v":8},{"$f":"AccVelDataLink!A843","v":840},"○","○"]
[681,1,10000,841,680,-1,null,{"$f":"AccVelDataLink!G844","v":10},{"$f":"AccVelDataLink!A844","v":841},"○","終端"]
[682,0,5000,842,-1,683,{"$f":"AccVelDataLink!F845","v":"RCP5-RA6C-12-水平"},{"$f":"AccVelDataLink!G845","v":5},{"$f":"AccVelDataLink!A845","v":842},"先頭","○"]
[683,0,10000,843,682,684,null,{"$f":"AccVelDataLink!G846","v":10},{"$f":"AccVelDataLink!A846","v":843},"○","○"]
[684,0,20000,844,683,685,null,{"$f":"AccVelDataLink!G847","v":20},{"$f":"AccVelDataLink!A847","v":844},"○","○"]
[685,0,25000,845,684,686,null,{"$f":"AccVelDataLink!G848","v":25},{"$f":"AccVelDataLink!A848","v":845},"○","○"]
[{"$f":"A688+1","v":686},1,{"$f":"H689*$H$1","v":1000},846,{"$f":"A688","v":685},{"$f":"A690","v":687},{"$f":"AccVelDataLink!F849","v":"RCP5-RA6C-12-垂直"},{"$f":"AccVelDataLink!G849","v":1},{"$f":"AccVelDataLink!A849","v":846},"○","○"]
[687,1,2000,847,686,688,null,{"$f":"AccVelDataLink!G850","v":2},{"$f":"AccVelDataLink!A850","v":847},"○","○"]
[688,1,3000,848,687,689,null,{"$f":"AccVelDataLink!G851","v":3},{"$f":"AccVelDataLink!A851","v":848},"○","○"]
[689,1,4000,849,688,-1,null,{"$f":"AccVelDataLink!G852","v":4},{"$f":"AccVelDataLink!A852","v":849},"○","終端"]
[690,0,3000,850,-1,691,{"$f":"AccVelDataLink!F853","v":"RCP5-RA6C-20-水平"},{"$f":"AccVelDataLink!G853","v":3},{"$f":"AccVelDataLink!A853","v":850},"先頭","○"]
[691,0,4000,851,690,692,null,{"$f":"AccVelDataLink!G854","v":4},{"$f":"AccVelDataLink!A854","v":851},"○","○"]
[692,0,6000,852,691,693,null,{"$f":"AccVelDataLink!G855","v":6},{"$f":"AccVelDataLink!A855","v":852},"○","○"]
[693,1,500,853,692,694,{"$f":"AccVelDataLink!F856","v":"RCP5-RA6C-20-垂直"},{"$f":"AccVelDataLink!G856","v":0.5},{"$f":"AccVelDataLink!A856","v":853},"○","○"]
[694,1,1000,854,693,695,null,{"$f":"AccVelDataLink!G857","v":1},{"$f":"AccVelDataLink!A857","v":854},"○","○"]
[695,1,1500,855,694,-1,null,{"$f":"AccVelDataLink!G858","v":1.5},{"$f":"AccVelDataLink!A858","v":855},"○","終端"]
[696,0,35000,856,-1,697,{"$f":"AccVelDataLink!F859","v":"RCP5-RA7C-4-水平"},{"$f":"AccVelDataLink!G859","v":35},{"$f":"AccVelDataLink!A859","v":856},"先頭","○"]
[697,0,55000,857,696,698,null,{"$f":"AccVelDataLink!G860","v":55},{"$f":"AccVelDataLink!A860","v":857},"○","○"]
[698,1,2000,858,697,699,{"$f":"AccVelDataLink!F861","v":"RCP5-RA7C-4-垂直"},{"$f":"AccVelDataLink!G861","v":2},{"$f":"AccVelDataLink!A861","v":858},"○","○"]
[699,1,4000,859,698,700,null,{"$f":"AccVelDataLink!G862","v":4},{"$f":"AccVelDataLink!A862","v":859},"○","○"]
[700,1,15000,860,699,701,null,{"$f":"AccVelDataLink!G863","v":15},{"$f":"AccVelDataLink!A863","v":860},"○","○"]
[701,1,26000,861,700,-1,null,{"$f":"AccVelDataLink!G864","v":26},{"$f":"AccVelDataLink!A864","v":861},"○","終端"]
[702,0,30000,862,-1,703,{"$f":"AccVelDataLink!F865","v":"RCP5-RA7C-8-水平"},{"$f":"AccVelDataLink!G865","v":30},{"$f":"AccVelDataLink!A865","v":862},"先頭","○"]
[703,0,50000,863,702,704,null,{"$f":"AccVelDataLink!G866","v":50},{"$f":"AccVelDataLink!A866","v":863},"○","○"]
[704,1,2000,864,703,705,{"$f":"AccVelDataLink!F867","v":"RCP5-RA7C-8-垂直"},{"$f":"AccVelDataLink!G867","v":2},{"$f":"AccVelDataLink!A867","v":864},"○","○"]
[705,1,7000,{"$f":"I708","v":865},704,706,null,{"$f":"AccVelDataLink!G868","v":7},{"$f":"AccVelDataLink!A868","v":865},{"$f":"IF(E708=A707,\"○\",IF(G708=0,\"つなぎまちがい\",\"先頭\"))","v":"○"},{"$f":"IF(F708=A709,\"○\",IF(F708<>E709,\"つなぎまちがい\",\"終端\"))","v":"○"}]
[706,1,17500,866,705,-1,null,{"$f":"AccVelDataLink!G869","v":17.5},{"$f":"AccVelDataLink!A869","v":866},"○","終端"]
[707,0,15000,867,-1,708,{"$f":"AccVelDataLink!F870","v":"RCP5-RA7C-16-水平"},{"$f":"AccVelDataLink!G870","v":15},{"$f":"AccVelDataLink!A870","v":867},"先頭","○"]
[708,0,30000,868,707,709,null,{"$f":"AccVelDataLink!G871","v":30},{"$f":"AccVelDataLink!A871","v":868},"○","○"]
[709,0,40000,869,708,710,null,{"$f":"AccVelDataLink!G872","v":40},{"$f":"AccVelDataLink!A872","v":869},"○","○"]
[710,1,1000,870,709,711,{"$f":"AccVelDataLink!F873","v":"RCP5-RA7C-16-垂直"},{"$f":"AccVelDataLink!G873","v":1},{"$f":"AccVelDataLink!A873","v":870},"○","○"]
[711,1,3000,871,710,712,null,{"$f":"AccVelDataLink!G874","v":3},{"$f":"AccVelDataLink!A874","v":871},"○","○"]
[712,1,5000,872,711,-1,null,{"$f":"AccVelDataLink!G875","v":5},{"$f":"AccVelDataLink!A875","v":872},"○","終端"]
[713,0,1000,873,-1,714,{"$f":"AccVelDataLink!F876","v":"RCP5-RA7C-24-水平"},{"$f":"AccVelDataLink!G876","v":1},{"$f":"AccVelDataLink!A876","v":873},"先頭","○"]
[714,0,10000,874,713,715,null,{"$f":"AccVelDataLink!G877","v":10},{"$f":"AccVelDataLink!A877","v":874},"○","○"]
[715,0,18000,875,714,716,null,{"$f":"AccVelDataLink!G878","v":18},{"$f":"AccVelDataLink!A878","v":875},"○","○"]
[716,1,2000,876,715,717,{"$f":"AccVelDataLink!F879","v":"RCP5-RA7C-24-垂直"},{"$f":"AccVelDataLink!G879","v":2},{"$f":"AccVelDataLink!A879","v":876},"○","○"]
[{"$f":"A719+1","v":717},1,{"$f":"H720*$H$1","v":3000},{"$f":"I720","v":877},716,-1,null,{"$f":"AccVelDataLink!G880","v":3},{"$f":"AccVelDataLink!A880","v":877},"○","終端"]
[718,0,40000,{"$f":"I721","v":878},-1,{"$f":"A722","v":719},{"$f":"AccVelDataLink!F881","v":"RCP4W-RA6C-3-水平"},{"$f":"AccVelDataLink!G881","v":40},{"$f":"AccVelDataLink!A881","v":878},"先頭","○"]
[719,1,5000,879,{"$f":"A721","v":718},720,{"$f":"AccVelDataLink!F882","v":"RCP4W-RA6C-3-垂直"},{"$f":"AccVelDataLink!G882","v":5},{"$f":"AccVelDataLink!A882","v":879},"○","○"]
[720,1,16000,880,719,-1,null,{"$f":"AccVelDataLink!G883","v":16},{"$f":"AccVelDataLink!A883","v":880},"○","終端"]
[721,0,10000,881,-1,722,{"$f":"AccVelDataLink!F884","v":"RCP4W-RA6C-6-水平"},{"$f":"AccVelDataLink!G884","v":10},{"$f":"AccVelDataLink!A884","v":881},"先頭","○"]
[722,0,40000,882,721,723,null,{"$f":"AccVelDataLink!G885","v":40},{"$f":"AccVelDataLink!A885","v":882},"○","○"]
[723,1,2500,883,722,724,{"$f":"AccVelDataLink!F886","v":"RCP4W-RA6C-6-垂直"},{"$f":"AccVelDataLink!G886","v":2.5},{"$f":"AccVelDataLink!A886","v":883},"○","○"]
[724,1,8000,884,723,-1,null,{"$f":"AccVelDataLink!G887","v":8},{"$f":"AccVelDataLink!A887","v":884},"○","終端"]
[725,0,5000,885,-1,726,{"$f":"AccVelDataLink!F888","v":"RCP4W-RA6C-12-水平"},{"$f":"AccVelDataLink!G888","v":5},{"$f":"AccVelDataLink!A888","v":885},"先頭","○"]
[726,0,20000,886,725,727,null,{"$f":"AccVelDataLink!G889","v":20},{"$f":"AccVelDataLink!A889","v":886},"○","○"]
[727,1,1000,887,726,728,{"$f":"AccVelDataLink!F890","v":"RCP4W-RA6C-12-垂直"},{"$f":"AccVelDataLink!G890","v":1},{"$f":"AccVelDataLink!A890","v":887},"○","○"]
[728,1,3000,888,727,-1,null,{"$f":"AccVelDataLink!G891","v":3},{"$f":"AccVelDataLink!A891","v":888},"○","終端"]
[729,1,5000,889,-1,730,{"$f":"AccVelDataLink!F892","v":"RCP4W-RA6C(高推力)-3-垂直"},{"$f":"AccVelDataLink!G892","v":5},{"$f":"AccVelDataLink!A892","v":889},"先頭","○"]
[730,1,30000,890,729,-1,null,{"$f":"AccVelDataLink!G893","v":30},{"$f":"AccVelDataLink!A893","v":890},"○","終端"]
[731,0,5000,891,-1,732,{"$f":"AccVelDataLink!F894","v":"RCP4W-RA7C-4-水平"},{"$f":"AccVelDataLink!G894","v":5},{"$f":"AccVelDataLink!A894","v":891},"先頭","○"]
[732,0,70000,892,731,733,null,{"$f":"AccVelDataLink!G895","v":70},{"$f":"AccVelDataLink!A895","v":892},"○","○"]
[733,1,2000,893,732,734,{"$f":"AccVelDataLink!F896","v":"RCP4W-RA7C-4-垂直"},{"$f":"AccVelDataLink!G896","v":2},{"$f":"AccVelDataLink!A896","v":893},"○","○"]
[734,1,5000,894,733,735,null,{"$f":"AccVelDataLink!G897","v":5},{"$f":"AccVelDataLink!A897","v":894},"○","○"]
[735,1,25000,895,734,-1,null,{"$f":"AccVelDataLink!G898","v":25},{"$f":"AccVelDataLink!A898","v":895},"○","終端"]
[736,0,30000,896,-1,737,{"$f":"AccVelDataLink!F899","v":"RCP4W-RA7C-8-水平"},{"$f":"AccVelDataLink!G899","v":30},{"$f":"AccVelDataLink!A899","v":896},"先頭","○"]
[737,0,50000,897,736,738,null,{"$f":"AccVelDataLink!G900","v":50},{"$f":"AccVelDataLink!A900","v":897},"○","○"]
[738,1,2000,898,737,739,{"$f":"AccVelDataLink!F901","v":"RCP4W-RA7C-8-垂直"},{"$f":"AccVelDataLink!G901","v":2},{"$f":"AccVelDataLink!A901","v":898},"○","○"]
[739,1,7000,899,738,740,null,{"$f":"AccVelDataLink!G902","v":7},{"$f":"AccVelDataLink!A902","v":899},"○","○"]
[740,1,15000,900,739,-1,null,{"$f":"AccVelDataLink!G903","v":15},{"$f":"AccVelDataLink!A903","v":900},"○","終端"]
[741,0,5000,901,-1,742,{"$f":"AccVelDataLink!F904","v":"RCP4W-RA7C-16-水平"},{"$f":"AccVelDataLink!G904","v":5},{"$f":"AccVelDataLink!A904","v":901},"先頭","○"]
[742,0,40000,902,741,743,null,{"$f":"AccVelDataLink!G905","v":40},{"$f":"AccVelDataLink!A905","v":902},"○","○"]
[743,1,1000,903,742,744,{"$f":"AccVelDataLink!F906","v":"RCP4W-RA7C-16-垂直"},{"$f":"AccVelDataLink!G906","v":1},{"$f":"AccVelDataLink!A906","v":903},"○","○"]
[744,1,5000,904,743,-1,null,{"$f":"AccVelDataLink!G907","v":5},{"$f":"AccVelDataLink!A907","v":904},"○","終端"]
[745,1,25000,905,-1,746,{"$f":"AccVelDataLink!F908","v":"RCP4W-RA7C(高推力)-4-垂直"},{"$f":"AccVelDataLink!G908","v":25},{"$f":"AccVelDataLink!A908","v":905},"先頭","○"]
[746,1,45000,906,745,-1,null,{"$f":"AccVelDataLink!G909","v":45},{"$f":"AccVelDataLink!A909","v":906},"○","終端"]
[747,0,3500,907,-1,748,{"$f":"AccVelDataLink!F910","v":"RCP4-SA3C-2-水平"},{"$f":"AccVelDataLink!G910","v":3.5},{"$f":"AccVelDataLink!A910","v":907},"先頭","○"]
[748,0,4000,908,747,749,null,{"$f":"AccVelDataLink!G911","v":4},{"$f":"AccVelDataLink!A911","v":908},"○","○"]
[749,0,4500,910,748,750,null,{"$f":"AccVelDataLink!G913","v":4.5},{"$f":"AccVelDataLink!A913","v":910},"○","○"]
[750,0,5000,913,749,751,null,{"$f":"AccVelDataLink!G916","v":5},{"$f":"AccVelDataLink!A916","v":913},"○","○"]
[751,0,5500,917,750,752,null,{"$f":"AccVelDataLink!G920","v":5.5},{"$f":"AccVelDataLink!A920","v":917},"○","○"]
[752,0,6000,918,751,753,null,{"$f":"AccVelDataLink!G921","v":6},{"$f":"AccVelDataLink!A921","v":918},"○","○"]
[753,0,6500,921,752,754,null,{"$f":"AccVelDataLink!G924","v":6.5},{"$f":"AccVelDataLink!A924","v":921},"○","○"]
[754,0,7000,923,753,755,null,{"$f":"AccVelDataLink!G926","v":7},{"$f":"AccVelDataLink!A926","v":923},"○","○"]
[755,0,7500,926,754,756,null,{"$f":"AccVelDataLink!G929","v":7.5},{"$f":"AccVelDataLink!A929","v":926},"○","○"]
[756,0,8000,927,755,757,null,{"$f":"AccVelDataLink!G930","v":8},{"$f":"AccVelDataLink!A930","v":927},"○","○"]
[757,1,1000,928,756,758,{"$f":"AccVelDataLink!F931","v":"RCP4-SA3C-2-垂直"},{"$f":"AccVelDataLink!G931","v":1},{"$f":"AccVelDataLink!A931","v":928},"○","○"]
[758,1,1500,929,757,759,null,{"$f":"AccVelDataLink!G932","v":1.5},{"$f":"AccVelDataLink!A932","v":929},"○","○"]
[759,1,2000,931,758,760,null,{"$f":"AccVelDataLink!G934","v":2},{"$f":"AccVelDataLink!A934","v":931},"○","○"]
[760,1,2500,933,759,761,null,{"$f":"AccVelDataLink!G936","v":2.5},{"$f":"AccVelDataLink!A936","v":933},"○","○"]
[761,1,3000,934,760,762,null,{"$f":"AccVelDataLink!G937","v":3},{"$f":"AccVelDataLink!A937","v":934},"○","○"]
[762,1,3250,935,761,763,null,{"$f":"AccVelDataLink!G938","v":3.25},{"$f":"AccVelDataLink!A938","v":935},"○","○"]
[763,1,3500,936,762,-1,null,{"$f":"AccVelDataLink!G939","v":3.5},{"$f":"AccVelDataLink!A939","v":936},"○","終端"]
[764,0,2500,937,-1,765,{"$f":"AccVelDataLink!F940","v":"RCP4-SA3C-4-水平"},{"$f":"AccVelDataLink!G940","v":2.5},{"$f":"AccVelDataLink!A940","v":937},"先頭","○"]
[765,0,3000,938,764,766,null,{"$f":"AccVelDataLink!G941","v":3},{"$f":"AccVelDataLink!A941","v":938},"○","○"]
[766,0,3500,940,765,767,null,{"$f":"AccVelDataLink!G943","v":3.5},{"$f":"AccVelDataLink!A943","v":940},"○","○"]
[767,0,4000,943,766,768,null,{"$f":"AccVelDataLink!G946","v":4},{"$f":"AccVelDataLink!A946","v":943},"○","○"]
[768,0,4500,946,767,769,null,{"$f":"AccVelDataLink!G949","v":4.5},{"$f":"AccVelDataLink!A949","v":946},"○","○"]
[769,0,5000,948,768,770,null,{"$f":"AccVelDataLink!G951","v":5},{"$f":"AccVelDataLink!A951","v":948},{"$f":"IF(E772=A771,\"○\",IF(G772=0,\"つなぎまちがい\",\"先頭\"))","v":"○"},{"$f":"IF(F772=A773,\"○\",IF(F772<>E773,\"つなぎまちがい\",\"終端\"))","v":"○"}]
[770,1,750,949,769,771,{"$f":"AccVelDataLink!F952","v":"RCP4-SA3C-4-垂直"},{"$f":"AccVelDataLink!G952","v":0.75},{"$f":"AccVelDataLink!A952","v":949},"○","○"]
[771,1,1000,950,770,772,null,{"$f":"AccVelDataLink!G953","v":1},{"$f":"AccVelDataLink!A953","v":950},"○","○"]
[772,1,1500,951,771,773,null,{"$f":"AccVelDataLink!G954","v":1.5},{"$f":"AccVelDataLink!A954","v":951},"○","○"]
[773,1,2000,952,772,774,null,{"$f":"AccVelDataLink!G955","v":2},{"$f":"AccVelDataLink!A955","v":952},"○","○"]
[774,1,2250,954,773,775,null,{"$f":"AccVelDataLink!G957","v":2.25},{"$f":"AccVelDataLink!A957","v":954},"○","○"]
[775,1,2500,955,774,-1,null,{"$f":"AccVelDataLink!G958","v":2.5},{"$f":"AccVelDataLink!A958","v":955},"○","終端"]
[776,0,2000,956,-1,777,{"$f":"AccVelDataLink!F959","v":"RCP4-SA3C-6-水平"},{"$f":"AccVelDataLink!G959","v":2},{"$f":"AccVelDataLink!A959","v":956},"先頭","○"]
[777,0,2500,957,776,778,null,{"$f":"AccVelDataLink!G960","v":2.5},{"$f":"AccVelDataLink!A960","v":957},"○","○"]
[778,0,3000,958,777,779,null,{"$f":"AccVelDataLink!G961","v":3},{"$f":"AccVelDataLink!A961","v":958},"○","○"]
[779,1,500,959,778,780,{"$f":"AccVelDataLink!F962","v":"RCP4-SA3C-6-垂直"},{"$f":"AccVelDataLink!G962","v":0.5},{"$f":"AccVelDataLink!A962","v":959},"○","○"]
[780,1,750,960,779,781,null,{"$f":"AccVelDataLink!G963","v":0.75},{"$f":"AccVelDataLink!A963","v":960},"○","○"]
[{"$f":"A783+1","v":781},1,{"$f":"H784*$H$1","v":1000},{"$f":"I784","v":962},780,782,null,{"$f":"AccVelDataLink!G965","v":1},{"$f":"AccVelDataLink!A965","v":962},"○","○"]
[782,1,1250,965,781,{"$f":"A786","v":783},null,{"$f":"AccVelDataLink!G968","v":1.25},{"$f":"AccVelDataLink!A968","v":965},"○","○"]
[783,1,1500,966,{"$f":"A785","v":782},-1,null,{"$f":"AccVelDataLink!G969","v":1.5},{"$f":"AccVelDataLink!A969","v":966},"○","終端"]
[784,0,8000,967,-1,785,{"$f":"AccVelDataLink!F970","v":"RCP4-RA3C-2.5-水平"},{"$f":"AccVelDataLink!G970","v":8},{"$f":"AccVelDataLink!A970","v":967},"先頭","○"]
[785,0,12000,968,784,786,null,{"$f":"AccVelDataLink!G971","v":12},{"$f":"AccVelDataLink!A971","v":968},"○","○"]
[786,0,14000,970,785,787,null,{"$f":"AccVelDataLink!G973","v":14},{"$f":"AccVelDataLink!A973","v":970},"○","○"]
[787,0,16000,972,786,788,null,{"$f":"AccVelDataLink!G975","v":16},{"$f":"AccVelDataLink!A975","v":972},"○","○"]
[788,0,18000,973,787,789,null,{"$f":"AccVelDataLink!G976","v":18},{"$f":"AccVelDataLink!A976","v":973},"○","○"]
[789,0,20000,976,788,790,null,{"$f":"AccVelDataLink!G979","v":20},{"$f":"AccVelDataLink!A979","v":976},"○","○"]
[790,0,22000,978,789,791,null,{"$f":"AccVelDataLink!G981","v":22},{"$f":"AccVelDataLink!A981","v":978},"○","○"]
[791,0,24000,979,790,792,null,{"$f":"AccVelDataLink!G982","v":24},{"$f":"AccVelDataLink!A982","v":979},"○","○"]
[792,0,26000,980,791,793,null,{"$f":"AccVelDataLink!G983","v":26},{"$f":"AccVelDataLink!A983","v":980},"○","○"]
[793,0,28000,981,792,794,null,{"$f":"AccVelDataLink!G984","v":28},{"$f":"AccVelDataLink!A984","v":981},"○","○"]
[794,0,30000,982,793,795,null,{"$f":"AccVelDataLink!G985","v":30},{"$f":"AccVelDataLink!A985","v":982},"○","○"]
[795,0,32000,985,794,796,null,{"$f":"AccVelDataLink!G988","v":32},{"$f":"AccVelDataLink!A988","v":985},"○","○"]
[796,0,36000,986,795,797,null,{"$f":"AccVelDataLink!G989","v":36},{"$f":"AccVelDataLink!A989","v":986},"○","○"]
[797,1,2000,989,796,798,{"$f":"AccVelDataLink!F992","v":"RCP4-RA3C-2.5-垂直"},{"$f":"AccVelDataLink!G992","v":2},{"$f":"AccVelDataLink!A992","v":989},"○","○"]
[798,1,5000,990,797,799,null,{"$f":"AccVelDataLink!G993","v":5},{"$f":"AccVelDataLink!A993","v":990},"○","○"]
[799,1,8000,991,798,800,null,{"$f":"AccVelDataLink!G994","v":8},{"$f":"AccVelDataLink!A994","v":991},"○","○"]
[800,1,9000,992,799,801,null,{"$f":"AccVelDataLink!G995","v":9},{"$f":"AccVelDataLink!A995","v":992},"○","○"]
[801,1,10000,993,800,-1,null,{"$f":"AccVelDataLink!G996","v":10},{"$f":"AccVelDataLink!A996","v":993},"○","終端"]
[802,0,3000,994,-1,803,{"$f":"AccVelDataLink!F997","v":"RCP4-RA3C-5-水平"},{"$f":"AccVelDataLink!G997","v":3},{"$f":"AccVelDataLink!A997","v":994},"先頭","○"]
[803,0,5000,995,802,804,null,{"$f":"AccVelDataLink!G998","v":5},{"$f":"AccVelDataLink!A998","v":995},"○","○"]
[804,0,6000,996,803,805,null,{"$f":"AccVelDataLink!G999","v":6},{"$f":"AccVelDataLink!A999","v":996},"○","○"]
[805,0,7000,997,804,806,null,{"$f":"AccVelDataLink!G1000","v":7},{"$f":"AccVelDataLink!A1000","v":997},"○","○"]
[806,0,7500,998,805,807,null,{"$f":"AccVelDataLink!G1001","v":7.5},{"$f":"AccVelDataLink!A1001","v":998},"○","○"]
[807,0,10000,999,806,808,null,{"$f":"AccVelDataLink!G1002","v":10},{"$f":"AccVelDataLink!A1002","v":999},"○","○"]
[808,0,11000,1001,807,809,null,{"$f":"AccVelDataLink!G1004","v":11},{"$f":"AccVelDataLink!A1004","v":1001},"○","○"]
[809,0,12000,1002,808,810,null,{"$f":"AccVelDataLink!G1005","v":12},{"$f":"AccVelDataLink!A1005","v":1002},"○","○"]
[810,0,16000,1005,809,811,null,{"$f":"AccVelDataLink!G1008","v":16},{"$f":"AccVelDataLink!A1008","v":1005},"○","○"]
[811,0,18000,1009,810,812,null,{"$f":"AccVelDataLink!G1012","v":18},{"$f":"AccVelDataLink!A1012","v":1009},"○","○"]
[812,0,20000,1010,811,813,null,{"$f":"AccVelDataLink!G1013","v":20},{"$f":"AccVelDataLink!A1013","v":1010},"○","○"]
[813,0,22000,1013,812,814,null,{"$f":"AccVelDataLink!G1016","v":22},{"$f":"AccVelDataLink!A1016","v":1013},"○","○"]
[814,0,24000,1014,813,815,null,{"$f":"AccVelDataLink!G1017","v":24},{"$f":"AccVelDataLink!A1017","v":1014},"○","○"]
[815,1,2000,1016,814,816,{"$f":"AccVelDataLink!F1019","v":"RCP4-RA3C-5-垂直"},{"$f":"AccVelDataLink!G1019","v":2},{"$f":"AccVelDataLink!A1019","v":1016},"○","○"]
[816,1,3000,1017,815,817,null,{"$f":"AccVelDataLink!G1020","v":3},{"$f":"AccVelDataLink!A1020","v":1017},"○","○"]
[817,1,4000,1018,816,818,null,{"$f":"AccVelDataLink!G1021","v":4},{"$f":"AccVelDataLink!A1021","v":1018},"○","○"]
[818,1,4500,1019,817,819,null,{"$f":"AccVelDataLink!G1022","v":4.5},{"$f":"AccVelDataLink!A1022","v":1019},"○","○"]
[819,1,5000,1020,818,-1,null,{"$f":"AccVelDataLink!G1023","v":5},{"$f":"AccVelDataLink!A1023","v":1020},"○","終端"]
[820,0,1000,1021,-1,821,{"$f":"AccVelDataLink!F1024","v":"RCP4-RA3C-10-水平"},{"$f":"AccVelDataLink!G1024","v":1},{"$f":"AccVelDataLink!A1024","v":1021},"先頭","○"]
[821,0,1500,1022,820,822,null,{"$f":"AccVelDataLink!G1025","v":1.5},{"$f":"AccVelDataLink!A1025","v":1022},"○","○"]
[822,0,2000,1023,821,823,null,{"$f":"AccVelDataLink!G1026","v":2},{"$f":"AccVelDataLink!A1026","v":1023},"○","○"]
[823,0,2500,1024,822,824,null,{"$f":"AccVelDataLink!G1027","v":2.5},{"$f":"AccVelDataLink!A1027","v":1024},"○","○"]
[824,0,3000,1025,823,825,null,{"$f":"AccVelDataLink!G1028","v":3},{"$f":"AccVelDataLink!A1028","v":1025},"○","○"]
[825,0,4000,1028,824,826,null,{"$f":"AccVelDataLink!G1031","v":4},{"$f":"AccVelDataLink!A1031","v":1028},"○","○"]
[826,0,5000,1030,825,827,null,{"$f":"AccVelDataLink!G1033","v":5},{"$f":"AccVelDataLink!A1033","v":1030},"○","○"]
[827,0,5500,1031,826,828,null,{"$f":"AccVelDataLink!G1034","v":5.5},{"$f":"AccVelDataLink!A1034","v":1031},"○","○"]
[828,0,6000,1032,827,829,null,{"$f":"AccVelDataLink!G1035","v":6},{"$f":"AccVelDataLink!A1035","v":1032},"○","○"]
[829,0,8000,1036,828,830,null,{"$f":"AccVelDataLink!G1039","v":8},{"$f":"AccVelDataLink!A1039","v":1036},"○","○"]
[830,0,9000,1039,829,831,null,{"$f":"AccVelDataLink!G1042","v":9},{"$f":"AccVelDataLink!A1042","v":1039},"○","○"]
[831,0,10000,1040,830,832,null,{"$f":"AccVelDataLink!G1043","v":10},{"$f":"AccVelDataLink!A1043","v":1040},"○","○"]
[832,0,11000,1041,831,833,null,{"$f":"AccVelDataLink!G1044","v":11},{"$f":"AccVelDataLink!A1044","v":1041},"○","○"]
[833,0,12000,1044,832,834,null,{"$f":"AccVelDataLink!G1047","v":12},{"$f":"AccVelDataLink!A1047","v":1044},{"$f":"IF(E836=A835,\"○\",IF(G836=0,\"つなぎまちがい\",\"先頭\"))","v":"○"},{"$f":"IF(F836=A837,\"○\",IF(F836<>E837,\"つなぎまちがい\",\"終端\"))","v":"○"}]
[834,1,500,1046,833,835,{"$f":"AccVelDataLink!F1049","v":"RCP4-RA3C-10-垂直"},{"$f":"AccVelDataLink!G1049","v":0.5},{"$f":"AccVelDataLink!A1049","v":1046},"○","○"]
[835,1,1000,1047,834,836,null,{"$f":"AccVelDataLink!G1050","v":1},{"$f":"AccVelDataLink!A1050","v":1047},"○","○"]
[836,1,2000,1048,835,837,null,{"$f":"AccVelDataLink!G1051","v":2},{"$f":"AccVelDataLink!A1051","v":1048},"○","○"]
[837,1,2250,1049,836,838,null,{"$f":"AccVelDataLink!G1052","v":2.25},{"$f":"AccVelDataLink!A1052","v":1049},"○","○"]
[838,1,2500,1050,837,-1,null,{"$f":"AccVelDataLink!G1053","v":2.5},{"$f":"AccVelDataLink!A1053","v":1050},"○","終端"]
[839,0,1500,1051,-1,840,{"$f":"AccVelDataLink!F1054","v":"RCP4-RA3C-16-水平"},{"$f":"AccVelDataLink!G1054","v":1.5},{"$f":"AccVelDataLink!A1054","v":1051},"先頭","○"]
[840,0,2000,1052,839,841,null,{"$f":"AccVelDataLink!G1055","v":2},{"$f":"AccVelDataLink!A1055","v":1052},"○","○"]
[841,0,2500,1053,840,842,null,{"$f":"AccVelDataLink!G1056","v":2.5},{"$f":"AccVelDataLink!A1056","v":1053},"○","○"]
[842,0,3000,1054,841,843,null,{"$f":"AccVelDataLink!G1057","v":3},{"$f":"AccVelDataLink!A1057","v":1054},"○","○"]
[843,0,3500,1056,842,844,null,{"$f":"AccVelDataLink!G1059","v":3.5},{"$f":"AccVelDataLink!A1059","v":1056},"○","○"]
[844,0,4000,1058,843,845,null,{"$f":"AccVelDataLink!G1061","v":4},{"$f":"AccVelDataLink!A1061","v":1058},"○","○"]
[{"$f":"A847+1","v":845},0,{"$f":"H848*$H$1","v":4500},{"$f":"I848","v":1059},844,846,null,{"$f":"AccVelDataLink!G1062","v":4.5},{"$f":"AccVelDataLink!A1062","v":1059},"○","○"]
[846,0,5000,1061,845,{"$f":"A850","v":847},null,{"$f":"AccVelDataLink!G1064","v":5},{"$f":"AccVelDataLink!A1064","v":1061},"○","○"]
[847,0,5500,1063,{"$f":"A849","v":846},848,null,{"$f":"AccVelDataLink!G1066","v":5.5},{"$f":"AccVelDataLink!A1066","v":1063},"○","○"]
[848,0,6000,1064,847,849,null,{"$f":"AccVelDataLink!G1067","v":6},{"$f":"AccVelDataLink!A1067","v":1064},"○","○"]
[849,1,750,1066,848,850,{"$f":"AccVelDataLink!F1069","v":"RCP4-RA3C-16-垂直"},{"$f":"AccVelDataLink!G1069","v":0.75},{"$f":"AccVelDataLink!A1069","v":1066},"○","○"]
[850,1,1000,1067,849,851,null,{"$f":"AccVelDataLink!G1070","v":1},{"$f":"AccVelDataLink!A1070","v":1067},"○","○"]
[851,1,1500,1069,850,-1,null,{"$f":"AccVelDataLink!G1072","v":1.5},{"$f":"AccVelDataLink!A1072","v":1069},"○","終端"]
[852,0,60000,1070,-1,853,{"$f":"AccVelDataLink!F1073","v":"RCP5-RA8C-5-水平"},{"$f":"AccVelDataLink!G1073","v":60},{"$f":"AccVelDataLink!A1073","v":1070},"先頭","○"]
[853,0,75000,1071,852,854,null,{"$f":"AccVelDataLink!G1074","v":75},{"$f":"AccVelDataLink!A1074","v":1071},"○","○"]
[854,0,90000,1072,853,855,null,{"$f":"AccVelDataLink!G1075","v":90},{"$f":"AccVelDataLink!A1075","v":1072},"○","○"]
[855,0,100000,1073,854,856,null,{"$f":"AccVelDataLink!G1076","v":100},{"$f":"AccVelDataLink!A1076","v":1073},"○","○"]
[856,1,2000,1074,855,857,{"$f":"AccVelDataLink!F1077","v":"RCP5-RA8C-5-垂直"},{"$f":"AccVelDataLink!G1077","v":2},{"$f":"AccVelDataLink!A1077","v":1074},"○","○"]
[857,1,10000,1075,856,858,null,{"$f":"AccVelDataLink!G1078","v":10},{"$f":"AccVelDataLink!A1078","v":1075},"○","○"]
[858,1,15000,1076,857,859,null,{"$f":"AccVelDataLink!G1079","v":15},{"$f":"AccVelDataLink!A1079","v":1076},"○","○"]
[859,1,20000,1077,858,860,null,{"$f":"AccVelDataLink!G1080","v":20},{"$f":"AccVelDataLink!A1080","v":1077},"○","○"]
[860,1,25000,1078,859,861,null,{"$f":"AccVelDataLink!G1081","v":25},{"$f":"AccVelDataLink!A1081","v":1078},"○","○"]
[861,1,35000,1079,860,862,null,{"$f":"AccVelDataLink!G1082","v":35},{"$f":"AccVelDataLink!A1082","v":1079},"○","○"]
[862,1,50000,1080,861,863,null,{"$f":"AccVelDataLink!G1083","v":50},{"$f":"AccVelDataLink!A1083","v":1080},"○","○"]
[863,1,70000,1081,862,-1,null,{"$f":"AccVelDataLink!G1084","v":70},{"$f":"AccVelDataLink!A1084","v":1081},"○","終端"]
[864,0,10000,1082,-1,865,{"$f":"AccVelDataLink!F1085","v":"RCP5-RA8C-10-水平"},{"$f":"AccVelDataLink!G1085","v":10},{"$f":"AccVelDataLink!A1085","v":1082},"先頭","○"]
[865,0,40000,1083,864,866,null,{"$f":"AccVelDataLink!G1086","v":40},{"$f":"AccVelDataLink!A1086","v":1083},"○","○"]
[866,0,45000,1084,865,867,null,{"$f":"AccVelDataLink!G1087","v":45},{"$f":"AccVelDataLink!A1087","v":1084},"○","○"]
[867,0,60000,1085,866,868,null,{"$f":"AccVelDataLink!G1088","v":60},{"$f":"AccVelDataLink!A1088","v":1085},"○","○"]
[868,1,2000,1086,867,869,{"$f":"AccVelDataLink!F1089","v":"RCP5-RA8C-10-垂直"},{"$f":"AccVelDataLink!G1089","v":2},{"$f":"AccVelDataLink!A1089","v":1086},"○","○"]
[869,1,3000,1087,868,870,null,{"$f":"AccVelDataLink!G1090","v":3},{"$f":"AccVelDataLink!A1090","v":1087},"○","○"]
[870,1,4000,1088,869,871,null,{"$f":"AccVelDataLink!G1091","v":4},{"$f":"AccVelDataLink!A1091","v":1088},"○","○"]
[871,1,5000,1089,870,872,null,{"$f":"AccVelDataLink!G1092","v":5},{"$f":"AccVelDataLink!A1092","v":1089},"○","○"]
[872,1,7000,1090,871,873,null,{"$f":"AccVelDataLink!G1093","v":7},{"$f":"AccVelDataLink!A1093","v":1090},"○","○"]
[873,1,8000,1091,872,874,null,{"$f":"AccVelDataLink!G1094","v":8},{"$f":"AccVelDataLink!A1094","v":1091},"○","○"]
[874,1,10000,1092,873,875,null,{"$f":"AccVelDataLink!G1095","v":10},{"$f":"AccVelDataLink!A1095","v":1092},"○","○"]
[875,1,11000,1093,874,876,null,{"$f":"AccVelDataLink!G1096","v":11},{"$f":"AccVelDataLink!A1096","v":1093},"○","○"]
[876,1,15000,1094,875,877,null,{"$f":"AccVelDataLink!G1097","v":15},{"$f":"AccVelDataLink!A1097","v":1094},"○","○"]
[877,1,18000,1095,876,878,null,{"$f":"AccVelDataLink!G1098","v":18},{"$f":"AccVelDataLink!A1098","v":1095},"○","○"]
[878,1,23000,1096,877,879,null,{"$f":"AccVelDataLink!G1099","v":23},{"$f":"AccVelDataLink!A1099","v":1096},"○","○"]
[879,1,28000,1097,878,880,null,{"$f":"AccVelDataLink!G1100","v":28},{"$f":"AccVelDataLink!A1100","v":1097},"○","○"]
[880,1,33000,1098,879,881,null,{"$f":"AccVelDataLink!G1101","v":33},{"$f":"AccVelDataLink!A1101","v":1098},"○","○"]
[881,1,40000,1099,880,-1,null,{"$f":"AccVelDataLink!G1102","v":40},{"$f":"AccVelDataLink!A1102","v":1099},"○","終端"]
[882,0,5000,1100,-1,883,{"$f":"AccVelDataLink!F1103","v":"RCP5-RA8C-20-水平"},{"$f":"AccVelDataLink!G1103","v":5},{"$f":"AccVelDataLink!A1103","v":1100},"先頭","○"]
[883,0,6000,1101,882,884,null,{"$f":"AccVelDataLink!G1104","v":6},{"$f":"AccVelDataLink!A1104","v":1101},"○","○"]
[884,0,8000,1102,883,885,null,{"$f":"AccVelDataLink!G1105","v":8},{"$f":"AccVelDataLink!A1105","v":1102},"○","○"]
[885,0,10000,1103,884,886,null,{"$f":"AccVelDataLink!G1106","v":10},{"$f":"AccVelDataLink!A1106","v":1103},"○","○"]
[886,0,12000,1104,885,887,null,{"$f":"AccVelDataLink!G1107","v":12},{"$f":"AccVelDataLink!A1107","v":1104},"○","○"]
[887,0,16000,1105,886,888,null,{"$f":"AccVelDataLink!G1108","v":16},{"$f":"AccVelDataLink!A1108","v":1105},"○","○"]
[888,0,24000,1106,887,889,null,{"$f":"AccVelDataLink!G1109","v":24},{"$f":"AccVelDataLink!A1109","v":1106},"○","○"]
[889,0,30000,1107,888,890,null,{"$f":"AccVelDataLink!G1110","v":30},{"$f":"AccVelDataLink!A1110","v":1107},"○","○"]
[890,1,2000,1108,889,891,{"$f":"AccVelDataLink!F1111","v":"RCP5-RA8C-20-垂直"},{"$f":"AccVelDataLink!G1111","v":2},{"$f":"AccVelDataLink!A1111","v":1108},"○","○"]
[891,1,2500,1109,890,892,null,{"$f":"AccVelDataLink!G1112","v":2.5},{"$f":"AccVelDataLink!A1112","v":1109},"○","○"]
[892,1,3000,1110,891,893,null,{"$f":"AccVelDataLink!G1113","v":3},{"$f":"AccVelDataLink!A1113","v":1110},"○","○"]
[893,1,5000,1111,892,-1,null,{"$f":"AccVelDataLink!G1114","v":5},{"$f":"AccVelDataLink!A1114","v":1111},"○","終端"]
[894,0,300000,1112,-1,895,{"$f":"AccVelDataLink!F1115","v":"RCP5-RA10C-2.5-水平"},{"$f":"AccVelDataLink!G1115","v":300},{"$f":"AccVelDataLink!A1115","v":1112},"先頭","○"]
[895,1,10000,1113,894,896,{"$f":"AccVelDataLink!F1116","v":"RCP5-RA10C-2.5-垂直"},{"$f":"AccVelDataLink!G1116","v":10},{"$f":"AccVelDataLink!A1116","v":1113},"○","○"]
[896,1,20000,1114,895,897,null,{"$f":"AccVelDataLink!G1117","v":20},{"$f":"AccVelDataLink!A1117","v":1114},"○","○"]
[897,1,30000,1115,896,898,null,{"$f":"AccVelDataLink!G1118","v":30},{"$f":"AccVelDataLink!A1118","v":1115},{"$f":"IF(E900=A899,\"○\",IF(G900=0,\"つなぎまちがい\",\"先頭\"))","v":"○"},{"$f":"IF(F900=A901,\"○\",IF(F900<>E901,\"つなぎまちがい\",\"終端\"))","v":"○"}]
[898,1,65000,1116,897,899,null,{"$f":"AccVelDataLink!G1119","v":65},{"$f":"AccVelDataLink!A1119","v":1116},"○","○"]
[899,1,75000,1117,898,900,null,{"$f":"AccVelDataLink!G1120","v":75},{"$f":"AccVelDataLink!A1120","v":1117},"○","○"]
[900,1,100000,1118,899,901,null,{"$f":"AccVelDataLink!G1121","v":100},{"$f":"AccVelDataLink!A1121","v":1118},"○","○"]
[901,1,150000,1119,900,-1,null,{"$f":"AccVelDataLink!G1122","v":150},{"$f":"AccVelDataLink!A1122","v":1119},"○","終端"]
[902,0,150000,1120,-1,903,{"$f":"AccVelDataLink!F1123","v":"RCP5-RA10C-5-水平"},{"$f":"AccVelDataLink!G1123","v":150},{"$f":"AccVelDataLink!A1123","v":1120},"先頭","○"]
[903,1,3000,1121,902,904,{"$f":"AccVelDataLink!F1124","v":"RCP5-RA10C-5-垂直"},{"$f":"AccVelDataLink!G1124","v":3},{"$f":"AccVelDataLink!A1124","v":1121},"○","○"]
[904,1,7000,1122,903,905,null,{"$f":"AccVelDataLink!G1125","v":7},{"$f":"AccVelDataLink!A1125","v":1122},"○","○"]
[905,1,9000,1123,904,906,null,{"$f":"AccVelDataLink!G1126","v":9},{"$f":"AccVelDataLink!A1126","v":1123},"○","○"]
[906,1,13000,1124,905,907,null,{"$f":"AccVelDataLink!G1127","v":13},{"$f":"AccVelDataLink!A1127","v":1124},"○","○"]
[907,1,20000,1125,906,908,null,{"$f":"AccVelDataLink!G1128","v":20},{"$f":"AccVelDataLink!A1128","v":1125},"○","○"]
[908,1,25000,1126,907,909,null,{"$f":"AccVelDataLink!G1129","v":25},{"$f":"AccVelDataLink!A1129","v":1126},"○","○"]
[{"$f":"A911+1","v":909},1,{"$f":"H912*$H$1","v":27000},{"$f":"I912","v":1127},908,910,null,{"$f":"AccVelDataLink!G1130","v":27},{"$f":"AccVelDataLink!A1130","v":1127},"○","○"]
[910,1,29000,1128,909,{"$f":"A914","v":911},null,{"$f":"AccVelDataLink!G1131","v":29},{"$f":"AccVelDataLink!A1131","v":1128},"○","○"]
[911,1,35000,1129,{"$f":"A913","v":910},912,null,{"$f":"AccVelDataLink!G1132","v":35},{"$f":"AccVelDataLink!A1132","v":1129},"○","○"]
[912,1,37000,1130,911,913,null,{"$f":"AccVelDataLink!G1133","v":37},{"$f":"AccVelDataLink!A1133","v":1130},"○","○"]
[913,1,40000,1131,912,914,null,{"$f":"AccVelDataLink!G1134","v":40},{"$f":"AccVelDataLink!A1134","v":1131},"○","○"]
[914,1,55000,1132,913,915,null,{"$f":"AccVelDataLink!G1135","v":55},{"$f":"AccVelDataLink!A1135","v":1132},"○","○"]
[915,1,65000,1133,914,916,null,{"$f":"AccVelDataLink!G1136","v":65},{"$f":"AccVelDataLink!A1136","v":1133},"○","○"]
[916,1,90000,1134,915,917,null,{"$f":"AccVelDataLink!G1137","v":90},{"$f":"AccVelDataLink!A1137","v":1134},"○","○"]
[917,1,100000,1135,916,-1,null,{"$f":"AccVelDataLink!G1138","v":100},{"$f":"AccVelDataLink!A1138","v":1135},"○","終端"]
[918,0,15000,1136,-1,919,{"$f":"AccVelDataLink!F1139","v":"RCP5-RA10C-10-水平"},{"$f":"AccVelDataLink!G1139","v":15},{"$f":"AccVelDataLink!A1139","v":1136},"先頭","○"]
[919,0,20000,1137,918,920,null,{"$f":"AccVelDataLink!G1140","v":20},{"$f":"AccVelDataLink!A1140","v":1137},"○","○"]
[920,0,38000,1138,919,921,null,{"$f":"AccVelDataLink!G1141","v":38},{"$f":"AccVelDataLink!A1141","v":1138},"○","○"]
[921,0,80000,1139,920,922,null,{"$f":"AccVelDataLink!G1142","v":80},{"$f":"AccVelDataLink!A1142","v":1139},"○","○"]
[922,1,6000,1140,921,923,{"$f":"AccVelDataLink!F1143","v":"RCP5-RA10C-10-垂直"},{"$f":"AccVelDataLink!G1143","v":6},{"$f":"AccVelDataLink!A1143","v":1140},"○","○"]
[923,1,8000,1141,922,924,null,{"$f":"AccVelDataLink!G1144","v":8},{"$f":"AccVelDataLink!A1144","v":1141},"○","○"]
[924,1,10000,1142,923,925,null,{"$f":"AccVelDataLink!G1145","v":10},{"$f":"AccVelDataLink!A1145","v":1142},"○","○"]
[925,1,15000,1143,924,926,null,{"$f":"AccVelDataLink!G1146","v":15},{"$f":"AccVelDataLink!A1146","v":1143},"○","○"]
[926,1,20000,1144,925,927,null,{"$f":"AccVelDataLink!G1147","v":20},{"$f":"AccVelDataLink!A1147","v":1144},"○","○"]
[927,1,35000,1145,926,928,null,{"$f":"AccVelDataLink!G1148","v":35},{"$f":"AccVelDataLink!A1148","v":1145},"○","○"]
[928,1,50000,1146,927,929,null,{"$f":"AccVelDataLink!G1149","v":50},{"$f":"AccVelDataLink!A1149","v":1146},"○","○"]
[929,1,58000,1147,928,930,null,{"$f":"AccVelDataLink!G1150","v":58},{"$f":"AccVelDataLink!A1150","v":1147},"○","○"]
[930,1,69000,1148,929,931,null,{"$f":"AccVelDataLink!G1151","v":69},{"$f":"AccVelDataLink!A1151","v":1148},"○","○"]
[931,1,80000,1149,930,-1,null,{"$f":"AccVelDataLink!G1152","v":80},{"$f":"AccVelDataLink!A1152","v":1149},"○","終端"]
[932,0,75000,1150,-1,933,{"$f":"AccVelDataLink!F1153","v":"RCP5-RA8R-5-水平"},{"$f":"AccVelDataLink!G1153","v":75},{"$f":"AccVelDataLink!A1153","v":1150},"先頭","○"]
[933,0,100000,1151,932,934,null,{"$f":"AccVelDataLink!G1154","v":100},{"$f":"AccVelDataLink!A1154","v":1151},"○","○"]
[934,1,10000,1152,933,935,{"$f":"AccVelDataLink!F1155","v":"RCP5-RA8R-5-垂直"},{"$f":"AccVelDataLink!G1155","v":10},{"$f":"AccVelDataLink!A1155","v":1152},"○","○"]
[935,1,16000,1153,934,936,null,{"$f":"AccVelDataLink!G1156","v":16},{"$f":"AccVelDataLink!A1156","v":1153},"○","○"]
[936,1,25000,1154,935,937,null,{"$f":"AccVelDataLink!G1157","v":25},{"$f":"AccVelDataLink!A1157","v":1154},"○","○"]
[937,1,35000,1155,936,938,null,{"$f":"AccVelDataLink!G1158","v":35},{"$f":"AccVelDataLink!A1158","v":1155},"○","○"]
[938,1,45000,1156,937,939,null,{"$f":"AccVelDataLink!G1159","v":45},{"$f":"AccVelDataLink!A1159","v":1156},"○","○"]
[939,1,70000,1157,938,-1,null,{"$f":"AccVelDataLink!G1160","v":70},{"$f":"AccVelDataLink!A1160","v":1157},"○","終端"]
[940,0,12000,1158,-1,941,{"$f":"AccVelDataLink!F1161","v":"RCP5-RA8R-10-水平"},{"$f":"AccVelDataLink!G1161","v":12},{"$f":"AccVelDataLink!A1161","v":1158},"先頭","○"]
[941,0,15000,1159,940,942,null,{"$f":"AccVelDataLink!G1162","v":15},{"$f":"AccVelDataLink!A1162","v":1159},"○","○"]
[942,0,25000,1160,941,943,null,{"$f":"AccVelDataLink!G1163","v":25},{"$f":"AccVelDataLink!A1163","v":1160},"○","○"]
[943,0,40000,1161,942,944,null,{"$f":"AccVelDataLink!G1164","v":40},{"$f":"AccVelDataLink!A1164","v":1161},"○","○"]
[944,0,60000,1162,943,945,null,{"$f":"AccVelDataLink!G1165","v":60},{"$f":"AccVelDataLink!A1165","v":1162},"○","○"]
[945,1,2000,1163,944,946,{"$f":"AccVelDataLink!F1166","v":"RCP5-RA8R-10-垂直"},{"$f":"AccVelDataLink!G1166","v":2},{"$f":"AccVelDataLink!A1166","v":1163},"○","○"]
[946,1,3000,1164,945,947,null,{"$f":"AccVelDataLink!G1167","v":3},{"$f":"AccVelDataLink!A1167","v":1164},"○","○"]
[947,1,4000,1165,946,948,null,{"$f":"AccVelDataLink!G1168","v":4},{"$f":"AccVelDataLink!A1168","v":1165},"○","○"]
[948,1,6000,1166,947,949,null,{"$f":"AccVelDataLink!G1169","v":6},{"$f":"AccVelDataLink!A1169","v":1166},"○","○"]
[949,1,8000,1167,948,950,null,{"$f":"AccVelDataLink!G1170","v":8},{"$f":"AccVelDataLink!A1170","v":1167},"○","○"]
[950,1,10000,1168,949,951,null,{"$f":"AccVelDataLink!G1171","v":10},{"$f":"AccVelDataLink!A1171","v":1168},"○","○"]
[951,1,12000,1169,950,952,null,{"$f":"AccVelDataLink!G1172","v":12},{"$f":"AccVelDataLink!A1172","v":1169},"○","○"]
[952,1,15000,1170,951,953,null,{"$f":"AccVelDataLink!G1173","v":15},{"$f":"AccVelDataLink!A1173","v":1170},"○","○"]
[953,1,18000,1171,952,954,null,{"$f":"AccVelDataLink!G1174","v":18},{"$f":"AccVelDataLink!A1174","v":1171},"○","○"]
[954,1,23000,1172,953,955,null,{"$f":"AccVelDataLink!G1175","v":23},{"$f":"AccVelDataLink!A1175","v":1172},"○","○"]
[955,1,28000,1173,954,956,null,{"$f":"AccVelDataLink!G1176","v":28},{"$f":"AccVelDataLink!A1176","v":1173},"○","○"]
[956,1,34000,1174,955,957,null,{"$f":"AccVelDataLink!G1177","v":34},{"$f":"AccVelDataLink!A1177","v":1174},"○","○"]
[957,1,40000,1175,956,-1,null,{"$f":"AccVelDataLink!G1178","v":40},{"$f":"AccVelDataLink!A1178","v":1175},"○","終端"]
[958,0,6000,1176,-1,959,{"$f":"AccVelDataLink!F1179","v":"RCP5-RA8R-20-水平"},{"$f":"AccVelDataLink!G1179","v":6},{"$f":"AccVelDataLink!A1179","v":1176},"先頭","○"]
[959,0,14000,1177,958,960,null,{"$f":"AccVelDataLink!G1180","v":14},{"$f":"AccVelDataLink!A1180","v":1177},"○","○"]
[960,0,30000,1178,959,961,null,{"$f":"AccVelDataLink!G1181","v":30},{"$f":"AccVelDataLink!A1181","v":1178},"○","○"]
[961,1,500,1179,960,962,{"$f":"AccVelDataLink!F1182","v":"RCP5-RA8R-20-垂直"},{"$f":"AccVelDataLink!G1182","v":0.5},{"$f":"AccVelDataLink!A1182","v":1179},{"$f":"IF(E964=A963,\"○\",IF(G964=0,\"つなぎまちがい\",\"先頭\"))","v":"○"},{"$f":"IF(F964=A965,\"○\",IF(F964<>E965,\"つなぎまちがい\",\"終端\"))","v":"○"}]
[962,1,2000,1180,961,963,null,{"$f":"AccVelDataLink!G1183","v":2},{"$f":"AccVelDataLink!A1183","v":1180},"○","○"]
[963,1,3500,1181,962,964,null,{"$f":"AccVelDataLink!G1184","v":3.5},{"$f":"AccVelDataLink!A1184","v":1181},"○","○"]
[964,1,5000,1182,963,-1,null,{"$f":"AccVelDataLink!G1185","v":5},{"$f":"AccVelDataLink!A1185","v":1182},"○","終端"]
[965,0,300000,1183,-1,966,{"$f":"AccVelDataLink!F1186","v":"RCP5-RA10R-2.5-水平"},{"$f":"AccVelDataLink!G1186","v":300},{"$f":"AccVelDataLink!A1186","v":1183},"先頭","○"]
[966,1,6000,1184,965,967,{"$f":"AccVelDataLink!F1187","v":"RCP5-RA10R-2.5-垂直"},{"$f":"AccVelDataLink!G1187","v":6},{"$f":"AccVelDataLink!A1187","v":1184},"○","○"]
[967,1,60000,1185,966,968,null,{"$f":"AccVelDataLink!G1188","v":60},{"$f":"AccVelDataLink!A1188","v":1185},"○","○"]
[968,1,70000,1186,967,969,null,{"$f":"AccVelDataLink!G1189","v":70},{"$f":"AccVelDataLink!A1189","v":1186},"○","○"]
[969,1,95000,1187,968,970,null,{"$f":"AccVelDataLink!G1190","v":95},{"$f":"AccVelDataLink!A1190","v":1187},"○","○"]
[970,1,150000,1188,969,-1,null,{"$f":"AccVelDataLink!G1191","v":150},{"$f":"AccVelDataLink!A1191","v":1188},"○","終端"]
[971,0,150000,1189,-1,972,{"$f":"AccVelDataLink!F1192","v":"RCP5-RA10R-5-水平"},{"$f":"AccVelDataLink!G1192","v":150},{"$f":"AccVelDataLink!A1192","v":1189},"先頭","○"]
[972,1,9000,1190,971,973,{"$f":"AccVelDataLink!F1193","v":"RCP5-RA10R-5-垂直"},{"$f":"AccVelDataLink!G1193","v":9},{"$f":"AccVelDataLink!A1193","v":1190},"○","○"]
[{"$f":"A975+1","v":973},1,{"$f":"H976*$H$1","v":13000},{"$f":"I976","v":1191},972,974,null,{"$f":"AccVelDataLink!G1194","v":13},{"$f":"AccVelDataLink!A1194","v":1191},"○","○"]
[974,1,20000,1192,973,{"$f":"A978","v":975},null,{"$f":"AccVelDataLink!G1195","v":20},{"$f":"AccVelDataLink!A1195","v":1192},"○","○"]
[975,1,25000,1193,{"$f":"A977","v":974},976,null,{"$f":"AccVelDataLink!G1196","v":25},{"$f":"AccVelDataLink!A1196","v":1193},"○","○"]
[976,1,27000,1194,975,977,null,{"$f":"AccVelDataLink!G1197","v":27},{"$f":"AccVelDataLink!A1197","v":1194},"○","○"]
[977,1,29000,1195,976,978,null,{"$f":"AccVelDataLink!G1198","v":29},{"$f":"AccVelDataLink!A1198","v":1195},"○","○"]
[978,1,35000,1196,977,979,null,{"$f":"AccVelDataLink!G1199","v":35},{"$f":"AccVelDataLink!A1199","v":1196},"○","○"]
[979,1,37000,1197,978,980,null,{"$f":"AccVelDataLink!G1200","v":37},{"$f":"AccVelDataLink!A1200","v":1197},"○","○"]
[980,1,40000,1198,979,981,null,{"$f":"AccVelDataLink!G1201","v":40},{"$f":"AccVelDataLink!A1201","v":1198},"○","○"]
[981,1,55000,1199,980,982,null,{"$f":"AccVelDataLink!G1202","v":55},{"$f":"AccVelDataLink!A1202","v":1199},"○","○"]
[982,1,65000,1200,981,983,null,{"$f":"AccVelDataLink!G1203","v":65},{"$f":"AccVelDataLink!A1203","v":1200},"○","○"]
[983,1,90000,1201,982,984,null,{"$f":"AccVelDataLink!G1204","v":90},{"$f":"AccVelDataLink!A1204","v":1201},"○","○"]
[984,1,100000,1202,983,-1,null,{"$f":"AccVelDataLink!G1205","v":100},{"$f":"AccVelDataLink!A1205","v":1202},"○","終端"]
[{"$f":"A987+1","v":985},0,80000,1203,-1,{"$f":"A989","v":986},{"$f":"AccVelDataLink!F1206","v":"RCP5-RA10R-10-水平"},{"$f":"AccVelDataLink!G1206","v":80},{"$f":"AccVelDataLink!A1206","v":1203},"先頭","○"]
[986,1,{"$f":"H989*$H$1","v":10000},{"$f":"I989","v":1204},{"$f":"A988","v":985},987,{"$f":"AccVelDataLink!F1207","v":"RCP5-RA10R-10-垂直"},{"$f":"AccVelDataLink!G1207","v":10},{"$f":"AccVelDataLink!A1207","v":1204},"○","○"]
[987,1,15000,1205,986,988,null,{"$f":"AccVelDataLink!G1208","v":15},{"$f":"AccVelDataLink!A1208","v":1205},"○","○"]
[988,1,20000,1206,987,989,null,{"$f":"AccVelDataLink!G1209","v":20},{"$f":"AccVelDataLink!A1209","v":1206},"○","○"]
[989,1,35000,1207,988,990,null,{"$f":"AccVelDataLink!G1210","v":35},{"$f":"AccVelDataLink!A1210","v":1207},"○","○"]
[990,1,50000,1208,989,991,null,{"$f":"AccVelDataLink!G1211","v":50},{"$f":"AccVelDataLink!A1211","v":1208},"○","○"]
[991,1,58000,1209,990,992,null,{"$f":"AccVelDataLink!G1212","v":58},{"$f":"AccVelDataLink!A1212","v":1209},"○","○"]
[992,1,69000,1210,991,{"$f":"A996","v":993},null,{"$f":"AccVelDataLink!G1213","v":69},{"$f":"AccVelDataLink!A1213","v":1210},"○","○"]
[{"$f":"A995+1","v":993},1,80000,1211,{"$f":"A995","v":992},-1,null,{"$f":"AccVelDataLink!G1214","v":80},{"$f":"AccVelDataLink!A1214","v":1211},"○","終端"]
[994,0,{"$f":"H997*$H$1","v":3500},{"$f":"I997","v":1212},-1,{"$f":"A998","v":995},{"$f":"AccVelDataLink!F1215","v":"RCP4-SA3R-2-水平"},{"$f":"AccVelDataLink!G1215","v":3.5},{"$f":"AccVelDataLink!A1215","v":1212},"先頭","○"]
[995,0,4000,1213,{"$f":"A997","v":994},996,null,{"$f":"AccVelDataLink!G1216","v":4},{"$f":"AccVelDataLink!A1216","v":1213},"○","○"]
[996,0,4500,1215,995,997,null,{"$f":"AccVelDataLink!G1218","v":4.5},{"$f":"AccVelDataLink!A1218","v":1215},"○","○"]
[997,0,5000,1218,996,998,null,{"$f":"AccVelDataLink!G1221","v":5},{"$f":"AccVelDataLink!A1221","v":1218},"○","○"]
[998,0,5500,1222,997,999,null,{"$f":"AccVelDataLink!G1225","v":5.5},{"$f":"AccVelDataLink!A1225","v":1222},"○","○"]
[999,0,6000,1223,998,1000,null,{"$f":"AccVelDataLink!G1226","v":6},{"$f":"AccVelDataLink!A1226","v":1223},"○","○"]
[1000,0,6500,1226,999,1001,null,{"$f":"AccVelDataLink!G1229","v":6.5},{"$f":"AccVelDataLink!A1229","v":1226},"○","○"]
[1001,0,7000,1228,1000,1002,null,{"$f":"AccVelDataLink!G1231","v":7},{"$f":"AccVelDataLink!A1231","v":1228},"○","○"]
[1002,0,7500,1231,1001,1003,null,{"$f":"AccVelDataLink!G1234","v":7.5},{"$f":"AccVelDataLink!A1234","v":1231},"○","○"]
[1003,0,8000,1232,1002,1004,null,{"$f":"AccVelDataLink!G1235","v":8},{"$f":"AccVelDataLink!A1235","v":1232},"○","○"]
[1004,1,1000,1233,1003,1005,{"$f":"AccVelDataLink!F1236","v":"RCP4-SA3R-2-垂直"},{"$f":"AccVelDataLink!G1236","v":1},{"$f":"AccVelDataLink!A1236","v":1233},"○","○"]
[1005,1,1500,1234,1004,1006,null,{"$f":"AccVelDataLink!G1237","v":1.5},{"$f":"AccVelDataLink!A1237","v":1234},"○","○"]
[1006,1,2000,1236,1005,1007,null,{"$f":"AccVelDataLink!G1239","v":2},{"$f":"AccVelDataLink!A1239","v":1236},"○","○"]
[1007,1,2500,1238,1006,1008,null,{"$f":"AccVelDataLink!G1241","v":2.5},{"$f":"AccVelDataLink!A1241","v":1238},"○","○"]
[1008,1,3000,1239,1007,1009,null,{"$f":"AccVelDataLink!G1242","v":3},{"$f":"AccVelDataLink!A1242","v":1239},"○","○"]
[1009,1,3250,1240,1008,{"$f":"A1013","v":1010},null,{"$f":"AccVelDataLink!G1243","v":3.25},{"$f":"AccVelDataLink!A1243","v":1240},"○","○"]
[1010,1,3500,1241,{"$f":"A1012","v":1009},-1,null,{"$f":"AccVelDataLink!G1244","v":3.5},{"$f":"AccVelDataLink!A1244","v":1241},"○","終端"]
[1011,0,{"$f":"H1014*$H$1","v":2500},{"$f":"I1014","v":1242},-1,{"$f":"A1015","v":1012},{"$f":"AccVelDataLink!F1245","v":"RCP4-SA3R-4-水平"},{"$f":"AccVelDataLink!G1245","v":2.5},{"$f":"AccVelDataLink!A1245","v":1242},"先頭","○"]
[1012,0,3000,1243,{"$f":"A1014","v":1011},1013,null,{"$f":"AccVelDataLink!G1246","v":3},{"$f":"AccVelDataLink!A1246","v":1243},"○","○"]
[1013,0,3500,1245,1012,1014,null,{"$f":"AccVelDataLink!G1248","v":3.5},{"$f":"AccVelDataLink!A1248","v":1245},"○","○"]
[1014,0,4000,1248,1013,1015,null,{"$f":"AccVelDataLink!G1251","v":4},{"$f":"AccVelDataLink!A1251","v":1248},"○","○"]
[1015,0,4500,1251,1014,1016,null,{"$f":"AccVelDataLink!G1254","v":4.5},{"$f":"AccVelDataLink!A1254","v":1251},"○","○"]
[1016,0,5000,1253,1015,1017,null,{"$f":"AccVelDataLink!G1256","v":5},{"$f":"AccVelDataLink!A1256","v":1253},"○","○"]
[1017,1,750,1254,1016,1018,{"$f":"AccVelDataLink!F1257","v":"RCP4-SA3R-4-垂直"},{"$f":"AccVelDataLink!G1257","v":0.75},{"$f":"AccVelDataLink!A1257","v":1254},"○","○"]
[1018,1,1000,1255,1017,1019,null,{"$f":"AccVelDataLink!G1258","v":1},{"$f":"AccVelDataLink!A1258","v":1255},"○","○"]
[1019,1,1500,1256,1018,1020,null,{"$f":"AccVelDataLink!G1259","v":1.5},{"$f":"AccVelDataLink!A1259","v":1256},"○","○"]
[1020,1,2000,1257,1019,1021,null,{"$f":"AccVelDataLink!G1260","v":2},{"$f":"AccVelDataLink!A1260","v":1257},"○","○"]
[1021,1,2250,1259,1020,{"$f":"A1025","v":1022},null,{"$f":"AccVelDataLink!G1262","v":2.25},{"$f":"AccVelDataLink!A1262","v":1259},"○","○"]
[1022,1,2500,1260,{"$f":"A1024","v":1021},-1,null,{"$f":"AccVelDataLink!G1263","v":2.5},{"$f":"AccVelDataLink!A1263","v":1260},"○","終端"]
[1023,0,{"$f":"H1026*$H$1","v":2000},{"$f":"I1026","v":1261},-1,{"$f":"A1027","v":1024},{"$f":"AccVelDataLink!F1264","v":"RCP4-SA3R-6-水平"},{"$f":"AccVelDataLink!G1264","v":2},{"$f":"AccVelDataLink!A1264","v":1261},"先頭","○"]
[1024,0,2500,1262,{"$f":"A1026","v":1023},1025,null,{"$f":"AccVelDataLink!G1265","v":2.5},{"$f":"AccVelDataLink!A1265","v":1262},"○","○"]
[1025,0,3000,1263,1024,1026,null,{"$f":"AccVelDataLink!G1266","v":3},{"$f":"AccVelDataLink!A1266","v":1263},{"$f":"IF(E1028=A1027,\"○\",IF(G1028=0,\"つなぎまちがい\",\"先頭\"))","v":"○"},{"$f":"IF(F1028=A1029,\"○\",IF(F1028<>E1029,\"つなぎまちがい\",\"終端\"))","v":"○"}]
[1026,1,500,1264,1025,1027,{"$f":"AccVelDataLink!F1267","v":"RCP4-SA3R-6-垂直"},{"$f":"AccVelDataLink!G1267","v":0.5},{"$f":"AccVelDataLink!A1267","v":1264},"○","○"]
[1027,1,1000,1265,1026,1028,null,{"$f":"AccVelDataLink!G1268","v":1},{"$f":"AccVelDataLink!A1268","v":1265},"○","○"]
[1028,1,1250,1266,1027,1029,null,{"$f":"AccVelDataLink!G1269","v":1.25},{"$f":"AccVelDataLink!A1269","v":1266},"○","○"]
[1029,1,1500,1267,1028,-1,null,{"$f":"AccVelDataLink!G1270","v":1.5},{"$f":"AccVelDataLink!A1270","v":1267},"○","終端"]
[1030,0,{"$f":"H1033*$H$1","v":8000},{"$f":"I1033","v":1268},-1,{"$f":"A1034","v":1031},{"$f":"AccVelDataLink!F1271","v":"RCP4-RA3R-2.5-水平"},{"$f":"AccVelDataLink!G1271","v":8},{"$f":"AccVelDataLink!A1271","v":1268},"先頭","○"]
[1031,0,12000,1269,{"$f":"A1033","v":1030},1032,null,{"$f":"AccVelDataLink!G1272","v":12},{"$f":"AccVelDataLink!A1272","v":1269},"○","○"]
[1032,0,14000,1271,1031,1033,null,{"$f":"AccVelDataLink!G1274","v":14},{"$f":"AccVelDataLink!A1274","v":1271},"○","○"]
[1033,0,16000,1273,1032,1034,null,{"$f":"AccVelDataLink!G1276","v":16},{"$f":"AccVelDataLink!A1276","v":1273},"○","○"]
[1034,0,18000,1274,1033,1035,null,{"$f":"AccVelDataLink!G1277","v":18},{"$f":"AccVelDataLink!A1277","v":1274},"○","○"]
[1035,0,20000,1277,1034,1036,null,{"$f":"AccVelDataLink!G1280","v":20},{"$f":"AccVelDataLink!A1280","v":1277},"○","○"]
[1036,0,22000,1279,1035,1037,null,{"$f":"AccVelDataLink!G1282","v":22},{"$f":"AccVelDataLink!A1282","v":1279},"○","○"]
[1037,0,24000,1280,1036,1038,null,{"$f":"AccVelDataLink!G1283","v":24},{"$f":"AccVelDataLink!A1283","v":1280},"○","○"]
[1038,0,26000,1281,1037,1039,null,{"$f":"AccVelDataLink!G1284","v":26},{"$f":"AccVelDataLink!A1284","v":1281},"○","○"]
[1039,0,28000,1282,1038,1040,null,{"$f":"AccVelDataLink!G1285","v":28},{"$f":"AccVelDataLink!A1285","v":1282},"○","○"]
[1040,0,30000,1283,1039,1041,null,{"$f":"AccVelDataLink!G1286","v":30},{"$f":"AccVelDataLink!A1286","v":1283},"○","○"]
[1041,0,32000,1286,1040,1042,null,{"$f":"AccVelDataLink!G1289","v":32},{"$f":"AccVelDataLink!A1289","v":1286},"○","○"]
[1042,0,36000,1287,1041,1043,null,{"$f":"AccVelDataLink!G1290","v":36},{"$f":"AccVelDataLink!A1290","v":1287},"○","○"]
[1043,1,2000,1290,1042,1044,{"$f":"AccVelDataLink!F1293","v":"RCP4-RA3R-2.5-垂直"},{"$f":"AccVelDataLink!G1293","v":2},{"$f":"AccVelDataLink!A1293","v":1290},"○","○"]
[1044,1,5000,1291,1043,1045,null,{"$f":"AccVelDataLink!G1294","v":5},{"$f":"AccVelDataLink!A1294","v":1291},"○","○"]
[1045,1,8000,1292,1044,1046,null,{"$f":"AccVelDataLink!G1295","v":8},{"$f":"AccVelDataLink!A1295","v":1292},"○","○"]
[1046,1,9000,1293,1045,{"$f":"A1050","v":1047},null,{"$f":"AccVelDataLink!G1296","v":9},{"$f":"AccVelDataLink!A1296","v":1293},"○","○"]
[1047,1,10000,1294,{"$f":"A1049","v":1046},-1,null,{"$f":"AccVelDataLink!G1297","v":10},{"$f":"AccVelDataLink!A1297","v":1294},"○","終端"]
[1048,0,{"$f":"H1051*$H$1","v":3000},{"$f":"I1051","v":1295},-1,{"$f":"A1052","v":1049},{"$f":"AccVelDataLink!F1298","v":"RCP4-RA3R-5-水平"},{"$f":"AccVelDataLink!G1298","v":3},{"$f":"AccVelDataLink!A1298","v":1295},"先頭","○"]
[1049,0,5000,1296,{"$f":"A1051","v":1048},1050,null,{"$f":"AccVelDataLink!G1299","v":5},{"$f":"AccVelDataLink!A1299","v":1296},"○","○"]
[1050,0,6000,1297,1049,1051,null,{"$f":"AccVelDataLink!G1300","v":6},{"$f":"AccVelDataLink!A1300","v":1297},"○","○"]
[1051,0,7000,1298,1050,1052,null,{"$f":"AccVelDataLink!G1301","v":7},{"$f":"AccVelDataLink!A1301","v":1298},"○","○"]
[1052,0,7500,1299,1051,1053,null,{"$f":"AccVelDataLink!G1302","v":7.5},{"$f":"AccVelDataLink!A1302","v":1299},"○","○"]
[1053,0,10000,1300,1052,1054,null,{"$f":"AccVelDataLink!G1303","v":10},{"$f":"AccVelDataLink!A1303","v":1300},"○","○"]
[1054,0,11000,1302,1053,1055,null,{"$f":"AccVelDataLink!G1305","v":11},{"$f":"AccVelDataLink!A1305","v":1302},"○","○"]
[1055,0,12000,1303,1054,1056,null,{"$f":"AccVelDataLink!G1306","v":12},{"$f":"AccVelDataLink!A1306","v":1303},"○","○"]
[1056,0,16000,1306,1055,1057,null,{"$f":"AccVelDataLink!G1309","v":16},{"$f":"AccVelDataLink!A1309","v":1306},"○","○"]
[{"$f":"A1059+1","v":1057},0,18000,1310,1056,1058,null,{"$f":"AccVelDataLink!G1313","v":18},{"$f":"AccVelDataLink!A1313","v":1310},"○","○"]
[1058,0,20000,1311,1057,1059,null,{"$f":"AccVelDataLink!G1314","v":20},{"$f":"AccVelDataLink!A1314","v":1311},"○","○"]
[1059,0,22000,1314,1058,1060,null,{"$f":"AccVelDataLink!G1317","v":22},{"$f":"AccVelDataLink!A1317","v":1314},"○","○"]
[1060,0,24000,1315,1059,1061,null,{"$f":"AccVelDataLink!G1318","v":24},{"$f":"AccVelDataLink!A1318","v":1315},"○","○"]
[1061,1,2000,1317,1060,1062,{"$f":"AccVelDataLink!F1320","v":"RCP4-RA3R-5-垂直"},{"$f":"AccVelDataLink!G1320","v":2},{"$f":"AccVelDataLink!A1320","v":1317},"○","○"]
[1062,1,3000,1318,1061,1063,null,{"$f":"AccVelDataLink!G1321","v":3},{"$f":"AccVelDataLink!A1321","v":1318},"○","○"]
[1063,1,4000,1319,1062,1064,null,{"$f":"AccVelDataLink!G1322","v":4},{"$f":"AccVelDataLink!A1322","v":1319},"○","○"]
[1064,1,4500,1320,1063,{"$f":"A1068","v":1065},null,{"$f":"AccVelDataLink!G1323","v":4.5},{"$f":"AccVelDataLink!A1323","v":1320},"○","○"]
[1065,1,5000,1321,{"$f":"A1067","v":1064},-1,null,{"$f":"AccVelDataLink!G1324","v":5},{"$f":"AccVelDataLink!A1324","v":1321},"○","終端"]
[1066,0,{"$f":"H1069*$H$1","v":1000},{"$f":"I1069","v":1322},-1,{"$f":"A1070","v":1067},{"$f":"AccVelDataLink!F1325","v":"RCP4-RA3R-10-水平"},{"$f":"AccVelDataLink!G1325","v":1},{"$f":"AccVelDataLink!A1325","v":1322},"先頭","○"]
[1067,0,1500,1323,{"$f":"A1069","v":1066},1068,null,{"$f":"AccVelDataLink!G1326","v":1.5},{"$f":"AccVelDataLink!A1326","v":1323},"○","○"]
[1068,0,2000,1324,1067,1069,null,{"$f":"AccVelDataLink!G1327","v":2},{"$f":"AccVelDataLink!A1327","v":1324},"○","○"]
[1069,0,3000,1326,1068,1070,null,{"$f":"AccVelDataLink!G1329","v":3},{"$f":"AccVelDataLink!A1329","v":1326},"○","○"]
[1070,0,4000,1328,1069,1071,null,{"$f":"AccVelDataLink!G1331","v":4},{"$f":"AccVelDataLink!A1331","v":1328},"○","○"]
[1071,0,5000,1329,1070,1072,null,{"$f":"AccVelDataLink!G1332","v":5},{"$f":"AccVelDataLink!A1332","v":1329},"○","○"]
[1072,0,6000,1331,1071,1073,null,{"$f":"AccVelDataLink!G1334","v":6},{"$f":"AccVelDataLink!A1334","v":1331},"○","○"]
[1073,0,8000,1334,1072,1074,null,{"$f":"AccVelDataLink!G1337","v":8},{"$f":"AccVelDataLink!A1337","v":1334},"○","○"]
[1074,0,9000,1337,1073,1075,null,{"$f":"AccVelDataLink!G1340","v":9},{"$f":"AccVelDataLink!A1340","v":1337},"○","○"]
[1075,0,10000,1338,1074,1076,null,{"$f":"AccVelDataLink!G1341","v":10},{"$f":"AccVelDataLink!A1341","v":1338},"○","○"]
[1076,0,11000,1340,1075,1077,null,{"$f":"AccVelDataLink!G1343","v":11},{"$f":"AccVelDataLink!A1343","v":1340},"○","○"]
[1077,0,12000,1341,1076,1078,null,{"$f":"AccVelDataLink!G1344","v":12},{"$f":"AccVelDataLink!A1344","v":1341},"○","○"]
[1078,1,500,1343,1077,1079,{"$f":"AccVelDataLink!F1346","v":"RCP4-RA3R-10-垂直"},{"$f":"AccVelDataLink!G1346","v":0.5},{"$f":"AccVelDataLink!A1346","v":1343},"○","○"]
[1079,1,1000,1344,1078,1080,null,{"$f":"AccVelDataLink!G1347","v":1},{"$f":"AccVelDataLink!A1347","v":1344},"○","○"]
[1080,1,2000,1345,1079,1081,null,{"$f":"AccVelDataLink!G1348","v":2},{"$f":"AccVelDataLink!A1348","v":1345},"○","○"]
[1081,1,2250,1346,1080,{"$f":"A1085","v":1082},null,{"$f":"AccVelDataLink!G1349","v":2.25},{"$f":"AccVelDataLink!A1349","v":1346},"○","○"]
[1082,1,2500,1347,{"$f":"A1084","v":1081},-1,null,{"$f":"AccVelDataLink!G1350","v":2.5},{"$f":"AccVelDataLink!A1350","v":1347},"○","終端"]
[1083,0,{"$f":"H1086*$H$1","v":500},{"$f":"I1086","v":1348},-1,{"$f":"A1087","v":1084},{"$f":"AccVelDataLink!F1351","v":"RCP4-RA3R-16-水平"},{"$f":"AccVelDataLink!G1351","v":0.5},{"$f":"AccVelDataLink!A1351","v":1348},"先頭","○"]
[1084,0,1000,1349,{"$f":"A1086","v":1083},1085,null,{"$f":"AccVelDataLink!G1352","v":1},{"$f":"AccVelDataLink!A1352","v":1349},"○","○"]
[1085,0,1500,1350,1084,1086,null,{"$f":"AccVelDataLink!G1353","v":1.5},{"$f":"AccVelDataLink!A1353","v":1350},"○","○"]
[1086,0,2000,1351,1085,1087,null,{"$f":"AccVelDataLink!G1354","v":2},{"$f":"AccVelDataLink!A1354","v":1351},"○","○"]
[1087,0,2500,1353,1086,1088,null,{"$f":"AccVelDataLink!G1356","v":2.5},{"$f":"AccVelDataLink!A1356","v":1353},"○","○"]
[1088,0,3000,1356,1087,1089,null,{"$f":"AccVelDataLink!G1359","v":3},{"$f":"AccVelDataLink!A1359","v":1356},"○","○"]
[1089,0,3500,1358,1088,1090,null,{"$f":"AccVelDataLink!G1361","v":3.5},{"$f":"AccVelDataLink!A1361","v":1358},{"$f":"IF(E1092=A1091,\"○\",IF(G1092=0,\"つなぎまちがい\",\"先頭\"))","v":"○"},{"$f":"IF(F1092=A1093,\"○\",IF(F1092<>E1093,\"つなぎまちがい\",\"終端\"))","v":"○"}]
[1090,0,4500,1359,1089,1091,null,{"$f":"AccVelDataLink!G1362","v":4.5},{"$f":"AccVelDataLink!A1362","v":1359},"○","○"]
[1091,0,5000,1361,1090,1092,null,{"$f":"AccVelDataLink!G1364","v":5},{"$f":"AccVelDataLink!A1364","v":1361},"○","○"]
[1092,1,500,1362,1091,{"$f":"A1096","v":1093},{"$f":"AccVelDataLink!F1365","v":"RCP4-RA3R-16-垂直"},{"$f":"AccVelDataLink!G1365","v":0.5},{"$f":"AccVelDataLink!A1365","v":1362},"○","○"]
[{"$f":"A1095+1","v":1093},1,1000,1363,{"$f":"A1095","v":1092},-1,null,{"$f":"AccVelDataLink!G1366","v":1},{"$f":"AccVelDataLink!A1366","v":1363},"○","終端"]
[{"$f":"A1096+1","v":1094},0,{"$f":"H1097*$H$1","v":500},{"$f":"I1097","v":1364},-1,{"$f":"A1098","v":1095},{"$f":"AccVelDataLink!F1367","v":"RCP5-BA4-48-水平"},{"$f":"AccVelDataLink!G1367","v":0.5},{"$f":"AccVelDataLink!A1367","v":1364},"先頭","○"]
[{"$f":"A1097+1","v":1095},0,{"$f":"H1098*$H$1","v":1000},{"$f":"I1098","v":1365},{"$f":"A1097","v":1094},-1,null,{"$f":"AccVelDataLink!G1368","v":1},{"$f":"AccVelDataLink!A1368","v":1365},"○","終端"]
[{"$f":"A1098+1","v":1096},0,{"$f":"H1099*$H$1","v":500},{"$f":"I1099","v":1366},-1,{"$f":"A1100","v":1097},{"$f":"AccVelDataLink!F1369","v":"RCP5-BA6-48-水平"},{"$f":"AccVelDataLink!G1369","v":0.5},{"$f":"AccVelDataLink!A1369","v":1366},"先頭","○"]
[{"$f":"A1099+1","v":1097},0,{"$f":"H1100*$H$1","v":3000},{"$f":"I1100","v":1367},{"$f":"A1099","v":1096},-1,null,{"$f":"AccVelDataLink!G1370","v":3},{"$f":"AccVelDataLink!A1370","v":1367},{"$f":"IF(E1100=A1099,\"○\",IF(G1100=0,\"つなぎまちがい\",\"先頭\"))","v":"○"},{"$f":"IF(F1100=A1101,\"○\",IF(F1100<>E1101,\"つなぎまちがい\",\"終端\"))","v":"終端"}]
[1098,0,{"$f":"H1101*$H$1","v":1000},{"$f":"I1101","v":1368},-1,{"$f":"A1102","v":1099},{"$f":"AccVelDataLink!F1371","v":"RCP5-BA7-48-水平"},{"$f":"AccVelDataLink!G1371","v":1},{"$f":"AccVelDataLink!A1371","v":1368},"先頭","○"]
[1099,0,3000,1369,{"$f":"A1101","v":1098},1100,null,{"$f":"AccVelDataLink!G1372","v":3},{"$f":"AccVelDataLink!A1372","v":1369},"○","○"]
[1100,0,5000,1370,1099,1101,null,{"$f":"AccVelDataLink!G1373","v":5},{"$f":"AccVelDataLink!A1373","v":1370},"○","○"]
[1101,0,7500,1371,1100,1102,null,{"$f":"AccVelDataLink!G1374","v":7.5},{"$f":"AccVelDataLink!A1374","v":1371},"○","○"]
[1102,0,10000,1372,1101,1103,null,{"$f":"AccVelDataLink!G1375","v":10},{"$f":"AccVelDataLink!A1375","v":1372},"○","○"]
[1103,0,13000,1373,1102,1104,null,{"$f":"AccVelDataLink!G1376","v":13},{"$f":"AccVelDataLink!A1376","v":1373},"○","○"]
[1104,0,14000,1374,1103,-1,null,{"$f":"AccVelDataLink!G1377","v":14},{"$f":"AccVelDataLink!A1377","v":1374},"○","終端"]
[1105,0,{"$f":"H1108*$H$1","v":8000},{"$f":"I1108","v":1375},-1,{"$f":"A1109","v":1106},{"$f":"AccVelDataLink!F1378","v":"RCP5-SA4R-2.5-水平"},{"$f":"AccVelDataLink!G1378","v":8},{"$f":"AccVelDataLink!A1378","v":1375},"先頭","○"]
[1106,0,9000,1376,{"$f":"A1108","v":1105},1107,null,{"$f":"AccVelDataLink!G1379","v":9},{"$f":"AccVelDataLink!A1379","v":1376},"○","○"]
[1107,0,10000,1378,1106,1108,null,{"$f":"AccVelDataLink!G1381","v":10},{"$f":"AccVelDataLink!A1381","v":1378},"○","○"]
[1108,0,11000,1381,1107,1109,null,{"$f":"AccVelDataLink!G1384","v":11},{"$f":"AccVelDataLink!A1384","v":1381},"○","○"]
[1109,0,12000,1383,1108,1110,null,{"$f":"AccVelDataLink!G1386","v":12},{"$f":"AccVelDataLink!A1386","v":1383},"○","○"]
[1110,1,5000,1386,1109,1111,{"$f":"AccVelDataLink!F1389","v":"RCP5-SA4R-2.5-垂直"},{"$f":"AccVelDataLink!G1389","v":5},{"$f":"AccVelDataLink!A1389","v":1386},"○","○"]
[1111,1,8000,1387,1110,{"$f":"A1115","v":1112},null,{"$f":"AccVelDataLink!G1390","v":8},{"$f":"AccVelDataLink!A1390","v":1387},"○","○"]
[1112,1,9000,1388,{"$f":"A1114","v":1111},-1,null,{"$f":"AccVelDataLink!G1391","v":9},{"$f":"AccVelDataLink!A1391","v":1388},"○","終端"]
[1113,0,{"$f":"H1116*$H$1","v":6000},{"$f":"I1116","v":1389},-1,{"$f":"A1117","v":1114},{"$f":"AccVelDataLink!F1392","v":"RCP5-SA4R-5-水平"},{"$f":"AccVelDataLink!G1392","v":6},{"$f":"AccVelDataLink!A1392","v":1389},"先頭","○"]
[1114,0,7000,1390,{"$f":"A1116","v":1113},1115,null,{"$f":"AccVelDataLink!G1393","v":7},{"$f":"AccVelDataLink!A1393","v":1390},"○","○"]
[1115,0,8000,1392,1114,1116,null,{"$f":"AccVelDataLink!G1395","v":8},{"$f":"AccVelDataLink!A1395","v":1392},"○","○"]
[1116,0,9000,1395,1115,1117,null,{"$f":"AccVelDataLink!G1398","v":9},{"$f":"AccVelDataLink!A1398","v":1395},"○","○"]
[1117,0,10000,1399,1116,1118,null,{"$f":"AccVelDataLink!G1402","v":10},{"$f":"AccVelDataLink!A1402","v":1399},"○","○"]
[1118,0,12000,1403,1117,1119,null,{"$f":"AccVelDataLink!G1406","v":12},{"$f":"AccVelDataLink!A1406","v":1403},"○","○"]
[1119,1,2500,1404,1118,1120,{"$f":"AccVelDataLink!F1407","v":"RCP5-SA4R-5-垂直"},{"$f":"AccVelDataLink!G1407","v":2.5},{"$f":"AccVelDataLink!A1407","v":1404},"○","○"]
[1120,1,3000,1405,1119,1121,null,{"$f":"AccVelDataLink!G1408","v":3},{"$f":"AccVelDataLink!A1408","v":1405},"○","○"]
[1121,1,3500,1406,1120,1122,null,{"$f":"AccVelDataLink!G1409","v":3.5},{"$f":"AccVelDataLink!A1409","v":1406},"○","○"]
[1122,1,4000,1407,1121,{"$f":"A1126","v":1123},null,{"$f":"AccVelDataLink!G1410","v":4},{"$f":"AccVelDataLink!A1410","v":1407},"○","○"]
[1123,1,4500,1408,{"$f":"A1125","v":1122},-1,null,{"$f":"AccVelDataLink!G1411","v":4.5},{"$f":"AccVelDataLink!A1411","v":1408},"○","終端"]
[1124,0,{"$f":"H1127*$H$1","v":3000},{"$f":"I1127","v":1409},-1,{"$f":"A1128","v":1125},{"$f":"AccVelDataLink!F1412","v":"RCP5-SA4R-10-水平"},{"$f":"AccVelDataLink!G1412","v":3},{"$f":"AccVelDataLink!A1412","v":1409},"先頭","○"]
[1125,0,4000,1410,{"$f":"A1127","v":1124},1126,null,{"$f":"AccVelDataLink!G1413","v":4},{"$f":"AccVelDataLink!A1413","v":1410},"○","○"]
[1126,0,5000,1412,1125,1127,null,{"$f":"AccVelDataLink!G1415","v":5},{"$f":"AccVelDataLink!A1415","v":1412},"○","○"]
[1127,0,6000,1415,1126,1128,null,{"$f":"AccVelDataLink!G1418","v":6},{"$f":"AccVelDataLink!A1418","v":1415},"○","○"]
[{"$f":"A1130+1","v":1128},0,7000,1419,1127,1129,null,{"$f":"AccVelDataLink!G1422","v":7},{"$f":"AccVelDataLink!A1422","v":1419},"○","○"]
[1129,0,8000,1421,1128,1130,null,{"$f":"AccVelDataLink!G1424","v":8},{"$f":"AccVelDataLink!A1424","v":1421},"○","○"]
[1130,0,9000,1424,1129,1131,null,{"$f":"AccVelDataLink!G1427","v":9},{"$f":"AccVelDataLink!A1427","v":1424},"○","○"]
[1131,0,10000,1426,1130,1132,null,{"$f":"AccVelDataLink!G1429","v":10},{"$f":"AccVelDataLink!A1429","v":1426},"○","○"]
[1132,1,1000,1427,1131,1133,{"$f":"AccVelDataLink!F1430","v":"RCP5-SA4R-10-垂直"},{"$f":"AccVelDataLink!G1430","v":1},{"$f":"AccVelDataLink!A1430","v":1427},"○","○"]
[1133,1,1500,1428,1132,1134,null,{"$f":"AccVelDataLink!G1431","v":1.5},{"$f":"AccVelDataLink!A1431","v":1428},"○","○"]
[1134,1,2000,1430,1133,{"$f":"A1138","v":1135},null,{"$f":"AccVelDataLink!G1433","v":2},{"$f":"AccVelDataLink!A1433","v":1430},"○","○"]
[1135,1,2250,1432,{"$f":"A1137","v":1134},-1,null,{"$f":"AccVelDataLink!G1435","v":2.25},{"$f":"AccVelDataLink!A1435","v":1432},"○","終端"]
[1136,0,{"$f":"H1139*$H$1","v":1500},{"$f":"I1139","v":1433},-1,{"$f":"A1140","v":1137},{"$f":"AccVelDataLink!F1436","v":"RCP5-SA4R-16-水平"},{"$f":"AccVelDataLink!G1436","v":1.5},{"$f":"AccVelDataLink!A1436","v":1433},"先頭","○"]
[1137,0,2000,1434,{"$f":"A1139","v":1136},1138,null,{"$f":"AccVelDataLink!G1437","v":2},{"$f":"AccVelDataLink!A1437","v":1434},"○","○"]
[1138,0,2500,1436,1137,1139,null,{"$f":"AccVelDataLink!G1439","v":2.5},{"$f":"AccVelDataLink!A1439","v":1436},"○","○"]
[1139,0,3000,1439,1138,1140,null,{"$f":"AccVelDataLink!G1442","v":3},{"$f":"AccVelDataLink!A1442","v":1439},"○","○"]
[1140,0,3500,1442,1139,1141,null,{"$f":"AccVelDataLink!G1445","v":3.5},{"$f":"AccVelDataLink!A1445","v":1442},"○","○"]
[1141,0,4000,1446,1140,1142,null,{"$f":"AccVelDataLink!G1449","v":4},{"$f":"AccVelDataLink!A1449","v":1446},"○","○"]
[1142,1,500,1449,1141,1143,{"$f":"AccVelDataLink!F1452","v":"RCP5-SA4R-16-垂直"},{"$f":"AccVelDataLink!G1452","v":0.5},{"$f":"AccVelDataLink!A1452","v":1449},"○","○"]
[1143,1,750,1450,1142,{"$f":"A1147","v":1144},null,{"$f":"AccVelDataLink!G1453","v":0.75},{"$f":"AccVelDataLink!A1453","v":1450},"○","○"]
[1144,1,1000,1452,{"$f":"A1146","v":1143},-1,null,{"$f":"AccVelDataLink!G1455","v":1},{"$f":"AccVelDataLink!A1455","v":1452},"○","終端"]
[1145,0,{"$f":"H1148*$H$1","v":9000},{"$f":"I1148","v":1455},-1,{"$f":"A1149","v":1146},{"$f":"AccVelDataLink!F1458","v":"RCP5-SA6R-3-水平"},{"$f":"AccVelDataLink!G1458","v":9},{"$f":"AccVelDataLink!A1458","v":1455},"先頭","○"]
[1146,0,10000,1456,{"$f":"A1148","v":1145},1147,null,{"$f":"AccVelDataLink!G1459","v":10},{"$f":"AccVelDataLink!A1459","v":1456},"○","○"]
[1147,0,11000,1458,1146,1148,null,{"$f":"AccVelDataLink!G1461","v":11},{"$f":"AccVelDataLink!A1461","v":1458},"○","○"]
[1148,0,12000,1459,1147,1149,null,{"$f":"AccVelDataLink!G1462","v":12},{"$f":"AccVelDataLink!A1462","v":1459},"○","○"]
[1149,0,13000,1460,1148,1150,null,{"$f":"AccVelDataLink!G1463","v":13},{"$f":"AccVelDataLink!A1463","v":1460},"○","○"]
[1150,0,14000,1461,1149,1151,null,{"$f":"AccVelDataLink!G1464","v":14},{"$f":"AccVelDataLink!A1464","v":1461},"○","○"]
[1151,0,16000,1463,1150,1152,null,{"$f":"AccVelDataLink!G1466","v":16},{"$f":"AccVelDataLink!A1466","v":1463},"○","○"]
[1152,0,18000,1465,1151,1153,null,{"$f":"AccVelDataLink!G1468","v":18},{"$f":"AccVelDataLink!A1468","v":1465},"○","○"]
[1153,0,19000,1466,1152,1154,null,{"$f":"AccVelDataLink!G1469","v":19},{"$f":"AccVelDataLink!A1469","v":1466},"○","○"]
[1154,1,3000,1468,1153,1155,{"$f":"AccVelDataLink!F1471","v":"RCP5-SA6R-3-垂直"},{"$f":"AccVelDataLink!G1471","v":3},{"$f":"AccVelDataLink!A1471","v":1468},"○","○"]
[1155,1,4500,1469,1154,1156,null,{"$f":"AccVelDataLink!G1472","v":4.5},{"$f":"AccVelDataLink!A1472","v":1469},"○","○"]
[1156,1,5000,1470,1155,1157,null,{"$f":"AccVelDataLink!G1473","v":5},{"$f":"AccVelDataLink!A1473","v":1470},{"$f":"IF(E1159=A1158,\"○\",IF(G1159=0,\"つなぎまちがい\",\"先頭\"))","v":"○"},{"$f":"IF(F1159=A1160,\"○\",IF(F1159<>E1160,\"つなぎまちがい\",\"終端\"))","v":"○"}]
[1157,1,6000,1471,1156,1158,null,{"$f":"AccVelDataLink!G1474","v":6},{"$f":"AccVelDataLink!A1474","v":1471},"○","○"]
[1158,1,7000,1472,1157,1159,null,{"$f":"AccVelDataLink!G1475","v":7},{"$f":"AccVelDataLink!A1475","v":1472},"○","○"]
[1159,1,8000,1473,1158,1160,null,{"$f":"AccVelDataLink!G1476","v":8},{"$f":"AccVelDataLink!A1476","v":1473},"○","○"]
[1160,1,9000,1474,1159,{"$f":"A1164","v":1161},null,{"$f":"AccVelDataLink!G1477","v":9},{"$f":"AccVelDataLink!A1477","v":1474},"○","○"]
[1161,1,10000,1475,{"$f":"A1163","v":1160},-1,null,{"$f":"AccVelDataLink!G1478","v":10},{"$f":"AccVelDataLink!A1478","v":1475},"○","終端"]
[1162,0,{"$f":"H1165*$H$1","v":4000},{"$f":"I1165","v":1477},-1,{"$f":"A1166","v":1163},{"$f":"AccVelDataLink!F1480","v":"RCP5-SA6R-6-水平"},{"$f":"AccVelDataLink!G1480","v":4},{"$f":"AccVelDataLink!A1480","v":1477},"先頭","○"]
[1163,0,6000,1478,{"$f":"A1165","v":1162},1164,null,{"$f":"AccVelDataLink!G1481","v":6},{"$f":"AccVelDataLink!A1481","v":1478},"○","○"]
[1164,0,7000,1479,1163,1165,null,{"$f":"AccVelDataLink!G1482","v":7},{"$f":"AccVelDataLink!A1482","v":1479},"○","○"]
[1165,0,10000,1480,1164,1166,null,{"$f":"AccVelDataLink!G1483","v":10},{"$f":"AccVelDataLink!A1483","v":1480},"○","○"]
[1166,0,12000,1481,1165,1167,null,{"$f":"AccVelDataLink!G1484","v":12},{"$f":"AccVelDataLink!A1484","v":1481},"○","○"]
[1167,0,13000,1483,1166,1168,null,{"$f":"AccVelDataLink!G1486","v":13},{"$f":"AccVelDataLink!A1486","v":1483},"○","○"]
[1168,0,15000,1485,1167,1169,null,{"$f":"AccVelDataLink!G1488","v":15},{"$f":"AccVelDataLink!A1488","v":1485},"○","○"]
[1169,0,16000,1487,1168,1170,null,{"$f":"AccVelDataLink!G1490","v":16},{"$f":"AccVelDataLink!A1490","v":1487},"○","○"]
[1170,1,1500,1488,1169,1171,{"$f":"AccVelDataLink!F1491","v":"RCP5-SA6R-6-垂直"},{"$f":"AccVelDataLink!G1491","v":1.5},{"$f":"AccVelDataLink!A1491","v":1488},"○","○"]
[1171,1,2000,1489,1170,1172,null,{"$f":"AccVelDataLink!G1492","v":2},{"$f":"AccVelDataLink!A1492","v":1489},"○","○"]
[1172,1,2500,1490,1171,1173,null,{"$f":"AccVelDataLink!G1493","v":2.5},{"$f":"AccVelDataLink!A1493","v":1490},"○","○"]
[1173,1,3000,1491,1172,1174,null,{"$f":"AccVelDataLink!G1494","v":3},{"$f":"AccVelDataLink!A1494","v":1491},"○","○"]
[1174,1,4000,1492,1173,1175,null,{"$f":"AccVelDataLink!G1495","v":4},{"$f":"AccVelDataLink!A1495","v":1492},"○","○"]
[1175,1,4500,1494,1174,{"$f":"A1179","v":1176},null,{"$f":"AccVelDataLink!G1497","v":4.5},{"$f":"AccVelDataLink!A1497","v":1494},"○","○"]
[1176,1,5000,1495,{"$f":"A1178","v":1175},-1,null,{"$f":"AccVelDataLink!G1498","v":5},{"$f":"AccVelDataLink!A1498","v":1495},"○","終端"]
[1177,0,{"$f":"H1180*$H$1","v":1500},{"$f":"I1180","v":1497},-1,{"$f":"A1181","v":1178},{"$f":"AccVelDataLink!F1500","v":"RCP5-SA6R-12-水平"},{"$f":"AccVelDataLink!G1500","v":1.5},{"$f":"AccVelDataLink!A1500","v":1497},"先頭","○"]
[1178,0,2000,1498,{"$f":"A1180","v":1177},1179,null,{"$f":"AccVelDataLink!G1501","v":2},{"$f":"AccVelDataLink!A1501","v":1498},"○","○"]
[1179,0,3000,1500,1178,1180,null,{"$f":"AccVelDataLink!G1503","v":3},{"$f":"AccVelDataLink!A1503","v":1500},"○","○"]
[1180,0,3500,1501,1179,1181,null,{"$f":"AccVelDataLink!G1504","v":3.5},{"$f":"AccVelDataLink!A1504","v":1501},"○","○"]
[1181,0,4000,1502,1180,1182,null,{"$f":"AccVelDataLink!G1505","v":4},{"$f":"AccVelDataLink!A1505","v":1502},"○","○"]
[1182,0,6000,1503,1181,1183,null,{"$f":"AccVelDataLink!G1506","v":6},{"$f":"AccVelDataLink!A1506","v":1503},"○","○"]
[1183,0,7000,1505,1182,1184,null,{"$f":"AccVelDataLink!G1508","v":7},{"$f":"AccVelDataLink!A1508","v":1505},"○","○"]
[1184,0,8000,1508,1183,1185,null,{"$f":"AccVelDataLink!G1511","v":8},{"$f":"AccVelDataLink!A1511","v":1508},"○","○"]
[1185,0,8500,1509,1184,1186,null,{"$f":"AccVelDataLink!G1512","v":8.5},{"$f":"AccVelDataLink!A1512","v":1509},"○","○"]
[1186,1,500,1510,1185,1187,{"$f":"AccVelDataLink!F1513","v":"RCP5-SA6R-12-垂直"},{"$f":"AccVelDataLink!G1513","v":0.5},{"$f":"AccVelDataLink!A1513","v":1510},"○","○"]
[1187,1,1000,1511,1186,1188,null,{"$f":"AccVelDataLink!G1514","v":1},{"$f":"AccVelDataLink!A1514","v":1511},"○","○"]
[1188,1,1500,1513,1187,{"$f":"A1192","v":1189},null,{"$f":"AccVelDataLink!G1516","v":1.5},{"$f":"AccVelDataLink!A1516","v":1513},"○","○"]
[1189,1,2000,1515,{"$f":"A1191","v":1188},-1,null,{"$f":"AccVelDataLink!G1518","v":2},{"$f":"AccVelDataLink!A1518","v":1515},"○","終端"]
[1190,0,{"$f":"H1193*$H$1","v":500},{"$f":"I1193","v":1517},-1,{"$f":"A1194","v":1191},{"$f":"AccVelDataLink!F1520","v":"RCP5-SA6R-20-水平"},{"$f":"AccVelDataLink!G1520","v":0.5},{"$f":"AccVelDataLink!A1520","v":1517},"先頭","○"]
[1191,0,1000,1518,{"$f":"A1193","v":1190},1192,null,{"$f":"AccVelDataLink!G1521","v":1},{"$f":"AccVelDataLink!A1521","v":1518},"○","○"]
[{"$f":"A1194+1","v":1192},0,1500,1519,1191,1193,null,{"$f":"AccVelDataLink!G1522","v":1.5},{"$f":"AccVelDataLink!A1522","v":1519},"○","○"]
[1193,0,2000,1520,1192,1194,null,{"$f":"AccVelDataLink!G1523","v":2},{"$f":"AccVelDataLink!A1523","v":1520},"○","○"]
[1194,0,3000,1522,1193,1195,null,{"$f":"AccVelDataLink!G1525","v":3},{"$f":"AccVelDataLink!A1525","v":1522},"○","○"]
[1195,0,4000,1524,1194,1196,null,{"$f":"AccVelDataLink!G1527","v":4},{"$f":"AccVelDataLink!A1527","v":1524},"○","○"]
[1196,0,5000,1526,1195,1197,null,{"$f":"AccVelDataLink!G1529","v":5},{"$f":"AccVelDataLink!A1529","v":1526},"○","○"]
[1197,0,6000,1527,1196,{"$f":"A1201","v":1198},null,{"$f":"AccVelDataLink!G1530","v":6},{"$f":"AccVelDataLink!A1530","v":1527},"○","○"]
[1198,1,500,1528,{"$f":"A1200","v":1197},-1,{"$f":"AccVelDataLink!F1531","v":"RCP5-SA6R-20-垂直"},{"$f":"AccVelDataLink!G1531","v":0.5},{"$f":"AccVelDataLink!A1531","v":1528},"○","終端"]
[1199,0,{"$f":"H1202*$H$1","v":22000},{"$f":"I1202","v":1529},-1,{"$f":"A1203","v":1200},{"$f":"AccVelDataLink!F1532","v":"RCP5-SA7R-4-水平"},{"$f":"AccVelDataLink!G1532","v":22},{"$f":"AccVelDataLink!A1532","v":1529},"先頭","○"]
[1200,0,{"$f":"H1203*$H$1","v":40000},{"$f":"I1203","v":1530},{"$f":"A1202","v":1199},{"$f":"A1204","v":1201},null,{"$f":"AccVelDataLink!G1533","v":40},{"$f":"AccVelDataLink!A1533","v":1530},"○","○"]
[1201,1,{"$f":"H1204*$H$1","v":3000},{"$f":"I1204","v":1531},{"$f":"A1203","v":1200},{"$f":"A1205","v":1202},{"$f":"AccVelDataLink!F1534","v":"RCP5-SA7R-4-垂直"},{"$f":"AccVelDataLink!G1534","v":3},{"$f":"AccVelDataLink!A1534","v":1531},"○","○"]
[1202,1,{"$f":"H1205*$H$1","v":10000},{"$f":"I1205","v":1532},{"$f":"A1204","v":1201},{"$f":"A1206","v":1203},null,{"$f":"AccVelDataLink!G1535","v":10},{"$f":"AccVelDataLink!A1535","v":1532},"○","○"]
[1203,1,{"$f":"H1206*$H$1","v":15000},{"$f":"I1206","v":1533},{"$f":"A1205","v":1202},-1,null,{"$f":"AccVelDataLink!G1536","v":15},{"$f":"AccVelDataLink!A1536","v":1533},"○","終端"]
[1204,0,{"$f":"H1207*$H$1","v":6000},{"$f":"I1207","v":1534},-1,{"$f":"A1208","v":1205},{"$f":"AccVelDataLink!F1537","v":"RCP5-SA7R-8-水平"},{"$f":"AccVelDataLink!G1537","v":6},{"$f":"AccVelDataLink!A1537","v":1534},"先頭","○"]
[1205,0,25000,1535,{"$f":"A1207","v":1204},1206,null,{"$f":"AccVelDataLink!G1538","v":25},{"$f":"AccVelDataLink!A1538","v":1535},"○","○"]
[1206,0,40000,1536,1205,1207,null,{"$f":"AccVelDataLink!G1539","v":40},{"$f":"AccVelDataLink!A1539","v":1536},"○","○"]
[1207,1,1000,1537,1206,1208,{"$f":"AccVelDataLink!F1540","v":"RCP5-SA7R-8-垂直"},{"$f":"AccVelDataLink!G1540","v":1},{"$f":"AccVelDataLink!A1540","v":1537},"○","○"]
[1208,1,4000,1538,1207,1209,null,{"$f":"AccVelDataLink!G1541","v":4},{"$f":"AccVelDataLink!A1541","v":1538},"○","○"]
[1209,1,7000,1539,1208,1210,null,{"$f":"AccVelDataLink!G1542","v":7},{"$f":"AccVelDataLink!A1542","v":1539},"○","○"]
[1210,1,10000,1540,1209,-1,null,{"$f":"AccVelDataLink!G1543","v":10},{"$f":"AccVelDataLink!A1543","v":1540},"○","終端"]
[1211,0,{"$f":"H1214*$H$1","v":4000},{"$f":"I1214","v":1541},-1,{"$f":"A1215","v":1212},{"$f":"AccVelDataLink!F1544","v":"RCP5-SA7R-16-水平"},{"$f":"AccVelDataLink!G1544","v":4},{"$f":"AccVelDataLink!A1544","v":1541},"先頭","○"]
[1212,0,15000,1542,{"$f":"A1214","v":1211},1213,null,{"$f":"AccVelDataLink!G1545","v":15},{"$f":"AccVelDataLink!A1545","v":1542},"○","○"]
[1213,0,25000,1543,1212,1214,null,{"$f":"AccVelDataLink!G1546","v":25},{"$f":"AccVelDataLink!A1546","v":1543},"○","○"]
[1214,0,35000,1544,1213,1215,null,{"$f":"AccVelDataLink!G1547","v":35},{"$f":"AccVelDataLink!A1547","v":1544},"○","○"]
[1215,1,500,1545,1214,1216,{"$f":"AccVelDataLink!F1548","v":"RCP5-SA7R-16-垂直"},{"$f":"AccVelDataLink!G1548","v":0.5},{"$f":"AccVelDataLink!A1548","v":1545},"○","○"]
[1216,1,1500,1546,1215,1217,null,{"$f":"AccVelDataLink!G1549","v":1.5},{"$f":"AccVelDataLink!A1549","v":1546},"○","○"]
[1217,1,3000,1547,1216,{"$f":"A1221","v":1218},null,{"$f":"AccVelDataLink!G1550","v":3},{"$f":"AccVelDataLink!A1550","v":1547},"○","○"]
[1218,1,5000,1548,{"$f":"A1220","v":1217},-1,null,{"$f":"AccVelDataLink!G1551","v":5},{"$f":"AccVelDataLink!A1551","v":1548},"○","終端"]
[1219,0,{"$f":"H1222*$H$1","v":1000},{"$f":"I1222","v":1549},-1,{"$f":"A1223","v":1220},{"$f":"AccVelDataLink!F1552","v":"RCP5-SA7R-24-水平"},{"$f":"AccVelDataLink!G1552","v":1},{"$f":"AccVelDataLink!A1552","v":1549},"先頭","○"]
[1220,0,{"$f":"H1223*$H$1","v":9000},{"$f":"I1223","v":1550},{"$f":"A1222","v":1219},{"$f":"A1224","v":1221},null,{"$f":"AccVelDataLink!G1553","v":9},{"$f":"AccVelDataLink!A1553","v":1550},{"$f":"IF(E1223=A1222,\"○\",IF(G1223=0,\"つなぎまちがい\",\"先頭\"))","v":"○"},{"$f":"IF(F1223=A1224,\"○\",IF(F1223<>E1224,\"つなぎまちがい\",\"終端\"))","v":"○"}]
[1221,0,{"$f":"H1224*$H$1","v":18000},{"$f":"I1224","v":1551},{"$f":"A1223","v":1220},{"$f":"A1225","v":1222},null,{"$f":"AccVelDataLink!G1554","v":18},{"$f":"AccVelDataLink!A1554","v":1551},"○","○"]
[1222,1,{"$f":"H1225*$H$1","v":1500},{"$f":"I1225","v":1552},{"$f":"A1224","v":1221},{"$f":"A1226","v":1223},{"$f":"AccVelDataLink!F1555","v":"RCP5-SA7R-24-垂直"},{"$f":"AccVelDataLink!G1555","v":1.5},{"$f":"AccVelDataLink!A1555","v":1552},"○","○"]
[1223,1,{"$f":"H1226*$H$1","v":2000},{"$f":"I1226","v":1553},{"$f":"A1225","v":1222},-1,null,{"$f":"AccVelDataLink!G1556","v":2},{"$f":"AccVelDataLink!A1556","v":1553},"○","終端"]
[1224,0,{"$f":"H1227*$H$1","v":10000},{"$f":"I1227","v":1554},-1,{"$f":"A1228","v":1225},{"$f":"AccVelDataLink!F1557","v":"RCP5-RA4R-2.5-水平"},{"$f":"AccVelDataLink!G1557","v":10},{"$f":"AccVelDataLink!A1557","v":1554},"先頭","○"]
[1225,0,15000,1555,{"$f":"A1227","v":1224},1226,null,{"$f":"AccVelDataLink!G1558","v":15},{"$f":"AccVelDataLink!A1558","v":1555},"○","○"]
[1226,0,20000,1557,1225,1227,null,{"$f":"AccVelDataLink!G1560","v":20},{"$f":"AccVelDataLink!A1560","v":1557},"○","○"]
[1227,0,25000,1560,1226,1228,null,{"$f":"AccVelDataLink!G1563","v":25},{"$f":"AccVelDataLink!A1563","v":1560},"○","○"]
[1228,0,30000,1564,1227,1229,null,{"$f":"AccVelDataLink!G1567","v":30},{"$f":"AccVelDataLink!A1567","v":1564},"○","○"]
[1229,0,32000,1568,1228,1230,null,{"$f":"AccVelDataLink!G1571","v":32},{"$f":"AccVelDataLink!A1571","v":1568},"○","○"]
[1230,0,35000,1569,1229,1231,null,{"$f":"AccVelDataLink!G1572","v":35},{"$f":"AccVelDataLink!A1572","v":1569},"○","○"]
[1231,1,4000,1571,1230,1232,{"$f":"AccVelDataLink!F1574","v":"RCP5-RA4R-2.5-垂直"},{"$f":"AccVelDataLink!G1574","v":4},{"$f":"AccVelDataLink!A1574","v":1571},"○","○"]
[1232,1,5000,1572,1231,1233,null,{"$f":"AccVelDataLink!G1575","v":5},{"$f":"AccVelDataLink!A1575","v":1572},"○","○"]
[1233,1,6000,1574,1232,1234,null,{"$f":"AccVelDataLink!G1577","v":6},{"$f":"AccVelDataLink!A1577","v":1574},"○","○"]
[1234,1,7000,1575,1233,1235,null,{"$f":"AccVelDataLink!G1578","v":7},{"$f":"AccVelDataLink!A1578","v":1575},"○","○"]
[1235,1,8000,1577,1234,{"$f":"A1239","v":1236},null,{"$f":"AccVelDataLink!G1580","v":8},{"$f":"AccVelDataLink!A1580","v":1577},"○","○"]
[1236,1,10000,1579,{"$f":"A1238","v":1235},-1,null,{"$f":"AccVelDataLink!G1582","v":10},{"$f":"AccVelDataLink!A1582","v":1579},"○","終端"]
[1237,0,{"$f":"H1240*$H$1","v":6000},{"$f":"I1240","v":1581},-1,{"$f":"A1241","v":1238},{"$f":"AccVelDataLink!F1584","v":"RCP5-RA4R-5-水平"},{"$f":"AccVelDataLink!G1584","v":6},{"$f":"AccVelDataLink!A1584","v":1581},"先頭","○"]
[1238,0,8000,1582,{"$f":"A1240","v":1237},1239,null,{"$f":"AccVelDataLink!G1585","v":8},{"$f":"AccVelDataLink!A1585","v":1582},"○","○"]
[1239,0,10000,1583,1238,1240,null,{"$f":"AccVelDataLink!G1586","v":10},{"$f":"AccVelDataLink!A1586","v":1583},"○","○"]
[1240,0,12000,1584,1239,1241,null,{"$f":"AccVelDataLink!G1587","v":12},{"$f":"AccVelDataLink!A1587","v":1584},"○","○"]
[1241,0,14000,1586,1240,1242,null,{"$f":"AccVelDataLink!G1589","v":14},{"$f":"AccVelDataLink!A1589","v":1586},"○","○"]
[1242,0,15000,1587,1241,1243,null,{"$f":"AccVelDataLink!G1590","v":15},{"$f":"AccVelDataLink!A1590","v":1587},"○","○"]
[1243,0,18000,1589,1242,1244,null,{"$f":"AccVelDataLink!G1592","v":18},{"$f":"AccVelDataLink!A1592","v":1589},"○","○"]
[1244,0,20000,1592,1243,1245,null,{"$f":"AccVelDataLink!G1595","v":20},{"$f":"AccVelDataLink!A1595","v":1592},"○","○"]
[1245,0,22000,1595,1244,1246,null,{"$f":"AccVelDataLink!G1598","v":22},{"$f":"AccVelDataLink!A1598","v":1595},"○","○"]
[1246,1,2000,1597,1245,1247,{"$f":"AccVelDataLink!F1600","v":"RCP5-RA4R-5-垂直"},{"$f":"AccVelDataLink!G1600","v":2},{"$f":"AccVelDataLink!A1600","v":1597},"○","○"]
[1247,1,3000,1598,1246,1248,null,{"$f":"AccVelDataLink!G1601","v":3},{"$f":"AccVelDataLink!A1601","v":1598},"○","○"]
[1248,1,4000,1600,1247,{"$f":"A1252","v":1249},null,{"$f":"AccVelDataLink!G1603","v":4},{"$f":"AccVelDataLink!A1603","v":1600},"○","○"]
[1249,1,5000,1603,{"$f":"A1251","v":1248},-1,null,{"$f":"AccVelDataLink!G1606","v":5},{"$f":"AccVelDataLink!A1606","v":1603},"○","終端"]
[1250,0,{"$f":"H1253*$H$1","v":1000},{"$f":"I1253","v":1605},-1,{"$f":"A1254","v":1251},{"$f":"AccVelDataLink!F1608","v":"RCP5-RA4R-10-水平"},{"$f":"AccVelDataLink!G1608","v":1},{"$f":"AccVelDataLink!A1608","v":1605},"先頭","○"]
[1251,0,3000,1606,{"$f":"A1253","v":1250},1252,null,{"$f":"AccVelDataLink!G1609","v":3},{"$f":"AccVelDataLink!A1609","v":1606},"○","○"]
[1252,0,4000,1607,1251,1253,null,{"$f":"AccVelDataLink!G1610","v":4},{"$f":"AccVelDataLink!A1610","v":1607},"○","○"]
[1253,0,5000,1608,1252,1254,null,{"$f":"AccVelDataLink!G1611","v":5},{"$f":"AccVelDataLink!A1611","v":1608},"○","○"]
[1254,0,6000,1609,1253,1255,null,{"$f":"AccVelDataLink!G1612","v":6},{"$f":"AccVelDataLink!A1612","v":1609},"○","○"]
[1255,0,7000,1611,1254,1256,null,{"$f":"AccVelDataLink!G1614","v":7},{"$f":"AccVelDataLink!A1614","v":1611},"○","○"]
[{"$f":"A1258+1","v":1256},0,8000,1614,1255,1257,null,{"$f":"AccVelDataLink!G1617","v":8},{"$f":"AccVelDataLink!A1617","v":1614},"○","○"]
[1257,0,9000,1617,1256,1258,null,{"$f":"AccVelDataLink!G1620","v":9},{"$f":"AccVelDataLink!A1620","v":1617},"○","○"]
[1258,0,10000,1619,1257,1259,null,{"$f":"AccVelDataLink!G1622","v":10},{"$f":"AccVelDataLink!A1622","v":1619},"○","○"]
[1259,1,500,1621,1258,1260,{"$f":"AccVelDataLink!F1624","v":"RCP5-RA4R-10-垂直"},{"$f":"AccVelDataLink!G1624","v":0.5},{"$f":"AccVelDataLink!A1624","v":1621},"○","○"]
[1260,1,1000,1622,1259,1261,null,{"$f":"AccVelDataLink!G1625","v":1},{"$f":"AccVelDataLink!A1625","v":1622},"○","○"]
[1261,1,1500,1623,1260,{"$f":"A1265","v":1262},null,{"$f":"AccVelDataLink!G1626","v":1.5},{"$f":"AccVelDataLink!A1626","v":1623},"○","○"]
[1262,1,2000,1624,{"$f":"A1264","v":1261},-1,null,{"$f":"AccVelDataLink!G1627","v":2},{"$f":"AccVelDataLink!A1627","v":1624},"○","終端"]
[1263,0,{"$f":"H1266*$H$1","v":1500},{"$f":"I1266","v":1626},-1,{"$f":"A1267","v":1264},{"$f":"AccVelDataLink!F1629","v":"RCP5-RA4R-16-水平"},{"$f":"AccVelDataLink!G1629","v":1.5},{"$f":"AccVelDataLink!A1629","v":1626},"先頭","○"]
[1264,0,2500,1627,{"$f":"A1266","v":1263},1265,null,{"$f":"AccVelDataLink!G1630","v":2.5},{"$f":"AccVelDataLink!A1630","v":1627},"○","○"]
[1265,0,3000,1629,1264,1266,null,{"$f":"AccVelDataLink!G1632","v":3},{"$f":"AccVelDataLink!A1632","v":1629},"○","○"]
[1266,0,3500,1631,1265,1267,null,{"$f":"AccVelDataLink!G1634","v":3.5},{"$f":"AccVelDataLink!A1634","v":1631},"○","○"]
[1267,0,4000,1632,1266,1268,null,{"$f":"AccVelDataLink!G1635","v":4},{"$f":"AccVelDataLink!A1635","v":1632},"○","○"]
[1268,0,5000,1634,1267,1269,null,{"$f":"AccVelDataLink!G1637","v":5},{"$f":"AccVelDataLink!A1637","v":1634},"○","○"]
[1269,1,500,1636,1268,{"$f":"A1273","v":1270},{"$f":"AccVelDataLink!F1639","v":"RCP5-RA4R-16-垂直"},{"$f":"AccVelDataLink!G1639","v":0.5},{"$f":"AccVelDataLink!A1639","v":1636},"○","○"]
[1270,1,1000,1637,{"$f":"A1272","v":1269},-1,null,{"$f":"AccVelDataLink!G1640","v":1},{"$f":"AccVelDataLink!A1640","v":1637},"○","終端"]
[1271,0,{"$f":"H1274*$H$1","v":40000},{"$f":"I1274","v":1639},-1,{"$f":"A1275","v":1272},{"$f":"AccVelDataLink!F1642","v":"RCP5-RA6R-3-水平"},{"$f":"AccVelDataLink!G1642","v":40},{"$f":"AccVelDataLink!A1642","v":1639},"先頭","○"]
[1272,1,5000,1640,{"$f":"A1274","v":1271},{"$f":"A1276","v":1273},{"$f":"AccVelDataLink!F1643","v":"RCP5-RA6R-3-垂直"},{"$f":"AccVelDataLink!G1643","v":5},{"$f":"AccVelDataLink!A1643","v":1640},"○","○"]
[1273,1,9000,1641,{"$f":"A1275","v":1272},{"$f":"A1277","v":1274},null,{"$f":"AccVelDataLink!G1644","v":9},{"$f":"AccVelDataLink!A1644","v":1641},"○","○"]
[1274,1,12000,1642,{"$f":"A1276","v":1273},{"$f":"A1278","v":1275},null,{"$f":"AccVelDataLink!G1645","v":12},{"$f":"AccVelDataLink!A1645","v":1642},"○","○"]
[1275,1,16000,1643,{"$f":"A1277","v":1274},{"$f":"A1279","v":1276},null,{"$f":"AccVelDataLink!G1646","v":16},{"$f":"AccVelDataLink!A1646","v":1643},"○","○"]
[1276,1,20000,1644,{"$f":"A1278","v":1275},-1,null,{"$f":"AccVelDataLink!G1647","v":20},{"$f":"AccVelDataLink!A1647","v":1644},"○","終端"]
[1277,0,{"$f":"H1280*$H$1","v":10000},{"$f":"I1280","v":1645},-1,{"$f":"A1281","v":1278},{"$f":"AccVelDataLink!F1648","v":"RCP5-RA6R-6-水平"},{"$f":"AccVelDataLink!G1648","v":10},{"$f":"AccVelDataLink!A1648","v":1645},"先頭","○"]
[1278,0,35000,1646,{"$f":"A1280","v":1277},1279,null,{"$f":"AccVelDataLink!G1649","v":35},{"$f":"AccVelDataLink!A1649","v":1646},"○","○"]
[1279,0,40000,1647,1278,1280,null,{"$f":"AccVelDataLink!G1650","v":40},{"$f":"AccVelDataLink!A1650","v":1647},"○","○"]
[1280,1,3000,1648,1279,1281,{"$f":"AccVelDataLink!F1651","v":"RCP5-RA6R-6-垂直"},{"$f":"AccVelDataLink!G1651","v":3},{"$f":"AccVelDataLink!A1651","v":1648},"○","○"]
[1281,1,5000,1649,1280,1282,null,{"$f":"AccVelDataLink!G1652","v":5},{"$f":"AccVelDataLink!A1652","v":1649},"○","○"]
[1282,1,8000,1650,1281,1283,null,{"$f":"AccVelDataLink!G1653","v":8},{"$f":"AccVelDataLink!A1653","v":1650},"○","○"]
[1283,1,10000,1651,1282,-1,null,{"$f":"AccVelDataLink!G1654","v":10},{"$f":"AccVelDataLink!A1654","v":1651},"○","終端"]
[1284,0,{"$f":"H1287*$H$1","v":5000},{"$f":"I1287","v":1652},-1,{"$f":"A1288","v":1285},{"$f":"AccVelDataLink!F1655","v":"RCP5-RA6R-12-水平"},{"$f":"AccVelDataLink!G1655","v":5},{"$f":"AccVelDataLink!A1655","v":1652},{"$f":"IF(E1287=A1286,\"○\",IF(G1287=0,\"つなぎまちがい\",\"先頭\"))","v":"先頭"},{"$f":"IF(F1287=A1288,\"○\",IF(F1287<>E1288,\"つなぎまちがい\",\"終端\"))","v":"○"}]
[1285,0,10000,1653,{"$f":"A1287","v":1284},1286,null,{"$f":"AccVelDataLink!G1656","v":10},{"$f":"AccVelDataLink!A1656","v":1653},"○","○"]
[1286,0,20000,1654,1285,1287,null,{"$f":"AccVelDataLink!G1657","v":20},{"$f":"AccVelDataLink!A1657","v":1654},"○","○"]
[1287,0,25000,1655,1286,1288,null,{"$f":"AccVelDataLink!G1658","v":25},{"$f":"AccVelDataLink!A1658","v":1655},"○","○"]
[1288,1,1000,1656,1287,1289,{"$f":"AccVelDataLink!F1659","v":"RCP5-RA6R-12-垂直"},{"$f":"AccVelDataLink!G1659","v":1},{"$f":"AccVelDataLink!A1659","v":1656},"○","○"]
[1289,1,2000,1657,1288,1290,null,{"$f":"AccVelDataLink!G1660","v":2},{"$f":"AccVelDataLink!A1660","v":1657},"○","○"]
[1290,1,3000,1658,1289,{"$f":"A1294","v":1291},null,{"$f":"AccVelDataLink!G1661","v":3},{"$f":"AccVelDataLink!A1661","v":1658},"○","○"]
[1291,1,4000,1659,{"$f":"A1293","v":1290},-1,null,{"$f":"AccVelDataLink!G1662","v":4},{"$f":"AccVelDataLink!A1662","v":1659},"○","終端"]
[1292,0,{"$f":"H1295*$H$1","v":3000},{"$f":"I1295","v":1660},-1,{"$f":"A1296","v":1293},{"$f":"AccVelDataLink!F1663","v":"RCP5-RA6R-20-水平"},{"$f":"AccVelDataLink!G1663","v":3},{"$f":"AccVelDataLink!A1663","v":1660},"先頭","○"]
[1293,0,4000,1661,{"$f":"A1295","v":1292},{"$f":"A1297","v":1294},null,{"$f":"AccVelDataLink!G1664","v":4},{"$f":"AccVelDataLink!A1664","v":1661},"○","○"]
[1294,0,6000,1662,{"$f":"A1296","v":1293},{"$f":"A1298","v":1295},null,{"$f":"AccVelDataLink!G1665","v":6},{"$f":"AccVelDataLink!A1665","v":1662},"○","○"]
[1295,1,500,1663,{"$f":"A1297","v":1294},{"$f":"A1299","v":1296},{"$f":"AccVelDataLink!F1666","v":"RCP5-RA6R-20-垂直"},{"$f":"AccVelDataLink!G1666","v":0.5},{"$f":"AccVelDataLink!A1666","v":1663},"○","○"]
[1296,1,1000,1664,{"$f":"A1298","v":1295},{"$f":"A1300","v":1297},null,{"$f":"AccVelDataLink!G1667","v":1},{"$f":"AccVelDataLink!A1667","v":1664},"○","○"]
[1297,1,1500,1665,{"$f":"A1299","v":1296},-1,null,{"$f":"AccVelDataLink!G1668","v":1.5},{"$f":"AccVelDataLink!A1668","v":1665},"○","終端"]
[1298,0,{"$f":"H1301*$H$1","v":5000},{"$f":"I1301","v":1666},-1,{"$f":"A1302","v":1299},{"$f":"AccVelDataLink!F1669","v":"RCP5-RA7R-4-水平"},{"$f":"AccVelDataLink!G1669","v":5},{"$f":"AccVelDataLink!A1669","v":1666},"先頭","○"]
[1299,0,55000,1667,{"$f":"A1301","v":1298},{"$f":"A1303","v":1300},null,{"$f":"AccVelDataLink!G1670","v":55},{"$f":"AccVelDataLink!A1670","v":1667},"○","○"]
[1300,1,500,1668,{"$f":"A1302","v":1299},{"$f":"A1304","v":1301},{"$f":"AccVelDataLink!F1671","v":"RCP5-RA7R-4-垂直"},{"$f":"AccVelDataLink!G1671","v":0.5},{"$f":"AccVelDataLink!A1671","v":1668},"○","○"]
[1301,1,4000,1669,{"$f":"A1303","v":1300},{"$f":"A1305","v":1302},null,{"$f":"AccVelDataLink!G1672","v":4},{"$f":"AccVelDataLink!A1672","v":1669},"○","○"]
[1302,1,15000,1670,{"$f":"A1304","v":1301},{"$f":"A1306","v":1303},null,{"$f":"AccVelDataLink!G1673","v":15},{"$f":"AccVelDataLink!A1673","v":1670},"○","○"]
[1303,1,26000,1671,{"$f":"A1305","v":1302},-1,null,{"$f":"AccVelDataLink!G1674","v":26},{"$f":"AccVelDataLink!A1674","v":1671},"○","終端"]
[1304,0,{"$f":"H1307*$H$1","v":30000},{"$f":"I1307","v":1672},-1,{"$f":"A1308","v":1305},{"$f":"AccVelDataLink!F1675","v":"RCP5-RA7R-8-水平"},{"$f":"AccVelDataLink!G1675","v":30},{"$f":"AccVelDataLink!A1675","v":1672},"先頭","○"]
[1305,0,{"$f":"H1308*$H$1","v":50000},{"$f":"I1308","v":1673},{"$f":"A1307","v":1304},{"$f":"A1309","v":1306},null,{"$f":"AccVelDataLink!G1676","v":50},{"$f":"AccVelDataLink!A1676","v":1673},"○","○"]
[1306,1,{"$f":"H1309*$H$1","v":2000},{"$f":"I1309","v":1674},{"$f":"A1308","v":1305},{"$f":"A1310","v":1307},{"$f":"AccVelDataLink!F1677","v":"RCP5-RA7R-8-垂直"},{"$f":"AccVelDataLink!G1677","v":2},{"$f":"AccVelDataLink!A1677","v":1674},"○","○"]
[1307,1,{"$f":"H1310*$H$1","v":7000},{"$f":"I1310","v":1675},{"$f":"A1309","v":1306},{"$f":"A1311","v":1308},null,{"$f":"AccVelDataLink!G1678","v":7},{"$f":"AccVelDataLink!A1678","v":1675},"○","○"]
[1308,1,{"$f":"H1311*$H$1","v":17500},{"$f":"I1311","v":1676},{"$f":"A1310","v":1307},-1,null,{"$f":"AccVelDataLink!G1679","v":17.5},{"$f":"AccVelDataLink!A1679","v":1676},"○","終端"]
[1309,0,{"$f":"H1312*$H$1","v":6000},{"$f":"I1312","v":1677},-1,{"$f":"A1313","v":1310},{"$f":"AccVelDataLink!F1680","v":"RCP5-RA7R-16-水平"},{"$f":"AccVelDataLink!G1680","v":6},{"$f":"AccVelDataLink!A1680","v":1677},"先頭","○"]
[1310,0,30000,1678,{"$f":"A1312","v":1309},{"$f":"A1314","v":1311},null,{"$f":"AccVelDataLink!G1681","v":30},{"$f":"AccVelDataLink!A1681","v":1678},"○","○"]
[1311,0,40000,1679,{"$f":"A1313","v":1310},{"$f":"A1315","v":1312},null,{"$f":"AccVelDataLink!G1682","v":40},{"$f":"AccVelDataLink!A1682","v":1679},"○","○"]
[1312,1,500,1680,{"$f":"A1314","v":1311},{"$f":"A1316","v":1313},{"$f":"AccVelDataLink!F1683","v":"RCP5-RA7R-16-垂直"},{"$f":"AccVelDataLink!G1683","v":0.5},{"$f":"AccVelDataLink!A1683","v":1680},"○","○"]
[1313,1,3000,1681,{"$f":"A1315","v":1312},{"$f":"A1317","v":1314},null,{"$f":"AccVelDataLink!G1684","v":3},{"$f":"AccVelDataLink!A1684","v":1681},"○","○"]
[1314,1,5000,1682,{"$f":"A1316","v":1313},-1,null,{"$f":"AccVelDataLink!G1685","v":5},{"$f":"AccVelDataLink!A1685","v":1682},"○","終端"]
[1315,0,{"$f":"H1318*$H$1","v":1000},{"$f":"I1318","v":1683},-1,{"$f":"A1319","v":1316},{"$f":"AccVelDataLink!F1686","v":"RCP5-RA7R-24-水平"},{"$f":"AccVelDataLink!G1686","v":1},{"$f":"AccVelDataLink!A1686","v":1683},"先頭","○"]
[1316,0,10000,1684,{"$f":"A1318","v":1315},{"$f":"A1320","v":1317},null,{"$f":"AccVelDataLink!G1687","v":10},{"$f":"AccVelDataLink!A1687","v":1684},"○","○"]
[1317,0,18000,1685,{"$f":"A1319","v":1316},{"$f":"A1321","v":1318},null,{"$f":"AccVelDataLink!G1688","v":18},{"$f":"AccVelDataLink!A1688","v":1685},"○","○"]
[1318,1,2000,1686,{"$f":"A1320","v":1317},{"$f":"A1322","v":1319},{"$f":"AccVelDataLink!F1689","v":"RCP5-RA7R-24-垂直"},{"$f":"AccVelDataLink!G1689","v":2},{"$f":"AccVelDataLink!A1689","v":1686},"○","○"]
[1319,1,3000,1687,{"$f":"A1321","v":1318},-1,null,{"$f":"AccVelDataLink!G1690","v":3},{"$f":"AccVelDataLink!A1690","v":1687},"○","終端"]
[1320,1,15000,1688,-1,{"$f":"A1324","v":1321},{"$f":"AccVelDataLink!F1691","v":"RCP4-RA6C(高推力)-4-垂直"},{"$f":"AccVelDataLink!G1691","v":15},{"$f":"AccVelDataLink!A1691","v":1688},"先頭","○"]
[{"$f":"A1323+1","v":1321},1,25000,1689,{"$f":"A1323","v":1320},{"$f":"A1325","v":1322},null,{"$f":"AccVelDataLink!G1692","v":25},{"$f":"AccVelDataLink!A1692","v":1689},"○","○"]
[1322,1,45000,1690,{"$f":"A1324","v":1321},{"$f":"A1326","v":1323},null,{"$f":"AccVelDataLink!G1693","v":45},{"$f":"AccVelDataLink!A1693","v":1690},"○","○"]
[1323,1,55000,1691,{"$f":"A1325","v":1322},-1,null,{"$f":"AccVelDataLink!G1694","v":55},{"$f":"AccVelDataLink!A1694","v":1691},"○","終端"]
[1324,0,{"$f":"H1327*$H$1","v":48000},{"$f":"I1327","v":1692},-1,{"$f":"A1328","v":1325},{"$f":"AccVelDataLink!F1695","v":"RCP5W-RA8C-5-水平"},{"$f":"AccVelDataLink!G1695","v":48},{"$f":"AccVelDataLink!A1695","v":1692},"先頭","○"]
[1325,0,60000,1693,{"$f":"A1327","v":1324},1326,null,{"$f":"AccVelDataLink!G1696","v":60},{"$f":"AccVelDataLink!A1696","v":1693},"○","○"]
[1326,0,72000,1694,1325,1327,null,{"$f":"AccVelDataLink!G1697","v":72},{"$f":"AccVelDataLink!A1697","v":1694},"○","○"]
[1327,0,80000,1695,1326,1328,null,{"$f":"AccVelDataLink!G1698","v":80},{"$f":"AccVelDataLink!A1698","v":1695},"○","○"]
[1328,1,8000,1696,1327,1329,{"$f":"AccVelDataLink!F1699","v":"RCP5W-RA8C-5-垂直"},{"$f":"AccVelDataLink!G1699","v":8},{"$f":"AccVelDataLink!A1699","v":1696},"○","○"]
[1329,1,12000,1697,1328,1330,null,{"$f":"AccVelDataLink!G1700","v":12},{"$f":"AccVelDataLink!A1700","v":1697},"○","○"]
[1330,1,16000,1698,1329,1331,null,{"$f":"AccVelDataLink!G1701","v":16},{"$f":"AccVelDataLink!A1701","v":1698},"○","○"]
[1331,1,20000,1699,1330,1332,null,{"$f":"AccVelDataLink!G1702","v":20},{"$f":"AccVelDataLink!A1702","v":1699},"○","○"]
[1332,1,28000,1700,1331,1333,null,{"$f":"AccVelDataLink!G1703","v":28},{"$f":"AccVelDataLink!A1703","v":1700},"○","○"]
[1333,1,40000,1701,1332,{"$f":"A1337","v":1334},null,{"$f":"AccVelDataLink!G1704","v":40},{"$f":"AccVelDataLink!A1704","v":1701},"○","○"]
[1334,1,56000,1702,{"$f":"A1336","v":1333},-1,null,{"$f":"AccVelDataLink!G1705","v":56},{"$f":"AccVelDataLink!A1705","v":1702},"○","終端"]
[1335,0,{"$f":"H1338*$H$1","v":8000},{"$f":"I1338","v":1703},-1,{"$f":"A1339","v":1336},{"$f":"AccVelDataLink!F1706","v":"RCP5W-RA8C-10-水平"},{"$f":"AccVelDataLink!G1706","v":8},{"$f":"AccVelDataLink!A1706","v":1703},"先頭","○"]
[1336,0,32000,1704,{"$f":"A1338","v":1335},1337,null,{"$f":"AccVelDataLink!G1707","v":32},{"$f":"AccVelDataLink!A1707","v":1704},"○","○"]
[1337,0,36000,1705,1336,1338,null,{"$f":"AccVelDataLink!G1708","v":36},{"$f":"AccVelDataLink!A1708","v":1705},"○","○"]
[1338,0,48000,1706,1337,1339,null,{"$f":"AccVelDataLink!G1709","v":48},{"$f":"AccVelDataLink!A1709","v":1706},"○","○"]
[1339,1,1500,1707,1338,1340,{"$f":"AccVelDataLink!F1710","v":"RCP5W-RA8C-10-垂直"},{"$f":"AccVelDataLink!G1710","v":1.5},{"$f":"AccVelDataLink!A1710","v":1707},"○","○"]
[1340,1,2000,1708,1339,1341,null,{"$f":"AccVelDataLink!G1711","v":2},{"$f":"AccVelDataLink!A1711","v":1708},"○","○"]
[1341,1,3000,1709,1340,1342,null,{"$f":"AccVelDataLink!G1712","v":3},{"$f":"AccVelDataLink!A1712","v":1709},"○","○"]
[1342,1,4000,1710,1341,1343,null,{"$f":"AccVelDataLink!G1713","v":4},{"$f":"AccVelDataLink!A1713","v":1710},"○","○"]
[1343,1,5500,1711,1342,1344,null,{"$f":"AccVelDataLink!G1714","v":5.5},{"$f":"AccVelDataLink!A1714","v":1711},"○","○"]
[1344,1,6000,1712,1343,1345,null,{"$f":"AccVelDataLink!G1715","v":6},{"$f":"AccVelDataLink!A1715","v":1712},"○","○"]
[1345,1,8000,1713,1344,1346,null,{"$f":"AccVelDataLink!G1716","v":8},{"$f":"AccVelDataLink!A1716","v":1713},"○","○"]
[1346,1,8500,1714,1345,1347,null,{"$f":"AccVelDataLink!G1717","v":8.5},{"$f":"AccVelDataLink!A1717","v":1714},"○","○"]
[1347,1,12000,1715,1346,1348,null,{"$f":"AccVelDataLink!G1718","v":12},{"$f":"AccVelDataLink!A1718","v":1715},"○","○"]
[1348,1,14000,1716,1347,1349,null,{"$f":"AccVelDataLink!G1719","v":14},{"$f":"AccVelDataLink!A1719","v":1716},{"$f":"IF(E1351=A1350,\"○\",IF(G1351=0,\"つなぎまちがい\",\"先頭\"))","v":"○"},{"$f":"IF(F1351=A1352,\"○\",IF(F1351<>E1352,\"つなぎまちがい\",\"終端\"))","v":"○"}]
[1349,1,18000,1717,1348,1350,null,{"$f":"AccVelDataLink!G1720","v":18},{"$f":"AccVelDataLink!A1720","v":1717},"○","○"]
[1350,1,22000,1718,1349,1351,null,{"$f":"AccVelDataLink!G1721","v":22},{"$f":"AccVelDataLink!A1721","v":1718},"○","○"]
[1351,1,26000,1719,1350,{"$f":"A1355","v":1352},null,{"$f":"AccVelDataLink!G1722","v":26},{"$f":"AccVelDataLink!A1722","v":1719},"○","○"]
[1352,1,32000,1720,{"$f":"A1354","v":1351},-1,null,{"$f":"AccVelDataLink!G1723","v":32},{"$f":"AccVelDataLink!A1723","v":1720},"○","終端"]
[1353,0,{"$f":"H1356*$H$1","v":4000},{"$f":"I1356","v":1721},-1,{"$f":"A1357","v":1354},{"$f":"AccVelDataLink!F1724","v":"RCP5W-RA8C-20-水平"},{"$f":"AccVelDataLink!G1724","v":4},{"$f":"AccVelDataLink!A1724","v":1721},"先頭","○"]
[1354,0,4500,1722,{"$f":"A1356","v":1353},1355,null,{"$f":"AccVelDataLink!G1725","v":4.5},{"$f":"AccVelDataLink!A1725","v":1722},"○","○"]
[1355,0,6000,1723,1354,1356,null,{"$f":"AccVelDataLink!G1726","v":6},{"$f":"AccVelDataLink!A1726","v":1723},"○","○"]
[1356,0,8000,1724,1355,1357,null,{"$f":"AccVelDataLink!G1727","v":8},{"$f":"AccVelDataLink!A1727","v":1724},"○","○"]
[1357,0,9500,1725,1356,1358,null,{"$f":"AccVelDataLink!G1728","v":9.5},{"$f":"AccVelDataLink!A1728","v":1725},"○","○"]
[1358,0,12500,1726,1357,1359,null,{"$f":"AccVelDataLink!G1729","v":12.5},{"$f":"AccVelDataLink!A1729","v":1726},"○","○"]
[1359,0,19000,1727,1358,1360,null,{"$f":"AccVelDataLink!G1730","v":19},{"$f":"AccVelDataLink!A1730","v":1727},"○","○"]
[1360,0,24000,1728,1359,1361,null,{"$f":"AccVelDataLink!G1731","v":24},{"$f":"AccVelDataLink!A1731","v":1728},"○","○"]
[1361,1,1500,1729,1360,{"$f":"A1365","v":1362},{"$f":"AccVelDataLink!F1732","v":"RCP5W-RA8C-20-垂直"},{"$f":"AccVelDataLink!G1732","v":1.5},{"$f":"AccVelDataLink!A1732","v":1729},"○","○"]
[1362,1,2000,1730,1361,1363,null,{"$f":"AccVelDataLink!G1733","v":2},{"$f":"AccVelDataLink!A1733","v":1730},"○","○"]
[1363,1,4000,1731,{"$f":"A1365","v":1362},-1,null,{"$f":"AccVelDataLink!G1734","v":4},{"$f":"AccVelDataLink!A1734","v":1731},"○","終端"]
[1364,0,{"$f":"H1367*$H$1","v":240000},{"$f":"I1367","v":1732},-1,{"$f":"A1368","v":1365},{"$f":"AccVelDataLink!F1735","v":"RCP5W-RA10C-2.5-水平"},{"$f":"AccVelDataLink!G1735","v":240},{"$f":"AccVelDataLink!A1735","v":1732},"先頭","○"]
[1365,1,8000,1733,{"$f":"A1367","v":1364},1366,{"$f":"AccVelDataLink!F1736","v":"RCP5W-RA10C-2.5-垂直"},{"$f":"AccVelDataLink!G1736","v":8},{"$f":"AccVelDataLink!A1736","v":1733},"○","○"]
[1366,1,16000,1734,1365,1367,null,{"$f":"AccVelDataLink!G1737","v":16},{"$f":"AccVelDataLink!A1737","v":1734},"○","○"]
[1367,1,24000,1735,1366,1368,null,{"$f":"AccVelDataLink!G1738","v":24},{"$f":"AccVelDataLink!A1738","v":1735},"○","○"]
[1368,1,52000,1736,1367,1369,null,{"$f":"AccVelDataLink!G1739","v":52},{"$f":"AccVelDataLink!A1739","v":1736},"○","○"]
[1369,1,60000,1737,1368,1370,null,{"$f":"AccVelDataLink!G1740","v":60},{"$f":"AccVelDataLink!A1740","v":1737},"○","○"]
[1370,1,80000,1738,1369,{"$f":"A1374","v":1371},null,{"$f":"AccVelDataLink!G1741","v":80},{"$f":"AccVelDataLink!A1741","v":1738},"○","○"]
[1371,1,120000,1739,{"$f":"A1373","v":1370},-1,null,{"$f":"AccVelDataLink!G1742","v":120},{"$f":"AccVelDataLink!A1742","v":1739},"○","終端"]
[1372,0,{"$f":"H1375*$H$1","v":120000},{"$f":"I1375","v":1740},-1,{"$f":"A1376","v":1373},{"$f":"AccVelDataLink!F1743","v":"RCP5W-RA10C-5-水平"},{"$f":"AccVelDataLink!G1743","v":120},{"$f":"AccVelDataLink!A1743","v":1740},"先頭","○"]
[1373,1,2000,1741,{"$f":"A1375","v":1372},1374,{"$f":"AccVelDataLink!F1744","v":"RCP5W-RA10C-5-垂直"},{"$f":"AccVelDataLink!G1744","v":2},{"$f":"AccVelDataLink!A1744","v":1741},"○","○"]
[1374,1,5500,1742,1373,1375,null,{"$f":"AccVelDataLink!G1745","v":5.5},{"$f":"AccVelDataLink!A1745","v":1742},"○","○"]
[1375,1,7000,1743,1374,1376,null,{"$f":"AccVelDataLink!G1746","v":7},{"$f":"AccVelDataLink!A1746","v":1743},"○","○"]
[1376,1,10000,1744,1375,1377,null,{"$f":"AccVelDataLink!G1747","v":10},{"$f":"AccVelDataLink!A1747","v":1744},"○","○"]
[1377,1,16000,1745,1376,1378,null,{"$f":"AccVelDataLink!G1748","v":16},{"$f":"AccVelDataLink!A1748","v":1745},"○","○"]
[1378,1,20000,1746,1377,1379,null,{"$f":"AccVelDataLink!G1749","v":20},{"$f":"AccVelDataLink!A1749","v":1746},"○","○"]
[1379,1,21500,1747,1378,1380,null,{"$f":"AccVelDataLink!G1750","v":21.5},{"$f":"AccVelDataLink!A1750","v":1747},"○","○"]
[1380,1,23000,1748,1379,1381,null,{"$f":"AccVelDataLink!G1751","v":23},{"$f":"AccVelDataLink!A1751","v":1748},"○","○"]
[1381,1,28000,1749,1380,1382,null,{"$f":"AccVelDataLink!G1752","v":28},{"$f":"AccVelDataLink!A1752","v":1749},"○","○"]
[1382,1,29500,1750,1381,1383,null,{"$f":"AccVelDataLink!G1753","v":29.5},{"$f":"AccVelDataLink!A1753","v":1750},"○","○"]
[1383,1,32000,1751,1382,1384,null,{"$f":"AccVelDataLink!G1754","v":32},{"$f":"AccVelDataLink!A1754","v":1751},"○","○"]
[1384,1,44000,1752,1383,1385,null,{"$f":"AccVelDataLink!G1755","v":44},{"$f":"AccVelDataLink!A1755","v":1752},"○","○"]
[{"$f":"A1387+1","v":1385},1,52000,1753,1384,1386,null,{"$f":"AccVelDataLink!G1756","v":52},{"$f":"AccVelDataLink!A1756","v":1753},"○","○"]
[1386,1,72000,1754,1385,{"$f":"A1390","v":1387},null,{"$f":"AccVelDataLink!G1757","v":72},{"$f":"AccVelDataLink!A1757","v":1754},"○","○"]
[1387,1,80000,1755,{"$f":"A1389","v":1386},-1,null,{"$f":"AccVelDataLink!G1758","v":80},{"$f":"AccVelDataLink!A1758","v":1755},"○","終端"]
[1388,0,{"$f":"H1391*$H$1","v":12000},{"$f":"I1391","v":1756},-1,{"$f":"A1392","v":1389},{"$f":"AccVelDataLink!F1759","v":"RCP5W-RA10C-10-水平"},{"$f":"AccVelDataLink!G1759","v":12},{"$f":"AccVelDataLink!A1759","v":1756},"先頭","○"]
[1389,0,16000,1757,{"$f":"A1391","v":1388},1390,null,{"$f":"AccVelDataLink!G1760","v":16},{"$f":"AccVelDataLink!A1760","v":1757},"○","○"]
[1390,0,30000,1758,1389,1391,null,{"$f":"AccVelDataLink!G1761","v":30},{"$f":"AccVelDataLink!A1761","v":1758},"○","○"]
[1391,0,64000,1759,1390,1392,null,{"$f":"AccVelDataLink!G1762","v":64},{"$f":"AccVelDataLink!A1762","v":1759},"○","○"]
[1392,1,4500,1760,1391,1393,{"$f":"AccVelDataLink!F1763","v":"RCP5W-RA10C-10-垂直"},{"$f":"AccVelDataLink!G1763","v":4.5},{"$f":"AccVelDataLink!A1763","v":1760},"○","○"]
[1393,1,6000,1761,1392,1394,null,{"$f":"AccVelDataLink!G1764","v":6},{"$f":"AccVelDataLink!A1764","v":1761},"○","○"]
[1394,1,8000,1762,1393,1395,null,{"$f":"AccVelDataLink!G1765","v":8},{"$f":"AccVelDataLink!A1765","v":1762},"○","○"]
[1395,1,12000,1763,1394,1396,null,{"$f":"AccVelDataLink!G1766","v":12},{"$f":"AccVelDataLink!A1766","v":1763},"○","○"]
[1396,1,16000,1764,1395,1397,null,{"$f":"AccVelDataLink!G1767","v":16},{"$f":"AccVelDataLink!A1767","v":1764},"○","○"]
[1397,1,28000,1765,1396,1398,null,{"$f":"AccVelDataLink!G1768","v":28},{"$f":"AccVelDataLink!A1768","v":1765},"○","○"]
[1398,1,40000,1766,1397,1399,null,{"$f":"AccVelDataLink!G1769","v":40},{"$f":"AccVelDataLink!A1769","v":1766},"○","○"]
[1399,1,46000,1767,1398,1400,null,{"$f":"AccVelDataLink!G1770","v":46},{"$f":"AccVelDataLink!A1770","v":1767},"○","○"]
[1400,1,55000,1768,1399,{"$f":"A1404","v":1401},null,{"$f":"AccVelDataLink!G1771","v":55},{"$f":"AccVelDataLink!A1771","v":1768},"○","○"]
[{"$f":"A1403+1","v":1401},1,{"$f":"H1404*$H$1","v":64000},{"$f":"I1404","v":1769},{"$f":"A1403","v":1400},-1,null,{"$f":"AccVelDataLink!G1772","v":64},{"$f":"AccVelDataLink!A1772","v":1769},"○","終端"]
[1402,0,5000,1770,-1,{"$f":"A1406","v":1403},{"$f":"AccVelDataLink!F1773","v":"RCP6-SA8C-5-水平"},{"$f":"AccVelDataLink!G1773","v":5},{"$f":"AccVelDataLink!A1773","v":1770},{"$f":"IF(E1405=A1404,\"○\",IF(G1405=0,\"つなぎまちがい\",\"先頭\"))","v":"先頭"},{"$f":"IF(F1405=A1406,\"○\",IF(F1405<>E1406,\"つなぎまちがい\",\"終端\"))","v":"○"}]
[1403,0,10000,1772,{"$f":"A1405","v":1402},1404,null,{"$f":"AccVelDataLink!G1775","v":10},{"$f":"AccVelDataLink!A1775","v":1772},"○","○"]
[1404,0,20000,1773,1403,1405,null,{"$f":"AccVelDataLink!G1776","v":20},{"$f":"AccVelDataLink!A1776","v":1773},"○","○"]
[1405,0,25000,1775,1404,1406,null,{"$f":"AccVelDataLink!G1778","v":25},{"$f":"AccVelDataLink!A1778","v":1775},"○","○"]
[1406,0,30000,1776,1405,1407,null,{"$f":"AccVelDataLink!G1779","v":30},{"$f":"AccVelDataLink!A1779","v":1776},"○","○"]
[1407,0,40000,1777,1406,1408,null,{"$f":"AccVelDataLink!G1780","v":40},{"$f":"AccVelDataLink!A1780","v":1777},"○","○"]
[1408,0,50000,1778,1407,1409,null,{"$f":"AccVelDataLink!G1781","v":50},{"$f":"AccVelDataLink!A1781","v":1778},"○","○"]
[1409,0,70000,1779,1408,1410,null,{"$f":"AccVelDataLink!G1782","v":70},{"$f":"AccVelDataLink!A1782","v":1779},"○","○"]
[1410,0,80000,1781,1409,1411,null,{"$f":"AccVelDataLink!G1784","v":80},{"$f":"AccVelDataLink!A1784","v":1781},"○","○"]
[1411,1,1000,1784,1410,1412,{"$f":"AccVelDataLink!F1787","v":"RCP6-SA8C-5-垂直"},{"$f":"AccVelDataLink!G1787","v":1},{"$f":"AccVelDataLink!A1787","v":1784},"○","○"]
[1412,1,5000,1785,1411,1413,null,{"$f":"AccVelDataLink!G1788","v":5},{"$f":"AccVelDataLink!A1788","v":1785},"○","○"]
[1413,1,6000,1787,1412,1414,null,{"$f":"AccVelDataLink!G1790","v":6},{"$f":"AccVelDataLink!A1790","v":1787},"○","○"]
[1414,1,7000,1788,1413,1415,null,{"$f":"AccVelDataLink!G1791","v":7},{"$f":"AccVelDataLink!A1791","v":1788},"○","○"]
[1415,1,10000,1789,1414,1416,null,{"$f":"AccVelDataLink!G1792","v":10},{"$f":"AccVelDataLink!A1792","v":1789},"○","○"]
[1416,1,12000,1791,1415,1417,null,{"$f":"AccVelDataLink!G1794","v":12},{"$f":"AccVelDataLink!A1794","v":1791},"○","○"]
[1417,1,14000,1792,1416,1418,null,{"$f":"AccVelDataLink!G1795","v":14},{"$f":"AccVelDataLink!A1795","v":1792},"○","○"]
[1418,1,18000,1793,1417,1419,null,{"$f":"AccVelDataLink!G1796","v":18},{"$f":"AccVelDataLink!A1796","v":1793},"○","○"]
[1419,1,30000,1794,1418,{"$f":"A1423","v":1420},null,{"$f":"AccVelDataLink!G1797","v":30},{"$f":"AccVelDataLink!A1797","v":1794},"○","○"]
[{"$f":"A1422+1","v":1420},1,{"$f":"H1423*$H$1","v":55000},{"$f":"I1423","v":1795},{"$f":"A1422","v":1419},-1,null,{"$f":"AccVelDataLink!G1798","v":55},{"$f":"AccVelDataLink!A1798","v":1795},{"$f":"IF(E1423=A1422,\"○\",IF(G1423=0,\"つなぎまちがい\",\"先頭\"))","v":"○"},{"$f":"IF(F1423=A1424,\"○\",IF(F1423<>E1424,\"つなぎまちがい\",\"終端\"))","v":"終端"}]
[{"$f":"A1423+1","v":1421},0,2000,1796,-1,{"$f":"A1425","v":1422},{"$f":"AccVelDataLink!F1799","v":"RCP6-SA8C-10-水平"},{"$f":"AccVelDataLink!G1799","v":2},{"$f":"AccVelDataLink!A1799","v":1796},"先頭","○"]
[1422,0,5000,1797,{"$f":"A1424","v":1421},1423,null,{"$f":"AccVelDataLink!G1800","v":5},{"$f":"AccVelDataLink!A1800","v":1797},"○","○"]
[1423,0,8000,1798,1422,1424,null,{"$f":"AccVelDataLink!G1801","v":8},{"$f":"AccVelDataLink!A1801","v":1798},"○","○"]
[1424,0,10000,1799,1423,1425,null,{"$f":"AccVelDataLink!G1802","v":10},{"$f":"AccVelDataLink!A1802","v":1799},"○","○"]
[1425,0,15000,1800,1424,1426,null,{"$f":"AccVelDataLink!G1803","v":15},{"$f":"AccVelDataLink!A1803","v":1800},"○","○"]
[1426,0,20000,1801,1425,1427,null,{"$f":"AccVelDataLink!G1804","v":20},{"$f":"AccVelDataLink!A1804","v":1801},"○","○"]
[1427,0,25000,1802,1426,1428,null,{"$f":"AccVelDataLink!G1805","v":25},{"$f":"AccVelDataLink!A1805","v":1802},"○","○"]
[1428,0,30000,1804,1427,1429,null,{"$f":"AccVelDataLink!G1807","v":30},{"$f":"AccVelDataLink!A1807","v":1804},"○","○"]
[1429,0,35000,1805,1428,1430,null,{"$f":"AccVelDataLink!G1808","v":35},{"$f":"AccVelDataLink!A1808","v":1805},"○","○"]
[1430,0,40000,1806,1429,1431,null,{"$f":"AccVelDataLink!G1809","v":40},{"$f":"AccVelDataLink!A1809","v":1806},"○","○"]
[1431,0,50000,1807,1430,1432,null,{"$f":"AccVelDataLink!G1810","v":50},{"$f":"AccVelDataLink!A1810","v":1807},"○","○"]
[1432,0,55000,1808,1431,1433,null,{"$f":"AccVelDataLink!G1811","v":55},{"$f":"AccVelDataLink!A1811","v":1808},"○","○"]
[1433,0,60000,1809,1432,1434,null,{"$f":"AccVelDataLink!G1812","v":60},{"$f":"AccVelDataLink!A1812","v":1809},"○","○"]
[1434,0,65000,1810,1433,1435,null,{"$f":"AccVelDataLink!G1813","v":65},{"$f":"AccVelDataLink!A1813","v":1810},"○","○"]
[1435,0,70000,1812,1434,1436,null,{"$f":"AccVelDataLink!G1815","v":70},{"$f":"AccVelDataLink!A1815","v":1812},"○","○"]
[1436,1,1000,1814,1435,1437,{"$f":"AccVelDataLink!F1817","v":"RCP6-SA8C-10-垂直"},{"$f":"AccVelDataLink!G1817","v":1},{"$f":"AccVelDataLink!A1817","v":1814},"○","○"]
[1437,1,2000,1815,1436,1438,null,{"$f":"AccVelDataLink!G1818","v":2},{"$f":"AccVelDataLink!A1818","v":1815},"○","○"]
[1438,1,3000,1816,1437,1439,null,{"$f":"AccVelDataLink!G1819","v":3},{"$f":"AccVelDataLink!A1819","v":1816},"○","○"]
[1439,1,5000,1818,1438,1440,null,{"$f":"AccVelDataLink!G1821","v":5},{"$f":"AccVelDataLink!A1821","v":1818},"○","○"]
[1440,1,9000,1819,1439,1441,null,{"$f":"AccVelDataLink!G1822","v":9},{"$f":"AccVelDataLink!A1822","v":1819},"○","○"]
[1441,1,10000,1820,1440,1442,null,{"$f":"AccVelDataLink!G1823","v":10},{"$f":"AccVelDataLink!A1823","v":1820},"○","○"]
[1442,1,20000,1821,1441,{"$f":"A1446","v":1443},null,{"$f":"AccVelDataLink!G1824","v":20},{"$f":"AccVelDataLink!A1824","v":1821},"○","○"]
[{"$f":"A1445+1","v":1443},1,{"$f":"H1446*$H$1","v":25000},{"$f":"I1446","v":1822},{"$f":"A1445","v":1442},-1,null,{"$f":"AccVelDataLink!G1825","v":25},{"$f":"AccVelDataLink!A1825","v":1822},"○","終端"]
[1444,0,500,1823,-1,{"$f":"A1448","v":1445},{"$f":"AccVelDataLink!F1826","v":"RCP6-SA8C-20-水平"},{"$f":"AccVelDataLink!G1826","v":0.5},{"$f":"AccVelDataLink!A1826","v":1823},{"$f":"IF(E1447=A1446,\"○\",IF(G1447=0,\"つなぎまちがい\",\"先頭\"))","v":"先頭"},{"$f":"IF(F1447=A1448,\"○\",IF(F1447<>E1448,\"つなぎまちがい\",\"終端\"))","v":"○"}]
[1445,0,1000,1824,{"$f":"A1447","v":1444},1446,null,{"$f":"AccVelDataLink!G1827","v":1},{"$f":"AccVelDataLink!A1827","v":1824},"○","○"]
[1446,0,2000,1826,1445,1447,null,{"$f":"AccVelDataLink!G1829","v":2},{"$f":"AccVelDataLink!A1829","v":1826},"○","○"]
[1447,0,3000,1827,1446,1448,null,{"$f":"AccVelDataLink!G1830","v":3},{"$f":"AccVelDataLink!A1830","v":1827},"○","○"]
[1448,0,4000,1828,1447,1449,null,{"$f":"AccVelDataLink!G1831","v":4},{"$f":"AccVelDataLink!A1831","v":1828},"○","○"]
[1449,0,6000,1829,1448,1450,null,{"$f":"AccVelDataLink!G1832","v":6},{"$f":"AccVelDataLink!A1832","v":1829},"○","○"]
[1450,0,7000,1831,1449,1451,null,{"$f":"AccVelDataLink!G1834","v":7},{"$f":"AccVelDataLink!A1834","v":1831},"○","○"]
[1451,0,8000,1832,1450,1452,null,{"$f":"AccVelDataLink!G1835","v":8},{"$f":"AccVelDataLink!A1835","v":1832},"○","○"]
[1452,0,10000,1833,1451,1453,null,{"$f":"AccVelDataLink!G1836","v":10},{"$f":"AccVelDataLink!A1836","v":1833},"○","○"]
[1453,0,15000,1834,1452,1454,null,{"$f":"AccVelDataLink!G1837","v":15},{"$f":"AccVelDataLink!A1837","v":1834},"○","○"]
[1454,0,20000,1835,1453,1455,null,{"$f":"AccVelDataLink!G1838","v":20},{"$f":"AccVelDataLink!A1838","v":1835},"○","○"]
[1455,0,23000,1837,1454,1456,null,{"$f":"AccVelDataLink!G1840","v":23},{"$f":"AccVelDataLink!A1840","v":1837},"○","○"]
[1456,0,25000,1839,1455,1457,null,{"$f":"AccVelDataLink!G1842","v":25},{"$f":"AccVelDataLink!A1842","v":1839},"○","○"]
[1457,0,30000,1840,1456,1458,null,{"$f":"AccVelDataLink!G1843","v":30},{"$f":"AccVelDataLink!A1843","v":1840},"○","○"]
[1458,0,32000,1843,1457,1459,null,{"$f":"AccVelDataLink!G1846","v":32},{"$f":"AccVelDataLink!A1846","v":1843},"○","○"]
[1459,0,33000,1844,1458,1460,null,{"$f":"AccVelDataLink!G1847","v":33},{"$f":"AccVelDataLink!A1847","v":1844},"○","○"]
[1460,0,35000,1845,1459,1461,null,{"$f":"AccVelDataLink!G1848","v":35},{"$f":"AccVelDataLink!A1848","v":1845},"○","○"]
[1461,0,40000,1846,1460,1462,null,{"$f":"AccVelDataLink!G1849","v":40},{"$f":"AccVelDataLink!A1849","v":1846},"○","○"]
[1462,0,45000,1848,1461,1463,null,{"$f":"AccVelDataLink!G1851","v":45},{"$f":"AccVelDataLink!A1851","v":1848},"○","○"]
[1463,0,50000,1849,1462,1464,null,{"$f":"AccVelDataLink!G1852","v":50},{"$f":"AccVelDataLink!A1852","v":1849},"○","○"]
[1464,0,51000,1850,1463,1465,null,{"$f":"AccVelDataLink!G1853","v":51},{"$f":"AccVelDataLink!A1853","v":1850},"○","○"]
[1465,0,60000,1851,1464,1466,null,{"$f":"AccVelDataLink!G1854","v":60},{"$f":"AccVelDataLink!A1854","v":1851},"○","○"]
[1466,1,500,1852,1465,1467,{"$f":"AccVelDataLink!F1855","v":"RCP6-SA8C-20-垂直"},{"$f":"AccVelDataLink!G1855","v":0.5},{"$f":"AccVelDataLink!A1855","v":1852},"○","○"]
[1467,1,1000,1853,1466,1468,null,{"$f":"AccVelDataLink!G1856","v":1},{"$f":"AccVelDataLink!A1856","v":1853},"○","○"]
[1468,1,2000,1854,1467,{"$f":"A1472","v":1469},null,{"$f":"AccVelDataLink!G1857","v":2},{"$f":"AccVelDataLink!A1857","v":1854},"○","○"]
[{"$f":"A1471+1","v":1469},1,{"$f":"H1472*$H$1","v":4000},{"$f":"I1472","v":1855},{"$f":"A1471","v":1468},-1,null,{"$f":"AccVelDataLink!G1858","v":4},{"$f":"AccVelDataLink!A1858","v":1855},"○","終端"]
[1470,0,500,1856,-1,{"$f":"A1474","v":1471},{"$f":"AccVelDataLink!F1859","v":"RCP6-SA8C-30-水平"},{"$f":"AccVelDataLink!G1859","v":0.5},{"$f":"AccVelDataLink!A1859","v":1856},{"$f":"IF(E1473=A1472,\"○\",IF(G1473=0,\"つなぎまちがい\",\"先頭\"))","v":"先頭"},{"$f":"IF(F1473=A1474,\"○\",IF(F1473<>E1474,\"つなぎまちがい\",\"終端\"))","v":"○"}]
[1471,0,1000,1857,{"$f":"A1473","v":1470},1472,null,{"$f":"AccVelDataLink!G1860","v":1},{"$f":"AccVelDataLink!A1860","v":1857},"○","○"]
[1472,0,2000,1858,1471,1473,null,{"$f":"AccVelDataLink!G1861","v":2},{"$f":"AccVelDataLink!A1861","v":1858},"○","○"]
[1473,0,3000,1860,1472,1474,null,{"$f":"AccVelDataLink!G1863","v":3},{"$f":"AccVelDataLink!A1863","v":1860},"○","○"]
[1474,0,4000,1861,1473,1475,null,{"$f":"AccVelDataLink!G1864","v":4},{"$f":"AccVelDataLink!A1864","v":1861},"○","○"]
[1475,0,5000,1862,1474,1476,null,{"$f":"AccVelDataLink!G1865","v":5},{"$f":"AccVelDataLink!A1865","v":1862},"○","○"]
[1476,0,6000,1863,1475,1477,null,{"$f":"AccVelDataLink!G1866","v":6},{"$f":"AccVelDataLink!A1866","v":1863},"○","○"]
[1477,0,7000,1864,1476,1478,null,{"$f":"AccVelDataLink!G1867","v":7},{"$f":"AccVelDataLink!A1867","v":1864},"○","○"]
[1478,0,8000,1865,1477,1479,null,{"$f":"AccVelDataLink!G1868","v":8},{"$f":"AccVelDataLink!A1868","v":1865},"○","○"]
[1479,0,10000,1867,1478,1480,null,{"$f":"AccVelDataLink!G1870","v":10},{"$f":"AccVelDataLink!A1870","v":1867},"○","○"]
[1480,0,11000,1868,1479,1481,null,{"$f":"AccVelDataLink!G1871","v":11},{"$f":"AccVelDataLink!A1871","v":1868},"○","○"]
[1481,0,12000,1869,1480,1482,null,{"$f":"AccVelDataLink!G1872","v":12},{"$f":"AccVelDataLink!A1872","v":1869},"○","○"]
[1482,0,13000,1870,1481,1483,null,{"$f":"AccVelDataLink!G1873","v":13},{"$f":"AccVelDataLink!A1873","v":1870},"○","○"]
[1483,0,14000,1871,1482,1484,null,{"$f":"AccVelDataLink!G1874","v":14},{"$f":"AccVelDataLink!A1874","v":1871},"○","○"]
[1484,0,15000,1872,1483,1485,null,{"$f":"AccVelDataLink!G1875","v":15},{"$f":"AccVelDataLink!A1875","v":1872},"○","○"]
[1485,0,16000,1874,1484,1486,null,{"$f":"AccVelDataLink!G1877","v":16},{"$f":"AccVelDataLink!A1877","v":1874},"○","○"]
[1486,0,18000,1875,1485,1487,null,{"$f":"AccVelDataLink!G1878","v":18},{"$f":"AccVelDataLink!A1878","v":1875},"○","○"]
[1487,0,20000,1877,1486,1488,null,{"$f":"AccVelDataLink!G1880","v":20},{"$f":"AccVelDataLink!A1880","v":1877},"○","○"]
[1488,0,21000,1878,1487,1489,null,{"$f":"AccVelDataLink!G1881","v":21},{"$f":"AccVelDataLink!A1881","v":1878},"○","○"]
[1489,0,24000,1879,1488,1490,null,{"$f":"AccVelDataLink!G1882","v":24},{"$f":"AccVelDataLink!A1882","v":1879},"○","○"]
[1490,0,26000,1880,1489,1491,null,{"$f":"AccVelDataLink!G1883","v":26},{"$f":"AccVelDataLink!A1883","v":1880},"○","○"]
[1491,0,28000,1881,1490,1492,null,{"$f":"AccVelDataLink!G1884","v":28},{"$f":"AccVelDataLink!A1884","v":1881},"○","○"]
[1492,1,1000,1882,1491,1493,{"$f":"AccVelDataLink!F1885","v":"RCP6-SA8C-30-垂直"},{"$f":"AccVelDataLink!G1885","v":1},{"$f":"AccVelDataLink!A1885","v":1882},"○","○"]
[1493,1,1500,1883,1492,1494,null,{"$f":"AccVelDataLink!G1886","v":1.5},{"$f":"AccVelDataLink!A1886","v":1883},"○","○"]
[1494,1,2000,1884,1493,{"$f":"A1498","v":1495},null,{"$f":"AccVelDataLink!G1887","v":2},{"$f":"AccVelDataLink!A1887","v":1884},"○","○"]
[{"$f":"A1497+1","v":1495},1,{"$f":"H1498*$H$1","v":3000},{"$f":"I1498","v":1885},{"$f":"A1497","v":1494},-1,null,{"$f":"AccVelDataLink!G1888","v":3},{"$f":"AccVelDataLink!A1888","v":1885},"○","終端"]
[1496,0,2000,1886,-1,{"$f":"A1500","v":1497},{"$f":"AccVelDataLink!F1889","v":"RCP6-SA8R-5-水平"},{"$f":"AccVelDataLink!G1889","v":2},{"$f":"AccVelDataLink!A1889","v":1886},{"$f":"IF(E1499=A1498,\"○\",IF(G1499=0,\"つなぎまちがい\",\"先頭\"))","v":"先頭"},{"$f":"IF(F1499=A1500,\"○\",IF(F1499<>E1500,\"つなぎまちがい\",\"終端\"))","v":"○"}]
[1497,0,4000,1887,{"$f":"A1499","v":1496},1498,null,{"$f":"AccVelDataLink!G1890","v":4},{"$f":"AccVelDataLink!A1890","v":1887},"○","○"]
[1498,0,10000,1888,1497,1499,null,{"$f":"AccVelDataLink!G1891","v":10},{"$f":"AccVelDataLink!A1891","v":1888},"○","○"]
[1499,0,14000,1889,1498,1500,null,{"$f":"AccVelDataLink!G1892","v":14},{"$f":"AccVelDataLink!A1892","v":1889},"○","○"]
[1500,0,25000,1890,1499,1501,null,{"$f":"AccVelDataLink!G1893","v":25},{"$f":"AccVelDataLink!A1893","v":1890},"○","○"]
[1501,0,30000,1891,1500,1502,null,{"$f":"AccVelDataLink!G1894","v":30},{"$f":"AccVelDataLink!A1894","v":1891},"○","○"]
[1502,0,35000,1892,1501,1503,null,{"$f":"AccVelDataLink!G1895","v":35},{"$f":"AccVelDataLink!A1895","v":1892},"○","○"]
[1503,0,40000,1893,1502,1504,null,{"$f":"AccVelDataLink!G1896","v":40},{"$f":"AccVelDataLink!A1896","v":1893},"○","○"]
[1504,0,65000,1894,1503,1505,null,{"$f":"AccVelDataLink!G1897","v":65},{"$f":"AccVelDataLink!A1897","v":1894},"○","○"]
[1505,0,70000,1895,1504,1506,null,{"$f":"AccVelDataLink!G1898","v":70},{"$f":"AccVelDataLink!A1898","v":1895},"○","○"]
[1506,0,80000,1897,1505,1507,null,{"$f":"AccVelDataLink!G1900","v":80},{"$f":"AccVelDataLink!A1900","v":1897},"○","○"]
[1507,1,500,1900,1506,1508,{"$f":"AccVelDataLink!F1903","v":"RCP6-SA8R-5-垂直"},{"$f":"AccVelDataLink!G1903","v":0.5},{"$f":"AccVelDataLink!A1903","v":1900},"○","○"]
[1508,1,2000,1901,1507,1509,null,{"$f":"AccVelDataLink!G1904","v":2},{"$f":"AccVelDataLink!A1904","v":1901},"○","○"]
[1509,1,3000,1903,1508,1510,null,{"$f":"AccVelDataLink!G1906","v":3},{"$f":"AccVelDataLink!A1906","v":1903},"○","○"]
[1510,1,5000,1904,1509,1511,null,{"$f":"AccVelDataLink!G1907","v":5},{"$f":"AccVelDataLink!A1907","v":1904},"○","○"]
[1511,1,8000,1905,1510,1512,null,{"$f":"AccVelDataLink!G1908","v":8},{"$f":"AccVelDataLink!A1908","v":1905},"○","○"]
[1512,1,10000,1906,1511,1513,null,{"$f":"AccVelDataLink!G1909","v":10},{"$f":"AccVelDataLink!A1909","v":1906},"○","○"]
[1513,1,11000,1907,1512,1514,null,{"$f":"AccVelDataLink!G1910","v":11},{"$f":"AccVelDataLink!A1910","v":1907},"○","○"]
[1514,1,14000,1908,1513,1515,null,{"$f":"AccVelDataLink!G1911","v":14},{"$f":"AccVelDataLink!A1911","v":1908},"○","○"]
[1515,1,18000,1909,1514,1516,null,{"$f":"AccVelDataLink!G1912","v":18},{"$f":"AccVelDataLink!A1912","v":1909},"○","○"]
[1516,1,30000,1910,1515,{"$f":"A1520","v":1517},null,{"$f":"AccVelDataLink!G1913","v":30},{"$f":"AccVelDataLink!A1913","v":1910},"○","○"]
[{"$f":"A1519+1","v":1517},1,{"$f":"H1520*$H$1","v":55000},{"$f":"I1520","v":1911},{"$f":"A1519","v":1516},-1,null,{"$f":"AccVelDataLink!G1914","v":55},{"$f":"AccVelDataLink!A1914","v":1911},"○","終端"]
[1518,0,1000,1912,-1,{"$f":"A1522","v":1519},{"$f":"AccVelDataLink!F1915","v":"RCP6-SA8R-10-水平"},{"$f":"AccVelDataLink!G1915","v":1},{"$f":"AccVelDataLink!A1915","v":1912},{"$f":"IF(E1521=A1520,\"○\",IF(G1521=0,\"つなぎまちがい\",\"先頭\"))","v":"先頭"},{"$f":"IF(F1521=A1522,\"○\",IF(F1521<>E1522,\"つなぎまちがい\",\"終端\"))","v":"○"}]
[1519,0,2000,1913,1518,1520,null,{"$f":"AccVelDataLink!G1916","v":2},{"$f":"AccVelDataLink!A1916","v":1913},"○","○"]
[1520,0,4000,1914,1519,1521,null,{"$f":"AccVelDataLink!G1917","v":4},{"$f":"AccVelDataLink!A1917","v":1914},"○","○"]
[1521,0,9000,1916,1520,1522,null,{"$f":"AccVelDataLink!G1919","v":9},{"$f":"AccVelDataLink!A1919","v":1916},"○","○"]
[1522,0,11000,1917,1521,1523,null,{"$f":"AccVelDataLink!G1920","v":11},{"$f":"AccVelDataLink!A1920","v":1917},"○","○"]
[1523,0,15000,1918,1522,1524,null,{"$f":"AccVelDataLink!G1921","v":15},{"$f":"AccVelDataLink!A1921","v":1918},"○","○"]
[1524,0,20000,1919,1523,1525,null,{"$f":"AccVelDataLink!G1922","v":20},{"$f":"AccVelDataLink!A1922","v":1919},"○","○"]
[1525,0,25000,1920,1524,1526,null,{"$f":"AccVelDataLink!G1923","v":25},{"$f":"AccVelDataLink!A1923","v":1920},"○","○"]
[1526,0,30000,1921,1525,1527,null,{"$f":"AccVelDataLink!G1924","v":30},{"$f":"AccVelDataLink!A1924","v":1921},"○","○"]
[1527,0,35000,1922,1526,1528,null,{"$f":"AccVelDataLink!G1925","v":35},{"$f":"AccVelDataLink!A1925","v":1922},"○","○"]
[1528,0,40000,1923,1527,1529,null,{"$f":"AccVelDataLink!G1926","v":40},{"$f":"AccVelDataLink!A1926","v":1923},"○","○"]
[1529,0,45000,1924,1528,1530,null,{"$f":"AccVelDataLink!G1927","v":45},{"$f":"AccVelDataLink!A1927","v":1924},"○","○"]
[1530,0,50000,1926,1529,1531,null,{"$f":"AccVelDataLink!G1929","v":50},{"$f":"AccVelDataLink!A1929","v":1926},"○","○"]
[1531,0,60000,1927,1530,1532,null,{"$f":"AccVelDataLink!G1930","v":60},{"$f":"AccVelDataLink!A1930","v":1927},"○","○"]
[1532,0,65000,1928,1531,1533,null,{"$f":"AccVelDataLink!G1931","v":65},{"$f":"AccVelDataLink!A1931","v":1928},"○","○"]
[1533,0,70000,1930,1532,1534,null,{"$f":"AccVelDataLink!G1933","v":70},{"$f":"AccVelDataLink!A1933","v":1930},"○","○"]
[1534,1,500,1932,1533,1535,{"$f":"AccVelDataLink!F1935","v":"RCP6-SA8R-10-垂直"},{"$f":"AccVelDataLink!G1935","v":0.5},{"$f":"AccVelDataLink!A1935","v":1932},"○","○"]
[1535,1,1000,1933,1534,1536,null,{"$f":"AccVelDataLink!G1936","v":1},{"$f":"AccVelDataLink!A1936","v":1933},"○","○"]
[1536,1,2000,1935,1535,1537,null,{"$f":"AccVelDataLink!G1938","v":2},{"$f":"AccVelDataLink!A1938","v":1935},"○","○"]
[1537,1,3000,1936,1536,1538,null,{"$f":"AccVelDataLink!G1939","v":3},{"$f":"AccVelDataLink!A1939","v":1936},"○","○"]
[1538,1,7000,1937,1537,1539,null,{"$f":"AccVelDataLink!G1940","v":7},{"$f":"AccVelDataLink!A1940","v":1937},"○","○"]
[1539,1,14000,1938,1538,{"$f":"A1543","v":1540},null,{"$f":"AccVelDataLink!G1941","v":14},{"$f":"AccVelDataLink!A1941","v":1938},"○","○"]
[{"$f":"A1542+1","v":1540},1,{"$f":"H1543*$H$1","v":25000},{"$f":"I1543","v":1939},{"$f":"A1542","v":1539},-1,null,{"$f":"AccVelDataLink!G1942","v":25},{"$f":"AccVelDataLink!A1942","v":1939},"○","終端"]
[1541,0,500,1940,-1,{"$f":"A1545","v":1542},{"$f":"AccVelDataLink!F1943","v":"RCP6-SA8R-20-水平"},{"$f":"AccVelDataLink!G1943","v":0.5},{"$f":"AccVelDataLink!A1943","v":1940},{"$f":"IF(E1544=A1543,\"○\",IF(G1544=0,\"つなぎまちがい\",\"先頭\"))","v":"先頭"},{"$f":"IF(F1544=A1545,\"○\",IF(F1544<>E1545,\"つなぎまちがい\",\"終端\"))","v":"○"}]
[1542,0,1000,1941,1541,1543,null,{"$f":"AccVelDataLink!G1944","v":1},{"$f":"AccVelDataLink!A1944","v":1941},"○","○"]
[1543,0,3000,1943,1542,1544,null,{"$f":"AccVelDataLink!G1946","v":3},{"$f":"AccVelDataLink!A1946","v":1943},"○","○"]
[1544,0,4000,1945,1543,1545,null,{"$f":"AccVelDataLink!G1948","v":4},{"$f":"AccVelDataLink!A1948","v":1945},"○","○"]
[1545,0,7000,1947,1544,1546,null,{"$f":"AccVelDataLink!G1950","v":7},{"$f":"AccVelDataLink!A1950","v":1947},"○","○"]
[1546,0,9000,1948,1545,1547,null,{"$f":"AccVelDataLink!G1951","v":9},{"$f":"AccVelDataLink!A1951","v":1948},"○","○"]
[1547,0,10000,1949,1546,1548,null,{"$f":"AccVelDataLink!G1952","v":10},{"$f":"AccVelDataLink!A1952","v":1949},"○","○"]
[1548,0,12000,1950,1547,1549,null,{"$f":"AccVelDataLink!G1953","v":12},{"$f":"AccVelDataLink!A1953","v":1950},"○","○"]
[1549,0,16000,1951,1548,1550,null,{"$f":"AccVelDataLink!G1954","v":16},{"$f":"AccVelDataLink!A1954","v":1951},"○","○"]
[1550,0,18000,1952,1549,1551,null,{"$f":"AccVelDataLink!G1955","v":18},{"$f":"AccVelDataLink!A1955","v":1952},"○","○"]
[1551,0,20000,1953,1550,1552,null,{"$f":"AccVelDataLink!G1956","v":20},{"$f":"AccVelDataLink!A1956","v":1953},"○","○"]
[1552,0,22000,1954,1551,1553,null,{"$f":"AccVelDataLink!G1957","v":22},{"$f":"AccVelDataLink!A1957","v":1954},"○","○"]
[1553,0,24000,1955,1552,1554,null,{"$f":"AccVelDataLink!G1958","v":24},{"$f":"AccVelDataLink!A1958","v":1955},"○","○"]
[1554,0,25000,1956,1553,1555,null,{"$f":"AccVelDataLink!G1959","v":25},{"$f":"AccVelDataLink!A1959","v":1956},"○","○"]
[1555,0,30000,1957,1554,1556,null,{"$f":"AccVelDataLink!G1960","v":30},{"$f":"AccVelDataLink!A1960","v":1957},"○","○"]
[1556,0,33000,1958,1555,1557,null,{"$f":"AccVelDataLink!G1961","v":33},{"$f":"AccVelDataLink!A1961","v":1958},"○","○"]
[1557,0,35000,1959,1556,1558,null,{"$f":"AccVelDataLink!G1962","v":35},{"$f":"AccVelDataLink!A1962","v":1959},"○","○"]
[1558,0,40000,1961,1557,1559,null,{"$f":"AccVelDataLink!G1964","v":40},{"$f":"AccVelDataLink!A1964","v":1961},"○","○"]
[1559,0,45000,1962,1558,1560,null,{"$f":"AccVelDataLink!G1965","v":45},{"$f":"AccVelDataLink!A1965","v":1962},"○","○"]
[1560,0,51000,1963,1559,1561,null,{"$f":"AccVelDataLink!G1966","v":51},{"$f":"AccVelDataLink!A1966","v":1963},"○","○"]
[1561,0,55000,1964,1560,1562,null,{"$f":"AccVelDataLink!G1967","v":55},{"$f":"AccVelDataLink!A1967","v":1964},"○","○"]
[1562,1,500,1965,1561,1563,{"$f":"AccVelDataLink!F1968","v":"RCP6-SA8R-20-垂直"},{"$f":"AccVelDataLink!G1968","v":0.5},{"$f":"AccVelDataLink!A1968","v":1965},"○","○"]
[1563,1,1000,1966,1562,1564,null,{"$f":"AccVelDataLink!G1969","v":1},{"$f":"AccVelDataLink!A1969","v":1966},"○","○"]
[1564,1,2000,1967,1563,{"$f":"A1568","v":1565},null,{"$f":"AccVelDataLink!G1970","v":2},{"$f":"AccVelDataLink!A1970","v":1967},"○","○"]
[{"$f":"A1567+1","v":1565},1,{"$f":"H1568*$H$1","v":4000},{"$f":"I1568","v":1968},{"$f":"A1567","v":1564},-1,null,{"$f":"AccVelDataLink!G1971","v":4},{"$f":"AccVelDataLink!A1971","v":1968},"○","終端"]
[1566,0,1000,1969,-1,{"$f":"A1570","v":1567},{"$f":"AccVelDataLink!F1972","v":"RCP6-SA8R-30-水平"},{"$f":"AccVelDataLink!G1972","v":1},{"$f":"AccVelDataLink!A1972","v":1969},{"$f":"IF(E1569=A1568,\"○\",IF(G1569=0,\"つなぎまちがい\",\"先頭\"))","v":"先頭"},{"$f":"IF(F1569=A1570,\"○\",IF(F1569<>E1570,\"つなぎまちがい\",\"終端\"))","v":"○"}]
[1567,0,2000,1971,1566,1568,null,{"$f":"AccVelDataLink!G1974","v":2},{"$f":"AccVelDataLink!A1974","v":1971},"○","○"]
[1568,0,3000,1973,1567,1569,null,{"$f":"AccVelDataLink!G1976","v":3},{"$f":"AccVelDataLink!A1976","v":1973},"○","○"]
[1569,0,4000,1974,1568,1570,null,{"$f":"AccVelDataLink!G1977","v":4},{"$f":"AccVelDataLink!A1977","v":1974},"○","○"]
[1570,0,5000,1975,1569,1571,null,{"$f":"AccVelDataLink!G1978","v":5},{"$f":"AccVelDataLink!A1978","v":1975},"○","○"]
[1571,0,6000,1976,1570,1572,null,{"$f":"AccVelDataLink!G1979","v":6},{"$f":"AccVelDataLink!A1979","v":1976},"○","○"]
[1572,0,8000,1977,1571,1573,null,{"$f":"AccVelDataLink!G1980","v":8},{"$f":"AccVelDataLink!A1980","v":1977},"○","○"]
[1573,0,9000,1978,1572,1574,null,{"$f":"AccVelDataLink!G1981","v":9},{"$f":"AccVelDataLink!A1981","v":1978},"○","○"]
[1574,0,10000,1980,1573,1575,null,{"$f":"AccVelDataLink!G1983","v":10},{"$f":"AccVelDataLink!A1983","v":1980},"○","○"]
[1575,0,11000,1981,1574,1576,null,{"$f":"AccVelDataLink!G1984","v":11},{"$f":"AccVelDataLink!A1984","v":1981},"○","○"]
[1576,0,12000,1982,1575,1577,null,{"$f":"AccVelDataLink!G1985","v":12},{"$f":"AccVelDataLink!A1985","v":1982},"○","○"]
[1577,0,13000,1983,1576,1578,null,{"$f":"AccVelDataLink!G1986","v":13},{"$f":"AccVelDataLink!A1986","v":1983},"○","○"]
[1578,0,14000,1985,1577,1579,null,{"$f":"AccVelDataLink!G1988","v":14},{"$f":"AccVelDataLink!A1988","v":1985},"○","○"]
[1579,0,15000,1986,1578,1580,null,{"$f":"AccVelDataLink!G1989","v":15},{"$f":"AccVelDataLink!A1989","v":1986},"○","○"]
[1580,0,16000,1987,1579,1581,null,{"$f":"AccVelDataLink!G1990","v":16},{"$f":"AccVelDataLink!A1990","v":1987},"○","○"]
[1581,0,18000,1988,1580,1582,null,{"$f":"AccVelDataLink!G1991","v":18},{"$f":"AccVelDataLink!A1991","v":1988},"○","○"]
[1582,0,20000,1989,1581,1583,null,{"$f":"AccVelDataLink!G1992","v":20},{"$f":"AccVelDataLink!A1992","v":1989},"○","○"]
[1583,0,21000,1990,1582,1584,null,{"$f":"AccVelDataLink!G1993","v":21},{"$f":"AccVelDataLink!A1993","v":1990},"○","○"]
[1584,0,24000,1991,1583,1585,null,{"$f":"AccVelDataLink!G1994","v":24},{"$f":"AccVelDataLink!A1994","v":1991},"○","○"]
[1585,0,26000,1993,1584,1586,null,{"$f":"AccVelDataLink!G1996","v":26},{"$f":"AccVelDataLink!A1996","v":1993},"○","○"]
[1586,1,1000,1994,1585,1587,{"$f":"AccVelDataLink!F1997","v":"RCP6-SA8R-30-垂直"},{"$f":"AccVelDataLink!G1997","v":1},{"$f":"AccVelDataLink!A1997","v":1994},"○","○"]
[1587,1,1500,1995,1586,1588,null,{"$f":"AccVelDataLink!G1998","v":1.5},{"$f":"AccVelDataLink!A1998","v":1995},"○","○"]
[1588,1,2000,1996,1587,{"$f":"A1592","v":1589},null,{"$f":"AccVelDataLink!G1999","v":2},{"$f":"AccVelDataLink!A1999","v":1996},"○","○"]
[{"$f":"A1591+1","v":1589},1,{"$f":"H1592*$H$1","v":3000},{"$f":"I1592","v":1997},{"$f":"A1591","v":1588},-1,null,{"$f":"AccVelDataLink!G2000","v":3},{"$f":"AccVelDataLink!A2000","v":1997},"○","終端"]
[1590,0,2000,1998,-1,{"$f":"A1594","v":1591},{"$f":"AccVelDataLink!F2001","v":"RCP6-WSA16C-5-水平"},{"$f":"AccVelDataLink!G2001","v":2},{"$f":"AccVelDataLink!A2001","v":1998},{"$f":"IF(E1593=A1592,\"○\",IF(G1593=0,\"つなぎまちがい\",\"先頭\"))","v":"先頭"},{"$f":"IF(F1593=A1594,\"○\",IF(F1593<>E1594,\"つなぎまちがい\",\"終端\"))","v":"○"}]
[1591,0,12000,1999,1590,1592,null,{"$f":"AccVelDataLink!G2002","v":12},{"$f":"AccVelDataLink!A2002","v":1999},"○","○"]
[1592,0,16000,2000,1591,1593,null,{"$f":"AccVelDataLink!G2003","v":16},{"$f":"AccVelDataLink!A2003","v":2000},"○","○"]
[1593,0,18000,2001,1592,1594,null,{"$f":"AccVelDataLink!G2004","v":18},{"$f":"AccVelDataLink!A2004","v":2001},"○","○"]
[1594,0,30000,2002,1593,1595,null,{"$f":"AccVelDataLink!G2005","v":30},{"$f":"AccVelDataLink!A2005","v":2002},"○","○"]
[1595,0,35000,2003,1594,1596,null,{"$f":"AccVelDataLink!G2006","v":35},{"$f":"AccVelDataLink!A2006","v":2003},"○","○"]
[1596,0,45000,2005,1595,1597,null,{"$f":"AccVelDataLink!G2008","v":45},{"$f":"AccVelDataLink!A2008","v":2005},"○","○"]
[1597,0,50000,2006,1596,1598,null,{"$f":"AccVelDataLink!G2009","v":50},{"$f":"AccVelDataLink!A2009","v":2006},"○","○"]
[1598,0,70000,2007,1597,1599,null,{"$f":"AccVelDataLink!G2010","v":70},{"$f":"AccVelDataLink!A2010","v":2007},"○","○"]
[1599,0,80000,2009,1598,1600,null,{"$f":"AccVelDataLink!G2012","v":80},{"$f":"AccVelDataLink!A2012","v":2009},"○","○"]
[1600,0,90000,2010,1599,1601,null,{"$f":"AccVelDataLink!G2013","v":90},{"$f":"AccVelDataLink!A2013","v":2010},"○","○"]
[1601,0,100000,2014,1600,1602,null,{"$f":"AccVelDataLink!G2017","v":100},{"$f":"AccVelDataLink!A2017","v":2014},"○","○"]
[1602,1,2000,2015,1601,1603,{"$f":"AccVelDataLink!F2018","v":"RCP6-WSA16C-5-垂直"},{"$f":"AccVelDataLink!G2018","v":2},{"$f":"AccVelDataLink!A2018","v":2015},"○","○"]
[1603,1,4000,2016,1602,1604,null,{"$f":"AccVelDataLink!G2019","v":4},{"$f":"AccVelDataLink!A2019","v":2016},"○","○"]
[1604,1,7000,2017,1603,1605,null,{"$f":"AccVelDataLink!G2020","v":7},{"$f":"AccVelDataLink!A2020","v":2017},"○","○"]
[1605,1,11000,2019,1604,1606,null,{"$f":"AccVelDataLink!G2022","v":11},{"$f":"AccVelDataLink!A2022","v":2019},"○","○"]
[1606,1,19000,2020,1605,1607,null,{"$f":"AccVelDataLink!G2023","v":19},{"$f":"AccVelDataLink!A2023","v":2020},"○","○"]
[1607,1,30000,2021,1606,{"$f":"A1611","v":1608},null,{"$f":"AccVelDataLink!G2024","v":30},{"$f":"AccVelDataLink!A2024","v":2021},"○","○"]
[{"$f":"A1610+1","v":1608},1,{"$f":"H1611*$H$1","v":50000},{"$f":"I1611","v":2022},{"$f":"A1610","v":1607},-1,null,{"$f":"AccVelDataLink!G2025","v":50},{"$f":"AccVelDataLink!A2025","v":2022},"○","終端"]
[1609,0,2000,2023,-1,{"$f":"A1613","v":1610},{"$f":"AccVelDataLink!F2026","v":"RCP6-WSA16C-10-水平"},{"$f":"AccVelDataLink!G2026","v":2},{"$f":"AccVelDataLink!A2026","v":2023},{"$f":"IF(E1612=A1611,\"○\",IF(G1612=0,\"つなぎまちがい\",\"先頭\"))","v":"先頭"},{"$f":"IF(F1612=A1613,\"○\",IF(F1612<>E1613,\"つなぎまちがい\",\"終端\"))","v":"○"}]
[1610,0,14000,2024,{"$f":"A1612","v":1609},1611,null,{"$f":"AccVelDataLink!G2027","v":14},{"$f":"AccVelDataLink!A2027","v":2024},"○","○"]
[1611,0,20000,2025,1610,1612,null,{"$f":"AccVelDataLink!G2028","v":20},{"$f":"AccVelDataLink!A2028","v":2025},"○","○"]
[1612,0,22000,2026,1611,1613,null,{"$f":"AccVelDataLink!G2029","v":22},{"$f":"AccVelDataLink!A2029","v":2026},"○","○"]
[1613,0,24000,2027,1612,1614,null,{"$f":"AccVelDataLink!G2030","v":24},{"$f":"AccVelDataLink!A2030","v":2027},"○","○"]
[1614,0,30000,2028,1613,1615,null,{"$f":"AccVelDataLink!G2031","v":30},{"$f":"AccVelDataLink!A2031","v":2028},"○","○"]
[1615,0,35000,2030,1614,1616,null,{"$f":"AccVelDataLink!G2033","v":35},{"$f":"AccVelDataLink!A2033","v":2030},"○","○"]
[1616,0,40000,2031,1615,1617,null,{"$f":"AccVelDataLink!G2034","v":40},{"$f":"AccVelDataLink!A2034","v":2031},"○","○"]
[1617,0,45000,2034,1616,1618,null,{"$f":"AccVelDataLink!G2037","v":45},{"$f":"AccVelDataLink!A2037","v":2034},"○","○"]
[1618,0,50000,2035,1617,1619,null,{"$f":"AccVelDataLink!G2038","v":50},{"$f":"AccVelDataLink!A2038","v":2035},"○","○"]
[1619,0,55000,2037,1618,1620,null,{"$f":"AccVelDataLink!G2040","v":55},{"$f":"AccVelDataLink!A2040","v":2037},"○","○"]
[1620,0,60000,2039,1619,1621,null,{"$f":"AccVelDataLink!G2042","v":60},{"$f":"AccVelDataLink!A2042","v":2039},"○","○"]
[1621,0,70000,2040,1620,1622,null,{"$f":"AccVelDataLink!G2043","v":70},{"$f":"AccVelDataLink!A2043","v":2040},"○","○"]
[1622,1,2000,2042,1621,1623,{"$f":"AccVelDataLink!F2045","v":"RCP6-WSA16C-10-垂直"},{"$f":"AccVelDataLink!G2045","v":2},{"$f":"AccVelDataLink!A2045","v":2042},"○","○"]
[1623,1,4000,2043,1622,1624,null,{"$f":"AccVelDataLink!G2046","v":4},{"$f":"AccVelDataLink!A2046","v":2043},"○","○"]
[1624,1,5000,2044,1623,{"$f":"A1628","v":1625},null,{"$f":"AccVelDataLink!G2047","v":5},{"$f":"AccVelDataLink!A2047","v":2044},"○","○"]
[{"$f":"A1627+1","v":1625},1,{"$f":"H1628*$H$1","v":15000},{"$f":"I1628","v":2045},{"$f":"A1627","v":1624},-1,null,{"$f":"AccVelDataLink!G2048","v":15},{"$f":"AccVelDataLink!A2048","v":2045},"○","終端"]
[1626,0,2000,2046,-1,{"$f":"A1630","v":1627},{"$f":"AccVelDataLink!F2049","v":"RCP6-WSA16C-20-水平"},{"$f":"AccVelDataLink!G2049","v":2},{"$f":"AccVelDataLink!A2049","v":2046},{"$f":"IF(E1629=A1628,\"○\",IF(G1629=0,\"つなぎまちがい\",\"先頭\"))","v":"先頭"},{"$f":"IF(F1629=A1630,\"○\",IF(F1629<>E1630,\"つなぎまちがい\",\"終端\"))","v":"○"}]
[1627,0,4000,2047,1626,1628,null,{"$f":"AccVelDataLink!G2050","v":4},{"$f":"AccVelDataLink!A2050","v":2047},"○","○"]
[1628,0,12000,2049,1627,1629,null,{"$f":"AccVelDataLink!G2052","v":12},{"$f":"AccVelDataLink!A2052","v":2049},"○","○"]
[1629,0,14000,2050,1628,1630,null,{"$f":"AccVelDataLink!G2053","v":14},{"$f":"AccVelDataLink!A2053","v":2050},"○","○"]
[1630,0,16000,2051,1629,1631,null,{"$f":"AccVelDataLink!G2054","v":16},{"$f":"AccVelDataLink!A2054","v":2051},"○","○"]
[1631,0,18000,2052,1630,1632,null,{"$f":"AccVelDataLink!G2055","v":18},{"$f":"AccVelDataLink!A2055","v":2052},"○","○"]
[1632,0,20000,2053,1631,1633,null,{"$f":"AccVelDataLink!G2056","v":20},{"$f":"AccVelDataLink!A2056","v":2053},"○","○"]
[1633,0,24000,2055,1632,1634,null,{"$f":"AccVelDataLink!G2058","v":24},{"$f":"AccVelDataLink!A2058","v":2055},"○","○"]
[1634,0,28000,2056,1633,1635,null,{"$f":"AccVelDataLink!G2059","v":28},{"$f":"AccVelDataLink!A2059","v":2056},"○","○"]
[1635,0,30000,2057,1634,1636,null,{"$f":"AccVelDataLink!G2060","v":30},{"$f":"AccVelDataLink!A2060","v":2057},"○","○"]
[1636,0,35000,2058,1635,1637,null,{"$f":"AccVelDataLink!G2061","v":35},{"$f":"AccVelDataLink!A2061","v":2058},"○","○"]
[1637,0,40000,2059,1636,{"$f":"A1641","v":1638},null,{"$f":"AccVelDataLink!G2062","v":40},{"$f":"AccVelDataLink!A2062","v":2059},"○","○"]
[{"$f":"A1640+1","v":1638},0,{"$f":"H1641*$H$1","v":50000},{"$f":"I1641","v":2060},{"$f":"A1640","v":1637},-1,null,{"$f":"AccVelDataLink!G2063","v":50},{"$f":"AccVelDataLink!A2063","v":2060},"○","終端"]
[1639,0,8000,2061,-1,{"$f":"A1643","v":1640},{"$f":"AccVelDataLink!F2064","v":"RCP6-WSA16R-5-水平"},{"$f":"AccVelDataLink!G2064","v":8},{"$f":"AccVelDataLink!A2064","v":2061},{"$f":"IF(E1642=A1641,\"○\",IF(G1642=0,\"つなぎまちがい\",\"先頭\"))","v":"先頭"},{"$f":"IF(F1642=A1643,\"○\",IF(F1642<>E1643,\"つなぎまちがい\",\"終端\"))","v":"○"}]
[1640,0,35000,2062,{"$f":"A1642","v":1639},1641,null,{"$f":"AccVelDataLink!G2065","v":35},{"$f":"AccVelDataLink!A2065","v":2062},"○","○"]
[1641,0,45000,2063,1640,1642,null,{"$f":"AccVelDataLink!G2066","v":45},{"$f":"AccVelDataLink!A2066","v":2063},"○","○"]
[1642,0,50000,2064,1641,1643,null,{"$f":"AccVelDataLink!G2067","v":50},{"$f":"AccVelDataLink!A2067","v":2064},"○","○"]
[1643,0,65000,2065,1642,1644,null,{"$f":"AccVelDataLink!G2068","v":65},{"$f":"AccVelDataLink!A2068","v":2065},"○","○"]
[1644,0,80000,2066,1643,1645,null,{"$f":"AccVelDataLink!G2069","v":80},{"$f":"AccVelDataLink!A2069","v":2066},"○","○"]
[1645,0,90000,2068,1644,1646,null,{"$f":"AccVelDataLink!G2071","v":90},{"$f":"AccVelDataLink!A2071","v":2068},"○","○"]
[1646,0,100000,2071,1645,1647,null,{"$f":"AccVelDataLink!G2074","v":100},{"$f":"AccVelDataLink!A2074","v":2071},"○","○"]
[1647,1,1000,2072,1646,1648,{"$f":"AccVelDataLink!F2075","v":"RCP6-WSA16R-5-垂直"},{"$f":"AccVelDataLink!G2075","v":1},{"$f":"AccVelDataLink!A2075","v":2072},"○","○"]
[1648,1,7000,2073,1647,1649,null,{"$f":"AccVelDataLink!G2076","v":7},{"$f":"AccVelDataLink!A2076","v":2073},"○","○"]
[1649,1,27000,2074,1648,{"$f":"A1653","v":1650},null,{"$f":"AccVelDataLink!G2077","v":27},{"$f":"AccVelDataLink!A2077","v":2074},"○","○"]
[{"$f":"A1652+1","v":1650},1,{"$f":"H1653*$H$1","v":45000},{"$f":"I1653","v":2075},{"$f":"A1652","v":1649},-1,null,{"$f":"AccVelDataLink!G2078","v":45},{"$f":"AccVelDataLink!A2078","v":2075},"○","終端"]
[1651,0,4000,2076,-1,{"$f":"A1655","v":1652},{"$f":"AccVelDataLink!F2079","v":"RCP6-WSA16R-10-水平"},{"$f":"AccVelDataLink!G2079","v":4},{"$f":"AccVelDataLink!A2079","v":2076},{"$f":"IF(E1654=A1653,\"○\",IF(G1654=0,\"つなぎまちがい\",\"先頭\"))","v":"先頭"},{"$f":"IF(F1654=A1655,\"○\",IF(F1654<>E1655,\"つなぎまちがい\",\"終端\"))","v":"○"}]
[1652,0,6000,2077,{"$f":"A1654","v":1651},1653,null,{"$f":"AccVelDataLink!G2080","v":6},{"$f":"AccVelDataLink!A2080","v":2077},"○","○"]
[1653,0,10000,2078,1652,1654,null,{"$f":"AccVelDataLink!G2081","v":10},{"$f":"AccVelDataLink!A2081","v":2078},"○","○"]
[1654,0,12000,2079,1653,1655,null,{"$f":"AccVelDataLink!G2082","v":12},{"$f":"AccVelDataLink!A2082","v":2079},"○","○"]
[1655,0,14000,2081,1654,1656,null,{"$f":"AccVelDataLink!G2084","v":14},{"$f":"AccVelDataLink!A2084","v":2081},"○","○"]
[1656,0,22000,2082,1655,1657,null,{"$f":"AccVelDataLink!G2085","v":22},{"$f":"AccVelDataLink!A2085","v":2082},"○","○"]
[1657,0,28000,2083,1656,1658,null,{"$f":"AccVelDataLink!G2086","v":28},{"$f":"AccVelDataLink!A2086","v":2083},"○","○"]
[1658,0,30000,2084,1657,1659,null,{"$f":"AccVelDataLink!G2087","v":30},{"$f":"AccVelDataLink!A2087","v":2084},"○","○"]
[1659,0,35000,2086,1658,1660,null,{"$f":"AccVelDataLink!G2089","v":35},{"$f":"AccVelDataLink!A2089","v":2086},"○","○"]
[1660,0,45000,2087,1659,1661,null,{"$f":"AccVelDataLink!G2090","v":45},{"$f":"AccVelDataLink!A2090","v":2087},"○","○"]
[1661,0,55000,2089,1660,1662,null,{"$f":"AccVelDataLink!G2092","v":55},{"$f":"AccVelDataLink!A2092","v":2089},"○","○"]
[1662,0,60000,2090,1661,1663,null,{"$f":"AccVelDataLink!G2093","v":60},{"$f":"AccVelDataLink!A2093","v":2090},"○","○"]
[1663,0,65000,2091,1662,1664,null,{"$f":"AccVelDataLink!G2094","v":65},{"$f":"AccVelDataLink!A2094","v":2091},"○","○"]
[1664,0,70000,2092,1663,1665,null,{"$f":"AccVelDataLink!G2095","v":70},{"$f":"AccVelDataLink!A2095","v":2092},"○","○"]
[1665,1,1000,2094,1664,1666,{"$f":"AccVelDataLink!F2097","v":"RCP6-WSA16R-10-垂直"},{"$f":"AccVelDataLink!G2097","v":1},{"$f":"AccVelDataLink!A2097","v":2094},"○","○"]
[1666,1,2000,2095,1665,1667,null,{"$f":"AccVelDataLink!G2098","v":2},{"$f":"AccVelDataLink!A2098","v":2095},"○","○"]
[1667,1,10000,2096,1666,{"$f":"A1671","v":1668},null,{"$f":"AccVelDataLink!G2099","v":10},{"$f":"AccVelDataLink!A2099","v":2096},"○","○"]
[{"$f":"A1670+1","v":1668},1,{"$f":"H1671*$H$1","v":15000},{"$f":"I1671","v":2097},{"$f":"A1670","v":1667},-1,null,{"$f":"AccVelDataLink!G2100","v":15},{"$f":"AccVelDataLink!A2100","v":2097},"○","終端"]
[1669,0,2000,2098,-1,{"$f":"A1673","v":1670},{"$f":"AccVelDataLink!F2101","v":"RCP6-WSA16R-20-水平"},{"$f":"AccVelDataLink!G2101","v":2},{"$f":"AccVelDataLink!A2101","v":2098},{"$f":"IF(E1672=A1671,\"○\",IF(G1672=0,\"つなぎまちがい\",\"先頭\"))","v":"先頭"},{"$f":"IF(F1672=A1673,\"○\",IF(F1672<>E1673,\"つなぎまちがい\",\"終端\"))","v":"○"}]
[1670,0,6000,2099,{"$f":"A1672","v":1669},1671,null,{"$f":"AccVelDataLink!G2102","v":6},{"$f":"AccVelDataLink!A2102","v":2099},"○","○"]
[1671,0,12000,2101,1670,1672,null,{"$f":"AccVelDataLink!G2104","v":12},{"$f":"AccVelDataLink!A2104","v":2101},"○","○"]
[1672,0,14000,2102,1671,1673,null,{"$f":"AccVelDataLink!G2105","v":14},{"$f":"AccVelDataLink!A2105","v":2102},"○","○"]
[1673,0,16000,2103,1672,1674,null,{"$f":"AccVelDataLink!G2106","v":16},{"$f":"AccVelDataLink!A2106","v":2103},"○","○"]
[1674,0,18000,2104,1673,1675,null,{"$f":"AccVelDataLink!G2107","v":18},{"$f":"AccVelDataLink!A2107","v":2104},"○","○"]
[1675,0,20000,2105,1674,1676,null,{"$f":"AccVelDataLink!G2108","v":20},{"$f":"AccVelDataLink!A2108","v":2105},"○","○"]
[1676,0,24000,2107,1675,1677,null,{"$f":"AccVelDataLink!G2110","v":24},{"$f":"AccVelDataLink!A2110","v":2107},"○","○"]
[1677,0,28000,2108,1676,{"$f":"A1681","v":1678},null,{"$f":"AccVelDataLink!G2111","v":28},{"$f":"AccVelDataLink!A2111","v":2108},"○","○"]
[{"$f":"A1680+1","v":1678},0,{"$f":"H1681*$H$1","v":30000},{"$f":"I1681","v":2110},{"$f":"A1680","v":1677},-1,null,{"$f":"AccVelDataLink!G2113","v":30},{"$f":"AccVelDataLink!A2113","v":2110},"○","終端"]
[1679,0,60000,2112,-1,{"$f":"A1683","v":1680},{"$f":"AccVelDataLink!F2115","v":"RCP6-RA8C-5-水平"},{"$f":"AccVelDataLink!G2115","v":60},{"$f":"AccVelDataLink!A2115","v":2112},{"$f":"IF(E1682=A1681,\"○\",IF(G1682=0,\"つなぎまちがい\",\"先頭\"))","v":"先頭"},{"$f":"IF(F1682=A1683,\"○\",IF(F1682<>E1683,\"つなぎまちがい\",\"終端\"))","v":"○"}]
[1680,0,75000,2113,1679,1681,null,{"$f":"AccVelDataLink!G2116","v":75},{"$f":"AccVelDataLink!A2116","v":2113},"○","○"]
[1681,0,90000,2114,1680,1682,null,{"$f":"AccVelDataLink!G2117","v":90},{"$f":"AccVelDataLink!A2117","v":2114},"○","○"]
[1682,0,100000,2115,1681,1683,null,{"$f":"AccVelDataLink!G2118","v":100},{"$f":"AccVelDataLink!A2118","v":2115},"○","○"]
[1683,1,2000,2116,1682,1684,{"$f":"AccVelDataLink!F2119","v":"RCP6-RA8C-5-垂直"},{"$f":"AccVelDataLink!G2119","v":2},{"$f":"AccVelDataLink!A2119","v":2116},"○","○"]
[1684,1,10000,2117,1683,1685,null,{"$f":"AccVelDataLink!G2120","v":10},{"$f":"AccVelDataLink!A2120","v":2117},"○","○"]
[1685,1,15000,2118,1684,1686,null,{"$f":"AccVelDataLink!G2121","v":15},{"$f":"AccVelDataLink!A2121","v":2118},"○","○"]
[1686,1,20000,2119,1685,1687,null,{"$f":"AccVelDataLink!G2122","v":20},{"$f":"AccVelDataLink!A2122","v":2119},"○","○"]
[1687,1,25000,2120,1686,1688,null,{"$f":"AccVelDataLink!G2123","v":25},{"$f":"AccVelDataLink!A2123","v":2120},"○","○"]
[1688,1,35000,2121,1687,1689,null,{"$f":"AccVelDataLink!G2124","v":35},{"$f":"AccVelDataLink!A2124","v":2121},"○","○"]
[1689,1,50000,2122,1688,{"$f":"A1693","v":1690},null,{"$f":"AccVelDataLink!G2125","v":50},{"$f":"AccVelDataLink!A2125","v":2122},"○","○"]
[{"$f":"A1692+1","v":1690},1,{"$f":"H1693*$H$1","v":70000},{"$f":"I1693","v":2123},{"$f":"A1692","v":1689},-1,null,{"$f":"AccVelDataLink!G2126","v":70},{"$f":"AccVelDataLink!A2126","v":2123},"○","終端"]
[1691,0,10000,2124,-1,{"$f":"A1695","v":1692},{"$f":"AccVelDataLink!F2127","v":"RCP6-RA8C-10-水平"},{"$f":"AccVelDataLink!G2127","v":10},{"$f":"AccVelDataLink!A2127","v":2124},{"$f":"IF(E1694=A1693,\"○\",IF(G1694=0,\"つなぎまちがい\",\"先頭\"))","v":"先頭"},{"$f":"IF(F1694=A1695,\"○\",IF(F1694<>E1695,\"つなぎまちがい\",\"終端\"))","v":"○"}]
[1692,0,40000,2125,1691,1693,null,{"$f":"AccVelDataLink!G2128","v":40},{"$f":"AccVelDataLink!A2128","v":2125},"○","○"]
[1693,0,45000,2126,1692,1694,null,{"$f":"AccVelDataLink!G2129","v":45},{"$f":"AccVelDataLink!A2129","v":2126},"○","○"]
[1694,0,60000,2127,1693,1695,null,{"$f":"AccVelDataLink!G2130","v":60},{"$f":"AccVelDataLink!A2130","v":2127},"○","○"]
[1695,1,2000,2128,1694,1696,{"$f":"AccVelDataLink!F2131","v":"RCP6-RA8C-10-垂直"},{"$f":"AccVelDataLink!G2131","v":2},{"$f":"AccVelDataLink!A2131","v":2128},"○","○"]
[1696,1,3000,2129,1695,1697,null,{"$f":"AccVelDataLink!G2132","v":3},{"$f":"AccVelDataLink!A2132","v":2129},"○","○"]
[1697,1,4000,2130,1696,1698,null,{"$f":"AccVelDataLink!G2133","v":4},{"$f":"AccVelDataLink!A2133","v":2130},"○","○"]
[1698,1,5000,2131,1697,1699,null,{"$f":"AccVelDataLink!G2134","v":5},{"$f":"AccVelDataLink!A2134","v":2131},"○","○"]
[1699,1,7000,2132,1698,1700,null,{"$f":"AccVelDataLink!G2135","v":7},{"$f":"AccVelDataLink!A2135","v":2132},"○","○"]
[1700,1,8000,2133,1699,1701,null,{"$f":"AccVelDataLink!G2136","v":8},{"$f":"AccVelDataLink!A2136","v":2133},"○","○"]
[1701,1,10000,2134,1700,1702,null,{"$f":"AccVelDataLink!G2137","v":10},{"$f":"AccVelDataLink!A2137","v":2134},"○","○"]
[1702,1,11000,2135,1701,1703,null,{"$f":"AccVelDataLink!G2138","v":11},{"$f":"AccVelDataLink!A2138","v":2135},"○","○"]
[1703,1,15000,2136,1702,1704,null,{"$f":"AccVelDataLink!G2139","v":15},{"$f":"AccVelDataLink!A2139","v":2136},"○","○"]
[1704,1,18000,2137,1703,1705,null,{"$f":"AccVelDataLink!G2140","v":18},{"$f":"AccVelDataLink!A2140","v":2137},"○","○"]
[1705,1,23000,2138,1704,1706,null,{"$f":"AccVelDataLink!G2141","v":23},{"$f":"AccVelDataLink!A2141","v":2138},"○","○"]
[1706,1,28000,2139,1705,1707,null,{"$f":"AccVelDataLink!G2142","v":28},{"$f":"AccVelDataLink!A2142","v":2139},"○","○"]
[1707,1,33000,2140,1706,{"$f":"A1711","v":1708},null,{"$f":"AccVelDataLink!G2143","v":33},{"$f":"AccVelDataLink!A2143","v":2140},"○","○"]
[{"$f":"A1710+1","v":1708},1,{"$f":"H1711*$H$1","v":40000},{"$f":"I1711","v":2141},{"$f":"A1710","v":1707},-1,null,{"$f":"AccVelDataLink!G2144","v":40},{"$f":"AccVelDataLink!A2144","v":2141},"○","終端"]
[1709,0,5000,2142,-1,{"$f":"A1713","v":1710},{"$f":"AccVelDataLink!F2145","v":"RCP6-RA8C-20-水平"},{"$f":"AccVelDataLink!G2145","v":5},{"$f":"AccVelDataLink!A2145","v":2142},{"$f":"IF(E1712=A1711,\"○\",IF(G1712=0,\"つなぎまちがい\",\"先頭\"))","v":"先頭"},{"$f":"IF(F1712=A1713,\"○\",IF(F1712<>E1713,\"つなぎまちがい\",\"終端\"))","v":"○"}]
[1710,0,6000,2143,{"$f":"A1712","v":1709},1711,null,{"$f":"AccVelDataLink!G2146","v":6},{"$f":"AccVelDataLink!A2146","v":2143},"○","○"]
[1711,0,8000,2144,1710,1712,null,{"$f":"AccVelDataLink!G2147","v":8},{"$f":"AccVelDataLink!A2147","v":2144},"○","○"]
[1712,0,10000,2145,1711,1713,null,{"$f":"AccVelDataLink!G2148","v":10},{"$f":"AccVelDataLink!A2148","v":2145},"○","○"]
[1713,0,12000,2146,1712,1714,null,{"$f":"AccVelDataLink!G2149","v":12},{"$f":"AccVelDataLink!A2149","v":2146},"○","○"]
[1714,0,16000,2147,1713,1715,null,{"$f":"AccVelDataLink!G2150","v":16},{"$f":"AccVelDataLink!A2150","v":2147},"○","○"]
[1715,0,24000,2148,1714,1716,null,{"$f":"AccVelDataLink!G2151","v":24},{"$f":"AccVelDataLink!A2151","v":2148},"○","○"]
[1716,0,30000,2149,1715,1717,null,{"$f":"AccVelDataLink!G2152","v":30},{"$f":"AccVelDataLink!A2152","v":2149},"○","○"]
[1717,1,2000,2150,1716,1718,{"$f":"AccVelDataLink!F2153","v":"RCP6-RA8C-20-垂直"},{"$f":"AccVelDataLink!G2153","v":2},{"$f":"AccVelDataLink!A2153","v":2150},"○","○"]
[1718,1,2500,2151,1717,1719,null,{"$f":"AccVelDataLink!G2154","v":2.5},{"$f":"AccVelDataLink!A2154","v":2151},"○","○"]
[1719,1,3000,2152,1718,{"$f":"A1723","v":1720},null,{"$f":"AccVelDataLink!G2155","v":3},{"$f":"AccVelDataLink!A2155","v":2152},"○","○"]
[{"$f":"A1722+1","v":1720},1,{"$f":"H1723*$H$1","v":5000},{"$f":"I1723","v":2153},{"$f":"A1722","v":1719},-1,null,{"$f":"AccVelDataLink!G2156","v":5},{"$f":"AccVelDataLink!A2156","v":2153},"○","終端"]
[1721,0,75000,2154,-1,{"$f":"A1725","v":1722},{"$f":"AccVelDataLink!F2157","v":"RCP6-RA8R-5-水平"},{"$f":"AccVelDataLink!G2157","v":75},{"$f":"AccVelDataLink!A2157","v":2154},{"$f":"IF(E1724=A1723,\"○\",IF(G1724=0,\"つなぎまちがい\",\"先頭\"))","v":"先頭"},{"$f":"IF(F1724=A1725,\"○\",IF(F1724<>E1725,\"つなぎまちがい\",\"終端\"))","v":"○"}]
[1722,0,100000,2155,1721,1723,null,{"$f":"AccVelDataLink!G2158","v":100},{"$f":"AccVelDataLink!A2158","v":2155},"○","○"]
[1723,1,10000,2156,1722,1724,{"$f":"AccVelDataLink!F2159","v":"RCP6-RA8R-5-垂直"},{"$f":"AccVelDataLink!G2159","v":10},{"$f":"AccVelDataLink!A2159","v":2156},"○","○"]
[1724,1,16000,2157,1723,1725,null,{"$f":"AccVelDataLink!G2160","v":16},{"$f":"AccVelDataLink!A2160","v":2157},"○","○"]
[1725,1,25000,2158,1724,1726,null,{"$f":"AccVelDataLink!G2161","v":25},{"$f":"AccVelDataLink!A2161","v":2158},"○","○"]
[1726,1,35000,2159,1725,1727,null,{"$f":"AccVelDataLink!G2162","v":35},{"$f":"AccVelDataLink!A2162","v":2159},"○","○"]
[1727,1,45000,2160,1726,{"$f":"A1731","v":1728},null,{"$f":"AccVelDataLink!G2163","v":45},{"$f":"AccVelDataLink!A2163","v":2160},"○","○"]
[{"$f":"A1730+1","v":1728},1,{"$f":"H1731*$H$1","v":70000},{"$f":"I1731","v":2161},{"$f":"A1730","v":1727},-1,null,{"$f":"AccVelDataLink!G2164","v":70},{"$f":"AccVelDataLink!A2164","v":2161},"○","終端"]
[1729,0,12000,2162,-1,{"$f":"A1733","v":1730},{"$f":"AccVelDataLink!F2165","v":"RCP6-RA8R-10-水平"},{"$f":"AccVelDataLink!G2165","v":12},{"$f":"AccVelDataLink!A2165","v":2162},{"$f":"IF(E1732=A1731,\"○\",IF(G1732=0,\"つなぎまちがい\",\"先頭\"))","v":"先頭"},{"$f":"IF(F1732=A1733,\"○\",IF(F1732<>E1733,\"つなぎまちがい\",\"終端\"))","v":"○"}]
[1730,0,15000,2163,1729,1731,null,{"$f":"AccVelDataLink!G2166","v":15},{"$f":"AccVelDataLink!A2166","v":2163},"○","○"]
[1731,0,25000,2164,1730,1732,null,{"$f":"AccVelDataLink!G2167","v":25},{"$f":"AccVelDataLink!A2167","v":2164},"○","○"]
[1732,0,40000,2165,1731,1733,null,{"$f":"AccVelDataLink!G2168","v":40},{"$f":"AccVelDataLink!A2168","v":2165},"○","○"]
[1733,0,60000,2166,1732,1734,null,{"$f":"AccVelDataLink!G2169","v":60},{"$f":"AccVelDataLink!A2169","v":2166},"○","○"]
[1734,1,2000,2167,1733,1735,{"$f":"AccVelDataLink!F2170","v":"RCP6-RA8R-10-垂直"},{"$f":"AccVelDataLink!G2170","v":2},{"$f":"AccVelDataLink!A2170","v":2167},"○","○"]
[1735,1,3000,2168,1734,1736,null,{"$f":"AccVelDataLink!G2171","v":3},{"$f":"AccVelDataLink!A2171","v":2168},"○","○"]
[1736,1,4000,2169,1735,1737,null,{"$f":"AccVelDataLink!G2172","v":4},{"$f":"AccVelDataLink!A2172","v":2169},"○","○"]
[1737,1,6000,2170,1736,1738,null,{"$f":"AccVelDataLink!G2173","v":6},{"$f":"AccVelDataLink!A2173","v":2170},"○","○"]
[1738,1,8000,2171,1737,1739,null,{"$f":"AccVelDataLink!G2174","v":8},{"$f":"AccVelDataLink!A2174","v":2171},"○","○"]
[1739,1,10000,2172,1738,1740,null,{"$f":"AccVelDataLink!G2175","v":10},{"$f":"AccVelDataLink!A2175","v":2172},"○","○"]
[1740,1,12000,2173,1739,1741,null,{"$f":"AccVelDataLink!G2176","v":12},{"$f":"AccVelDataLink!A2176","v":2173},"○","○"]
[1741,1,15000,2174,1740,1742,null,{"$f":"AccVelDataLink!G2177","v":15},{"$f":"AccVelDataLink!A2177","v":2174},"○","○"]
[1742,1,18000,2175,1741,1743,null,{"$f":"AccVelDataLink!G2178","v":18},{"$f":"AccVelDataLink!A2178","v":2175},"○","○"]
[1743,1,23000,2176,1742,1744,null,{"$f":"AccVelDataLink!G2179","v":23},{"$f":"AccVelDataLink!A2179","v":2176},"○","○"]
[1744,1,28000,2177,1743,1745,null,{"$f":"AccVelDataLink!G2180","v":28},{"$f":"AccVelDataLink!A2180","v":2177},"○","○"]
[1745,1,34000,2178,1744,{"$f":"A1749","v":1746},null,{"$f":"AccVelDataLink!G2181","v":34},{"$f":"AccVelDataLink!A2181","v":2178},"○","○"]
[{"$f":"A1748+1","v":1746},1,{"$f":"H1749*$H$1","v":40000},{"$f":"I1749","v":2179},{"$f":"A1748","v":1745},-1,null,{"$f":"AccVelDataLink!G2182","v":40},{"$f":"AccVelDataLink!A2182","v":2179},"○","終端"]
[1747,0,6000,2180,-1,{"$f":"A1751","v":1748},{"$f":"AccVelDataLink!F2183","v":"RCP6-RA8R-20-水平"},{"$f":"AccVelDataLink!G2183","v":6},{"$f":"AccVelDataLink!A2183","v":2180},{"$f":"IF(E1750=A1749,\"○\",IF(G1750=0,\"つなぎまちがい\",\"先頭\"))","v":"先頭"},{"$f":"IF(F1750=A1751,\"○\",IF(F1750<>E1751,\"つなぎまちがい\",\"終端\"))","v":"○"}]
[1748,0,14000,2181,{"$f":"A1750","v":1747},1749,null,{"$f":"AccVelDataLink!G2184","v":14},{"$f":"AccVelDataLink!A2184","v":2181},"○","○"]
[1749,0,30000,2182,1748,1750,null,{"$f":"AccVelDataLink!G2185","v":30},{"$f":"AccVelDataLink!A2185","v":2182},"○","○"]
[1750,1,500,2183,1749,1751,{"$f":"AccVelDataLink!F2186","v":"RCP6-RA8R-20-垂直"},{"$f":"AccVelDataLink!G2186","v":0.5},{"$f":"AccVelDataLink!A2186","v":2183},"○","○"]
[1751,1,2000,2184,1750,1752,null,{"$f":"AccVelDataLink!G2187","v":2},{"$f":"AccVelDataLink!A2187","v":2184},"○","○"]
[1752,1,3500,2185,1751,1753,null,{"$f":"AccVelDataLink!G2188","v":3.5},{"$f":"AccVelDataLink!A2188","v":2185},"○","○"]
[{"$f":"A1755+1","v":1753},1,{"$f":"H1756*$H$1","v":5000},{"$f":"I1756","v":2186},1752,-1,null,{"$f":"AccVelDataLink!G2189","v":5},{"$f":"AccVelDataLink!A2189","v":2186},"○","終端"]
[1754,0,60000,2187,-1,{"$f":"A1758","v":1755},{"$f":"AccVelDataLink!F2190","v":"RCP6-RRA8C-5-水平"},{"$f":"AccVelDataLink!G2190","v":60},{"$f":"AccVelDataLink!A2190","v":2187},{"$f":"IF(E1757=A1756,\"○\",IF(G1757=0,\"つなぎまちがい\",\"先頭\"))","v":"先頭"},{"$f":"IF(F1757=A1758,\"○\",IF(F1757<>E1758,\"つなぎまちがい\",\"終端\"))","v":"○"}]
[1755,0,75000,2188,{"$f":"A1757","v":1754},1756,null,{"$f":"AccVelDataLink!G2191","v":75},{"$f":"AccVelDataLink!A2191","v":2188},"○","○"]
[1756,0,90000,2189,1755,1757,null,{"$f":"AccVelDataLink!G2192","v":90},{"$f":"AccVelDataLink!A2192","v":2189},"○","○"]
[1757,0,100000,2190,1756,1758,null,{"$f":"AccVelDataLink!G2193","v":100},{"$f":"AccVelDataLink!A2193","v":2190},"○","○"]
[1758,1,2000,2191,1757,1759,{"$f":"AccVelDataLink!F2194","v":"RCP6-RRA8C-5-垂直"},{"$f":"AccVelDataLink!G2194","v":2},{"$f":"AccVelDataLink!A2194","v":2191},"○","○"]
[1759,1,10000,2192,1758,1760,null,{"$f":"AccVelDataLink!G2195","v":10},{"$f":"AccVelDataLink!A2195","v":2192},"○","○"]
[1760,1,15000,2193,1759,1761,null,{"$f":"AccVelDataLink!G2196","v":15},{"$f":"AccVelDataLink!A2196","v":2193},"○","○"]
[1761,1,20000,2194,1760,1762,null,{"$f":"AccVelDataLink!G2197","v":20},{"$f":"AccVelDataLink!A2197","v":2194},"○","○"]
[1762,1,25000,2195,1761,1763,null,{"$f":"AccVelDataLink!G2198","v":25},{"$f":"AccVelDataLink!A2198","v":2195},"○","○"]
[1763,1,35000,2196,1762,1764,null,{"$f":"AccVelDataLink!G2199","v":35},{"$f":"AccVelDataLink!A2199","v":2196},"○","○"]
[1764,1,50000,2197,1763,{"$f":"A1768","v":1765},null,{"$f":"AccVelDataLink!G2200","v":50},{"$f":"AccVelDataLink!A2200","v":2197},"○","○"]
[{"$f":"A1767+1","v":1765},1,{"$f":"H1768*$H$1","v":70000},{"$f":"I1768","v":2198},{"$f":"A1767","v":1764},-1,null,{"$f":"AccVelDataLink!G2201","v":70},{"$f":"AccVelDataLink!A2201","v":2198},"○","終端"]
[1766,0,10000,2199,-1,{"$f":"A1770","v":1767},{"$f":"AccVelDataLink!F2202","v":"RCP6-RRA8C-10-水平"},{"$f":"AccVelDataLink!G2202","v":10},{"$f":"AccVelDataLink!A2202","v":2199},{"$f":"IF(E1769=A1768,\"○\",IF(G1769=0,\"つなぎまちがい\",\"先頭\"))","v":"先頭"},{"$f":"IF(F1769=A1770,\"○\",IF(F1769<>E1770,\"つなぎまちがい\",\"終端\"))","v":"○"}]
[1767,0,40000,2200,1766,1768,null,{"$f":"AccVelDataLink!G2203","v":40},{"$f":"AccVelDataLink!A2203","v":2200},"○","○"]
[1768,0,45000,2201,1767,1769,null,{"$f":"AccVelDataLink!G2204","v":45},{"$f":"AccVelDataLink!A2204","v":2201},"○","○"]
[1769,0,60000,2202,1768,1770,null,{"$f":"AccVelDataLink!G2205","v":60},{"$f":"AccVelDataLink!A2205","v":2202},"○","○"]
[1770,1,2000,2203,1769,1771,{"$f":"AccVelDataLink!F2206","v":"RCP6-RRA8C-10-垂直"},{"$f":"AccVelDataLink!G2206","v":2},{"$f":"AccVelDataLink!A2206","v":2203},"○","○"]
[1771,1,3000,2204,1770,1772,null,{"$f":"AccVelDataLink!G2207","v":3},{"$f":"AccVelDataLink!A2207","v":2204},"○","○"]
[1772,1,4000,2205,1771,1773,null,{"$f":"AccVelDataLink!G2208","v":4},{"$f":"AccVelDataLink!A2208","v":2205},"○","○"]
[1773,1,5000,2206,1772,1774,null,{"$f":"AccVelDataLink!G2209","v":5},{"$f":"AccVelDataLink!A2209","v":2206},"○","○"]
[1774,1,7000,2207,1773,1775,null,{"$f":"AccVelDataLink!G2210","v":7},{"$f":"AccVelDataLink!A2210","v":2207},"○","○"]
[1775,1,8000,2208,1774,1776,null,{"$f":"AccVelDataLink!G2211","v":8},{"$f":"AccVelDataLink!A2211","v":2208},"○","○"]
[1776,1,10000,2209,1775,1777,null,{"$f":"AccVelDataLink!G2212","v":10},{"$f":"AccVelDataLink!A2212","v":2209},"○","○"]
[1777,1,11000,2210,1776,1778,null,{"$f":"AccVelDataLink!G2213","v":11},{"$f":"AccVelDataLink!A2213","v":2210},"○","○"]
[1778,1,15000,2211,1777,1779,null,{"$f":"AccVelDataLink!G2214","v":15},{"$f":"AccVelDataLink!A2214","v":2211},"○","○"]
[1779,1,18000,2212,1778,1780,null,{"$f":"AccVelDataLink!G2215","v":18},{"$f":"AccVelDataLink!A2215","v":2212},"○","○"]
[1780,1,23000,2213,1779,1781,null,{"$f":"AccVelDataLink!G2216","v":23},{"$f":"AccVelDataLink!A2216","v":2213},"○","○"]
[1781,1,28000,2214,1780,{"$f":"A1785","v":1782},null,{"$f":"AccVelDataLink!G2217","v":28},{"$f":"AccVelDataLink!A2217","v":2214},"○","○"]
[1782,1,33000,2215,1781,1783,null,{"$f":"AccVelDataLink!G2218","v":33},{"$f":"AccVelDataLink!A2218","v":2215},"○","○"]
[{"$f":"A1785+1","v":1783},1,{"$f":"H1786*$H$1","v":40000},{"$f":"I1786","v":2216},{"$f":"A1785","v":1782},-1,null,{"$f":"AccVelDataLink!G2219","v":40},{"$f":"AccVelDataLink!A2219","v":2216},"○","終端"]
[1784,0,5000,2217,-1,{"$f":"A1788","v":1785},{"$f":"AccVelDataLink!F2220","v":"RCP6-RRA8C-20-水平"},{"$f":"AccVelDataLink!G2220","v":5},{"$f":"AccVelDataLink!A2220","v":2217},{"$f":"IF(E1787=A1786,\"○\",IF(G1787=0,\"つなぎまちがい\",\"先頭\"))","v":"先頭"},{"$f":"IF(F1787=A1788,\"○\",IF(F1787<>E1788,\"つなぎまちがい\",\"終端\"))","v":"○"}]
[1785,0,6000,2218,{"$f":"A1787","v":1784},1786,null,{"$f":"AccVelDataLink!G2221","v":6},{"$f":"AccVelDataLink!A2221","v":2218},"○","○"]
[1786,0,8000,2219,1785,1787,null,{"$f":"AccVelDataLink!G2222","v":8},{"$f":"AccVelDataLink!A2222","v":2219},"○","○"]
[1787,0,10000,2220,1786,1788,null,{"$f":"AccVelDataLink!G2223","v":10},{"$f":"AccVelDataLink!A2223","v":2220},"○","○"]
[1788,0,12000,2221,1787,1789,null,{"$f":"AccVelDataLink!G2224","v":12},{"$f":"AccVelDataLink!A2224","v":2221},"○","○"]
[1789,0,16000,2222,1788,1790,null,{"$f":"AccVelDataLink!G2225","v":16},{"$f":"AccVelDataLink!A2225","v":2222},"○","○"]
[1790,0,24000,2223,1789,1791,null,{"$f":"AccVelDataLink!G2226","v":24},{"$f":"AccVelDataLink!A2226","v":2223},"○","○"]
[1791,0,30000,2224,1790,1792,null,{"$f":"AccVelDataLink!G2227","v":30},{"$f":"AccVelDataLink!A2227","v":2224},"○","○"]
[1792,1,2000,2225,1791,1793,{"$f":"AccVelDataLink!F2228","v":"RCP6-RRA8C-20-垂直"},{"$f":"AccVelDataLink!G2228","v":2},{"$f":"AccVelDataLink!A2228","v":2225},"○","○"]
[1793,1,2500,2226,1792,1794,null,{"$f":"AccVelDataLink!G2229","v":2.5},{"$f":"AccVelDataLink!A2229","v":2226},"○","○"]
[1794,1,3000,2227,1793,{"$f":"A1798","v":1795},null,{"$f":"AccVelDataLink!G2230","v":3},{"$f":"AccVelDataLink!A2230","v":2227},"○","○"]
[{"$f":"A1797+1","v":1795},1,{"$f":"H1798*$H$1","v":5000},{"$f":"I1798","v":2228},{"$f":"A1797","v":1794},-1,null,{"$f":"AccVelDataLink!G2231","v":5},{"$f":"AccVelDataLink!A2231","v":2228},"○","終端"]
[1796,0,75000,2229,-1,{"$f":"A1800","v":1797},{"$f":"AccVelDataLink!F2232","v":"RCP6-RRA8R-5-水平"},{"$f":"AccVelDataLink!G2232","v":75},{"$f":"AccVelDataLink!A2232","v":2229},{"$f":"IF(E1799=A1798,\"○\",IF(G1799=0,\"つなぎまちがい\",\"先頭\"))","v":"先頭"},{"$f":"IF(F1799=A1800,\"○\",IF(F1799<>E1800,\"つなぎまちがい\",\"終端\"))","v":"○"}]
[1797,0,100000,2230,{"$f":"A1799","v":1796},1798,null,{"$f":"AccVelDataLink!G2233","v":100},{"$f":"AccVelDataLink!A2233","v":2230},"○","○"]
[1798,1,10000,2231,1797,1799,{"$f":"AccVelDataLink!F2234","v":"RCP6-RRA8R-5-垂直"},{"$f":"AccVelDataLink!G2234","v":10},{"$f":"AccVelDataLink!A2234","v":2231},"○","○"]
[1799,1,16000,2232,1798,1800,null,{"$f":"AccVelDataLink!G2235","v":16},{"$f":"AccVelDataLink!A2235","v":2232},"○","○"]
[1800,1,25000,2233,1799,1801,null,{"$f":"AccVelDataLink!G2236","v":25},{"$f":"AccVelDataLink!A2236","v":2233},"○","○"]
[1801,1,35000,2234,1800,1802,null,{"$f":"AccVelDataLink!G2237","v":35},{"$f":"AccVelDataLink!A2237","v":2234},"○","○"]
[1802,1,45000,2235,1801,{"$f":"A1806","v":1803},null,{"$f":"AccVelDataLink!G2238","v":45},{"$f":"AccVelDataLink!A2238","v":2235},"○","○"]
[{"$f":"A1805+1","v":1803},1,{"$f":"H1806*$H$1","v":70000},{"$f":"I1806","v":2236},{"$f":"A1805","v":1802},-1,null,{"$f":"AccVelDataLink!G2239","v":70},{"$f":"AccVelDataLink!A2239","v":2236},"○","終端"]
[1804,0,12000,2237,-1,{"$f":"A1808","v":1805},{"$f":"AccVelDataLink!F2240","v":"RCP6-RRA8R-10-水平"},{"$f":"AccVelDataLink!G2240","v":12},{"$f":"AccVelDataLink!A2240","v":2237},{"$f":"IF(E1807=A1806,\"○\",IF(G1807=0,\"つなぎまちがい\",\"先頭\"))","v":"先頭"},{"$f":"IF(F1807=A1808,\"○\",IF(F1807<>E1808,\"つなぎまちがい\",\"終端\"))","v":"○"}]
[1805,0,15000,2238,{"$f":"A1807","v":1804},1806,null,{"$f":"AccVelDataLink!G2241","v":15},{"$f":"AccVelDataLink!A2241","v":2238},"○","○"]
[1806,0,25000,2239,1805,1807,null,{"$f":"AccVelDataLink!G2242","v":25},{"$f":"AccVelDataLink!A2242","v":2239},"○","○"]
[1807,0,40000,2240,1806,1808,null,{"$f":"AccVelDataLink!G2243","v":40},{"$f":"AccVelDataLink!A2243","v":2240},"○","○"]
[1808,0,60000,2241,1807,1809,null,{"$f":"AccVelDataLink!G2244","v":60},{"$f":"AccVelDataLink!A2244","v":2241},"○","○"]
[1809,1,2000,2242,1808,1810,{"$f":"AccVelDataLink!F2245","v":"RCP6-RRA8R-10-垂直"},{"$f":"AccVelDataLink!G2245","v":2},{"$f":"AccVelDataLink!A2245","v":2242},"○","○"]
[1810,1,3000,2243,1809,1811,null,{"$f":"AccVelDataLink!G2246","v":3},{"$f":"AccVelDataLink!A2246","v":2243},"○","○"]
[1811,1,4000,2244,1810,1812,null,{"$f":"AccVelDataLink!G2247","v":4},{"$f":"AccVelDataLink!A2247","v":2244},"○","○"]
[1812,1,6000,2245,1811,1813,null,{"$f":"AccVelDataLink!G2248","v":6},{"$f":"AccVelDataLink!A2248","v":2245},"○","○"]
[1813,1,8000,2246,1812,1814,null,{"$f":"AccVelDataLink!G2249","v":8},{"$f":"AccVelDataLink!A2249","v":2246},"○","○"]
[1814,1,10000,2247,1813,1815,null,{"$f":"AccVelDataLink!G2250","v":10},{"$f":"AccVelDataLink!A2250","v":2247},"○","○"]
[1815,1,12000,2248,1814,1816,null,{"$f":"AccVelDataLink!G2251","v":12},{"$f":"AccVelDataLink!A2251","v":2248},"○","○"]
[1816,1,15000,2249,1815,1817,null,{"$f":"AccVelDataLink!G2252","v":15},{"$f":"AccVelDataLink!A2252","v":2249},"○","○"]
[1817,1,18000,2250,1816,1818,null,{"$f":"AccVelDataLink!G2253","v":18},{"$f":"AccVelDataLink!A2253","v":2250},"○","○"]
[1818,1,23000,2251,1817,1819,null,{"$f":"AccVelDataLink!G2254","v":23},{"$f":"AccVelDataLink!A2254","v":2251},"○","○"]
[1819,1,28000,2252,1818,{"$f":"A1823","v":1820},null,{"$f":"AccVelDataLink!G2255","v":28},{"$f":"AccVelDataLink!A2255","v":2252},"○","○"]
[1820,1,34000,2253,1819,1821,null,{"$f":"AccVelDataLink!G2256","v":34},{"$f":"AccVelDataLink!A2256","v":2253},"○","○"]
[{"$f":"A1823+1","v":1821},1,{"$f":"H1824*$H$1","v":40000},{"$f":"I1824","v":2254},{"$f":"A1823","v":1820},-1,null,{"$f":"AccVelDataLink!G2257","v":40},{"$f":"AccVelDataLink!A2257","v":2254},{"$f":"IF(E1824=A1823,\"○\",IF(G1824=0,\"つなぎまちがい\",\"先頭\"))","v":"○"},{"$f":"IF(F1824=A1825,\"○\",IF(F1824<>E1825,\"つなぎまちがい\",\"終端\"))","v":"終端"}]
[1822,0,6000,2255,-1,{"$f":"A1826","v":1823},{"$f":"AccVelDataLink!F2258","v":"RCP6-RRA8R-20-水平"},{"$f":"AccVelDataLink!G2258","v":6},{"$f":"AccVelDataLink!A2258","v":2255},"先頭","○"]
[1823,0,14000,2256,{"$f":"A1825","v":1822},1824,null,{"$f":"AccVelDataLink!G2259","v":14},{"$f":"AccVelDataLink!A2259","v":2256},"○","○"]
[1824,0,30000,2257,1823,1825,null,{"$f":"AccVelDataLink!G2260","v":30},{"$f":"AccVelDataLink!A2260","v":2257},"○","○"]
[1825,1,500,2258,1824,1826,{"$f":"AccVelDataLink!F2261","v":"RCP6-RRA8R-20-垂直"},{"$f":"AccVelDataLink!G2261","v":0.5},{"$f":"AccVelDataLink!A2261","v":2258},"○","○"]
[1826,1,2000,2259,1825,{"$f":"A1830","v":1827},null,{"$f":"AccVelDataLink!G2262","v":2},{"$f":"AccVelDataLink!A2262","v":2259},"○","○"]
[1827,1,3500,2260,1826,1828,null,{"$f":"AccVelDataLink!G2263","v":3.5},{"$f":"AccVelDataLink!A2263","v":2260},"○","○"]
[{"$f":"A1830+1","v":1828},1,{"$f":"H1831*$H$1","v":5000},{"$f":"I1831","v":2261},1827,-1,null,{"$f":"AccVelDataLink!G2264","v":5},{"$f":"AccVelDataLink!A2264","v":2261},"○","終端"]
[1829,0,24000,2262,-1,{"$f":"A1833","v":1830},{"$f":"AccVelDataLink!F2265","v":"RCP6-WRA16C-5-水平"},{"$f":"AccVelDataLink!G2265","v":24},{"$f":"AccVelDataLink!A2265","v":2262},{"$f":"IF(E1832=A1831,\"○\",IF(G1832=0,\"つなぎまちがい\",\"先頭\"))","v":"先頭"},{"$f":"IF(F1832=A1833,\"○\",IF(F1832<>E1833,\"つなぎまちがい\",\"終端\"))","v":"○"}]
[1830,0,58000,2263,{"$f":"A1832","v":1829},1831,null,{"$f":"AccVelDataLink!G2266","v":58},{"$f":"AccVelDataLink!A2266","v":2263},"○","○"]
[1831,0,100000,2264,1830,1832,null,{"$f":"AccVelDataLink!G2267","v":100},{"$f":"AccVelDataLink!A2267","v":2264},"○","○"]
[1832,1,13000,2265,1831,1833,{"$f":"AccVelDataLink!F2268","v":"RCP6-WRA16C-5-垂直"},{"$f":"AccVelDataLink!G2268","v":13},{"$f":"AccVelDataLink!A2268","v":2265},"○","○"]
[1833,1,20000,2266,1832,1834,null,{"$f":"AccVelDataLink!G2269","v":20},{"$f":"AccVelDataLink!A2269","v":2266},"○","○"]
[1834,1,25000,2267,1833,1835,null,{"$f":"AccVelDataLink!G2270","v":25},{"$f":"AccVelDataLink!A2270","v":2267},"○","○"]
[1835,1,35000,2268,1834,{"$f":"A1839","v":1836},null,{"$f":"AccVelDataLink!G2271","v":35},{"$f":"AccVelDataLink!A2271","v":2268},"○","○"]
[1836,1,50000,2269,1835,1837,null,{"$f":"AccVelDataLink!G2272","v":50},{"$f":"AccVelDataLink!A2272","v":2269},"○","○"]
[{"$f":"A1839+1","v":1837},1,{"$f":"H1840*$H$1","v":70000},{"$f":"I1840","v":2270},{"$f":"A1839","v":1836},-1,null,{"$f":"AccVelDataLink!G2273","v":70},{"$f":"AccVelDataLink!A2273","v":2270},"○","終端"]
[1838,0,36000,2271,-1,{"$f":"A1842","v":1839},{"$f":"AccVelDataLink!F2274","v":"RCP6-WRA16C-10-水平"},{"$f":"AccVelDataLink!G2274","v":36},{"$f":"AccVelDataLink!A2274","v":2271},{"$f":"IF(E1841=A1840,\"○\",IF(G1841=0,\"つなぎまちがい\",\"先頭\"))","v":"先頭"},{"$f":"IF(F1841=A1842,\"○\",IF(F1841<>E1842,\"つなぎまちがい\",\"終端\"))","v":"○"}]
[1839,0,45000,2272,{"$f":"A1841","v":1838},1840,null,{"$f":"AccVelDataLink!G2275","v":45},{"$f":"AccVelDataLink!A2275","v":2272},"○","○"]
[1840,0,60000,2273,1839,1841,null,{"$f":"AccVelDataLink!G2276","v":60},{"$f":"AccVelDataLink!A2276","v":2273},"○","○"]
[1841,1,500,2274,1840,1842,{"$f":"AccVelDataLink!F2277","v":"RCP6-WRA16C-10-垂直"},{"$f":"AccVelDataLink!G2277","v":0.5},{"$f":"AccVelDataLink!A2277","v":2274},"○","○"]
[1842,1,2500,2275,1841,1843,null,{"$f":"AccVelDataLink!G2278","v":2.5},{"$f":"AccVelDataLink!A2278","v":2275},"○","○"]
[1843,1,4500,2276,1842,1844,null,{"$f":"AccVelDataLink!G2279","v":4.5},{"$f":"AccVelDataLink!A2279","v":2276},"○","○"]
[1844,1,5500,2277,1843,1845,null,{"$f":"AccVelDataLink!G2280","v":5.5},{"$f":"AccVelDataLink!A2280","v":2277},"○","○"]
[1845,1,9500,2278,1844,1846,null,{"$f":"AccVelDataLink!G2281","v":9.5},{"$f":"AccVelDataLink!A2281","v":2278},"○","○"]
[1846,1,11000,2279,1845,1847,null,{"$f":"AccVelDataLink!G2282","v":11},{"$f":"AccVelDataLink!A2282","v":2279},"○","○"]
[1847,1,14500,2280,1846,1848,null,{"$f":"AccVelDataLink!G2283","v":14.5},{"$f":"AccVelDataLink!A2283","v":2280},"○","○"]
[1848,1,16500,2281,1847,1849,null,{"$f":"AccVelDataLink!G2284","v":16.5},{"$f":"AccVelDataLink!A2284","v":2281},"○","○"]
[1849,1,19500,2282,1848,1850,null,{"$f":"AccVelDataLink!G2285","v":19.5},{"$f":"AccVelDataLink!A2285","v":2282},"○","○"]
[1850,1,24500,2283,1849,1851,null,{"$f":"AccVelDataLink!G2286","v":24.5},{"$f":"AccVelDataLink!A2286","v":2283},"○","○"]
[1851,1,29500,2284,1850,{"$f":"A1855","v":1852},null,{"$f":"AccVelDataLink!G2287","v":29.5},{"$f":"AccVelDataLink!A2287","v":2284},"○","○"]
[{"$f":"A1854+1","v":1852},1,{"$f":"H1855*$H$1","v":36500},{"$f":"I1855","v":2285},{"$f":"A1854","v":1851},-1,null,{"$f":"AccVelDataLink!G2288","v":36.5},{"$f":"AccVelDataLink!A2288","v":2285},"○","終端"]
[{"$f":"A1855+1","v":1853},0,{"$f":"H1856*$H$1","v":5000},{"$f":"I1856","v":2286},-1,{"$f":"A1857","v":1854},{"$f":"AccVelDataLink!F2289","v":"RCP6-WRA16C-20-水平"},{"$f":"AccVelDataLink!G2289","v":5},{"$f":"AccVelDataLink!A2289","v":2286},{"$f":"IF(E1856=A1855,\"○\",IF(G1856=0,\"つなぎまちがい\",\"先頭\"))","v":"先頭"},{"$f":"IF(F1856=A1857,\"○\",IF(F1856<>E1857,\"つなぎまちがい\",\"終端\"))","v":"○"}]
[{"$f":"A1856+1","v":1854},0,{"$f":"H1857*$H$1","v":14000},{"$f":"I1857","v":2287},{"$f":"A1856","v":1853},{"$f":"A1858","v":1855},null,{"$f":"AccVelDataLink!G2290","v":14},{"$f":"AccVelDataLink!A2290","v":2287},{"$f":"IF(E1857=A1856,\"○\",IF(G1857=0,\"つなぎまちがい\",\"先頭\"))","v":"○"},{"$f":"IF(F1857=A1858,\"○\",IF(F1857<>E1858,\"つなぎまちがい\",\"終端\"))","v":"○"}]
[{"$f":"A1857+1","v":1855},0,{"$f":"H1858*$H$1","v":24000},{"$f":"I1858","v":2288},{"$f":"A1857","v":1854},{"$f":"A1859","v":1856},null,{"$f":"AccVelDataLink!G2291","v":24},{"$f":"AccVelDataLink!A2291","v":2288},{"$f":"IF(E1858=A1857,\"○\",IF(G1858=0,\"つなぎまちがい\",\"先頭\"))","v":"○"},{"$f":"IF(F1858=A1859,\"○\",IF(F1858<>E1859,\"つなぎまちがい\",\"終端\"))","v":"○"}]
[{"$f":"A1858+1","v":1856},0,{"$f":"H1859*$H$1","v":30000},{"$f":"I1859","v":2289},{"$f":"A1858","v":1855},-1,null,{"$f":"AccVelDataLink!G2292","v":30},{"$f":"AccVelDataLink!A2292","v":2289},{"$f":"IF(E1859=A1858,\"○\",IF(G1859=0,\"つなぎまちがい\",\"先頭\"))","v":"○"},{"$f":"IF(F1859=A1860,\"○\",IF(F1859<>E1860,\"つなぎまちがい\",\"終端\"))","v":"終端"}]
[1857,0,58000,2290,-1,{"$f":"A1861","v":1858},{"$f":"AccVelDataLink!F2293","v":"RCP6-WRA16R-5-水平"},{"$f":"AccVelDataLink!G2293","v":58},{"$f":"AccVelDataLink!A2293","v":2290},{"$f":"IF(E1860=A1859,\"○\",IF(G1860=0,\"つなぎまちがい\",\"先頭\"))","v":"先頭"},{"$f":"IF(F1860=A1861,\"○\",IF(F1860<>E1861,\"つなぎまちがい\",\"終端\"))","v":"○"}]
[1858,0,100000,2291,{"$f":"A1860","v":1857},1859,null,{"$f":"AccVelDataLink!G2294","v":100},{"$f":"AccVelDataLink!A2294","v":2291},"○","○"]
[1859,1,2000,2292,1858,1860,{"$f":"AccVelDataLink!F2295","v":"RCP6-WRA16R-5-垂直"},{"$f":"AccVelDataLink!G2295","v":2},{"$f":"AccVelDataLink!A2295","v":2292},"○","○"]
[1860,1,9000,2293,1859,1861,null,{"$f":"AccVelDataLink!G2296","v":9},{"$f":"AccVelDataLink!A2296","v":2293},"○","○"]
[1861,1,18000,2294,1860,1862,null,{"$f":"AccVelDataLink!G2297","v":18},{"$f":"AccVelDataLink!A2297","v":2294},"○","○"]
[1862,1,28000,2295,1861,{"$f":"A1866","v":1863},null,{"$f":"AccVelDataLink!G2298","v":28},{"$f":"AccVelDataLink!A2298","v":2295},"○","○"]
[1863,1,33000,2296,1862,1864,null,{"$f":"AccVelDataLink!G2299","v":33},{"$f":"AccVelDataLink!A2299","v":2296},"○","○"]
[{"$f":"A1866+1","v":1864},1,{"$f":"H1867*$H$1","v":63000},{"$f":"I1867","v":2297},{"$f":"A1866","v":1863},-1,null,{"$f":"AccVelDataLink!G2300","v":63},{"$f":"AccVelDataLink!A2300","v":2297},"○","終端"]
[1865,0,18000,2298,-1,{"$f":"A1869","v":1866},{"$f":"AccVelDataLink!F2301","v":"RCP6-WRA16R-10-水平"},{"$f":"AccVelDataLink!G2301","v":18},{"$f":"AccVelDataLink!A2301","v":2298},{"$f":"IF(E1868=A1867,\"○\",IF(G1868=0,\"つなぎまちがい\",\"先頭\"))","v":"先頭"},{"$f":"IF(F1868=A1869,\"○\",IF(F1868<>E1869,\"つなぎまちがい\",\"終端\"))","v":"○"}]
[1866,0,45000,2299,{"$f":"A1868","v":1865},1867,null,{"$f":"AccVelDataLink!G2302","v":45},{"$f":"AccVelDataLink!A2302","v":2299},"○","○"]
[1867,0,60000,2300,1866,1868,null,{"$f":"AccVelDataLink!G2303","v":60},{"$f":"AccVelDataLink!A2303","v":2300},"○","○"]
[1868,1,2500,2301,1867,1869,{"$f":"AccVelDataLink!F2304","v":"RCP6-WRA16R-10-垂直"},{"$f":"AccVelDataLink!G2304","v":2.5},{"$f":"AccVelDataLink!A2304","v":2301},"○","○"]
[1869,1,4500,2302,1868,1870,null,{"$f":"AccVelDataLink!G2305","v":4.5},{"$f":"AccVelDataLink!A2305","v":2302},"○","○"]
[1870,1,5500,2303,1869,1871,null,{"$f":"AccVelDataLink!G2306","v":5.5},{"$f":"AccVelDataLink!A2306","v":2303},"○","○"]
[1871,1,7500,2304,1870,1872,null,{"$f":"AccVelDataLink!G2307","v":7.5},{"$f":"AccVelDataLink!A2307","v":2304},"○","○"]
[1872,1,11500,2305,1871,1873,null,{"$f":"AccVelDataLink!G2308","v":11.5},{"$f":"AccVelDataLink!A2308","v":2305},"○","○"]
[1873,1,14500,2306,1872,1874,null,{"$f":"AccVelDataLink!G2309","v":14.5},{"$f":"AccVelDataLink!A2309","v":2306},"○","○"]
[1874,1,16500,2307,1873,1875,null,{"$f":"AccVelDataLink!G2310","v":16.5},{"$f":"AccVelDataLink!A2310","v":2307},"○","○"]
[1875,1,19500,2308,1874,1876,null,{"$f":"AccVelDataLink!G2311","v":19.5},{"$f":"AccVelDataLink!A2311","v":2308},"○","○"]
[1876,1,24500,2309,1875,{"$f":"A1880","v":1877},null,{"$f":"AccVelDataLink!G2312","v":24.5},{"$f":"AccVelDataLink!A2312","v":2309},"○","○"]
[{"$f":"A1879+1","v":1877},1,{"$f":"H1880*$H$1","v":34500},{"$f":"I1880","v":2310},{"$f":"A1879","v":1876},-1,null,{"$f":"AccVelDataLink!G2313","v":34.5},{"$f":"AccVelDataLink!A2313","v":2310},"○","終端"]
[{"$f":"A1880+1","v":1878},0,{"$f":"H1881*$H$1","v":10500},{"$f":"I1881","v":2311},-1,{"$f":"A1882","v":1879},{"$f":"AccVelDataLink!F2314","v":"RCP6-WRA16R-20-水平"},{"$f":"AccVelDataLink!G2314","v":10.5},{"$f":"AccVelDataLink!A2314","v":2311},{"$f":"IF(E1881=A1880,\"○\",IF(G1881=0,\"つなぎまちがい\",\"先頭\"))","v":"先頭"},{"$f":"IF(F1881=A1882,\"○\",IF(F1881<>E1882,\"つなぎまちがい\",\"終端\"))","v":"○"}]
[{"$f":"A1881+1","v":1879},0,{"$f":"H1882*$H$1","v":19000},{"$f":"I1882","v":2312},{"$f":"A1881","v":1878},{"$f":"A1883","v":1880},null,{"$f":"AccVelDataLink!G2315","v":19},{"$f":"AccVelDataLink!A2315","v":2312},{"$f":"IF(E1882=A1881,\"○\",IF(G1882=0,\"つなぎまちがい\",\"先頭\"))","v":"○"},{"$f":"IF(F1882=A1883,\"○\",IF(F1882<>E1883,\"つなぎまちがい\",\"終端\"))","v":"○"}]
[{"$f":"A1882+1","v":1880},0,{"$f":"H1883*$H$1","v":30000},{"$f":"I1883","v":2313},{"$f":"A1882","v":1879},-1,null,{"$f":"AccVelDataLink!G2316","v":30},{"$f":"AccVelDataLink!A2316","v":2313},{"$f":"IF(E1883=A1882,\"○\",IF(G1883=0,\"つなぎまちがい\",\"先頭\"))","v":"○"},{"$f":"IF(F1883=A1884,\"○\",IF(F1883<>E1884,\"つなぎまちがい\",\"終端\"))","v":"終端"}]
[{"$f":"A1883+1","v":1881},{"$f":"IF(RIGHT(G1884,2)= \"水平\",0,IF(RIGHT(G1884,2)=\"垂直\",1,B1883))","v":0},{"$f":"H1884*$H$1","v":8000},{"$f":"I1884","v":2314},{"$f":"IF(F1883=-1,-1,A1883)","v":-1},{"$f":"A1885","v":1882},{"$f":"AccVelDataLink!F2317","v":"RCP6-SA4C-2.5-水平"},{"$f":"AccVelDataLink!G2317","v":8},{"$f":"AccVelDataLink!A2317","v":2314},"先頭","○"]
[1882,0,9000,2315,1881,1883,null,{"$f":"AccVelDataLink!G2318","v":9},{"$f":"AccVelDataLink!A2318","v":2315},"○","○"]
[1883,0,10000,2316,1882,1884,null,{"$f":"AccVelDataLink!G2319","v":10},{"$f":"AccVelDataLink!A2319","v":2316},"○","○"]
[1884,0,11000,2318,1883,1885,null,{"$f":"AccVelDataLink!G2321","v":11},{"$f":"AccVelDataLink!A2321","v":2318},"○","○"]
[1885,0,12000,2320,1884,1886,null,{"$f":"AccVelDataLink!G2323","v":12},{"$f":"AccVelDataLink!A2323","v":2320},"○","○"]
[1886,1,5000,2322,1885,1887,{"$f":"AccVelDataLink!F2325","v":"RCP6-SA4C-2.5-垂直"},{"$f":"AccVelDataLink!G2325","v":5},{"$f":"AccVelDataLink!A2325","v":2322},"○","○"]
[1887,1,8000,2323,1886,1888,null,{"$f":"AccVelDataLink!G2326","v":8},{"$f":"AccVelDataLink!A2326","v":2323},"○","○"]
[1888,1,9000,2324,1887,-1,null,{"$f":"AccVelDataLink!G2327","v":9},{"$f":"AccVelDataLink!A2327","v":2324},"○","終端"]
[1889,0,6000,2325,-1,1890,{"$f":"AccVelDataLink!F2328","v":"RCP6-SA4C-5-水平"},{"$f":"AccVelDataLink!G2328","v":6},{"$f":"AccVelDataLink!A2328","v":2325},"先頭","○"]
[1890,0,7000,2326,1889,1891,null,{"$f":"AccVelDataLink!G2329","v":7},{"$f":"AccVelDataLink!A2329","v":2326},"○","○"]
[1891,0,8000,2327,1890,1892,null,{"$f":"AccVelDataLink!G2330","v":8},{"$f":"AccVelDataLink!A2330","v":2327},"○","○"]
[1892,0,9000,2329,1891,1893,null,{"$f":"AccVelDataLink!G2332","v":9},{"$f":"AccVelDataLink!A2332","v":2329},"○","○"]
[1893,0,10000,2331,1892,1894,null,{"$f":"AccVelDataLink!G2334","v":10},{"$f":"AccVelDataLink!A2334","v":2331},"○","○"]
[1894,0,12000,2333,1893,1895,null,{"$f":"AccVelDataLink!G2336","v":12},{"$f":"AccVelDataLink!A2336","v":2333},"○","○"]
[1895,1,2500,2334,1894,1896,{"$f":"AccVelDataLink!F2337","v":"RCP6-SA4C-5-垂直"},{"$f":"AccVelDataLink!G2337","v":2.5},{"$f":"AccVelDataLink!A2337","v":2334},"○","○"]
[1896,1,4000,2335,1895,1897,null,{"$f":"AccVelDataLink!G2338","v":4},{"$f":"AccVelDataLink!A2338","v":2335},"○","○"]
[1897,1,4500,2336,1896,-1,null,{"$f":"AccVelDataLink!G2339","v":4.5},{"$f":"AccVelDataLink!A2339","v":2336},"○","終端"]
[1898,0,3000,2337,-1,1899,{"$f":"AccVelDataLink!F2340","v":"RCP6-SA4C-10-水平"},{"$f":"AccVelDataLink!G2340","v":3},{"$f":"AccVelDataLink!A2340","v":2337},"先頭","○"]
[1899,0,4000,2338,1898,1900,null,{"$f":"AccVelDataLink!G2341","v":4},{"$f":"AccVelDataLink!A2341","v":2338},"○","○"]
[1900,0,5000,2339,1899,1901,null,{"$f":"AccVelDataLink!G2342","v":5},{"$f":"AccVelDataLink!A2342","v":2339},"○","○"]
[1901,0,6000,2341,1900,1902,null,{"$f":"AccVelDataLink!G2344","v":6},{"$f":"AccVelDataLink!A2344","v":2341},"○","○"]
[1902,0,7000,2343,1901,1903,null,{"$f":"AccVelDataLink!G2346","v":7},{"$f":"AccVelDataLink!A2346","v":2343},"○","○"]
[1903,0,8000,2344,1902,1904,null,{"$f":"AccVelDataLink!G2347","v":8},{"$f":"AccVelDataLink!A2347","v":2344},"○","○"]
[1904,0,9000,2345,1903,1905,null,{"$f":"AccVelDataLink!G2348","v":9},{"$f":"AccVelDataLink!A2348","v":2345},"○","○"]
[1905,0,10000,2346,1904,1906,null,{"$f":"AccVelDataLink!G2349","v":10},{"$f":"AccVelDataLink!A2349","v":2346},"○","○"]
[1906,1,1000,2347,1905,1907,{"$f":"AccVelDataLink!F2350","v":"RCP6-SA4C-10-垂直"},{"$f":"AccVelDataLink!G2350","v":1},{"$f":"AccVelDataLink!A2350","v":2347},"○","○"]
[1907,1,1500,2348,1906,1908,null,{"$f":"AccVelDataLink!G2351","v":1.5},{"$f":"AccVelDataLink!A2351","v":2348},"○","○"]
[1908,1,2000,2349,1907,1909,null,{"$f":"AccVelDataLink!G2352","v":2},{"$f":"AccVelDataLink!A2352","v":2349},"○","○"]
[1909,1,2250,2350,1908,-1,null,{"$f":"AccVelDataLink!G2353","v":2.25},{"$f":"AccVelDataLink!A2353","v":2350},"○","終端"]
[1910,0,1500,2351,-1,1911,{"$f":"AccVelDataLink!F2354","v":"RCP6-SA4C-16-水平"},{"$f":"AccVelDataLink!G2354","v":1.5},{"$f":"AccVelDataLink!A2354","v":2351},"先頭","○"]
[1911,0,2000,2352,1910,1912,null,{"$f":"AccVelDataLink!G2355","v":2},{"$f":"AccVelDataLink!A2355","v":2352},"○","○"]
[1912,0,2500,2353,1911,1913,null,{"$f":"AccVelDataLink!G2356","v":2.5},{"$f":"AccVelDataLink!A2356","v":2353},"○","○"]
[1913,0,3000,2355,1912,1914,null,{"$f":"AccVelDataLink!G2358","v":3},{"$f":"AccVelDataLink!A2358","v":2355},"○","○"]
[1914,0,3500,2357,1913,1915,null,{"$f":"AccVelDataLink!G2360","v":3.5},{"$f":"AccVelDataLink!A2360","v":2357},"○","○"]
[1915,0,4000,2359,1914,1916,null,{"$f":"AccVelDataLink!G2362","v":4},{"$f":"AccVelDataLink!A2362","v":2359},"○","○"]
[1916,1,500,2360,1915,1917,{"$f":"AccVelDataLink!F2363","v":"RCP6-SA4C-16-垂直"},{"$f":"AccVelDataLink!G2363","v":0.5},{"$f":"AccVelDataLink!A2363","v":2360},"○","○"]
[1917,1,750,2361,1916,1918,null,{"$f":"AccVelDataLink!G2364","v":0.75},{"$f":"AccVelDataLink!A2364","v":2361},"○","○"]
[1918,1,1000,2362,1917,-1,null,{"$f":"AccVelDataLink!G2365","v":1},{"$f":"AccVelDataLink!A2365","v":2362},"○","終端"]
[1919,0,9000,2363,-1,1920,{"$f":"AccVelDataLink!F2366","v":"RCP6-SA6C-3-水平"},{"$f":"AccVelDataLink!G2366","v":9},{"$f":"AccVelDataLink!A2366","v":2363},"先頭","○"]
[1920,0,11000,2364,1919,1921,null,{"$f":"AccVelDataLink!G2367","v":11},{"$f":"AccVelDataLink!A2367","v":2364},"○","○"]
[1921,0,14000,2366,1920,1922,null,{"$f":"AccVelDataLink!G2369","v":14},{"$f":"AccVelDataLink!A2369","v":2366},"○","○"]
[1922,0,15000,2367,1921,1923,null,{"$f":"AccVelDataLink!G2370","v":15},{"$f":"AccVelDataLink!A2370","v":2367},"○","○"]
[1923,0,20000,2368,1922,1924,null,{"$f":"AccVelDataLink!G2371","v":20},{"$f":"AccVelDataLink!A2371","v":2368},"○","○"]
[1924,0,22000,2369,1923,1925,null,{"$f":"AccVelDataLink!G2372","v":22},{"$f":"AccVelDataLink!A2372","v":2369},"○","○"]
[1925,0,25000,2370,1924,1926,null,{"$f":"AccVelDataLink!G2373","v":25},{"$f":"AccVelDataLink!A2373","v":2370},"○","○"]
[1926,1,2000,2371,1925,1927,{"$f":"AccVelDataLink!F2374","v":"RCP6-SA6C-3-垂直"},{"$f":"AccVelDataLink!G2374","v":2},{"$f":"AccVelDataLink!A2374","v":2371},"○","○"]
[1927,1,5000,2372,1926,1928,null,{"$f":"AccVelDataLink!G2375","v":5},{"$f":"AccVelDataLink!A2375","v":2372},"○","○"]
[1928,1,8000,2373,1927,1929,null,{"$f":"AccVelDataLink!G2376","v":8},{"$f":"AccVelDataLink!A2376","v":2373},"○","○"]
[1929,1,10000,2374,1928,-1,null,{"$f":"AccVelDataLink!G2377","v":10},{"$f":"AccVelDataLink!A2377","v":2374},"○","終端"]
[1930,0,1000,2375,-1,1931,{"$f":"AccVelDataLink!F2378","v":"RCP6-SA6C-6-水平"},{"$f":"AccVelDataLink!G2378","v":1},{"$f":"AccVelDataLink!A2378","v":2375},"先頭","○"]
[1931,0,7000,2376,1930,1932,null,{"$f":"AccVelDataLink!G2379","v":7},{"$f":"AccVelDataLink!A2379","v":2376},"○","○"]
[1932,0,10000,2377,1931,1933,null,{"$f":"AccVelDataLink!G2380","v":10},{"$f":"AccVelDataLink!A2380","v":2377},"○","○"]
[1933,0,13000,2378,1932,1934,null,{"$f":"AccVelDataLink!G2381","v":13},{"$f":"AccVelDataLink!A2381","v":2378},"○","○"]
[1934,0,14000,2379,1933,1935,null,{"$f":"AccVelDataLink!G2382","v":14},{"$f":"AccVelDataLink!A2382","v":2379},"○","○"]
[1935,0,16000,2380,1934,1936,null,{"$f":"AccVelDataLink!G2383","v":16},{"$f":"AccVelDataLink!A2383","v":2380},"○","○"]
[1936,0,20000,2381,1935,1937,null,{"$f":"AccVelDataLink!G2384","v":20},{"$f":"AccVelDataLink!A2384","v":2381},"○","○"]
[1937,1,1000,2382,1936,1938,{"$f":"AccVelDataLink!F2385","v":"RCP6-SA6C-6-垂直"},{"$f":"AccVelDataLink!G2385","v":1},{"$f":"AccVelDataLink!A2385","v":2382},"○","○"]
[1938,1,2500,2383,1937,1939,null,{"$f":"AccVelDataLink!G2386","v":2.5},{"$f":"AccVelDataLink!A2386","v":2383},"○","○"]
[1939,1,4000,2384,1938,1940,null,{"$f":"AccVelDataLink!G2387","v":4},{"$f":"AccVelDataLink!A2387","v":2384},"○","○"]
[1940,1,5000,2385,1939,-1,null,{"$f":"AccVelDataLink!G2388","v":5},{"$f":"AccVelDataLink!A2388","v":2385},"○","終端"]
[1941,0,1000,2386,-1,1942,{"$f":"AccVelDataLink!F2389","v":"RCP6-SA6C-12-水平"},{"$f":"AccVelDataLink!G2389","v":1},{"$f":"AccVelDataLink!A2389","v":2386},"先頭","○"]
[1942,0,2500,2387,1941,1943,null,{"$f":"AccVelDataLink!G2390","v":2.5},{"$f":"AccVelDataLink!A2390","v":2387},"○","○"]
[1943,0,4000,2388,1942,1944,null,{"$f":"AccVelDataLink!G2391","v":4},{"$f":"AccVelDataLink!A2391","v":2388},"○","○"]
[1944,0,7000,2389,1943,1945,null,{"$f":"AccVelDataLink!G2392","v":7},{"$f":"AccVelDataLink!A2392","v":2389},{"$f":"IF(E1947=A1946,\"○\",IF(G1947=0,\"つなぎまちがい\",\"先頭\"))","v":"○"},{"$f":"IF(F1947=A1948,\"○\",IF(F1947<>E1948,\"つなぎまちがい\",\"終端\"))","v":"○"}]
[{"$f":"A1947+1","v":1945},{"$f":"IF(RIGHT(G1948,2)= \"水平\",0,IF(RIGHT(G1948,2)=\"垂直\",1,B1947))","v":0},{"$f":"H1948*$H$1","v":10000},{"$f":"I1948","v":2391},{"$f":"IF(F1947=-1,-1,A1947)","v":1944},{"$f":"A1949","v":1946},null,{"$f":"AccVelDataLink!G2394","v":10},{"$f":"AccVelDataLink!A2394","v":2391},"○","○"]
[1946,0,11000,2392,1945,1947,null,{"$f":"AccVelDataLink!G2395","v":11},{"$f":"AccVelDataLink!A2395","v":2392},"○","○"]
[1947,0,14000,2393,1946,1948,null,{"$f":"AccVelDataLink!G2396","v":14},{"$f":"AccVelDataLink!A2396","v":2393},"○","○"]
[1948,1,500,2394,1947,1949,{"$f":"AccVelDataLink!F2397","v":"RCP6-SA6C-12-垂直"},{"$f":"AccVelDataLink!G2397","v":0.5},{"$f":"AccVelDataLink!A2397","v":2394},"○","○"]
[1949,1,1000,2395,1948,1950,null,{"$f":"AccVelDataLink!G2398","v":1},{"$f":"AccVelDataLink!A2398","v":2395},"○","○"]
[1950,1,1500,2396,1949,1951,null,{"$f":"AccVelDataLink!G2399","v":1.5},{"$f":"AccVelDataLink!A2399","v":2396},"○","○"]
[1951,1,2000,2397,1950,-1,null,{"$f":"AccVelDataLink!G2400","v":2},{"$f":"AccVelDataLink!A2400","v":2397},"○","終端"]
[1952,0,500,2398,-1,1953,{"$f":"AccVelDataLink!F2401","v":"RCP6-SA6C-20-水平"},{"$f":"AccVelDataLink!G2401","v":0.5},{"$f":"AccVelDataLink!A2401","v":2398},"先頭","○"]
[1953,0,1500,2399,1952,1954,null,{"$f":"AccVelDataLink!G2402","v":1.5},{"$f":"AccVelDataLink!A2402","v":2399},"○","○"]
[1954,0,2000,2400,1953,1955,null,{"$f":"AccVelDataLink!G2403","v":2},{"$f":"AccVelDataLink!A2403","v":2400},"○","○"]
[1955,0,3000,2401,1954,1956,null,{"$f":"AccVelDataLink!G2404","v":3},{"$f":"AccVelDataLink!A2404","v":2401},"○","○"]
[1956,0,4000,2402,1955,1957,null,{"$f":"AccVelDataLink!G2405","v":4},{"$f":"AccVelDataLink!A2405","v":2402},"○","○"]
[1957,0,5000,2404,1956,1958,null,{"$f":"AccVelDataLink!G2407","v":5},{"$f":"AccVelDataLink!A2407","v":2404},"○","○"]
[1958,0,6000,2405,1957,1959,null,{"$f":"AccVelDataLink!G2408","v":6},{"$f":"AccVelDataLink!A2408","v":2405},"○","○"]
[1959,0,8000,2406,1958,1960,null,{"$f":"AccVelDataLink!G2409","v":8},{"$f":"AccVelDataLink!A2409","v":2406},"○","○"]
[1960,1,500,2407,1959,1961,{"$f":"AccVelDataLink!F2410","v":"RCP6-SA6C-20-垂直"},{"$f":"AccVelDataLink!G2410","v":0.5},{"$f":"AccVelDataLink!A2410","v":2407},"○","○"]
[1961,1,750,2408,1960,-1,null,{"$f":"AccVelDataLink!G2411","v":0.75},{"$f":"AccVelDataLink!A2411","v":2408},"○","終端"]
[1962,0,6000,2409,-1,1963,{"$f":"AccVelDataLink!F2412","v":"RCP6-SA7C-4 -水平"},{"$f":"AccVelDataLink!G2412","v":6},{"$f":"AccVelDataLink!A2412","v":2409},"先頭","○"]
[1963,0,15000,2410,1962,1964,null,{"$f":"AccVelDataLink!G2413","v":15},{"$f":"AccVelDataLink!A2413","v":2410},"○","○"]
[1964,0,30000,2411,1963,1965,null,{"$f":"AccVelDataLink!G2414","v":30},{"$f":"AccVelDataLink!A2414","v":2411},"○","○"]
[1965,0,40000,2412,1964,1966,null,{"$f":"AccVelDataLink!G2415","v":40},{"$f":"AccVelDataLink!A2415","v":2412},"○","○"]
[1966,1,2000,2413,1965,1967,{"$f":"AccVelDataLink!F2416","v":"RCP6-SA7C-4 -垂直"},{"$f":"AccVelDataLink!G2416","v":2},{"$f":"AccVelDataLink!A2416","v":2413},"○","○"]
[1967,1,8000,2414,1966,1968,null,{"$f":"AccVelDataLink!G2417","v":8},{"$f":"AccVelDataLink!A2417","v":2414},"○","○"]
[1968,1,15000,2415,1967,-1,null,{"$f":"AccVelDataLink!G2418","v":15},{"$f":"AccVelDataLink!A2418","v":2415},"○","終端"]
[1969,0,1000,2416,-1,1970,{"$f":"AccVelDataLink!F2419","v":"RCP6-SA7C-8-水平"},{"$f":"AccVelDataLink!G2419","v":1},{"$f":"AccVelDataLink!A2419","v":2416},"先頭","○"]
[1970,0,10000,2417,1969,1971,null,{"$f":"AccVelDataLink!G2420","v":10},{"$f":"AccVelDataLink!A2420","v":2417},"○","○"]
[1971,0,14000,2418,1970,1972,null,{"$f":"AccVelDataLink!G2421","v":14},{"$f":"AccVelDataLink!A2421","v":2418},"○","○"]
[1972,0,25000,2419,1971,1973,null,{"$f":"AccVelDataLink!G2422","v":25},{"$f":"AccVelDataLink!A2422","v":2419},"○","○"]
[1973,0,40000,2421,1972,1974,null,{"$f":"AccVelDataLink!G2424","v":40},{"$f":"AccVelDataLink!A2424","v":2421},"○","○"]
[1974,1,1500,2422,1973,1975,{"$f":"AccVelDataLink!F2425","v":"RCP6-SA7C-8-垂直"},{"$f":"AccVelDataLink!G2425","v":1.5},{"$f":"AccVelDataLink!A2425","v":2422},"○","○"]
[1975,1,4000,2423,1974,1976,null,{"$f":"AccVelDataLink!G2426","v":4},{"$f":"AccVelDataLink!A2426","v":2423},"○","○"]
[1976,1,7000,2424,1975,1977,null,{"$f":"AccVelDataLink!G2427","v":7},{"$f":"AccVelDataLink!A2427","v":2424},"○","○"]
[1977,1,10000,2425,1976,-1,null,{"$f":"AccVelDataLink!G2428","v":10},{"$f":"AccVelDataLink!A2428","v":2425},"○","終端"]
[1978,0,500,2426,-1,1979,{"$f":"AccVelDataLink!F2429","v":"RCP6-SA7C-16-水平"},{"$f":"AccVelDataLink!G2429","v":0.5},{"$f":"AccVelDataLink!A2429","v":2426},"先頭","○"]
[1979,0,6000,2427,1978,1980,null,{"$f":"AccVelDataLink!G2430","v":6},{"$f":"AccVelDataLink!A2430","v":2427},"○","○"]
[1980,0,7000,2428,1979,1981,null,{"$f":"AccVelDataLink!G2431","v":7},{"$f":"AccVelDataLink!A2431","v":2428},"○","○"]
[1981,0,12000,2429,1980,1982,null,{"$f":"AccVelDataLink!G2432","v":12},{"$f":"AccVelDataLink!A2432","v":2429},"○","○"]
[1982,0,15000,2430,1981,1983,null,{"$f":"AccVelDataLink!G2433","v":15},{"$f":"AccVelDataLink!A2433","v":2430},"○","○"]
[1983,0,20000,2431,1982,1984,null,{"$f":"AccVelDataLink!G2434","v":20},{"$f":"AccVelDataLink!A2434","v":2431},"○","○"]
[1984,0,25000,2432,1983,1985,null,{"$f":"AccVelDataLink!G2435","v":25},{"$f":"AccVelDataLink!A2435","v":2432},"○","○"]
[1985,0,35000,2433,1984,1986,null,{"$f":"AccVelDataLink!G2436","v":35},{"$f":"AccVelDataLink!A2436","v":2433},"○","○"]
[1986,1,500,2434,1985,1987,{"$f":"AccVelDataLink!F2437","v":"RCP6-SA7C-16-垂直"},{"$f":"AccVelDataLink!G2437","v":0.5},{"$f":"AccVelDataLink!A2437","v":2434},"○","○"]
[1987,1,1500,2435,1986,1988,null,{"$f":"AccVelDataLink!G2438","v":1.5},{"$f":"AccVelDataLink!A2438","v":2435},"○","○"]
[1988,1,3000,2436,1987,1989,null,{"$f":"AccVelDataLink!G2439","v":3},{"$f":"AccVelDataLink!A2439","v":2436},"○","○"]
[1989,1,5000,2437,1988,-1,null,{"$f":"AccVelDataLink!G2440","v":5},{"$f":"AccVelDataLink!A2440","v":2437},"○","終端"]
[1990,0,500,2438,-1,1991,{"$f":"AccVelDataLink!F2441","v":"RCP6-SA7C-24-水平"},{"$f":"AccVelDataLink!G2441","v":0.5},{"$f":"AccVelDataLink!A2441","v":2438},"先頭","○"]
[1991,0,2000,2439,1990,1992,null,{"$f":"AccVelDataLink!G2442","v":2},{"$f":"AccVelDataLink!A2442","v":2439},"○","○"]
[1992,0,5000,2440,1991,1993,null,{"$f":"AccVelDataLink!G2443","v":5},{"$f":"AccVelDataLink!A2443","v":2440},"○","○"]
[1993,0,10000,2441,1992,1994,null,{"$f":"AccVelDataLink!G2444","v":10},{"$f":"AccVelDataLink!A2444","v":2441},"○","○"]
[1994,0,18000,2443,1993,1995,null,{"$f":"AccVelDataLink!G2446","v":18},{"$f":"AccVelDataLink!A2446","v":2443},"○","○"]
[1995,1,500,2444,1994,1996,{"$f":"AccVelDataLink!F2447","v":"RCP6-SA7C-24-垂直"},{"$f":"AccVelDataLink!G2447","v":0.5},{"$f":"AccVelDataLink!A2447","v":2444},"○","○"]
[1996,1,1000,2445,1995,1997,null,{"$f":"AccVelDataLink!G2448","v":1},{"$f":"AccVelDataLink!A2448","v":2445},"○","○"]
[1997,1,2000,2446,1996,-1,null,{"$f":"AccVelDataLink!G2449","v":2},{"$f":"AccVelDataLink!A2449","v":2446},"○","終端"]
[1998,0,8000,2447,-1,1999,{"$f":"AccVelDataLink!F2450","v":"RCP6-SA4R-2.5-水平"},{"$f":"AccVelDataLink!G2450","v":8},{"$f":"AccVelDataLink!A2450","v":2447},"先頭","○"]
[1999,0,9000,2448,1998,2000,null,{"$f":"AccVelDataLink!G2451","v":9},{"$f":"AccVelDataLink!A2451","v":2448},"○","○"]
[2000,0,10000,2449,1999,2001,null,{"$f":"AccVelDataLink!G2452","v":10},{"$f":"AccVelDataLink!A2452","v":2449},"○","○"]
[2001,0,11000,2451,2000,2002,null,{"$f":"AccVelDataLink!G2454","v":11},{"$f":"AccVelDataLink!A2454","v":2451},"○","○"]
[2002,0,12000,2453,2001,2003,null,{"$f":"AccVelDataLink!G2456","v":12},{"$f":"AccVelDataLink!A2456","v":2453},"○","○"]
[2003,1,5000,2455,2002,2004,{"$f":"AccVelDataLink!F2458","v":"RCP6-SA4R-2.5-垂直"},{"$f":"AccVelDataLink!G2458","v":5},{"$f":"AccVelDataLink!A2458","v":2455},"○","○"]
[2004,1,8000,2456,2003,2005,null,{"$f":"AccVelDataLink!G2459","v":8},{"$f":"AccVelDataLink!A2459","v":2456},"○","○"]
[2005,1,9000,2457,2004,-1,null,{"$f":"AccVelDataLink!G2460","v":9},{"$f":"AccVelDataLink!A2460","v":2457},"○","終端"]
[2006,0,6000,2458,-1,2007,{"$f":"AccVelDataLink!F2461","v":"RCP6-SA4R-5-水平"},{"$f":"AccVelDataLink!G2461","v":6},{"$f":"AccVelDataLink!A2461","v":2458},"先頭","○"]
[2007,0,7000,2459,2006,2008,null,{"$f":"AccVelDataLink!G2462","v":7},{"$f":"AccVelDataLink!A2462","v":2459},"○","○"]
[2008,0,8000,2460,2007,2009,null,{"$f":"AccVelDataLink!G2463","v":8},{"$f":"AccVelDataLink!A2463","v":2460},{"$f":"IF(E2011=A2010,\"○\",IF(G2011=0,\"つなぎまちがい\",\"先頭\"))","v":"○"},{"$f":"IF(F2011=A2012,\"○\",IF(F2011<>E2012,\"つなぎまちがい\",\"終端\"))","v":"○"}]
[{"$f":"A2011+1","v":2009},{"$f":"IF(RIGHT(G2012,2)= \"水平\",0,IF(RIGHT(G2012,2)=\"垂直\",1,B2011))","v":0},{"$f":"H2012*$H$1","v":9000},{"$f":"I2012","v":2462},{"$f":"IF(F2011=-1,-1,A2011)","v":2008},{"$f":"A2013","v":2010},null,{"$f":"AccVelDataLink!G2465","v":9},{"$f":"AccVelDataLink!A2465","v":2462},"○","○"]
[2010,0,10000,2464,2009,2011,null,{"$f":"AccVelDataLink!G2467","v":10},{"$f":"AccVelDataLink!A2467","v":2464},"○","○"]
[2011,0,12000,2466,2010,2012,null,{"$f":"AccVelDataLink!G2469","v":12},{"$f":"AccVelDataLink!A2469","v":2466},"○","○"]
[2012,1,2500,2467,2011,2013,{"$f":"AccVelDataLink!F2470","v":"RCP6-SA4R-5-垂直"},{"$f":"AccVelDataLink!G2470","v":2.5},{"$f":"AccVelDataLink!A2470","v":2467},"○","○"]
[2013,1,4000,2468,2012,2014,null,{"$f":"AccVelDataLink!G2471","v":4},{"$f":"AccVelDataLink!A2471","v":2468},"○","○"]
[2014,1,4500,2469,2013,-1,null,{"$f":"AccVelDataLink!G2472","v":4.5},{"$f":"AccVelDataLink!A2472","v":2469},"○","終端"]
[2015,0,3000,2470,-1,2016,{"$f":"AccVelDataLink!F2473","v":"RCP6-SA4R-10-水平"},{"$f":"AccVelDataLink!G2473","v":3},{"$f":"AccVelDataLink!A2473","v":2470},"先頭","○"]
[2016,0,4000,2471,2015,2017,null,{"$f":"AccVelDataLink!G2474","v":4},{"$f":"AccVelDataLink!A2474","v":2471},"○","○"]
[2017,0,5000,2472,2016,2018,null,{"$f":"AccVelDataLink!G2475","v":5},{"$f":"AccVelDataLink!A2475","v":2472},"○","○"]
[2018,0,6000,2474,2017,2019,null,{"$f":"AccVelDataLink!G2477","v":6},{"$f":"AccVelDataLink!A2477","v":2474},"○","○"]
[2019,0,7000,2476,2018,2020,null,{"$f":"AccVelDataLink!G2479","v":7},{"$f":"AccVelDataLink!A2479","v":2476},"○","○"]
[2020,0,8000,2477,2019,2021,null,{"$f":"AccVelDataLink!G2480","v":8},{"$f":"AccVelDataLink!A2480","v":2477},"○","○"]
[2021,0,9000,2478,2020,2022,null,{"$f":"AccVelDataLink!G2481","v":9},{"$f":"AccVelDataLink!A2481","v":2478},"○","○"]
[2022,0,10000,2479,2021,2023,null,{"$f":"AccVelDataLink!G2482","v":10},{"$f":"AccVelDataLink!A2482","v":2479},"○","○"]
[2023,1,1000,2480,2022,2024,{"$f":"AccVelDataLink!F2483","v":"RCP6-SA4R-10-垂直"},{"$f":"AccVelDataLink!G2483","v":1},{"$f":"AccVelDataLink!A2483","v":2480},"○","○"]
[2024,1,1500,2481,2023,2025,null,{"$f":"AccVelDataLink!G2484","v":1.5},{"$f":"AccVelDataLink!A2484","v":2481},"○","○"]
[2025,1,2000,2482,2024,2026,null,{"$f":"AccVelDataLink!G2485","v":2},{"$f":"AccVelDataLink!A2485","v":2482},"○","○"]
[2026,1,2250,2483,2025,-1,null,{"$f":"AccVelDataLink!G2486","v":2.25},{"$f":"AccVelDataLink!A2486","v":2483},"○","終端"]
[2027,0,1500,2484,-1,2028,{"$f":"AccVelDataLink!F2487","v":"RCP6-SA4R-16-水平"},{"$f":"AccVelDataLink!G2487","v":1.5},{"$f":"AccVelDataLink!A2487","v":2484},"先頭","○"]
[2028,0,2000,2485,2027,2029,null,{"$f":"AccVelDataLink!G2488","v":2},{"$f":"AccVelDataLink!A2488","v":2485},"○","○"]
[2029,0,2500,2486,2028,2030,null,{"$f":"AccVelDataLink!G2489","v":2.5},{"$f":"AccVelDataLink!A2489","v":2486},"○","○"]
[2030,0,3000,2488,2029,2031,null,{"$f":"AccVelDataLink!G2491","v":3},{"$f":"AccVelDataLink!A2491","v":2488},"○","○"]
[2031,0,3500,2490,2030,2032,null,{"$f":"AccVelDataLink!G2493","v":3.5},{"$f":"AccVelDataLink!A2493","v":2490},"○","○"]
[2032,0,4000,2492,2031,2033,null,{"$f":"AccVelDataLink!G2495","v":4},{"$f":"AccVelDataLink!A2495","v":2492},"○","○"]
[2033,1,500,2493,2032,2034,{"$f":"AccVelDataLink!F2496","v":"RCP6-SA4R-16-垂直"},{"$f":"AccVelDataLink!G2496","v":0.5},{"$f":"AccVelDataLink!A2496","v":2493},"○","○"]
[2034,1,750,2494,2033,2035,null,{"$f":"AccVelDataLink!G2497","v":0.75},{"$f":"AccVelDataLink!A2497","v":2494},"○","○"]
[2035,1,1000,2495,2034,-1,null,{"$f":"AccVelDataLink!G2498","v":1},{"$f":"AccVelDataLink!A2498","v":2495},"○","終端"]
[2036,0,9000,2496,-1,2037,{"$f":"AccVelDataLink!F2499","v":"RCP6-SA6R-3-水平"},{"$f":"AccVelDataLink!G2499","v":9},{"$f":"AccVelDataLink!A2499","v":2496},"先頭","○"]
[2037,0,11000,2497,2036,2038,null,{"$f":"AccVelDataLink!G2500","v":11},{"$f":"AccVelDataLink!A2500","v":2497},"○","○"]
[2038,0,14000,2499,2037,2039,null,{"$f":"AccVelDataLink!G2502","v":14},{"$f":"AccVelDataLink!A2502","v":2499},"○","○"]
[2039,0,15000,2500,2038,2040,null,{"$f":"AccVelDataLink!G2503","v":15},{"$f":"AccVelDataLink!A2503","v":2500},"○","○"]
[2040,0,20000,2501,2039,2041,null,{"$f":"AccVelDataLink!G2504","v":20},{"$f":"AccVelDataLink!A2504","v":2501},"○","○"]
[2041,0,22000,2502,2040,2042,null,{"$f":"AccVelDataLink!G2505","v":22},{"$f":"AccVelDataLink!A2505","v":2502},"○","○"]
[2042,0,25000,2503,2041,2043,null,{"$f":"AccVelDataLink!G2506","v":25},{"$f":"AccVelDataLink!A2506","v":2503},"○","○"]
[2043,1,2000,2504,2042,2044,{"$f":"AccVelDataLink!F2507","v":"RCP6-SA6R-3-垂直"},{"$f":"AccVelDataLink!G2507","v":2},{"$f":"AccVelDataLink!A2507","v":2504},"○","○"]
[2044,1,5000,2505,2043,2045,null,{"$f":"AccVelDataLink!G2508","v":5},{"$f":"AccVelDataLink!A2508","v":2505},"○","○"]
[2045,1,8000,2506,2044,2046,null,{"$f":"AccVelDataLink!G2509","v":8},{"$f":"AccVelDataLink!A2509","v":2506},"○","○"]
[2046,1,10000,2507,2045,-1,null,{"$f":"AccVelDataLink!G2510","v":10},{"$f":"AccVelDataLink!A2510","v":2507},"○","終端"]
[2047,0,1000,2508,-1,2048,{"$f":"AccVelDataLink!F2511","v":"RCP6-SA6R-6-水平"},{"$f":"AccVelDataLink!G2511","v":1},{"$f":"AccVelDataLink!A2511","v":2508},"先頭","○"]
[2048,0,7000,2509,2047,2049,null,{"$f":"AccVelDataLink!G2512","v":7},{"$f":"AccVelDataLink!A2512","v":2509},"○","○"]
[2049,0,10000,2510,2048,2050,null,{"$f":"AccVelDataLink!G2513","v":10},{"$f":"AccVelDataLink!A2513","v":2510},"○","○"]
[2050,0,13000,2511,2049,2051,null,{"$f":"AccVelDataLink!G2514","v":13},{"$f":"AccVelDataLink!A2514","v":2511},"○","○"]
[2051,0,14000,2512,2050,2052,null,{"$f":"AccVelDataLink!G2515","v":14},{"$f":"AccVelDataLink!A2515","v":2512},"○","○"]
[2052,0,16000,2513,2051,2053,null,{"$f":"AccVelDataLink!G2516","v":16},{"$f":"AccVelDataLink!A2516","v":2513},"○","○"]
[2053,0,20000,2514,2052,2054,null,{"$f":"AccVelDataLink!G2517","v":20},{"$f":"AccVelDataLink!A2517","v":2514},"○","○"]
[2054,1,1000,2515,2053,2055,{"$f":"AccVelDataLink!F2518","v":"RCP6-SA6R-6-垂直"},{"$f":"AccVelDataLink!G2518","v":1},{"$f":"AccVelDataLink!A2518","v":2515},"○","○"]
[2055,1,2500,2516,2054,2056,null,{"$f":"AccVelDataLink!G2519","v":2.5},{"$f":"AccVelDataLink!A2519","v":2516},"○","○"]
[2056,1,4000,2517,2055,2057,null,{"$f":"AccVelDataLink!G2520","v":4},{"$f":"AccVelDataLink!A2520","v":2517},"○","○"]
[2057,1,5000,2518,2056,-1,null,{"$f":"AccVelDataLink!G2521","v":5},{"$f":"AccVelDataLink!A2521","v":2518},"○","終端"]
[2058,0,1000,2519,-1,2059,{"$f":"AccVelDataLink!F2522","v":"RCP6-SA6R-12-水平"},{"$f":"AccVelDataLink!G2522","v":1},{"$f":"AccVelDataLink!A2522","v":2519},"先頭","○"]
[2059,0,2500,2520,2058,2060,null,{"$f":"AccVelDataLink!G2523","v":2.5},{"$f":"AccVelDataLink!A2523","v":2520},"○","○"]
[2060,0,4000,2521,2059,2061,null,{"$f":"AccVelDataLink!G2524","v":4},{"$f":"AccVelDataLink!A2524","v":2521},"○","○"]
[2061,0,7000,2522,2060,2062,null,{"$f":"AccVelDataLink!G2525","v":7},{"$f":"AccVelDataLink!A2525","v":2522},"○","○"]
[2062,0,10000,2524,2061,2063,null,{"$f":"AccVelDataLink!G2527","v":10},{"$f":"AccVelDataLink!A2527","v":2524},"○","○"]
[2063,0,11000,2525,2062,2064,null,{"$f":"AccVelDataLink!G2528","v":11},{"$f":"AccVelDataLink!A2528","v":2525},"○","○"]
[2064,0,14000,2526,2063,2065,null,{"$f":"AccVelDataLink!G2529","v":14},{"$f":"AccVelDataLink!A2529","v":2526},"○","○"]
[2065,1,500,2527,2064,2066,{"$f":"AccVelDataLink!F2530","v":"RCP6-SA6R-12-垂直"},{"$f":"AccVelDataLink!G2530","v":0.5},{"$f":"AccVelDataLink!A2530","v":2527},"○","○"]
[2066,1,1000,2528,2065,2067,null,{"$f":"AccVelDataLink!G2531","v":1},{"$f":"AccVelDataLink!A2531","v":2528},"○","○"]
[2067,1,1500,2529,2066,2068,null,{"$f":"AccVelDataLink!G2532","v":1.5},{"$f":"AccVelDataLink!A2532","v":2529},"○","○"]
[2068,1,2000,2530,2067,-1,null,{"$f":"AccVelDataLink!G2533","v":2},{"$f":"AccVelDataLink!A2533","v":2530},"○","終端"]
[2069,0,500,2531,-1,2070,{"$f":"AccVelDataLink!F2534","v":"RCP6-SA6R-20-水平"},{"$f":"AccVelDataLink!G2534","v":0.5},{"$f":"AccVelDataLink!A2534","v":2531},"先頭","○"]
[2070,0,1500,2532,2069,2071,null,{"$f":"AccVelDataLink!G2535","v":1.5},{"$f":"AccVelDataLink!A2535","v":2532},"○","○"]
[2071,0,2000,2533,2070,2072,null,{"$f":"AccVelDataLink!G2536","v":2},{"$f":"AccVelDataLink!A2536","v":2533},"○","○"]
[2072,0,3000,2534,2071,2073,null,{"$f":"AccVelDataLink!G2537","v":3},{"$f":"AccVelDataLink!A2537","v":2534},{"$f":"IF(E2075=A2074,\"○\",IF(G2075=0,\"つなぎまちがい\",\"先頭\"))","v":"○"},{"$f":"IF(F2075=A2076,\"○\",IF(F2075<>E2076,\"つなぎまちがい\",\"終端\"))","v":"○"}]
[{"$f":"A2075+1","v":2073},{"$f":"IF(RIGHT(G2076,2)= \"水平\",0,IF(RIGHT(G2076,2)=\"垂直\",1,B2075))","v":0},{"$f":"H2076*$H$1","v":4000},{"$f":"I2076","v":2535},{"$f":"IF(F2075=-1,-1,A2075)","v":2072},{"$f":"A2077","v":2074},null,{"$f":"AccVelDataLink!G2538","v":4},{"$f":"AccVelDataLink!A2538","v":2535},"○","○"]
[2074,0,5000,2537,2073,2075,null,{"$f":"AccVelDataLink!G2540","v":5},{"$f":"AccVelDataLink!A2540","v":2537},"○","○"]
[2075,0,6000,2538,2074,2076,null,{"$f":"AccVelDataLink!G2541","v":6},{"$f":"AccVelDataLink!A2541","v":2538},"○","○"]
[2076,0,8000,2539,2075,2077,null,{"$f":"AccVelDataLink!G2542","v":8},{"$f":"AccVelDataLink!A2542","v":2539},"○","○"]
[2077,1,500,2540,2076,2078,{"$f":"AccVelDataLink!F2543","v":"RCP6-SA6R-20-垂直"},{"$f":"AccVelDataLink!G2543","v":0.5},{"$f":"AccVelDataLink!A2543","v":2540},"○","○"]
[2078,1,750,2541,2077,-1,null,{"$f":"AccVelDataLink!G2544","v":0.75},{"$f":"AccVelDataLink!A2544","v":2541},"○","終端"]
[2079,0,6000,2542,-1,2080,{"$f":"AccVelDataLink!F2545","v":"RCP6-SA7R-4-水平"},{"$f":"AccVelDataLink!G2545","v":6},{"$f":"AccVelDataLink!A2545","v":2542},"先頭","○"]
[2080,0,15000,2543,2079,2081,null,{"$f":"AccVelDataLink!G2546","v":15},{"$f":"AccVelDataLink!A2546","v":2543},"○","○"]
[2081,0,30000,2544,2080,2082,null,{"$f":"AccVelDataLink!G2547","v":30},{"$f":"AccVelDataLink!A2547","v":2544},"○","○"]
[2082,0,40000,2545,2081,2083,null,{"$f":"AccVelDataLink!G2548","v":40},{"$f":"AccVelDataLink!A2548","v":2545},"○","○"]
[2083,1,2000,2546,2082,2084,{"$f":"AccVelDataLink!F2549","v":"RCP6-SA7R-4-垂直"},{"$f":"AccVelDataLink!G2549","v":2},{"$f":"AccVelDataLink!A2549","v":2546},"○","○"]
[2084,1,8000,2547,2083,2085,null,{"$f":"AccVelDataLink!G2550","v":8},{"$f":"AccVelDataLink!A2550","v":2547},"○","○"]
[2085,1,15000,2548,2084,-1,null,{"$f":"AccVelDataLink!G2551","v":15},{"$f":"AccVelDataLink!A2551","v":2548},"○","終端"]
[2086,0,1000,2549,-1,2087,{"$f":"AccVelDataLink!F2552","v":"RCP6-SA7R-8-水平"},{"$f":"AccVelDataLink!G2552","v":1},{"$f":"AccVelDataLink!A2552","v":2549},"先頭","○"]
[2087,0,10000,2550,2086,2088,null,{"$f":"AccVelDataLink!G2553","v":10},{"$f":"AccVelDataLink!A2553","v":2550},"○","○"]
[2088,0,14000,2551,2087,2089,null,{"$f":"AccVelDataLink!G2554","v":14},{"$f":"AccVelDataLink!A2554","v":2551},"○","○"]
[2089,0,25000,2552,2088,2090,null,{"$f":"AccVelDataLink!G2555","v":25},{"$f":"AccVelDataLink!A2555","v":2552},"○","○"]
[2090,0,40000,2554,2089,2091,null,{"$f":"AccVelDataLink!G2557","v":40},{"$f":"AccVelDataLink!A2557","v":2554},"○","○"]
[2091,1,1500,2555,2090,2092,{"$f":"AccVelDataLink!F2558","v":"RCP6-SA7R-8-垂直"},{"$f":"AccVelDataLink!G2558","v":1.5},{"$f":"AccVelDataLink!A2558","v":2555},"○","○"]
[2092,1,4000,2556,2091,2093,null,{"$f":"AccVelDataLink!G2559","v":4},{"$f":"AccVelDataLink!A2559","v":2556},"○","○"]
[2093,1,7000,2557,2092,2094,null,{"$f":"AccVelDataLink!G2560","v":7},{"$f":"AccVelDataLink!A2560","v":2557},"○","○"]
[2094,1,10000,2558,2093,-1,null,{"$f":"AccVelDataLink!G2561","v":10},{"$f":"AccVelDataLink!A2561","v":2558},"○","終端"]
[2095,0,500,2559,-1,2096,{"$f":"AccVelDataLink!F2562","v":"RCP6-SA7R-16-水平"},{"$f":"AccVelDataLink!G2562","v":0.5},{"$f":"AccVelDataLink!A2562","v":2559},"先頭","○"]
[2096,0,6000,2560,2095,2097,null,{"$f":"AccVelDataLink!G2563","v":6},{"$f":"AccVelDataLink!A2563","v":2560},"○","○"]
[2097,0,7000,2561,2096,2098,null,{"$f":"AccVelDataLink!G2564","v":7},{"$f":"AccVelDataLink!A2564","v":2561},"○","○"]
[2098,0,12000,2562,2097,2099,null,{"$f":"AccVelDataLink!G2565","v":12},{"$f":"AccVelDataLink!A2565","v":2562},"○","○"]
[2099,0,15000,2563,2098,2100,null,{"$f":"AccVelDataLink!G2566","v":15},{"$f":"AccVelDataLink!A2566","v":2563},"○","○"]
[2100,0,20000,2564,2099,2101,null,{"$f":"AccVelDataLink!G2567","v":20},{"$f":"AccVelDataLink!A2567","v":2564},"○","○"]
[2101,0,25000,2565,2100,2102,null,{"$f":"AccVelDataLink!G2568","v":25},{"$f":"AccVelDataLink!A2568","v":2565},"○","○"]
[2102,0,35000,2566,2101,2103,null,{"$f":"AccVelDataLink!G2569","v":35},{"$f":"AccVelDataLink!A2569","v":2566},"○","○"]
[2103,1,500,2567,2102,2104,{"$f":"AccVelDataLink!F2570","v":"RCP6-SA7R-16-垂直"},{"$f":"AccVelDataLink!G2570","v":0.5},{"$f":"AccVelDataLink!A2570","v":2567},"○","○"]
[2104,1,1500,2568,2103,2105,null,{"$f":"AccVelDataLink!G2571","v":1.5},{"$f":"AccVelDataLink!A2571","v":2568},"○","○"]
[2105,1,3000,2569,2104,2106,null,{"$f":"AccVelDataLink!G2572","v":3},{"$f":"AccVelDataLink!A2572","v":2569},"○","○"]
[2106,1,5000,2570,2105,-1,null,{"$f":"AccVelDataLink!G2573","v":5},{"$f":"AccVelDataLink!A2573","v":2570},"○","終端"]
[2107,0,500,2571,-1,2108,{"$f":"AccVelDataLink!F2574","v":"RCP6-SA7R-24-水平"},{"$f":"AccVelDataLink!G2574","v":0.5},{"$f":"AccVelDataLink!A2574","v":2571},"先頭","○"]
[2108,0,2000,2572,2107,2109,null,{"$f":"AccVelDataLink!G2575","v":2},{"$f":"AccVelDataLink!A2575","v":2572},"○","○"]
[2109,0,5000,2573,2108,2110,null,{"$f":"AccVelDataLink!G2576","v":5},{"$f":"AccVelDataLink!A2576","v":2573},"○","○"]
[2110,0,10000,2574,2109,2111,null,{"$f":"AccVelDataLink!G2577","v":10},{"$f":"AccVelDataLink!A2577","v":2574},"○","○"]
[2111,0,18000,2576,2110,2112,null,{"$f":"AccVelDataLink!G2579","v":18},{"$f":"AccVelDataLink!A2579","v":2576},"○","○"]
[2112,1,500,2577,2111,2113,{"$f":"AccVelDataLink!F2580","v":"RCP6-SA7R-24-垂直"},{"$f":"AccVelDataLink!G2580","v":0.5},{"$f":"AccVelDataLink!A2580","v":2577},"○","○"]
[2113,1,1000,2578,2112,2114,null,{"$f":"AccVelDataLink!G2581","v":1},{"$f":"AccVelDataLink!A2581","v":2578},"○","○"]
[2114,1,2000,2579,2113,-1,null,{"$f":"AccVelDataLink!G2582","v":2},{"$f":"AccVelDataLink!A2582","v":2579},"○","終端"]
[2115,0,20000,2580,-1,2116,{"$f":"AccVelDataLink!F2583","v":"RCP6-WSA10C-2.5-水平"},{"$f":"AccVelDataLink!G2583","v":20},{"$f":"AccVelDataLink!A2583","v":2580},"先頭","○"]
[2116,0,27000,2581,2115,2117,null,{"$f":"AccVelDataLink!G2584","v":27},{"$f":"AccVelDataLink!A2584","v":2581},"○","○"]
[2117,0,33000,2582,2116,2118,null,{"$f":"AccVelDataLink!G2585","v":33},{"$f":"AccVelDataLink!A2585","v":2582},"○","○"]
[2118,0,36000,2583,2117,2119,null,{"$f":"AccVelDataLink!G2586","v":36},{"$f":"AccVelDataLink!A2586","v":2583},"○","○"]
[2119,1,4500,2584,2118,2120,{"$f":"AccVelDataLink!F2587","v":"RCP6-WSA10C-2.5-垂直"},{"$f":"AccVelDataLink!G2587","v":4.5},{"$f":"AccVelDataLink!A2587","v":2584},"○","○"]
[2120,1,7000,2585,2119,2121,null,{"$f":"AccVelDataLink!G2588","v":7},{"$f":"AccVelDataLink!A2588","v":2585},"○","○"]
[2121,1,9000,2586,2120,2122,null,{"$f":"AccVelDataLink!G2589","v":9},{"$f":"AccVelDataLink!A2589","v":2586},"○","○"]
[2122,1,10000,2587,2121,-1,null,{"$f":"AccVelDataLink!G2590","v":10},{"$f":"AccVelDataLink!A2590","v":2587},"○","終端"]
[2123,0,7500,2588,-1,2124,{"$f":"AccVelDataLink!F2591","v":"RCP6-WSA10C-5-水平"},{"$f":"AccVelDataLink!G2591","v":7.5},{"$f":"AccVelDataLink!A2591","v":2588},"先頭","○"]
[2124,0,10500,2589,2123,2125,null,{"$f":"AccVelDataLink!G2592","v":10.5},{"$f":"AccVelDataLink!A2592","v":2589},"○","○"]
[2125,0,13000,2590,2124,2126,null,{"$f":"AccVelDataLink!G2593","v":13},{"$f":"AccVelDataLink!A2593","v":2590},"○","○"]
[2126,0,19000,2591,2125,2127,null,{"$f":"AccVelDataLink!G2594","v":19},{"$f":"AccVelDataLink!A2594","v":2591},"○","○"]
[2127,0,20000,2593,2126,2128,null,{"$f":"AccVelDataLink!G2596","v":20},{"$f":"AccVelDataLink!A2596","v":2593},"○","○"]
[2128,0,25000,2594,2127,2129,null,{"$f":"AccVelDataLink!G2597","v":25},{"$f":"AccVelDataLink!A2597","v":2594},"○","○"]
[2129,1,2000,2595,2128,2130,{"$f":"AccVelDataLink!F2598","v":"RCP6-WSA10C-5-垂直"},{"$f":"AccVelDataLink!G2598","v":2},{"$f":"AccVelDataLink!A2598","v":2595},"○","○"]
[2130,1,3000,2596,2129,-1,null,{"$f":"AccVelDataLink!G2599","v":3},{"$f":"AccVelDataLink!A2599","v":2596},"○","終端"]
[2131,0,1500,2597,-1,2132,{"$f":"AccVelDataLink!F2600","v":"RCP6-WSA10C-10-水平"},{"$f":"AccVelDataLink!G2600","v":1.5},{"$f":"AccVelDataLink!A2600","v":2597},"先頭","○"]
[2132,0,3000,2598,2131,2133,null,{"$f":"AccVelDataLink!G2601","v":3},{"$f":"AccVelDataLink!A2601","v":2598},"○","○"]
[2133,0,3500,2599,2132,2134,null,{"$f":"AccVelDataLink!G2602","v":3.5},{"$f":"AccVelDataLink!A2602","v":2599},"○","○"]
[2134,0,6000,2600,2133,2135,null,{"$f":"AccVelDataLink!G2603","v":6},{"$f":"AccVelDataLink!A2603","v":2600},"○","○"]
[2135,0,6500,2601,2134,2136,null,{"$f":"AccVelDataLink!G2604","v":6.5},{"$f":"AccVelDataLink!A2604","v":2601},"○","○"]
[2136,0,9000,2602,2135,2137,null,{"$f":"AccVelDataLink!G2605","v":9},{"$f":"AccVelDataLink!A2605","v":2602},{"$f":"IF(E2139=A2138,\"○\",IF(G2139=0,\"つなぎまちがい\",\"先頭\"))","v":"○"},{"$f":"IF(F2139=A2140,\"○\",IF(F2139<>E2140,\"つなぎまちがい\",\"終端\"))","v":"○"}]
[{"$f":"A2139+1","v":2137},{"$f":"IF(RIGHT(G2140,2)= \"水平\",0,IF(RIGHT(G2140,2)=\"垂直\",1,B2139))","v":0},{"$f":"H2140*$H$1","v":9500},{"$f":"I2140","v":2603},{"$f":"IF(F2139=-1,-1,A2139)","v":2136},{"$f":"A2141","v":2138},null,{"$f":"AccVelDataLink!G2606","v":9.5},{"$f":"AccVelDataLink!A2606","v":2603},"○","○"]
[2138,0,10500,2604,2137,2139,null,{"$f":"AccVelDataLink!G2607","v":10.5},{"$f":"AccVelDataLink!A2607","v":2604},"○","○"]
[2139,0,12000,2605,2138,-1,null,{"$f":"AccVelDataLink!G2608","v":12},{"$f":"AccVelDataLink!A2608","v":2605},"○","終端"]
[2140,0,1000,2606,-1,2141,{"$f":"AccVelDataLink!F2609","v":"RCP6-WSA10C-16-水平"},{"$f":"AccVelDataLink!G2609","v":1},{"$f":"AccVelDataLink!A2609","v":2606},"先頭","○"]
[2141,0,3000,2607,2140,2142,null,{"$f":"AccVelDataLink!G2610","v":3},{"$f":"AccVelDataLink!A2610","v":2607},"○","○"]
[2142,0,3500,2608,2141,2143,null,{"$f":"AccVelDataLink!G2611","v":3.5},{"$f":"AccVelDataLink!A2611","v":2608},"○","○"]
[2143,0,4000,2609,2142,-1,null,{"$f":"AccVelDataLink!G2612","v":4},{"$f":"AccVelDataLink!A2612","v":2609},"○","終端"]
[2144,0,24000,2610,-1,2145,{"$f":"AccVelDataLink!F2613","v":"RCP6-WSA12C-3-水平"},{"$f":"AccVelDataLink!G2613","v":24},{"$f":"AccVelDataLink!A2613","v":2610},"先頭","○"]
[2145,0,30000,2611,2144,2146,null,{"$f":"AccVelDataLink!G2614","v":30},{"$f":"AccVelDataLink!A2614","v":2611},"○","○"]
[2146,0,33000,2613,2145,2147,null,{"$f":"AccVelDataLink!G2616","v":33},{"$f":"AccVelDataLink!A2616","v":2613},"○","○"]
[2147,0,42000,2614,2146,2148,null,{"$f":"AccVelDataLink!G2617","v":42},{"$f":"AccVelDataLink!A2617","v":2614},"○","○"]
[2148,1,4500,2615,2147,2149,{"$f":"AccVelDataLink!F2618","v":"RCP6-WSA12C-3-垂直"},{"$f":"AccVelDataLink!G2618","v":4.5},{"$f":"AccVelDataLink!A2618","v":2615},"○","○"]
[2149,1,8000,2616,2148,2150,null,{"$f":"AccVelDataLink!G2619","v":8},{"$f":"AccVelDataLink!A2619","v":2616},"○","○"]
[2150,1,12000,2617,2149,2151,null,{"$f":"AccVelDataLink!G2620","v":12},{"$f":"AccVelDataLink!A2620","v":2617},"○","○"]
[2151,1,13000,2618,2150,2152,null,{"$f":"AccVelDataLink!G2621","v":13},{"$f":"AccVelDataLink!A2621","v":2618},"○","○"]
[2152,1,15000,2619,2151,-1,null,{"$f":"AccVelDataLink!G2622","v":15},{"$f":"AccVelDataLink!A2622","v":2619},"○","終端"]
[2153,0,9000,2620,-1,2154,{"$f":"AccVelDataLink!F2623","v":"RCP6-WSA12C-6-水平"},{"$f":"AccVelDataLink!G2623","v":9},{"$f":"AccVelDataLink!A2623","v":2620},"先頭","○"]
[2154,0,14000,2621,2153,2155,null,{"$f":"AccVelDataLink!G2624","v":14},{"$f":"AccVelDataLink!A2624","v":2621},"○","○"]
[2155,0,16500,2622,2154,2156,null,{"$f":"AccVelDataLink!G2625","v":16.5},{"$f":"AccVelDataLink!A2625","v":2622},"○","○"]
[2156,0,19000,2623,2155,2157,null,{"$f":"AccVelDataLink!G2626","v":19},{"$f":"AccVelDataLink!A2626","v":2623},"○","○"]
[2157,0,30000,2625,2156,2158,null,{"$f":"AccVelDataLink!G2628","v":30},{"$f":"AccVelDataLink!A2628","v":2625},"○","○"]
[2158,1,2000,2627,2157,2159,{"$f":"AccVelDataLink!F2630","v":"RCP6-WSA12C-6-垂直"},{"$f":"AccVelDataLink!G2630","v":2},{"$f":"AccVelDataLink!A2630","v":2627},"○","○"]
[2159,1,3000,2628,2158,2160,null,{"$f":"AccVelDataLink!G2631","v":3},{"$f":"AccVelDataLink!A2631","v":2628},"○","○"]
[2160,1,5500,2629,2159,2161,null,{"$f":"AccVelDataLink!G2632","v":5.5},{"$f":"AccVelDataLink!A2632","v":2629},"○","○"]
[2161,1,8000,2630,2160,-1,null,{"$f":"AccVelDataLink!G2633","v":8},{"$f":"AccVelDataLink!A2633","v":2630},"○","終端"]
[2162,0,4000,2631,-1,2163,{"$f":"AccVelDataLink!F2634","v":"RCP6-WSA12C-12-水平"},{"$f":"AccVelDataLink!G2634","v":4},{"$f":"AccVelDataLink!A2634","v":2631},"先頭","○"]
[2163,0,6000,2632,2162,2164,null,{"$f":"AccVelDataLink!G2635","v":6},{"$f":"AccVelDataLink!A2635","v":2632},"○","○"]
[2164,0,7500,2633,2163,2165,null,{"$f":"AccVelDataLink!G2636","v":7.5},{"$f":"AccVelDataLink!A2636","v":2633},"○","○"]
[2165,0,11000,2634,2164,2166,null,{"$f":"AccVelDataLink!G2637","v":11},{"$f":"AccVelDataLink!A2637","v":2634},"○","○"]
[2166,0,12000,2635,2165,2167,null,{"$f":"AccVelDataLink!G2638","v":12},{"$f":"AccVelDataLink!A2638","v":2635},"○","○"]
[2167,0,14000,2636,2166,2168,null,{"$f":"AccVelDataLink!G2639","v":14},{"$f":"AccVelDataLink!A2639","v":2636},"○","○"]
[2168,0,15500,2637,2167,2169,null,{"$f":"AccVelDataLink!G2640","v":15.5},{"$f":"AccVelDataLink!A2640","v":2637},"○","○"]
[2169,0,18000,2638,2168,-1,null,{"$f":"AccVelDataLink!G2641","v":18},{"$f":"AccVelDataLink!A2641","v":2638},"○","終端"]
[2170,0,3000,2639,-1,2171,{"$f":"AccVelDataLink!F2642","v":"RCP6-WSA12C-20-水平"},{"$f":"AccVelDataLink!G2642","v":3},{"$f":"AccVelDataLink!A2642","v":2639},"先頭","○"]
[2171,0,4000,2640,2170,2172,null,{"$f":"AccVelDataLink!G2643","v":4},{"$f":"AccVelDataLink!A2643","v":2640},"○","○"]
[2172,0,5000,2641,2171,2173,null,{"$f":"AccVelDataLink!G2644","v":5},{"$f":"AccVelDataLink!A2644","v":2641},"○","○"]
[2173,0,8000,2642,2172,-1,null,{"$f":"AccVelDataLink!G2645","v":8},{"$f":"AccVelDataLink!A2645","v":2642},"○","終端"]
[2174,0,24000,2643,-1,2175,{"$f":"AccVelDataLink!F2646","v":"RCP6-WSA14C-4-水平"},{"$f":"AccVelDataLink!G2646","v":24},{"$f":"AccVelDataLink!A2646","v":2643},"先頭","○"]
[2175,0,36000,2644,2174,2176,null,{"$f":"AccVelDataLink!G2647","v":36},{"$f":"AccVelDataLink!A2647","v":2644},"○","○"]
[2176,0,48000,2645,2175,2177,null,{"$f":"AccVelDataLink!G2648","v":48},{"$f":"AccVelDataLink!A2648","v":2645},"○","○"]
[2177,0,54000,2646,2176,2178,null,{"$f":"AccVelDataLink!G2649","v":54},{"$f":"AccVelDataLink!A2649","v":2646},"○","○"]
[2178,1,6000,2647,2177,2179,{"$f":"AccVelDataLink!F2650","v":"RCP6-WSA14C-4-垂直"},{"$f":"AccVelDataLink!G2650","v":6},{"$f":"AccVelDataLink!A2650","v":2647},"○","○"]
[2179,1,18000,2648,2178,-1,null,{"$f":"AccVelDataLink!G2651","v":18},{"$f":"AccVelDataLink!A2651","v":2648},"○","終端"]
[2180,0,9000,2649,-1,2181,{"$f":"AccVelDataLink!F2652","v":"RCP6-WSA14C-8-水平"},{"$f":"AccVelDataLink!G2652","v":9},{"$f":"AccVelDataLink!A2652","v":2649},"先頭","○"]
[2181,0,13500,2650,2180,2182,null,{"$f":"AccVelDataLink!G2653","v":13.5},{"$f":"AccVelDataLink!A2653","v":2650},"○","○"]
[2182,0,27500,2651,2181,2183,null,{"$f":"AccVelDataLink!G2654","v":27.5},{"$f":"AccVelDataLink!A2654","v":2651},"○","○"]
[2183,0,33000,2652,2182,2184,null,{"$f":"AccVelDataLink!G2655","v":33},{"$f":"AccVelDataLink!A2655","v":2652},"○","○"]
[2184,0,45000,2653,2183,2185,null,{"$f":"AccVelDataLink!G2656","v":45},{"$f":"AccVelDataLink!A2656","v":2653},"○","○"]
[2185,1,3000,2654,2184,2186,{"$f":"AccVelDataLink!F2657","v":"RCP6-WSA14C-8-垂直"},{"$f":"AccVelDataLink!G2657","v":3},{"$f":"AccVelDataLink!A2657","v":2654},"○","○"]
[2186,1,10500,2655,2185,2187,null,{"$f":"AccVelDataLink!G2658","v":10.5},{"$f":"AccVelDataLink!A2658","v":2655},"○","○"]
[2187,1,11000,2656,2186,-1,null,{"$f":"AccVelDataLink!G2659","v":11},{"$f":"AccVelDataLink!A2659","v":2656},"○","終端"]
[2188,0,3500,2657,-1,2189,{"$f":"AccVelDataLink!F2660","v":"RCP6-WSA14C-16-水平"},{"$f":"AccVelDataLink!G2660","v":3.5},{"$f":"AccVelDataLink!A2660","v":2657},"先頭","○"]
[2189,0,9500,2658,2188,2190,null,{"$f":"AccVelDataLink!G2661","v":9.5},{"$f":"AccVelDataLink!A2661","v":2658},"○","○"]
[2190,0,12500,2659,2189,2191,null,{"$f":"AccVelDataLink!G2662","v":12.5},{"$f":"AccVelDataLink!A2662","v":2659},"○","○"]
[2191,0,22500,2660,2190,2192,null,{"$f":"AccVelDataLink!G2663","v":22.5},{"$f":"AccVelDataLink!A2663","v":2660},"○","○"]
[2192,0,24500,2661,2191,2193,null,{"$f":"AccVelDataLink!G2664","v":24.5},{"$f":"AccVelDataLink!A2664","v":2661},"○","○"]
[2193,0,33000,2662,2192,-1,null,{"$f":"AccVelDataLink!G2665","v":33},{"$f":"AccVelDataLink!A2665","v":2662},"○","終端"]
[2194,0,3000,2663,-1,2195,{"$f":"AccVelDataLink!F2666","v":"RCP6-WSA14C-24-水平"},{"$f":"AccVelDataLink!G2666","v":3},{"$f":"AccVelDataLink!A2666","v":2663},"先頭","○"]
[2195,0,7500,2664,2194,2196,null,{"$f":"AccVelDataLink!G2667","v":7.5},{"$f":"AccVelDataLink!A2667","v":2664},"○","○"]
[2196,0,8000,2665,2195,2197,null,{"$f":"AccVelDataLink!G2668","v":8},{"$f":"AccVelDataLink!A2668","v":2665},"○","○"]
[2197,0,12000,2666,2196,2198,null,{"$f":"AccVelDataLink!G2669","v":12},{"$f":"AccVelDataLink!A2669","v":2666},"○","○"]
[2198,0,13000,2667,2197,2199,null,{"$f":"AccVelDataLink!G2670","v":13},{"$f":"AccVelDataLink!A2670","v":2667},"○","○"]
[2199,0,15500,2668,2198,-1,null,{"$f":"AccVelDataLink!G2671","v":15.5},{"$f":"AccVelDataLink!A2671","v":2668},"○","終端"]
[2200,0,20000,2669,-1,2201,{"$f":"AccVelDataLink!F2672","v":"RCP6-WSA10R-2.5-水平"},{"$f":"AccVelDataLink!G2672","v":20},{"$f":"AccVelDataLink!A2672","v":2669},{"$f":"IF(E2203=A2202,\"○\",IF(G2203=0,\"つなぎまちがい\",\"先頭\"))","v":"先頭"},{"$f":"IF(F2203=A2204,\"○\",IF(F2203<>E2204,\"つなぎまちがい\",\"終端\"))","v":"○"}]
[{"$f":"A2203+1","v":2201},{"$f":"IF(RIGHT(G2204,2)= \"水平\",0,IF(RIGHT(G2204,2)=\"垂直\",1,B2203))","v":0},{"$f":"H2204*$H$1","v":27000},{"$f":"I2204","v":2670},{"$f":"IF(F2203=-1,-1,A2203)","v":2200},{"$f":"A2205","v":2202},null,{"$f":"AccVelDataLink!G2673","v":27},{"$f":"AccVelDataLink!A2673","v":2670},"○","○"]
[2202,0,33000,2671,2201,2203,null,{"$f":"AccVelDataLink!G2674","v":33},{"$f":"AccVelDataLink!A2674","v":2671},"○","○"]
[2203,0,36000,2672,2202,2204,null,{"$f":"AccVelDataLink!G2675","v":36},{"$f":"AccVelDataLink!A2675","v":2672},"○","○"]
[2204,1,4500,2673,2203,2205,{"$f":"AccVelDataLink!F2676","v":"RCP6-WSA10R-2.5-垂直"},{"$f":"AccVelDataLink!G2676","v":4.5},{"$f":"AccVelDataLink!A2676","v":2673},"○","○"]
[2205,1,7000,2674,2204,2206,null,{"$f":"AccVelDataLink!G2677","v":7},{"$f":"AccVelDataLink!A2677","v":2674},"○","○"]
[2206,1,9000,2675,2205,2207,null,{"$f":"AccVelDataLink!G2678","v":9},{"$f":"AccVelDataLink!A2678","v":2675},"○","○"]
[2207,1,10000,2676,2206,-1,null,{"$f":"AccVelDataLink!G2679","v":10},{"$f":"AccVelDataLink!A2679","v":2676},"○","終端"]
[2208,0,7500,2677,-1,2209,{"$f":"AccVelDataLink!F2680","v":"RCP6-WSA10R-5-水平"},{"$f":"AccVelDataLink!G2680","v":7.5},{"$f":"AccVelDataLink!A2680","v":2677},"先頭","○"]
[2209,0,10500,2678,2208,2210,null,{"$f":"AccVelDataLink!G2681","v":10.5},{"$f":"AccVelDataLink!A2681","v":2678},"○","○"]
[2210,0,13000,2679,2209,2211,null,{"$f":"AccVelDataLink!G2682","v":13},{"$f":"AccVelDataLink!A2682","v":2679},"○","○"]
[2211,0,19000,2680,2210,2212,null,{"$f":"AccVelDataLink!G2683","v":19},{"$f":"AccVelDataLink!A2683","v":2680},"○","○"]
[2212,0,20000,2682,2211,2213,null,{"$f":"AccVelDataLink!G2685","v":20},{"$f":"AccVelDataLink!A2685","v":2682},"○","○"]
[2213,0,25000,2683,2212,2214,null,{"$f":"AccVelDataLink!G2686","v":25},{"$f":"AccVelDataLink!A2686","v":2683},"○","○"]
[2214,1,2000,2684,2213,2215,{"$f":"AccVelDataLink!F2687","v":"RCP6-WSA10R-5-垂直"},{"$f":"AccVelDataLink!G2687","v":2},{"$f":"AccVelDataLink!A2687","v":2684},"○","○"]
[2215,1,3000,2685,2214,-1,null,{"$f":"AccVelDataLink!G2688","v":3},{"$f":"AccVelDataLink!A2688","v":2685},"○","終端"]
[2216,0,1500,2686,-1,2217,{"$f":"AccVelDataLink!F2689","v":"RCP6-WSA10R-10-水平"},{"$f":"AccVelDataLink!G2689","v":1.5},{"$f":"AccVelDataLink!A2689","v":2686},"先頭","○"]
[2217,0,3000,2687,2216,2218,null,{"$f":"AccVelDataLink!G2690","v":3},{"$f":"AccVelDataLink!A2690","v":2687},"○","○"]
[2218,0,3500,2688,2217,2219,null,{"$f":"AccVelDataLink!G2691","v":3.5},{"$f":"AccVelDataLink!A2691","v":2688},"○","○"]
[2219,0,6000,2689,2218,2220,null,{"$f":"AccVelDataLink!G2692","v":6},{"$f":"AccVelDataLink!A2692","v":2689},"○","○"]
[2220,0,6500,2690,2219,2221,null,{"$f":"AccVelDataLink!G2693","v":6.5},{"$f":"AccVelDataLink!A2693","v":2690},"○","○"]
[2221,0,9000,2691,2220,2222,null,{"$f":"AccVelDataLink!G2694","v":9},{"$f":"AccVelDataLink!A2694","v":2691},"○","○"]
[2222,0,9500,2692,2221,2223,null,{"$f":"AccVelDataLink!G2695","v":9.5},{"$f":"AccVelDataLink!A2695","v":2692},"○","○"]
[2223,0,10500,2693,2222,2224,null,{"$f":"AccVelDataLink!G2696","v":10.5},{"$f":"AccVelDataLink!A2696","v":2693},"○","○"]
[2224,0,12000,2694,2223,-1,null,{"$f":"AccVelDataLink!G2697","v":12},{"$f":"AccVelDataLink!A2697","v":2694},"○","終端"]
[2225,0,1000,2695,-1,2226,{"$f":"AccVelDataLink!F2698","v":"RCP6-WSA10R-16-水平"},{"$f":"AccVelDataLink!G2698","v":1},{"$f":"AccVelDataLink!A2698","v":2695},"先頭","○"]
[2226,0,3000,2696,2225,2227,null,{"$f":"AccVelDataLink!G2699","v":3},{"$f":"AccVelDataLink!A2699","v":2696},"○","○"]
[2227,0,3500,2697,2226,2228,null,{"$f":"AccVelDataLink!G2700","v":3.5},{"$f":"AccVelDataLink!A2700","v":2697},"○","○"]
[2228,0,4000,2698,2227,-1,null,{"$f":"AccVelDataLink!G2701","v":4},{"$f":"AccVelDataLink!A2701","v":2698},"○","終端"]
[2229,0,24000,2699,-1,2230,{"$f":"AccVelDataLink!F2702","v":"RCP6-WSA12R-3-水平"},{"$f":"AccVelDataLink!G2702","v":24},{"$f":"AccVelDataLink!A2702","v":2699},"先頭","○"]
[2230,0,30000,2700,2229,2231,null,{"$f":"AccVelDataLink!G2703","v":30},{"$f":"AccVelDataLink!A2703","v":2700},"○","○"]
[2231,0,33000,2702,2230,2232,null,{"$f":"AccVelDataLink!G2705","v":33},{"$f":"AccVelDataLink!A2705","v":2702},"○","○"]
[2232,0,42000,2703,2231,2233,null,{"$f":"AccVelDataLink!G2706","v":42},{"$f":"AccVelDataLink!A2706","v":2703},"○","○"]
[2233,1,4500,2704,2232,2234,{"$f":"AccVelDataLink!F2707","v":"RCP6-WSA12R-3-垂直"},{"$f":"AccVelDataLink!G2707","v":4.5},{"$f":"AccVelDataLink!A2707","v":2704},"○","○"]
[2234,1,8000,2705,2233,2235,null,{"$f":"AccVelDataLink!G2708","v":8},{"$f":"AccVelDataLink!A2708","v":2705},"○","○"]
[2235,1,12000,2706,2234,2236,null,{"$f":"AccVelDataLink!G2709","v":12},{"$f":"AccVelDataLink!A2709","v":2706},"○","○"]
[2236,1,13000,2707,2235,2237,null,{"$f":"AccVelDataLink!G2710","v":13},{"$f":"AccVelDataLink!A2710","v":2707},"○","○"]
[2237,1,15000,2708,2236,-1,null,{"$f":"AccVelDataLink!G2711","v":15},{"$f":"AccVelDataLink!A2711","v":2708},"○","終端"]
[2238,0,9000,2709,-1,2239,{"$f":"AccVelDataLink!F2712","v":"RCP6-WSA12R-6-水平"},{"$f":"AccVelDataLink!G2712","v":9},{"$f":"AccVelDataLink!A2712","v":2709},"先頭","○"]
[2239,0,14000,2710,2238,2240,null,{"$f":"AccVelDataLink!G2713","v":14},{"$f":"AccVelDataLink!A2713","v":2710},"○","○"]
[2240,0,16500,2711,2239,2241,null,{"$f":"AccVelDataLink!G2714","v":16.5},{"$f":"AccVelDataLink!A2714","v":2711},"○","○"]
[2241,0,19000,2712,2240,2242,null,{"$f":"AccVelDataLink!G2715","v":19},{"$f":"AccVelDataLink!A2715","v":2712},"○","○"]
[2242,0,30000,2714,2241,2243,null,{"$f":"AccVelDataLink!G2717","v":30},{"$f":"AccVelDataLink!A2717","v":2714},"○","○"]
[2243,1,2000,2716,2242,2244,{"$f":"AccVelDataLink!F2719","v":"RCP6-WSA12R-6-垂直"},{"$f":"AccVelDataLink!G2719","v":2},{"$f":"AccVelDataLink!A2719","v":2716},"○","○"]
[2244,1,3000,2717,2243,2245,null,{"$f":"AccVelDataLink!G2720","v":3},{"$f":"AccVelDataLink!A2720","v":2717},"○","○"]
[2245,1,5500,2718,2244,2246,null,{"$f":"AccVelDataLink!G2721","v":5.5},{"$f":"AccVelDataLink!A2721","v":2718},"○","○"]
[2246,1,8000,2719,2245,-1,null,{"$f":"AccVelDataLink!G2722","v":8},{"$f":"AccVelDataLink!A2722","v":2719},"○","終端"]
[2247,0,4000,2720,-1,2248,{"$f":"AccVelDataLink!F2723","v":"RCP6-WSA12R-12-水平"},{"$f":"AccVelDataLink!G2723","v":4},{"$f":"AccVelDataLink!A2723","v":2720},"先頭","○"]
[2248,0,6000,2721,2247,2249,null,{"$f":"AccVelDataLink!G2724","v":6},{"$f":"AccVelDataLink!A2724","v":2721},"○","○"]
[2249,0,7500,2722,2248,2250,null,{"$f":"AccVelDataLink!G2725","v":7.5},{"$f":"AccVelDataLink!A2725","v":2722},"○","○"]
[2250,0,11000,2723,2249,2251,null,{"$f":"AccVelDataLink!G2726","v":11},{"$f":"AccVelDataLink!A2726","v":2723},"○","○"]
[2251,0,12000,2724,2250,2252,null,{"$f":"AccVelDataLink!G2727","v":12},{"$f":"AccVelDataLink!A2727","v":2724},"○","○"]
[2252,0,14000,2725,2251,2253,null,{"$f":"AccVelDataLink!G2728","v":14},{"$f":"AccVelDataLink!A2728","v":2725},"○","○"]
[2253,0,15500,2726,2252,2254,null,{"$f":"AccVelDataLink!G2729","v":15.5},{"$f":"AccVelDataLink!A2729","v":2726},"○","○"]
[2254,0,18000,2727,2253,-1,null,{"$f":"AccVelDataLink!G2730","v":18},{"$f":"AccVelDataLink!A2730","v":2727},"○","終端"]
[2255,0,3000,2728,-1,2256,{"$f":"AccVelDataLink!F2731","v":"RCP6-WSA12R-20-水平"},{"$f":"AccVelDataLink!G2731","v":3},{"$f":"AccVelDataLink!A2731","v":2728},"先頭","○"]
[2256,0,4000,2729,2255,2257,null,{"$f":"AccVelDataLink!G2732","v":4},{"$f":"AccVelDataLink!A2732","v":2729},"○","○"]
[2257,0,5000,2730,2256,2258,null,{"$f":"AccVelDataLink!G2733","v":5},{"$f":"AccVelDataLink!A2733","v":2730},"○","○"]
[2258,0,8000,2731,2257,-1,null,{"$f":"AccVelDataLink!G2734","v":8},{"$f":"AccVelDataLink!A2734","v":2731},"○","終端"]
[2259,0,24000,2732,-1,2260,{"$f":"AccVelDataLink!F2735","v":"RCP6-WSA14R-4-水平"},{"$f":"AccVelDataLink!G2735","v":24},{"$f":"AccVelDataLink!A2735","v":2732},"先頭","○"]
[2260,0,36000,2733,2259,2261,null,{"$f":"AccVelDataLink!G2736","v":36},{"$f":"AccVelDataLink!A2736","v":2733},"○","○"]
[2261,0,48000,2734,2260,2262,null,{"$f":"AccVelDataLink!G2737","v":48},{"$f":"AccVelDataLink!A2737","v":2734},"○","○"]
[2262,0,54000,2735,2261,2263,null,{"$f":"AccVelDataLink!G2738","v":54},{"$f":"AccVelDataLink!A2738","v":2735},"○","○"]
[2263,1,6000,2736,2262,2264,{"$f":"AccVelDataLink!F2739","v":"RCP6-WSA14R-4-垂直"},{"$f":"AccVelDataLink!G2739","v":6},{"$f":"AccVelDataLink!A2739","v":2736},"○","○"]
[2264,1,18000,2737,2263,-1,null,{"$f":"AccVelDataLink!G2740","v":18},{"$f":"AccVelDataLink!A2740","v":2737},{"$f":"IF(E2267=A2266,\"○\",IF(G2267=0,\"つなぎまちがい\",\"先頭\"))","v":"○"},{"$f":"IF(F2267=A2268,\"○\",IF(F2267<>E2268,\"つなぎまちがい\",\"終端\"))","v":"終端"}]
[{"$f":"A2267+1","v":2265},{"$f":"IF(RIGHT(G2268,2)= \"水平\",0,IF(RIGHT(G2268,2)=\"垂直\",1,B2267))","v":0},{"$f":"H2268*$H$1","v":9000},{"$f":"I2268","v":2738},{"$f":"IF(F2267=-1,-1,A2267)","v":-1},{"$f":"A2269","v":2266},{"$f":"AccVelDataLink!F2741","v":"RCP6-WSA14R-8-水平"},{"$f":"AccVelDataLink!G2741","v":9},{"$f":"AccVelDataLink!A2741","v":2738},"先頭","○"]
[2266,0,13500,2739,2265,2267,null,{"$f":"AccVelDataLink!G2742","v":13.5},{"$f":"AccVelDataLink!A2742","v":2739},"○","○"]
[2267,0,27500,2740,2266,2268,null,{"$f":"AccVelDataLink!G2743","v":27.5},{"$f":"AccVelDataLink!A2743","v":2740},"○","○"]
[2268,0,33000,2741,2267,2269,null,{"$f":"AccVelDataLink!G2744","v":33},{"$f":"AccVelDataLink!A2744","v":2741},"○","○"]
[2269,0,45000,2742,2268,2270,null,{"$f":"AccVelDataLink!G2745","v":45},{"$f":"AccVelDataLink!A2745","v":2742},"○","○"]
[2270,1,3000,2743,2269,2271,{"$f":"AccVelDataLink!F2746","v":"RCP6-WSA14R-8-垂直"},{"$f":"AccVelDataLink!G2746","v":3},{"$f":"AccVelDataLink!A2746","v":2743},"○","○"]
[2271,1,10500,2744,2270,2272,null,{"$f":"AccVelDataLink!G2747","v":10.5},{"$f":"AccVelDataLink!A2747","v":2744},"○","○"]
[2272,1,11000,2745,2271,-1,null,{"$f":"AccVelDataLink!G2748","v":11},{"$f":"AccVelDataLink!A2748","v":2745},"○","終端"]
[2273,0,3500,2746,-1,2274,{"$f":"AccVelDataLink!F2749","v":"RCP6-WSA14R-16-水平"},{"$f":"AccVelDataLink!G2749","v":3.5},{"$f":"AccVelDataLink!A2749","v":2746},"先頭","○"]
[2274,0,9500,2747,2273,2275,null,{"$f":"AccVelDataLink!G2750","v":9.5},{"$f":"AccVelDataLink!A2750","v":2747},"○","○"]
[2275,0,12500,2748,2274,2276,null,{"$f":"AccVelDataLink!G2751","v":12.5},{"$f":"AccVelDataLink!A2751","v":2748},"○","○"]
[2276,0,22500,2749,2275,2277,null,{"$f":"AccVelDataLink!G2752","v":22.5},{"$f":"AccVelDataLink!A2752","v":2749},"○","○"]
[2277,0,24500,2750,2276,2278,null,{"$f":"AccVelDataLink!G2753","v":24.5},{"$f":"AccVelDataLink!A2753","v":2750},"○","○"]
[2278,0,33000,2751,2277,-1,null,{"$f":"AccVelDataLink!G2754","v":33},{"$f":"AccVelDataLink!A2754","v":2751},"○","終端"]
[2279,0,3000,2752,-1,2280,{"$f":"AccVelDataLink!F2755","v":"RCP6-WSA14R-24-水平"},{"$f":"AccVelDataLink!G2755","v":3},{"$f":"AccVelDataLink!A2755","v":2752},"先頭","○"]
[2280,0,7500,2753,2279,2281,null,{"$f":"AccVelDataLink!G2756","v":7.5},{"$f":"AccVelDataLink!A2756","v":2753},"○","○"]
[2281,0,8000,2754,2280,2282,null,{"$f":"AccVelDataLink!G2757","v":8},{"$f":"AccVelDataLink!A2757","v":2754},"○","○"]
[2282,0,12000,2755,2281,2283,null,{"$f":"AccVelDataLink!G2758","v":12},{"$f":"AccVelDataLink!A2758","v":2755},"○","○"]
[2283,0,13000,2756,2282,2284,null,{"$f":"AccVelDataLink!G2759","v":13},{"$f":"AccVelDataLink!A2759","v":2756},"○","○"]
[2284,0,15500,2757,2283,-1,null,{"$f":"AccVelDataLink!G2760","v":15.5},{"$f":"AccVelDataLink!A2760","v":2757},"○","終端"]
[2285,0,10000,2758,-1,2286,{"$f":"AccVelDataLink!F2761","v":"RCP6-RA4C-2.5-水平"},{"$f":"AccVelDataLink!G2761","v":10},{"$f":"AccVelDataLink!A2761","v":2758},"先頭","○"]
[2286,0,15000,2759,2285,2287,null,{"$f":"AccVelDataLink!G2762","v":15},{"$f":"AccVelDataLink!A2762","v":2759},"○","○"]
[2287,0,20000,2760,2286,2288,null,{"$f":"AccVelDataLink!G2763","v":20},{"$f":"AccVelDataLink!A2763","v":2760},"○","○"]
[2288,0,25000,2762,2287,2289,null,{"$f":"AccVelDataLink!G2765","v":25},{"$f":"AccVelDataLink!A2765","v":2762},"○","○"]
[2289,0,30000,2764,2288,2290,null,{"$f":"AccVelDataLink!G2767","v":30},{"$f":"AccVelDataLink!A2767","v":2764},"○","○"]
[2290,0,35000,2766,2289,2291,null,{"$f":"AccVelDataLink!G2769","v":35},{"$f":"AccVelDataLink!A2769","v":2766},"○","○"]
[2291,1,4000,2767,2290,2292,{"$f":"AccVelDataLink!F2770","v":"RCP6-RA4C-2.5-垂直"},{"$f":"AccVelDataLink!G2770","v":4},{"$f":"AccVelDataLink!A2770","v":2767},"○","○"]
[2292,1,5000,2768,2291,2293,null,{"$f":"AccVelDataLink!G2771","v":5},{"$f":"AccVelDataLink!A2771","v":2768},"○","○"]
[2293,1,7000,2769,2292,2294,null,{"$f":"AccVelDataLink!G2772","v":7},{"$f":"AccVelDataLink!A2772","v":2769},"○","○"]
[2294,1,10000,2770,2293,-1,null,{"$f":"AccVelDataLink!G2773","v":10},{"$f":"AccVelDataLink!A2773","v":2770},"○","終端"]
[2295,0,6000,2771,-1,2296,{"$f":"AccVelDataLink!F2774","v":"RCP6-RA4C-5-水平"},{"$f":"AccVelDataLink!G2774","v":6},{"$f":"AccVelDataLink!A2774","v":2771},"先頭","○"]
[2296,0,10000,2772,2295,2297,null,{"$f":"AccVelDataLink!G2775","v":10},{"$f":"AccVelDataLink!A2775","v":2772},"○","○"]
[2297,0,12000,2773,2296,2298,null,{"$f":"AccVelDataLink!G2776","v":12},{"$f":"AccVelDataLink!A2776","v":2773},"○","○"]
[2298,0,14000,2774,2297,2299,null,{"$f":"AccVelDataLink!G2777","v":14},{"$f":"AccVelDataLink!A2777","v":2774},"○","○"]
[2299,0,15000,2775,2298,2300,null,{"$f":"AccVelDataLink!G2778","v":15},{"$f":"AccVelDataLink!A2778","v":2775},"○","○"]
[2300,0,18000,2776,2299,2301,null,{"$f":"AccVelDataLink!G2779","v":18},{"$f":"AccVelDataLink!A2779","v":2776},"○","○"]
[2301,0,20000,2777,2300,2302,null,{"$f":"AccVelDataLink!G2780","v":20},{"$f":"AccVelDataLink!A2780","v":2777},"○","○"]
[2302,0,22000,2779,2301,2303,null,{"$f":"AccVelDataLink!G2782","v":22},{"$f":"AccVelDataLink!A2782","v":2779},"○","○"]
[2303,1,2000,2780,2302,2304,{"$f":"AccVelDataLink!F2783","v":"RCP6-RA4C-5-垂直"},{"$f":"AccVelDataLink!G2783","v":2},{"$f":"AccVelDataLink!A2783","v":2780},"○","○"]
[2304,1,3000,2781,2303,2305,null,{"$f":"AccVelDataLink!G2784","v":3},{"$f":"AccVelDataLink!A2784","v":2781},"○","○"]
[2305,1,4000,2782,2304,2306,null,{"$f":"AccVelDataLink!G2785","v":4},{"$f":"AccVelDataLink!A2785","v":2782},"○","○"]
[2306,1,5000,2783,2305,-1,null,{"$f":"AccVelDataLink!G2786","v":5},{"$f":"AccVelDataLink!A2786","v":2783},"○","終端"]
[2307,0,1000,2784,-1,2308,{"$f":"AccVelDataLink!F2787","v":"RCP6-RA4C-10-水平"},{"$f":"AccVelDataLink!G2787","v":1},{"$f":"AccVelDataLink!A2787","v":2784},"先頭","○"]
[2308,0,3000,2785,2307,2309,null,{"$f":"AccVelDataLink!G2788","v":3},{"$f":"AccVelDataLink!A2788","v":2785},"○","○"]
[2309,0,5000,2786,2308,2310,null,{"$f":"AccVelDataLink!G2789","v":5},{"$f":"AccVelDataLink!A2789","v":2786},"○","○"]
[2310,0,6000,2787,2309,2311,null,{"$f":"AccVelDataLink!G2790","v":6},{"$f":"AccVelDataLink!A2790","v":2787},"○","○"]
[2311,0,7000,2788,2310,2312,null,{"$f":"AccVelDataLink!G2791","v":7},{"$f":"AccVelDataLink!A2791","v":2788},"○","○"]
[2312,0,8000,2790,2311,2313,null,{"$f":"AccVelDataLink!G2793","v":8},{"$f":"AccVelDataLink!A2793","v":2790},"○","○"]
[2313,0,9000,2791,2312,2314,null,{"$f":"AccVelDataLink!G2794","v":9},{"$f":"AccVelDataLink!A2794","v":2791},"○","○"]
[2314,0,10000,2792,2313,2315,null,{"$f":"AccVelDataLink!G2795","v":10},{"$f":"AccVelDataLink!A2795","v":2792},"○","○"]
[2315,1,500,2793,2314,2316,{"$f":"AccVelDataLink!F2796","v":"RCP6-RA4C-10-垂直"},{"$f":"AccVelDataLink!G2796","v":0.5},{"$f":"AccVelDataLink!A2796","v":2793},"○","○"]
[2316,1,1000,2794,2315,2317,null,{"$f":"AccVelDataLink!G2797","v":1},{"$f":"AccVelDataLink!A2797","v":2794},"○","○"]
[2317,1,1500,2795,2316,2318,null,{"$f":"AccVelDataLink!G2798","v":1.5},{"$f":"AccVelDataLink!A2798","v":2795},"○","○"]
[2318,1,2000,2796,2317,-1,null,{"$f":"AccVelDataLink!G2799","v":2},{"$f":"AccVelDataLink!A2799","v":2796},"○","終端"]
[2319,0,1500,2797,-1,2320,{"$f":"AccVelDataLink!F2800","v":"RCP6-RA4C-16-水平"},{"$f":"AccVelDataLink!G2800","v":1.5},{"$f":"AccVelDataLink!A2800","v":2797},"先頭","○"]
[2320,0,2500,2798,2319,2321,null,{"$f":"AccVelDataLink!G2801","v":2.5},{"$f":"AccVelDataLink!A2801","v":2798},"○","○"]
[2321,0,3000,2799,2320,2322,null,{"$f":"AccVelDataLink!G2802","v":3},{"$f":"AccVelDataLink!A2802","v":2799},"○","○"]
[2322,0,4000,2801,2321,2323,null,{"$f":"AccVelDataLink!G2804","v":4},{"$f":"AccVelDataLink!A2804","v":2801},"○","○"]
[2323,0,5000,2802,2322,2324,null,{"$f":"AccVelDataLink!G2805","v":5},{"$f":"AccVelDataLink!A2805","v":2802},"○","○"]
[2324,1,500,2803,2323,2325,{"$f":"AccVelDataLink!F2806","v":"RCP6-RA4C-16-垂直"},{"$f":"AccVelDataLink!G2806","v":0.5},{"$f":"AccVelDataLink!A2806","v":2803},"○","○"]
[2325,1,1000,2804,2324,-1,null,{"$f":"AccVelDataLink!G2807","v":1},{"$f":"AccVelDataLink!A2807","v":2804},"○","終端"]
[2326,0,25000,2805,-1,2327,{"$f":"AccVelDataLink!F2808","v":"RCP6-RA6C-3-水平"},{"$f":"AccVelDataLink!G2808","v":25},{"$f":"AccVelDataLink!A2808","v":2805},"先頭","○"]
[2327,0,40000,2806,2326,2328,null,{"$f":"AccVelDataLink!G2809","v":40},{"$f":"AccVelDataLink!A2809","v":2806},"○","○"]
[2328,1,5000,2807,2327,2329,{"$f":"AccVelDataLink!F2810","v":"RCP6-RA6C-3-垂直"},{"$f":"AccVelDataLink!G2810","v":5},{"$f":"AccVelDataLink!A2810","v":2807},{"$f":"IF(E2331=A2330,\"○\",IF(G2331=0,\"つなぎまちがい\",\"先頭\"))","v":"○"},{"$f":"IF(F2331=A2332,\"○\",IF(F2331<>E2332,\"つなぎまちがい\",\"終端\"))","v":"○"}]
[{"$f":"A2331+1","v":2329},{"$f":"IF(RIGHT(G2332,2)= \"水平\",0,IF(RIGHT(G2332,2)=\"垂直\",1,B2331))","v":1},{"$f":"H2332*$H$1","v":9000},{"$f":"I2332","v":2808},{"$f":"IF(F2331=-1,-1,A2331)","v":2328},{"$f":"A2333","v":2330},null,{"$f":"AccVelDataLink!G2811","v":9},{"$f":"AccVelDataLink!A2811","v":2808},"○","○"]
[2330,1,12000,2809,2329,2331,null,{"$f":"AccVelDataLink!G2812","v":12},{"$f":"AccVelDataLink!A2812","v":2809},"○","○"]
[2331,1,20000,2810,2330,-1,null,{"$f":"AccVelDataLink!G2813","v":20},{"$f":"AccVelDataLink!A2813","v":2810},"○","終端"]
[2332,0,6000,2811,-1,2333,{"$f":"AccVelDataLink!F2814","v":"RCP6-RA6C-6-水平"},{"$f":"AccVelDataLink!G2814","v":6},{"$f":"AccVelDataLink!A2814","v":2811},"先頭","○"]
[2333,0,10000,2812,2332,2334,null,{"$f":"AccVelDataLink!G2815","v":10},{"$f":"AccVelDataLink!A2815","v":2812},"○","○"]
[2334,0,18000,2813,2333,2335,null,{"$f":"AccVelDataLink!G2816","v":18},{"$f":"AccVelDataLink!A2816","v":2813},"○","○"]
[2335,0,20000,2814,2334,2336,null,{"$f":"AccVelDataLink!G2817","v":20},{"$f":"AccVelDataLink!A2817","v":2814},"○","○"]
[2336,0,35000,2815,2335,2337,null,{"$f":"AccVelDataLink!G2818","v":35},{"$f":"AccVelDataLink!A2818","v":2815},"○","○"]
[2337,0,40000,2816,2336,2338,null,{"$f":"AccVelDataLink!G2819","v":40},{"$f":"AccVelDataLink!A2819","v":2816},"○","○"]
[2338,1,3000,2817,2337,2339,{"$f":"AccVelDataLink!F2820","v":"RCP6-RA6C-6-垂直"},{"$f":"AccVelDataLink!G2820","v":3},{"$f":"AccVelDataLink!A2820","v":2817},"○","○"]
[2339,1,5000,2818,2338,2340,null,{"$f":"AccVelDataLink!G2821","v":5},{"$f":"AccVelDataLink!A2821","v":2818},"○","○"]
[2340,1,8000,2819,2339,2341,null,{"$f":"AccVelDataLink!G2822","v":8},{"$f":"AccVelDataLink!A2822","v":2819},"○","○"]
[2341,1,10000,2820,2340,-1,null,{"$f":"AccVelDataLink!G2823","v":10},{"$f":"AccVelDataLink!A2823","v":2820},"○","終端"]
[2342,0,2000,2821,-1,2343,{"$f":"AccVelDataLink!F2824","v":"RCP6-RA6C-12-水平"},{"$f":"AccVelDataLink!G2824","v":2},{"$f":"AccVelDataLink!A2824","v":2821},"先頭","○"]
[2343,0,5000,2822,2342,2344,null,{"$f":"AccVelDataLink!G2825","v":5},{"$f":"AccVelDataLink!A2825","v":2822},"○","○"]
[2344,0,8000,2824,2343,2345,null,{"$f":"AccVelDataLink!G2827","v":8},{"$f":"AccVelDataLink!A2827","v":2824},"○","○"]
[2345,0,10000,2825,2344,2346,null,{"$f":"AccVelDataLink!G2828","v":10},{"$f":"AccVelDataLink!A2828","v":2825},"○","○"]
[2346,0,20000,2827,2345,2347,null,{"$f":"AccVelDataLink!G2830","v":20},{"$f":"AccVelDataLink!A2830","v":2827},"○","○"]
[2347,0,25000,2828,2346,2348,null,{"$f":"AccVelDataLink!G2831","v":25},{"$f":"AccVelDataLink!A2831","v":2828},"○","○"]
[2348,1,1000,2829,2347,2349,{"$f":"AccVelDataLink!F2832","v":"RCP6-RA6C-12-垂直"},{"$f":"AccVelDataLink!G2832","v":1},{"$f":"AccVelDataLink!A2832","v":2829},"○","○"]
[2349,1,2000,2830,2348,2350,null,{"$f":"AccVelDataLink!G2833","v":2},{"$f":"AccVelDataLink!A2833","v":2830},"○","○"]
[2350,1,3000,2831,2349,2351,null,{"$f":"AccVelDataLink!G2834","v":3},{"$f":"AccVelDataLink!A2834","v":2831},"○","○"]
[2351,1,4000,2832,2350,-1,null,{"$f":"AccVelDataLink!G2835","v":4},{"$f":"AccVelDataLink!A2835","v":2832},"○","終端"]
[2352,0,1000,2833,-1,2353,{"$f":"AccVelDataLink!F2836","v":"RCP6-RA6C-20-水平"},{"$f":"AccVelDataLink!G2836","v":1},{"$f":"AccVelDataLink!A2836","v":2833},"先頭","○"]
[2353,0,3000,2834,2352,2354,null,{"$f":"AccVelDataLink!G2837","v":3},{"$f":"AccVelDataLink!A2837","v":2834},"○","○"]
[2354,0,4000,2836,2353,2355,null,{"$f":"AccVelDataLink!G2839","v":4},{"$f":"AccVelDataLink!A2839","v":2836},"○","○"]
[2355,0,5000,2838,2354,2356,null,{"$f":"AccVelDataLink!G2841","v":5},{"$f":"AccVelDataLink!A2841","v":2838},"○","○"]
[2356,0,6000,2839,2355,2357,null,{"$f":"AccVelDataLink!G2842","v":6},{"$f":"AccVelDataLink!A2842","v":2839},"○","○"]
[2357,1,500,2840,2356,2358,{"$f":"AccVelDataLink!F2843","v":"RCP6-RA6C-20-垂直"},{"$f":"AccVelDataLink!G2843","v":0.5},{"$f":"AccVelDataLink!A2843","v":2840},"○","○"]
[2358,1,1000,2841,2357,-1,null,{"$f":"AccVelDataLink!G2844","v":1},{"$f":"AccVelDataLink!A2844","v":2841},"○","終端"]
[2359,0,15000,2842,-1,2360,{"$f":"AccVelDataLink!F2845","v":"RCP6-RA7C-4-水平"},{"$f":"AccVelDataLink!G2845","v":15},{"$f":"AccVelDataLink!A2845","v":2842},"先頭","○"]
[2360,0,30000,2843,2359,2361,null,{"$f":"AccVelDataLink!G2846","v":30},{"$f":"AccVelDataLink!A2846","v":2843},"○","○"]
[2361,0,50000,2844,2360,2362,null,{"$f":"AccVelDataLink!G2847","v":50},{"$f":"AccVelDataLink!A2847","v":2844},"○","○"]
[2362,0,55000,2845,2361,2363,null,{"$f":"AccVelDataLink!G2848","v":55},{"$f":"AccVelDataLink!A2848","v":2845},"○","○"]
[2363,1,2000,2846,2362,2364,{"$f":"AccVelDataLink!F2849","v":"RCP6-RA7C-4-垂直"},{"$f":"AccVelDataLink!G2849","v":2},{"$f":"AccVelDataLink!A2849","v":2846},"○","○"]
[2364,1,13000,2847,2363,2365,null,{"$f":"AccVelDataLink!G2850","v":13},{"$f":"AccVelDataLink!A2850","v":2847},"○","○"]
[2365,1,26000,2848,2364,-1,null,{"$f":"AccVelDataLink!G2851","v":26},{"$f":"AccVelDataLink!A2851","v":2848},"○","終端"]
[2366,0,7000,2849,-1,2367,{"$f":"AccVelDataLink!F2852","v":"RCP6-RA7C-8-水平"},{"$f":"AccVelDataLink!G2852","v":7},{"$f":"AccVelDataLink!A2852","v":2849},"先頭","○"]
[2367,0,14000,2850,2366,2368,null,{"$f":"AccVelDataLink!G2853","v":14},{"$f":"AccVelDataLink!A2853","v":2850},"○","○"]
[2368,0,30000,2851,2367,2369,null,{"$f":"AccVelDataLink!G2854","v":30},{"$f":"AccVelDataLink!A2854","v":2851},"○","○"]
[2369,0,50000,2852,2368,2370,null,{"$f":"AccVelDataLink!G2855","v":50},{"$f":"AccVelDataLink!A2855","v":2852},"○","○"]
[2370,1,2000,2853,2369,2371,{"$f":"AccVelDataLink!F2856","v":"RCP6-RA7C-8-垂直"},{"$f":"AccVelDataLink!G2856","v":2},{"$f":"AccVelDataLink!A2856","v":2853},"○","○"]
[2371,1,7000,2854,2370,2372,null,{"$f":"AccVelDataLink!G2857","v":7},{"$f":"AccVelDataLink!A2857","v":2854},"○","○"]
[2372,1,17500,2855,2371,-1,null,{"$f":"AccVelDataLink!G2858","v":17.5},{"$f":"AccVelDataLink!A2858","v":2855},"○","終端"]
[2373,0,1000,2856,-1,2374,{"$f":"AccVelDataLink!F2859","v":"RCP6-RA7C-16-水平"},{"$f":"AccVelDataLink!G2859","v":1},{"$f":"AccVelDataLink!A2859","v":2856},"先頭","○"]
[2374,0,1500,2857,2373,2375,null,{"$f":"AccVelDataLink!G2860","v":1.5},{"$f":"AccVelDataLink!A2860","v":2857},"○","○"]
[2375,0,12000,2858,2374,2376,null,{"$f":"AccVelDataLink!G2861","v":12},{"$f":"AccVelDataLink!A2861","v":2858},"○","○"]
[2376,0,18000,2859,2375,2377,null,{"$f":"AccVelDataLink!G2862","v":18},{"$f":"AccVelDataLink!A2862","v":2859},"○","○"]
[2377,0,25000,2860,2376,2378,null,{"$f":"AccVelDataLink!G2863","v":25},{"$f":"AccVelDataLink!A2863","v":2860},"○","○"]
[2378,0,40000,2861,2377,2379,null,{"$f":"AccVelDataLink!G2864","v":40},{"$f":"AccVelDataLink!A2864","v":2861},"○","○"]
[2379,1,2000,2862,2378,2380,{"$f":"AccVelDataLink!F2865","v":"RCP6-RA7C-16-垂直"},{"$f":"AccVelDataLink!G2865","v":2},{"$f":"AccVelDataLink!A2865","v":2862},"○","○"]
[2380,1,5000,2863,2379,-1,null,{"$f":"AccVelDataLink!G2866","v":5},{"$f":"AccVelDataLink!A2866","v":2863},"○","終端"]
[2381,0,1000,2864,-1,2382,{"$f":"AccVelDataLink!F2867","v":"RCP6-RA7C-24-水平"},{"$f":"AccVelDataLink!G2867","v":1},{"$f":"AccVelDataLink!A2867","v":2864},"先頭","○"]
[2382,0,5000,2865,2381,2383,null,{"$f":"AccVelDataLink!G2868","v":5},{"$f":"AccVelDataLink!A2868","v":2865},"○","○"]
[2383,0,6000,2866,2382,2384,null,{"$f":"AccVelDataLink!G2869","v":6},{"$f":"AccVelDataLink!A2869","v":2866},"○","○"]
[2384,0,9500,2867,2383,2385,null,{"$f":"AccVelDataLink!G2870","v":9.5},{"$f":"AccVelDataLink!A2870","v":2867},"○","○"]
[2385,0,10000,2868,2384,2386,null,{"$f":"AccVelDataLink!G2871","v":10},{"$f":"AccVelDataLink!A2871","v":2868},"○","○"]
[2386,0,11000,2869,2385,2387,null,{"$f":"AccVelDataLink!G2872","v":11},{"$f":"AccVelDataLink!A2872","v":2869},"○","○"]
[2387,0,18000,2870,2386,2388,null,{"$f":"AccVelDataLink!G2873","v":18},{"$f":"AccVelDataLink!A2873","v":2870},"○","○"]
[2388,1,1500,2871,2387,2389,{"$f":"AccVelDataLink!F2874","v":"RCP6-RA7C-24-垂直"},{"$f":"AccVelDataLink!G2874","v":1.5},{"$f":"AccVelDataLink!A2874","v":2871},"○","○"]
[2389,1,3000,2872,2388,-1,null,{"$f":"AccVelDataLink!G2875","v":3},{"$f":"AccVelDataLink!A2875","v":2872},"○","終端"]
[2390,0,10000,2873,-1,2391,{"$f":"AccVelDataLink!F2876","v":"RCP6-RA4R-2.5-水平"},{"$f":"AccVelDataLink!G2876","v":10},{"$f":"AccVelDataLink!A2876","v":2873},"先頭","○"]
[2391,0,15000,2874,2390,2392,null,{"$f":"AccVelDataLink!G2877","v":15},{"$f":"AccVelDataLink!A2877","v":2874},"○","○"]
[2392,0,20000,2875,2391,2393,null,{"$f":"AccVelDataLink!G2878","v":20},{"$f":"AccVelDataLink!A2878","v":2875},{"$f":"IF(E2395=A2394,\"○\",IF(G2395=0,\"つなぎまちがい\",\"先頭\"))","v":"○"},{"$f":"IF(F2395=A2396,\"○\",IF(F2395<>E2396,\"つなぎまちがい\",\"終端\"))","v":"○"}]
[{"$f":"A2395+1","v":2393},{"$f":"IF(RIGHT(G2396,2)= \"水平\",0,IF(RIGHT(G2396,2)=\"垂直\",1,B2395))","v":0},{"$f":"H2396*$H$1","v":25000},{"$f":"I2396","v":2877},{"$f":"IF(F2395=-1,-1,A2395)","v":2392},{"$f":"A2397","v":2394},null,{"$f":"AccVelDataLink!G2880","v":25},{"$f":"AccVelDataLink!A2880","v":2877},"○","○"]
[2394,0,30000,2879,2393,2395,null,{"$f":"AccVelDataLink!G2882","v":30},{"$f":"AccVelDataLink!A2882","v":2879},"○","○"]
[2395,0,35000,2881,2394,2396,null,{"$f":"AccVelDataLink!G2884","v":35},{"$f":"AccVelDataLink!A2884","v":2881},"○","○"]
[2396,1,4000,2882,2395,2397,{"$f":"AccVelDataLink!F2885","v":"RCP6-RA4R-2.5-垂直"},{"$f":"AccVelDataLink!G2885","v":4},{"$f":"AccVelDataLink!A2885","v":2882},"○","○"]
[2397,1,5000,2883,2396,2398,null,{"$f":"AccVelDataLink!G2886","v":5},{"$f":"AccVelDataLink!A2886","v":2883},"○","○"]
[2398,1,7000,2884,2397,2399,null,{"$f":"AccVelDataLink!G2887","v":7},{"$f":"AccVelDataLink!A2887","v":2884},"○","○"]
[2399,1,10000,2885,2398,-1,null,{"$f":"AccVelDataLink!G2888","v":10},{"$f":"AccVelDataLink!A2888","v":2885},"○","終端"]
[2400,0,6000,2886,-1,2401,{"$f":"AccVelDataLink!F2889","v":"RCP6-RA4R-5-水平"},{"$f":"AccVelDataLink!G2889","v":6},{"$f":"AccVelDataLink!A2889","v":2886},"先頭","○"]
[2401,0,10000,2887,2400,2402,null,{"$f":"AccVelDataLink!G2890","v":10},{"$f":"AccVelDataLink!A2890","v":2887},"○","○"]
[2402,0,12000,2888,2401,2403,null,{"$f":"AccVelDataLink!G2891","v":12},{"$f":"AccVelDataLink!A2891","v":2888},"○","○"]
[2403,0,14000,2889,2402,2404,null,{"$f":"AccVelDataLink!G2892","v":14},{"$f":"AccVelDataLink!A2892","v":2889},"○","○"]
[2404,0,15000,2890,2403,2405,null,{"$f":"AccVelDataLink!G2893","v":15},{"$f":"AccVelDataLink!A2893","v":2890},"○","○"]
[2405,0,18000,2891,2404,2406,null,{"$f":"AccVelDataLink!G2894","v":18},{"$f":"AccVelDataLink!A2894","v":2891},"○","○"]
[2406,0,20000,2892,2405,2407,null,{"$f":"AccVelDataLink!G2895","v":20},{"$f":"AccVelDataLink!A2895","v":2892},"○","○"]
[2407,0,22000,2894,2406,2408,null,{"$f":"AccVelDataLink!G2897","v":22},{"$f":"AccVelDataLink!A2897","v":2894},"○","○"]
[2408,1,2000,2895,2407,2409,{"$f":"AccVelDataLink!F2898","v":"RCP6-RA4R-5-垂直"},{"$f":"AccVelDataLink!G2898","v":2},{"$f":"AccVelDataLink!A2898","v":2895},"○","○"]
[2409,1,3000,2896,2408,2410,null,{"$f":"AccVelDataLink!G2899","v":3},{"$f":"AccVelDataLink!A2899","v":2896},"○","○"]
[2410,1,4000,2897,2409,2411,null,{"$f":"AccVelDataLink!G2900","v":4},{"$f":"AccVelDataLink!A2900","v":2897},"○","○"]
[2411,1,5000,2898,2410,-1,null,{"$f":"AccVelDataLink!G2901","v":5},{"$f":"AccVelDataLink!A2901","v":2898},"○","終端"]
[2412,0,1000,2899,-1,2413,{"$f":"AccVelDataLink!F2902","v":"RCP6-RA4R-10-水平"},{"$f":"AccVelDataLink!G2902","v":1},{"$f":"AccVelDataLink!A2902","v":2899},"先頭","○"]
[2413,0,3000,2900,2412,2414,null,{"$f":"AccVelDataLink!G2903","v":3},{"$f":"AccVelDataLink!A2903","v":2900},"○","○"]
[2414,0,5000,2901,2413,2415,null,{"$f":"AccVelDataLink!G2904","v":5},{"$f":"AccVelDataLink!A2904","v":2901},"○","○"]
[2415,0,6000,2902,2414,2416,null,{"$f":"AccVelDataLink!G2905","v":6},{"$f":"AccVelDataLink!A2905","v":2902},"○","○"]
[2416,0,7000,2903,2415,2417,null,{"$f":"AccVelDataLink!G2906","v":7},{"$f":"AccVelDataLink!A2906","v":2903},"○","○"]
[2417,0,8000,2905,2416,2418,null,{"$f":"AccVelDataLink!G2908","v":8},{"$f":"AccVelDataLink!A2908","v":2905},"○","○"]
[2418,0,9000,2906,2417,2419,null,{"$f":"AccVelDataLink!G2909","v":9},{"$f":"AccVelDataLink!A2909","v":2906},"○","○"]
[2419,0,10000,2907,2418,2420,null,{"$f":"AccVelDataLink!G2910","v":10},{"$f":"AccVelDataLink!A2910","v":2907},"○","○"]
[2420,1,500,2908,2419,2421,{"$f":"AccVelDataLink!F2911","v":"RCP6-RA4R-10-垂直"},{"$f":"AccVelDataLink!G2911","v":0.5},{"$f":"AccVelDataLink!A2911","v":2908},"○","○"]
[2421,1,1000,2909,2420,2422,null,{"$f":"AccVelDataLink!G2912","v":1},{"$f":"AccVelDataLink!A2912","v":2909},"○","○"]
[2422,1,1500,2910,2421,2423,null,{"$f":"AccVelDataLink!G2913","v":1.5},{"$f":"AccVelDataLink!A2913","v":2910},"○","○"]
[2423,1,2000,2911,2422,-1,null,{"$f":"AccVelDataLink!G2914","v":2},{"$f":"AccVelDataLink!A2914","v":2911},"○","終端"]
[2424,0,1500,2912,-1,2425,{"$f":"AccVelDataLink!F2915","v":"RCP6-RA4R-16-水平"},{"$f":"AccVelDataLink!G2915","v":1.5},{"$f":"AccVelDataLink!A2915","v":2912},"先頭","○"]
[2425,0,2500,2913,2424,2426,null,{"$f":"AccVelDataLink!G2916","v":2.5},{"$f":"AccVelDataLink!A2916","v":2913},"○","○"]
[2426,0,3000,2914,2425,2427,null,{"$f":"AccVelDataLink!G2917","v":3},{"$f":"AccVelDataLink!A2917","v":2914},"○","○"]
[2427,0,4000,2916,2426,2428,null,{"$f":"AccVelDataLink!G2919","v":4},{"$f":"AccVelDataLink!A2919","v":2916},"○","○"]
[2428,0,5000,2917,2427,2429,null,{"$f":"AccVelDataLink!G2920","v":5},{"$f":"AccVelDataLink!A2920","v":2917},"○","○"]
[2429,1,500,2918,2428,2430,{"$f":"AccVelDataLink!F2921","v":"RCP6-RA4R-16-垂直"},{"$f":"AccVelDataLink!G2921","v":0.5},{"$f":"AccVelDataLink!A2921","v":2918},"○","○"]
[2430,1,1000,2919,2429,-1,null,{"$f":"AccVelDataLink!G2922","v":1},{"$f":"AccVelDataLink!A2922","v":2919},"○","終端"]
[2431,0,25000,2920,-1,2432,{"$f":"AccVelDataLink!F2923","v":"RCP6-RA6R-3-水平"},{"$f":"AccVelDataLink!G2923","v":25},{"$f":"AccVelDataLink!A2923","v":2920},"先頭","○"]
[2432,0,40000,2921,2431,2433,null,{"$f":"AccVelDataLink!G2924","v":40},{"$f":"AccVelDataLink!A2924","v":2921},"○","○"]
[2433,1,5000,2922,2432,2434,{"$f":"AccVelDataLink!F2925","v":"RCP6-RA6R-3-垂直"},{"$f":"AccVelDataLink!G2925","v":5},{"$f":"AccVelDataLink!A2925","v":2922},"○","○"]
[2434,1,9000,2923,2433,2435,null,{"$f":"AccVelDataLink!G2926","v":9},{"$f":"AccVelDataLink!A2926","v":2923},"○","○"]
[2435,1,12000,2924,2434,2436,null,{"$f":"AccVelDataLink!G2927","v":12},{"$f":"AccVelDataLink!A2927","v":2924},"○","○"]
[2436,1,20000,2925,2435,-1,null,{"$f":"AccVelDataLink!G2928","v":20},{"$f":"AccVelDataLink!A2928","v":2925},"○","終端"]
[2437,0,6000,2926,-1,2438,{"$f":"AccVelDataLink!F2929","v":"RCP6-RA6R-6-水平"},{"$f":"AccVelDataLink!G2929","v":6},{"$f":"AccVelDataLink!A2929","v":2926},"先頭","○"]
[2438,0,10000,2927,2437,2439,null,{"$f":"AccVelDataLink!G2930","v":10},{"$f":"AccVelDataLink!A2930","v":2927},"○","○"]
[2439,0,18000,2928,2438,2440,null,{"$f":"AccVelDataLink!G2931","v":18},{"$f":"AccVelDataLink!A2931","v":2928},"○","○"]
[2440,0,20000,2929,2439,2441,null,{"$f":"AccVelDataLink!G2932","v":20},{"$f":"AccVelDataLink!A2932","v":2929},"○","○"]
[2441,0,35000,2930,2440,2442,null,{"$f":"AccVelDataLink!G2933","v":35},{"$f":"AccVelDataLink!A2933","v":2930},"○","○"]
[2442,0,40000,2931,2441,2443,null,{"$f":"AccVelDataLink!G2934","v":40},{"$f":"AccVelDataLink!A2934","v":2931},"○","○"]
[2443,1,3000,2932,2442,2444,{"$f":"AccVelDataLink!F2935","v":"RCP6-RA6R-6-垂直"},{"$f":"AccVelDataLink!G2935","v":3},{"$f":"AccVelDataLink!A2935","v":2932},"○","○"]
[2444,1,5000,2933,2443,2445,null,{"$f":"AccVelDataLink!G2936","v":5},{"$f":"AccVelDataLink!A2936","v":2933},"○","○"]
[2445,1,8000,2934,2444,2446,null,{"$f":"AccVelDataLink!G2937","v":8},{"$f":"AccVelDataLink!A2937","v":2934},"○","○"]
[2446,1,10000,2935,2445,-1,null,{"$f":"AccVelDataLink!G2938","v":10},{"$f":"AccVelDataLink!A2938","v":2935},"○","終端"]
[2447,0,2000,2936,-1,2448,{"$f":"AccVelDataLink!F2939","v":"RCP6-RA6R-12-水平"},{"$f":"AccVelDataLink!G2939","v":2},{"$f":"AccVelDataLink!A2939","v":2936},"先頭","○"]
[2448,0,5000,2937,2447,2449,null,{"$f":"AccVelDataLink!G2940","v":5},{"$f":"AccVelDataLink!A2940","v":2937},"○","○"]
[2449,0,8000,2939,2448,2450,null,{"$f":"AccVelDataLink!G2942","v":8},{"$f":"AccVelDataLink!A2942","v":2939},"○","○"]
[2450,0,10000,2940,2449,2451,null,{"$f":"AccVelDataLink!G2943","v":10},{"$f":"AccVelDataLink!A2943","v":2940},"○","○"]
[2451,0,20000,2942,2450,2452,null,{"$f":"AccVelDataLink!G2945","v":20},{"$f":"AccVelDataLink!A2945","v":2942},"○","○"]
[2452,0,25000,2943,2451,2453,null,{"$f":"AccVelDataLink!G2946","v":25},{"$f":"AccVelDataLink!A2946","v":2943},"○","○"]
[2453,1,1000,2944,2452,2454,{"$f":"AccVelDataLink!F2947","v":"RCP6-RA6R-12-垂直"},{"$f":"AccVelDataLink!G2947","v":1},{"$f":"AccVelDataLink!A2947","v":2944},"○","○"]
[2454,1,2000,2945,2453,2455,null,{"$f":"AccVelDataLink!G2948","v":2},{"$f":"AccVelDataLink!A2948","v":2945},"○","○"]
[2455,1,3000,2946,2454,2456,null,{"$f":"AccVelDataLink!G2949","v":3},{"$f":"AccVelDataLink!A2949","v":2946},"○","○"]
[2456,1,4000,2947,2455,-1,null,{"$f":"AccVelDataLink!G2950","v":4},{"$f":"AccVelDataLink!A2950","v":2947},{"$f":"IF(E2459=A2458,\"○\",IF(G2459=0,\"つなぎまちがい\",\"先頭\"))","v":"○"},{"$f":"IF(F2459=A2460,\"○\",IF(F2459<>E2460,\"つなぎまちがい\",\"終端\"))","v":"終端"}]
[{"$f":"A2459+1","v":2457},{"$f":"IF(RIGHT(G2460,2)= \"水平\",0,IF(RIGHT(G2460,2)=\"垂直\",1,B2459))","v":0},{"$f":"H2460*$H$1","v":1000},{"$f":"I2460","v":2948},{"$f":"IF(F2459=-1,-1,A2459)","v":-1},{"$f":"A2461","v":2458},{"$f":"AccVelDataLink!F2951","v":"RCP6-RA6R-20-水平"},{"$f":"AccVelDataLink!G2951","v":1},{"$f":"AccVelDataLink!A2951","v":2948},"先頭","○"]
[2458,0,3000,2949,2457,2459,null,{"$f":"AccVelDataLink!G2952","v":3},{"$f":"AccVelDataLink!A2952","v":2949},"○","○"]
[2459,0,4000,2951,2458,2460,null,{"$f":"AccVelDataLink!G2954","v":4},{"$f":"AccVelDataLink!A2954","v":2951},"○","○"]
[2460,0,5000,2953,2459,2461,null,{"$f":"AccVelDataLink!G2956","v":5},{"$f":"AccVelDataLink!A2956","v":2953},"○","○"]
[2461,0,6000,2954,2460,2462,null,{"$f":"AccVelDataLink!G2957","v":6},{"$f":"AccVelDataLink!A2957","v":2954},"○","○"]
[2462,1,500,2955,2461,2463,{"$f":"AccVelDataLink!F2958","v":"RCP6-RA6R-20-垂直"},{"$f":"AccVelDataLink!G2958","v":0.5},{"$f":"AccVelDataLink!A2958","v":2955},"○","○"]
[2463,1,1000,2956,2462,-1,null,{"$f":"AccVelDataLink!G2959","v":1},{"$f":"AccVelDataLink!A2959","v":2956},"○","終端"]
[2464,0,15000,2957,-1,2465,{"$f":"AccVelDataLink!F2960","v":"RCP6-RA7R-4-水平"},{"$f":"AccVelDataLink!G2960","v":15},{"$f":"AccVelDataLink!A2960","v":2957},"先頭","○"]
[2465,0,30000,2958,2464,2466,null,{"$f":"AccVelDataLink!G2961","v":30},{"$f":"AccVelDataLink!A2961","v":2958},"○","○"]
[2466,0,50000,2959,2465,2467,null,{"$f":"AccVelDataLink!G2962","v":50},{"$f":"AccVelDataLink!A2962","v":2959},"○","○"]
[2467,0,55000,2960,2466,2468,null,{"$f":"AccVelDataLink!G2963","v":55},{"$f":"AccVelDataLink!A2963","v":2960},"○","○"]
[2468,1,2000,2961,2467,2469,{"$f":"AccVelDataLink!F2964","v":"RCP6-RA7R-4-垂直"},{"$f":"AccVelDataLink!G2964","v":2},{"$f":"AccVelDataLink!A2964","v":2961},"○","○"]
[2469,1,13000,2962,2468,2470,null,{"$f":"AccVelDataLink!G2965","v":13},{"$f":"AccVelDataLink!A2965","v":2962},"○","○"]
[2470,1,26000,2963,2469,-1,null,{"$f":"AccVelDataLink!G2966","v":26},{"$f":"AccVelDataLink!A2966","v":2963},"○","終端"]
[2471,0,7000,2964,-1,2472,{"$f":"AccVelDataLink!F2967","v":"RCP6-RA7R-8-水平"},{"$f":"AccVelDataLink!G2967","v":7},{"$f":"AccVelDataLink!A2967","v":2964},"先頭","○"]
[2472,0,14000,2965,2471,2473,null,{"$f":"AccVelDataLink!G2968","v":14},{"$f":"AccVelDataLink!A2968","v":2965},"○","○"]
[2473,0,30000,2966,2472,2474,null,{"$f":"AccVelDataLink!G2969","v":30},{"$f":"AccVelDataLink!A2969","v":2966},"○","○"]
[2474,0,50000,2967,2473,2475,null,{"$f":"AccVelDataLink!G2970","v":50},{"$f":"AccVelDataLink!A2970","v":2967},"○","○"]
[2475,1,2000,2968,2474,2476,{"$f":"AccVelDataLink!F2971","v":"RCP6-RA7R-8-垂直"},{"$f":"AccVelDataLink!G2971","v":2},{"$f":"AccVelDataLink!A2971","v":2968},"○","○"]
[2476,1,7000,2969,2475,2477,null,{"$f":"AccVelDataLink!G2972","v":7},{"$f":"AccVelDataLink!A2972","v":2969},"○","○"]
[2477,1,17500,2970,2476,-1,null,{"$f":"AccVelDataLink!G2973","v":17.5},{"$f":"AccVelDataLink!A2973","v":2970},"○","終端"]
[2478,0,1000,2971,-1,2479,{"$f":"AccVelDataLink!F2974","v":"RCP6-RA7R-16-水平"},{"$f":"AccVelDataLink!G2974","v":1},{"$f":"AccVelDataLink!A2974","v":2971},"先頭","○"]
[2479,0,1500,2972,2478,2480,null,{"$f":"AccVelDataLink!G2975","v":1.5},{"$f":"AccVelDataLink!A2975","v":2972},"○","○"]
[2480,0,12000,2973,2479,2481,null,{"$f":"AccVelDataLink!G2976","v":12},{"$f":"AccVelDataLink!A2976","v":2973},"○","○"]
[2481,0,18000,2974,2480,2482,null,{"$f":"AccVelDataLink!G2977","v":18},{"$f":"AccVelDataLink!A2977","v":2974},"○","○"]
[2482,0,25000,2975,2481,2483,null,{"$f":"AccVelDataLink!G2978","v":25},{"$f":"AccVelDataLink!A2978","v":2975},"○","○"]
[2483,0,40000,2976,2482,2484,null,{"$f":"AccVelDataLink!G2979","v":40},{"$f":"AccVelDataLink!A2979","v":2976},"○","○"]
[2484,1,2000,2977,2483,2485,{"$f":"AccVelDataLink!F2980","v":"RCP6-RA7R-16-垂直"},{"$f":"AccVelDataLink!G2980","v":2},{"$f":"AccVelDataLink!A2980","v":2977},"○","○"]
[2485,1,5000,2978,2484,-1,null,{"$f":"AccVelDataLink!G2981","v":5},{"$f":"AccVelDataLink!A2981","v":2978},"○","終端"]
[2486,0,1000,2979,-1,2487,{"$f":"AccVelDataLink!F2982","v":"RCP6-RA7R-24-水平"},{"$f":"AccVelDataLink!G2982","v":1},{"$f":"AccVelDataLink!A2982","v":2979},"先頭","○"]
[2487,0,5000,2980,2486,2488,null,{"$f":"AccVelDataLink!G2983","v":5},{"$f":"AccVelDataLink!A2983","v":2980},"○","○"]
[2488,0,6000,2981,2487,2489,null,{"$f":"AccVelDataLink!G2984","v":6},{"$f":"AccVelDataLink!A2984","v":2981},"○","○"]
[2489,0,9500,2982,2488,2490,null,{"$f":"AccVelDataLink!G2985","v":9.5},{"$f":"AccVelDataLink!A2985","v":2982},"○","○"]
[2490,0,10000,2983,2489,2491,null,{"$f":"AccVelDataLink!G2986","v":10},{"$f":"AccVelDataLink!A2986","v":2983},"○","○"]
[2491,0,11000,2984,2490,2492,null,{"$f":"AccVelDataLink!G2987","v":11},{"$f":"AccVelDataLink!A2987","v":2984},"○","○"]
[2492,0,18000,2985,2491,2493,null,{"$f":"AccVelDataLink!G2988","v":18},{"$f":"AccVelDataLink!A2988","v":2985},"○","○"]
[2493,1,1500,2986,2492,2494,{"$f":"AccVelDataLink!F2989","v":"RCP6-RA7R-24-垂直"},{"$f":"AccVelDataLink!G2989","v":1.5},{"$f":"AccVelDataLink!A2989","v":2986},"○","○"]
[2494,1,3000,2987,2493,-1,null,{"$f":"AccVelDataLink!G2990","v":3},{"$f":"AccVelDataLink!A2990","v":2987},"○","終端"]
[2495,0,10000,2988,-1,2496,{"$f":"AccVelDataLink!F2991","v":"RCP6-RRA4C-2.5-水平"},{"$f":"AccVelDataLink!G2991","v":10},{"$f":"AccVelDataLink!A2991","v":2988},"先頭","○"]
[2496,0,15000,2989,2495,2497,null,{"$f":"AccVelDataLink!G2992","v":15},{"$f":"AccVelDataLink!A2992","v":2989},"○","○"]
[2497,0,20000,2990,2496,2498,null,{"$f":"AccVelDataLink!G2993","v":20},{"$f":"AccVelDataLink!A2993","v":2990},"○","○"]
[2498,0,25000,2992,2497,2499,null,{"$f":"AccVelDataLink!G2995","v":25},{"$f":"AccVelDataLink!A2995","v":2992},"○","○"]
[2499,0,30000,2994,2498,2500,null,{"$f":"AccVelDataLink!G2997","v":30},{"$f":"AccVelDataLink!A2997","v":2994},"○","○"]
[2500,0,35000,2996,2499,2501,null,{"$f":"AccVelDataLink!G2999","v":35},{"$f":"AccVelDataLink!A2999","v":2996},"○","○"]
[2501,1,4000,2997,2500,2502,{"$f":"AccVelDataLink!F3000","v":"RCP6-RRA4C-2.5-垂直"},{"$f":"AccVelDataLink!G3000","v":4},{"$f":"AccVelDataLink!A3000","v":2997},"○","○"]
[2502,1,5000,2998,2501,2503,null,{"$f":"AccVelDataLink!G3001","v":5},{"$f":"AccVelDataLink!A3001","v":2998},"○","○"]
[2503,1,7000,2999,2502,2504,null,{"$f":"AccVelDataLink!G3002","v":7},{"$f":"AccVelDataLink!A3002","v":2999},"○","○"]
[2504,1,10000,3000,2503,-1,null,{"$f":"AccVelDataLink!G3003","v":10},{"$f":"AccVelDataLink!A3003","v":3000},"○","終端"]
[2505,0,6000,3001,-1,2506,{"$f":"AccVelDataLink!F3004","v":"RCP6-RRA4C-5-水平"},{"$f":"AccVelDataLink!G3004","v":6},{"$f":"AccVelDataLink!A3004","v":3001},"先頭","○"]
[2506,0,10000,3002,2505,2507,null,{"$f":"AccVelDataLink!G3005","v":10},{"$f":"AccVelDataLink!A3005","v":3002},"○","○"]
[2507,0,12000,3003,2506,2508,null,{"$f":"AccVelDataLink!G3006","v":12},{"$f":"AccVelDataLink!A3006","v":3003},"○","○"]
[2508,0,14000,3004,2507,2509,null,{"$f":"AccVelDataLink!G3007","v":14},{"$f":"AccVelDataLink!A3007","v":3004},"○","○"]
[2509,0,15000,3005,2508,2510,null,{"$f":"AccVelDataLink!G3008","v":15},{"$f":"AccVelDataLink!A3008","v":3005},"○","○"]
[2510,0,18000,3006,2509,2511,null,{"$f":"AccVelDataLink!G3009","v":18},{"$f":"AccVelDataLink!A3009","v":3006},"○","○"]
[2511,0,20000,3007,2510,2512,null,{"$f":"AccVelDataLink!G3010","v":20},{"$f":"AccVelDataLink!A3010","v":3007},"○","○"]
[2512,0,22000,3009,2511,2513,null,{"$f":"AccVelDataLink!G3012","v":22},{"$f":"AccVelDataLink!A3012","v":3009},"○","○"]
[2513,1,2000,3010,2512,2514,{"$f":"AccVelDataLink!F3013","v":"RCP6-RRA4C-5-垂直"},{"$f":"AccVelDataLink!G3013","v":2},{"$f":"AccVelDataLink!A3013","v":3010},"○","○"]
[2514,1,3000,3011,2513,2515,null,{"$f":"AccVelDataLink!G3014","v":3},{"$f":"AccVelDataLink!A3014","v":3011},"○","○"]
[2515,1,4000,3012,2514,2516,null,{"$f":"AccVelDataLink!G3015","v":4},{"$f":"AccVelDataLink!A3015","v":3012},"○","○"]
[2516,1,5000,3013,2515,-1,null,{"$f":"AccVelDataLink!G3016","v":5},{"$f":"AccVelDataLink!A3016","v":3013},"○","終端"]
[2517,0,1000,3014,-1,2518,{"$f":"AccVelDataLink!F3017","v":"RCP6-RRA4C-10-水平"},{"$f":"AccVelDataLink!G3017","v":1},{"$f":"AccVelDataLink!A3017","v":3014},"先頭","○"]
[2518,0,3000,3015,2517,2519,null,{"$f":"AccVelDataLink!G3018","v":3},{"$f":"AccVelDataLink!A3018","v":3015},"○","○"]
[2519,0,5000,3016,2518,2520,null,{"$f":"AccVelDataLink!G3019","v":5},{"$f":"AccVelDataLink!A3019","v":3016},"○","○"]
[2520,0,6000,3017,2519,2521,null,{"$f":"AccVelDataLink!G3020","v":6},{"$f":"AccVelDataLink!A3020","v":3017},{"$f":"IF(E2523=A2522,\"○\",IF(G2523=0,\"つなぎまちがい\",\"先頭\"))","v":"○"},{"$f":"IF(F2523=A2524,\"○\",IF(F2523<>E2524,\"つなぎまちがい\",\"終端\"))","v":"○"}]
[{"$f":"A2523+1","v":2521},{"$f":"IF(RIGHT(G2524,2)= \"水平\",0,IF(RIGHT(G2524,2)=\"垂直\",1,B2523))","v":0},{"$f":"H2524*$H$1","v":7000},{"$f":"I2524","v":3018},{"$f":"IF(F2523=-1,-1,A2523)","v":2520},{"$f":"A2525","v":2522},null,{"$f":"AccVelDataLink!G3021","v":7},{"$f":"AccVelDataLink!A3021","v":3018},"○","○"]
[2522,0,8000,3020,2521,2523,null,{"$f":"AccVelDataLink!G3023","v":8},{"$f":"AccVelDataLink!A3023","v":3020},"○","○"]
[2523,0,9000,3021,2522,2524,null,{"$f":"AccVelDataLink!G3024","v":9},{"$f":"AccVelDataLink!A3024","v":3021},"○","○"]
[2524,0,10000,3022,2523,2525,null,{"$f":"AccVelDataLink!G3025","v":10},{"$f":"AccVelDataLink!A3025","v":3022},"○","○"]
[2525,1,500,3023,2524,2526,{"$f":"AccVelDataLink!F3026","v":"RCP6-RRA4C-10-垂直"},{"$f":"AccVelDataLink!G3026","v":0.5},{"$f":"AccVelDataLink!A3026","v":3023},"○","○"]
[2526,1,1000,3024,2525,2527,null,{"$f":"AccVelDataLink!G3027","v":1},{"$f":"AccVelDataLink!A3027","v":3024},"○","○"]
[2527,1,1500,3025,2526,2528,null,{"$f":"AccVelDataLink!G3028","v":1.5},{"$f":"AccVelDataLink!A3028","v":3025},"○","○"]
[2528,1,2000,3026,2527,-1,null,{"$f":"AccVelDataLink!G3029","v":2},{"$f":"AccVelDataLink!A3029","v":3026},"○","終端"]
[2529,0,1500,3027,-1,2530,{"$f":"AccVelDataLink!F3030","v":"RCP6-RRA4C-16-水平"},{"$f":"AccVelDataLink!G3030","v":1.5},{"$f":"AccVelDataLink!A3030","v":3027},"先頭","○"]
[2530,0,2500,3028,2529,2531,null,{"$f":"AccVelDataLink!G3031","v":2.5},{"$f":"AccVelDataLink!A3031","v":3028},"○","○"]
[2531,0,3000,3029,2530,2532,null,{"$f":"AccVelDataLink!G3032","v":3},{"$f":"AccVelDataLink!A3032","v":3029},"○","○"]
[2532,0,4000,3031,2531,2533,null,{"$f":"AccVelDataLink!G3034","v":4},{"$f":"AccVelDataLink!A3034","v":3031},"○","○"]
[2533,0,5000,3032,2532,2534,null,{"$f":"AccVelDataLink!G3035","v":5},{"$f":"AccVelDataLink!A3035","v":3032},"○","○"]
[2534,1,500,3033,2533,2535,{"$f":"AccVelDataLink!F3036","v":"RCP6-RRA4C-16-垂直"},{"$f":"AccVelDataLink!G3036","v":0.5},{"$f":"AccVelDataLink!A3036","v":3033},"○","○"]
[2535,1,1000,3034,2534,-1,null,{"$f":"AccVelDataLink!G3037","v":1},{"$f":"AccVelDataLink!A3037","v":3034},"○","終端"]
[2536,0,25000,3035,-1,2537,{"$f":"AccVelDataLink!F3038","v":"RCP6-RRA6C-3-水平"},{"$f":"AccVelDataLink!G3038","v":25},{"$f":"AccVelDataLink!A3038","v":3035},"先頭","○"]
[2537,0,40000,3036,2536,2538,null,{"$f":"AccVelDataLink!G3039","v":40},{"$f":"AccVelDataLink!A3039","v":3036},"○","○"]
[2538,1,5000,3037,2537,2539,{"$f":"AccVelDataLink!F3040","v":"RCP6-RRA6C-3-垂直"},{"$f":"AccVelDataLink!G3040","v":5},{"$f":"AccVelDataLink!A3040","v":3037},"○","○"]
[2539,1,9000,3038,2538,2540,null,{"$f":"AccVelDataLink!G3041","v":9},{"$f":"AccVelDataLink!A3041","v":3038},"○","○"]
[2540,1,12000,3039,2539,2541,null,{"$f":"AccVelDataLink!G3042","v":12},{"$f":"AccVelDataLink!A3042","v":3039},"○","○"]
[2541,1,20000,3040,2540,-1,null,{"$f":"AccVelDataLink!G3043","v":20},{"$f":"AccVelDataLink!A3043","v":3040},"○","終端"]
[2542,0,6000,3041,-1,2543,{"$f":"AccVelDataLink!F3044","v":"RCP6-RRA6C-6-水平"},{"$f":"AccVelDataLink!G3044","v":6},{"$f":"AccVelDataLink!A3044","v":3041},"先頭","○"]
[2543,0,10000,3042,2542,2544,null,{"$f":"AccVelDataLink!G3045","v":10},{"$f":"AccVelDataLink!A3045","v":3042},"○","○"]
[2544,0,18000,3043,2543,2545,null,{"$f":"AccVelDataLink!G3046","v":18},{"$f":"AccVelDataLink!A3046","v":3043},"○","○"]
[2545,0,20000,3044,2544,2546,null,{"$f":"AccVelDataLink!G3047","v":20},{"$f":"AccVelDataLink!A3047","v":3044},"○","○"]
[2546,0,35000,3045,2545,2547,null,{"$f":"AccVelDataLink!G3048","v":35},{"$f":"AccVelDataLink!A3048","v":3045},"○","○"]
[2547,0,40000,3046,2546,2548,null,{"$f":"AccVelDataLink!G3049","v":40},{"$f":"AccVelDataLink!A3049","v":3046},"○","○"]
[2548,1,3000,3047,2547,2549,{"$f":"AccVelDataLink!F3050","v":"RCP6-RRA6C-6-垂直"},{"$f":"AccVelDataLink!G3050","v":3},{"$f":"AccVelDataLink!A3050","v":3047},"○","○"]
[2549,1,5000,3048,2548,2550,null,{"$f":"AccVelDataLink!G3051","v":5},{"$f":"AccVelDataLink!A3051","v":3048},"○","○"]
[2550,1,8000,3049,2549,2551,null,{"$f":"AccVelDataLink!G3052","v":8},{"$f":"AccVelDataLink!A3052","v":3049},"○","○"]
[2551,1,10000,3050,2550,-1,null,{"$f":"AccVelDataLink!G3053","v":10},{"$f":"AccVelDataLink!A3053","v":3050},"○","終端"]
[2552,0,2000,3051,-1,2553,{"$f":"AccVelDataLink!F3054","v":"RCP6-RRA6C-12-水平"},{"$f":"AccVelDataLink!G3054","v":2},{"$f":"AccVelDataLink!A3054","v":3051},"先頭","○"]
[2553,0,5000,3052,2552,2554,null,{"$f":"AccVelDataLink!G3055","v":5},{"$f":"AccVelDataLink!A3055","v":3052},"○","○"]
[2554,0,8000,3054,2553,2555,null,{"$f":"AccVelDataLink!G3057","v":8},{"$f":"AccVelDataLink!A3057","v":3054},"○","○"]
[2555,0,10000,3055,2554,2556,null,{"$f":"AccVelDataLink!G3058","v":10},{"$f":"AccVelDataLink!A3058","v":3055},"○","○"]
[2556,0,20000,3057,2555,2557,null,{"$f":"AccVelDataLink!G3060","v":20},{"$f":"AccVelDataLink!A3060","v":3057},"○","○"]
[2557,0,25000,3058,2556,2558,null,{"$f":"AccVelDataLink!G3061","v":25},{"$f":"AccVelDataLink!A3061","v":3058},"○","○"]
[2558,1,1000,3059,2557,2559,{"$f":"AccVelDataLink!F3062","v":"RCP6-RRA6C-12-垂直"},{"$f":"AccVelDataLink!G3062","v":1},{"$f":"AccVelDataLink!A3062","v":3059},"○","○"]
[2559,1,2000,3060,2558,2560,null,{"$f":"AccVelDataLink!G3063","v":2},{"$f":"AccVelDataLink!A3063","v":3060},"○","○"]
[2560,1,3000,3061,2559,2561,null,{"$f":"AccVelDataLink!G3064","v":3},{"$f":"AccVelDataLink!A3064","v":3061},"○","○"]
[2561,1,4000,3062,2560,-1,null,{"$f":"AccVelDataLink!G3065","v":4},{"$f":"AccVelDataLink!A3065","v":3062},"○","終端"]
[2562,0,1000,3063,-1,2563,{"$f":"AccVelDataLink!F3066","v":"RCP6-RRA6C-20-水平"},{"$f":"AccVelDataLink!G3066","v":1},{"$f":"AccVelDataLink!A3066","v":3063},"先頭","○"]
[2563,0,3000,3064,2562,2564,null,{"$f":"AccVelDataLink!G3067","v":3},{"$f":"AccVelDataLink!A3067","v":3064},"○","○"]
[2564,0,4000,3066,2563,2565,null,{"$f":"AccVelDataLink!G3069","v":4},{"$f":"AccVelDataLink!A3069","v":3066},"○","○"]
[2565,0,5000,3067,2564,2566,null,{"$f":"AccVelDataLink!G3070","v":5},{"$f":"AccVelDataLink!A3070","v":3067},"○","○"]
[2566,0,6000,3068,2565,2567,null,{"$f":"AccVelDataLink!G3071","v":6},{"$f":"AccVelDataLink!A3071","v":3068},"○","○"]
[2567,1,500,3069,2566,2568,{"$f":"AccVelDataLink!F3072","v":"RCP6-RRA6C-20-垂直"},{"$f":"AccVelDataLink!G3072","v":0.5},{"$f":"AccVelDataLink!A3072","v":3069},"○","○"]
[2568,1,1000,3070,2567,-1,null,{"$f":"AccVelDataLink!G3073","v":1},{"$f":"AccVelDataLink!A3073","v":3070},"○","終端"]
[2569,0,15000,3071,-1,2570,{"$f":"AccVelDataLink!F3074","v":"RCP6-RRA7C-4-水平"},{"$f":"AccVelDataLink!G3074","v":15},{"$f":"AccVelDataLink!A3074","v":3071},"先頭","○"]
[2570,0,30000,3072,2569,2571,null,{"$f":"AccVelDataLink!G3075","v":30},{"$f":"AccVelDataLink!A3075","v":3072},"○","○"]
[2571,0,50000,3073,2570,2572,null,{"$f":"AccVelDataLink!G3076","v":50},{"$f":"AccVelDataLink!A3076","v":3073},"○","○"]
[2572,0,55000,3074,2571,2573,null,{"$f":"AccVelDataLink!G3077","v":55},{"$f":"AccVelDataLink!A3077","v":3074},"○","○"]
[2573,1,2000,3075,2572,2574,{"$f":"AccVelDataLink!F3078","v":"RCP6-RRA7C-4-垂直"},{"$f":"AccVelDataLink!G3078","v":2},{"$f":"AccVelDataLink!A3078","v":3075},"○","○"]
[2574,1,13000,3076,2573,2575,null,{"$f":"AccVelDataLink!G3079","v":13},{"$f":"AccVelDataLink!A3079","v":3076},"○","○"]
[2575,1,26000,3077,2574,-1,null,{"$f":"AccVelDataLink!G3080","v":26},{"$f":"AccVelDataLink!A3080","v":3077},"○","終端"]
[2576,0,7000,3078,-1,2577,{"$f":"AccVelDataLink!F3081","v":"RCP6-RRA7C-8-水平"},{"$f":"AccVelDataLink!G3081","v":7},{"$f":"AccVelDataLink!A3081","v":3078},"先頭","○"]
[2577,0,14000,3079,2576,2578,null,{"$f":"AccVelDataLink!G3082","v":14},{"$f":"AccVelDataLink!A3082","v":3079},"○","○"]
[2578,0,30000,3080,2577,2579,null,{"$f":"AccVelDataLink!G3083","v":30},{"$f":"AccVelDataLink!A3083","v":3080},"○","○"]
[2579,0,50000,3081,2578,2580,null,{"$f":"AccVelDataLink!G3084","v":50},{"$f":"AccVelDataLink!A3084","v":3081},"○","○"]
[2580,1,2000,3082,2579,2581,{"$f":"AccVelDataLink!F3085","v":"RCP6-RRA7C-8-垂直"},{"$f":"AccVelDataLink!G3085","v":2},{"$f":"AccVelDataLink!A3085","v":3082},"○","○"]
[2581,1,7000,3083,2580,2582,null,{"$f":"AccVelDataLink!G3086","v":7},{"$f":"AccVelDataLink!A3086","v":3083},"○","○"]
[2582,1,17500,3084,2581,-1,null,{"$f":"AccVelDataLink!G3087","v":17.5},{"$f":"AccVelDataLink!A3087","v":3084},"○","終端"]
[2583,0,1000,3085,-1,2584,{"$f":"AccVelDataLink!F3088","v":"RCP6-RRA7C-16-水平"},{"$f":"AccVelDataLink!G3088","v":1},{"$f":"AccVelDataLink!A3088","v":3085},"先頭","○"]
[2584,0,1500,3086,2583,2585,null,{"$f":"AccVelDataLink!G3089","v":1.5},{"$f":"AccVelDataLink!A3089","v":3086},{"$f":"IF(E2587=A2586,\"○\",IF(G2587=0,\"つなぎまちがい\",\"先頭\"))","v":"○"},{"$f":"IF(F2587=A2588,\"○\",IF(F2587<>E2588,\"つなぎまちがい\",\"終端\"))","v":"○"}]
[{"$f":"A2587+1","v":2585},{"$f":"IF(RIGHT(G2588,2)= \"水平\",0,IF(RIGHT(G2588,2)=\"垂直\",1,B2587))","v":0},{"$f":"H2588*$H$1","v":12000},{"$f":"I2588","v":3087},{"$f":"IF(F2587=-1,-1,A2587)","v":2584},{"$f":"A2589","v":2586},null,{"$f":"AccVelDataLink!G3090","v":12},{"$f":"AccVelDataLink!A3090","v":3087},"○","○"]
[2586,0,18000,3088,2585,2587,null,{"$f":"AccVelDataLink!G3091","v":18},{"$f":"AccVelDataLink!A3091","v":3088},"○","○"]
[2587,0,25000,3089,2586,2588,null,{"$f":"AccVelDataLink!G3092","v":25},{"$f":"AccVelDataLink!A3092","v":3089},"○","○"]
[2588,0,40000,3090,2587,2589,null,{"$f":"AccVelDataLink!G3093","v":40},{"$f":"AccVelDataLink!A3093","v":3090},"○","○"]
[2589,1,2000,3091,2588,2590,{"$f":"AccVelDataLink!F3094","v":"RCP6-RRA7C-16-垂直"},{"$f":"AccVelDataLink!G3094","v":2},{"$f":"AccVelDataLink!A3094","v":3091},"○","○"]
[2590,1,5000,3092,2589,-1,null,{"$f":"AccVelDataLink!G3095","v":5},{"$f":"AccVelDataLink!A3095","v":3092},"○","終端"]
[2591,0,1000,3093,-1,2592,{"$f":"AccVelDataLink!F3096","v":"RCP6-RRA7C-24-水平"},{"$f":"AccVelDataLink!G3096","v":1},{"$f":"AccVelDataLink!A3096","v":3093},"先頭","○"]
[2592,0,5000,3094,2591,2593,null,{"$f":"AccVelDataLink!G3097","v":5},{"$f":"AccVelDataLink!A3097","v":3094},"○","○"]
[2593,0,9500,3095,2592,2594,null,{"$f":"AccVelDataLink!G3098","v":9.5},{"$f":"AccVelDataLink!A3098","v":3095},"○","○"]
[2594,0,10000,3096,2593,2595,null,{"$f":"AccVelDataLink!G3099","v":10},{"$f":"AccVelDataLink!A3099","v":3096},"○","○"]
[2595,0,18000,3097,2594,2596,null,{"$f":"AccVelDataLink!G3100","v":18},{"$f":"AccVelDataLink!A3100","v":3097},"○","○"]
[2596,1,1500,3098,2595,2597,{"$f":"AccVelDataLink!F3101","v":"RCP6-RRA7C-24-垂直"},{"$f":"AccVelDataLink!G3101","v":1.5},{"$f":"AccVelDataLink!A3101","v":3098},"○","○"]
[2597,1,3000,3099,2596,-1,null,{"$f":"AccVelDataLink!G3102","v":3},{"$f":"AccVelDataLink!A3102","v":3099},"○","終端"]
[2598,0,10000,3100,-1,2599,{"$f":"AccVelDataLink!F3103","v":"RCP6-RRA4R-2.5-水平"},{"$f":"AccVelDataLink!G3103","v":10},{"$f":"AccVelDataLink!A3103","v":3100},"先頭","○"]
[2599,0,15000,3101,2598,2600,null,{"$f":"AccVelDataLink!G3104","v":15},{"$f":"AccVelDataLink!A3104","v":3101},"○","○"]
[2600,0,20000,3102,2599,2601,null,{"$f":"AccVelDataLink!G3105","v":20},{"$f":"AccVelDataLink!A3105","v":3102},"○","○"]
[2601,0,25000,3104,2600,2602,null,{"$f":"AccVelDataLink!G3107","v":25},{"$f":"AccVelDataLink!A3107","v":3104},"○","○"]
[2602,0,30000,3106,2601,2603,null,{"$f":"AccVelDataLink!G3109","v":30},{"$f":"AccVelDataLink!A3109","v":3106},"○","○"]
[2603,0,35000,3108,2602,2604,null,{"$f":"AccVelDataLink!G3111","v":35},{"$f":"AccVelDataLink!A3111","v":3108},"○","○"]
[2604,1,4000,3109,2603,2605,{"$f":"AccVelDataLink!F3112","v":"RCP6-RRA4R-2.5-垂直"},{"$f":"AccVelDataLink!G3112","v":4},{"$f":"AccVelDataLink!A3112","v":3109},"○","○"]
[2605,1,5000,3110,2604,2606,null,{"$f":"AccVelDataLink!G3113","v":5},{"$f":"AccVelDataLink!A3113","v":3110},"○","○"]
[2606,1,7000,3111,2605,2607,null,{"$f":"AccVelDataLink!G3114","v":7},{"$f":"AccVelDataLink!A3114","v":3111},"○","○"]
[2607,1,10000,3112,2606,-1,null,{"$f":"AccVelDataLink!G3115","v":10},{"$f":"AccVelDataLink!A3115","v":3112},"○","終端"]
[2608,0,6000,3113,-1,2609,{"$f":"AccVelDataLink!F3116","v":"RCP6-RRA4R-5-水平"},{"$f":"AccVelDataLink!G3116","v":6},{"$f":"AccVelDataLink!A3116","v":3113},"先頭","○"]
[2609,0,10000,3114,2608,2610,null,{"$f":"AccVelDataLink!G3117","v":10},{"$f":"AccVelDataLink!A3117","v":3114},"○","○"]
[2610,0,12000,3115,2609,2611,null,{"$f":"AccVelDataLink!G3118","v":12},{"$f":"AccVelDataLink!A3118","v":3115},"○","○"]
[2611,0,14000,3116,2610,2612,null,{"$f":"AccVelDataLink!G3119","v":14},{"$f":"AccVelDataLink!A3119","v":3116},"○","○"]
[2612,0,15000,3117,2611,2613,null,{"$f":"AccVelDataLink!G3120","v":15},{"$f":"AccVelDataLink!A3120","v":3117},"○","○"]
[2613,0,18000,3118,2612,2614,null,{"$f":"AccVelDataLink!G3121","v":18},{"$f":"AccVelDataLink!A3121","v":3118},"○","○"]
[2614,0,20000,3119,2613,2615,null,{"$f":"AccVelDataLink!G3122","v":20},{"$f":"AccVelDataLink!A3122","v":3119},"○","○"]
[2615,0,22000,3121,2614,2616,null,{"$f":"AccVelDataLink!G3124","v":22},{"$f":"AccVelDataLink!A3124","v":3121},"○","○"]
[2616,1,2000,3122,2615,2617,{"$f":"AccVelDataLink!F3125","v":"RCP6-RRA4R-5-垂直"},{"$f":"AccVelDataLink!G3125","v":2},{"$f":"AccVelDataLink!A3125","v":3122},"○","○"]
[2617,1,3000,3123,2616,2618,null,{"$f":"AccVelDataLink!G3126","v":3},{"$f":"AccVelDataLink!A3126","v":3123},"○","○"]
[2618,1,4000,3124,2617,2619,null,{"$f":"AccVelDataLink!G3127","v":4},{"$f":"AccVelDataLink!A3127","v":3124},"○","○"]
[2619,1,5000,3125,2618,-1,null,{"$f":"AccVelDataLink!G3128","v":5},{"$f":"AccVelDataLink!A3128","v":3125},"○","終端"]
[2620,0,1000,3126,-1,2621,{"$f":"AccVelDataLink!F3129","v":"RCP6-RRA4R-10-水平"},{"$f":"AccVelDataLink!G3129","v":1},{"$f":"AccVelDataLink!A3129","v":3126},"先頭","○"]
[2621,0,3000,3127,2620,2622,null,{"$f":"AccVelDataLink!G3130","v":3},{"$f":"AccVelDataLink!A3130","v":3127},"○","○"]
[2622,0,5000,3128,2621,2623,null,{"$f":"AccVelDataLink!G3131","v":5},{"$f":"AccVelDataLink!A3131","v":3128},"○","○"]
[2623,0,6000,3129,2622,2624,null,{"$f":"AccVelDataLink!G3132","v":6},{"$f":"AccVelDataLink!A3132","v":3129},"○","○"]
[2624,0,7000,3130,2623,2625,null,{"$f":"AccVelDataLink!G3133","v":7},{"$f":"AccVelDataLink!A3133","v":3130},"○","○"]
[2625,0,8000,3132,2624,2626,null,{"$f":"AccVelDataLink!G3135","v":8},{"$f":"AccVelDataLink!A3135","v":3132},"○","○"]
[2626,0,9000,3133,2625,2627,null,{"$f":"AccVelDataLink!G3136","v":9},{"$f":"AccVelDataLink!A3136","v":3133},"○","○"]
[2627,0,10000,3134,2626,2628,null,{"$f":"AccVelDataLink!G3137","v":10},{"$f":"AccVelDataLink!A3137","v":3134},"○","○"]
[2628,1,500,3135,2627,2629,{"$f":"AccVelDataLink!F3138","v":"RCP6-RRA4R-10-垂直"},{"$f":"AccVelDataLink!G3138","v":0.5},{"$f":"AccVelDataLink!A3138","v":3135},"○","○"]
[2629,1,1000,3136,2628,2630,null,{"$f":"AccVelDataLink!G3139","v":1},{"$f":"AccVelDataLink!A3139","v":3136},"○","○"]
[2630,1,1500,3137,2629,2631,null,{"$f":"AccVelDataLink!G3140","v":1.5},{"$f":"AccVelDataLink!A3140","v":3137},"○","○"]
[2631,1,2000,3138,2630,-1,null,{"$f":"AccVelDataLink!G3141","v":2},{"$f":"AccVelDataLink!A3141","v":3138},"○","終端"]
[2632,0,1500,3139,-1,2633,{"$f":"AccVelDataLink!F3142","v":"RCP6-RRA4R-16-水平"},{"$f":"AccVelDataLink!G3142","v":1.5},{"$f":"AccVelDataLink!A3142","v":3139},"先頭","○"]
[2633,0,2500,3140,2632,2634,null,{"$f":"AccVelDataLink!G3143","v":2.5},{"$f":"AccVelDataLink!A3143","v":3140},"○","○"]
[2634,0,3000,3141,2633,2635,null,{"$f":"AccVelDataLink!G3144","v":3},{"$f":"AccVelDataLink!A3144","v":3141},"○","○"]
[2635,0,4000,3143,2634,2636,null,{"$f":"AccVelDataLink!G3146","v":4},{"$f":"AccVelDataLink!A3146","v":3143},"○","○"]
[2636,0,5000,3144,2635,2637,null,{"$f":"AccVelDataLink!G3147","v":5},{"$f":"AccVelDataLink!A3147","v":3144},"○","○"]
[2637,1,500,3145,2636,2638,{"$f":"AccVelDataLink!F3148","v":"RCP6-RRA4R-16-垂直"},{"$f":"AccVelDataLink!G3148","v":0.5},{"$f":"AccVelDataLink!A3148","v":3145},"○","○"]
[2638,1,1000,3146,2637,-1,null,{"$f":"AccVelDataLink!G3149","v":1},{"$f":"AccVelDataLink!A3149","v":3146},"○","終端"]
[2639,0,25000,3147,-1,2640,{"$f":"AccVelDataLink!F3150","v":"RCP6-RRA6R-3-水平"},{"$f":"AccVelDataLink!G3150","v":25},{"$f":"AccVelDataLink!A3150","v":3147},"先頭","○"]
[2640,0,40000,3148,2639,2641,null,{"$f":"AccVelDataLink!G3151","v":40},{"$f":"AccVelDataLink!A3151","v":3148},"○","○"]
[2641,1,5000,3149,2640,2642,{"$f":"AccVelDataLink!F3152","v":"RCP6-RRA6R-3-垂直"},{"$f":"AccVelDataLink!G3152","v":5},{"$f":"AccVelDataLink!A3152","v":3149},"○","○"]
[2642,1,9000,3150,2641,2643,null,{"$f":"AccVelDataLink!G3153","v":9},{"$f":"AccVelDataLink!A3153","v":3150},"○","○"]
[2643,1,12000,3151,2642,2644,null,{"$f":"AccVelDataLink!G3154","v":12},{"$f":"AccVelDataLink!A3154","v":3151},"○","○"]
[2644,1,20000,3152,2643,-1,null,{"$f":"AccVelDataLink!G3155","v":20},{"$f":"AccVelDataLink!A3155","v":3152},"○","終端"]
[2645,0,6000,3153,-1,2646,{"$f":"AccVelDataLink!F3156","v":"RCP6-RRA6R-6-水平"},{"$f":"AccVelDataLink!G3156","v":6},{"$f":"AccVelDataLink!A3156","v":3153},"先頭","○"]
[2646,0,10000,3154,2645,2647,null,{"$f":"AccVelDataLink!G3157","v":10},{"$f":"AccVelDataLink!A3157","v":3154},"○","○"]
[2647,0,18000,3155,2646,2648,null,{"$f":"AccVelDataLink!G3158","v":18},{"$f":"AccVelDataLink!A3158","v":3155},"○","○"]
[2648,0,20000,3156,2647,2649,null,{"$f":"AccVelDataLink!G3159","v":20},{"$f":"AccVelDataLink!A3159","v":3156},{"$f":"IF(E2651=A2650,\"○\",IF(G2651=0,\"つなぎまちがい\",\"先頭\"))","v":"○"},{"$f":"IF(F2651=A2652,\"○\",IF(F2651<>E2652,\"つなぎまちがい\",\"終端\"))","v":"○"}]
[{"$f":"A2651+1","v":2649},{"$f":"IF(RIGHT(G2652,2)= \"水平\",0,IF(RIGHT(G2652,2)=\"垂直\",1,B2651))","v":0},{"$f":"H2652*$H$1","v":35000},{"$f":"I2652","v":3157},{"$f":"IF(F2651=-1,-1,A2651)","v":2648},{"$f":"A2653","v":2650},null,{"$f":"AccVelDataLink!G3160","v":35},{"$f":"AccVelDataLink!A3160","v":3157},"○","○"]
[2650,0,40000,3158,2649,2651,null,{"$f":"AccVelDataLink!G3161","v":40},{"$f":"AccVelDataLink!A3161","v":3158},"○","○"]
[2651,1,3000,3159,2650,2652,{"$f":"AccVelDataLink!F3162","v":"RCP6-RRA6R-6-垂直"},{"$f":"AccVelDataLink!G3162","v":3},{"$f":"AccVelDataLink!A3162","v":3159},"○","○"]
[2652,1,5000,3160,2651,2653,null,{"$f":"AccVelDataLink!G3163","v":5},{"$f":"AccVelDataLink!A3163","v":3160},"○","○"]
[2653,1,8000,3161,2652,2654,null,{"$f":"AccVelDataLink!G3164","v":8},{"$f":"AccVelDataLink!A3164","v":3161},"○","○"]
[2654,1,10000,3162,2653,-1,null,{"$f":"AccVelDataLink!G3165","v":10},{"$f":"AccVelDataLink!A3165","v":3162},"○","終端"]
[2655,0,2000,3163,-1,2656,{"$f":"AccVelDataLink!F3166","v":"RCP6-RRA6R-12-水平"},{"$f":"AccVelDataLink!G3166","v":2},{"$f":"AccVelDataLink!A3166","v":3163},"先頭","○"]
[2656,0,5000,3164,2655,2657,null,{"$f":"AccVelDataLink!G3167","v":5},{"$f":"AccVelDataLink!A3167","v":3164},"○","○"]
[2657,0,8000,3166,2656,2658,null,{"$f":"AccVelDataLink!G3169","v":8},{"$f":"AccVelDataLink!A3169","v":3166},"○","○"]
[2658,0,10000,3167,2657,2659,null,{"$f":"AccVelDataLink!G3170","v":10},{"$f":"AccVelDataLink!A3170","v":3167},"○","○"]
[2659,0,20000,3169,2658,2660,null,{"$f":"AccVelDataLink!G3172","v":20},{"$f":"AccVelDataLink!A3172","v":3169},"○","○"]
[2660,0,25000,3170,2659,2661,null,{"$f":"AccVelDataLink!G3173","v":25},{"$f":"AccVelDataLink!A3173","v":3170},"○","○"]
[2661,1,1000,3171,2660,2662,{"$f":"AccVelDataLink!F3174","v":"RCP6-RRA6R-12-垂直"},{"$f":"AccVelDataLink!G3174","v":1},{"$f":"AccVelDataLink!A3174","v":3171},"○","○"]
[2662,1,2000,3172,2661,2663,null,{"$f":"AccVelDataLink!G3175","v":2},{"$f":"AccVelDataLink!A3175","v":3172},"○","○"]
[2663,1,3000,3173,2662,2664,null,{"$f":"AccVelDataLink!G3176","v":3},{"$f":"AccVelDataLink!A3176","v":3173},"○","○"]
[2664,1,4000,3174,2663,-1,null,{"$f":"AccVelDataLink!G3177","v":4},{"$f":"AccVelDataLink!A3177","v":3174},"○","終端"]
[2665,0,1000,3175,-1,2666,{"$f":"AccVelDataLink!F3178","v":"RCP6-RRA6R-20-水平"},{"$f":"AccVelDataLink!G3178","v":1},{"$f":"AccVelDataLink!A3178","v":3175},"先頭","○"]
[2666,0,3000,3176,2665,2667,null,{"$f":"AccVelDataLink!G3179","v":3},{"$f":"AccVelDataLink!A3179","v":3176},"○","○"]
[2667,0,4000,3178,2666,2668,null,{"$f":"AccVelDataLink!G3181","v":4},{"$f":"AccVelDataLink!A3181","v":3178},"○","○"]
[2668,0,5000,3179,2667,2669,null,{"$f":"AccVelDataLink!G3182","v":5},{"$f":"AccVelDataLink!A3182","v":3179},"○","○"]
[2669,0,6000,3180,2668,2670,null,{"$f":"AccVelDataLink!G3183","v":6},{"$f":"AccVelDataLink!A3183","v":3180},"○","○"]
[2670,1,500,3181,2669,2671,{"$f":"AccVelDataLink!F3184","v":"RCP6-RRA6R-20-垂直"},{"$f":"AccVelDataLink!G3184","v":0.5},{"$f":"AccVelDataLink!A3184","v":3181},"○","○"]
[2671,1,1000,3182,2670,-1,null,{"$f":"AccVelDataLink!G3185","v":1},{"$f":"AccVelDataLink!A3185","v":3182},"○","終端"]
[2672,0,15000,3183,-1,2673,{"$f":"AccVelDataLink!F3186","v":"RCP6-RRA7R-4-水平"},{"$f":"AccVelDataLink!G3186","v":15},{"$f":"AccVelDataLink!A3186","v":3183},"先頭","○"]
[2673,0,30000,3184,2672,2674,null,{"$f":"AccVelDataLink!G3187","v":30},{"$f":"AccVelDataLink!A3187","v":3184},"○","○"]
[2674,0,50000,3185,2673,2675,null,{"$f":"AccVelDataLink!G3188","v":50},{"$f":"AccVelDataLink!A3188","v":3185},"○","○"]
[2675,0,55000,3186,2674,2676,null,{"$f":"AccVelDataLink!G3189","v":55},{"$f":"AccVelDataLink!A3189","v":3186},"○","○"]
[2676,1,2000,3187,2675,2677,{"$f":"AccVelDataLink!F3190","v":"RCP6-RRA7R-4-垂直"},{"$f":"AccVelDataLink!G3190","v":2},{"$f":"AccVelDataLink!A3190","v":3187},"○","○"]
[2677,1,13000,3188,2676,2678,null,{"$f":"AccVelDataLink!G3191","v":13},{"$f":"AccVelDataLink!A3191","v":3188},"○","○"]
[2678,1,26000,3189,2677,-1,null,{"$f":"AccVelDataLink!G3192","v":26},{"$f":"AccVelDataLink!A3192","v":3189},"○","終端"]
[2679,0,7000,3190,-1,2680,{"$f":"AccVelDataLink!F3193","v":"RCP6-RRA7R-8-水平"},{"$f":"AccVelDataLink!G3193","v":7},{"$f":"AccVelDataLink!A3193","v":3190},"先頭","○"]
[2680,0,14000,3191,2679,2681,null,{"$f":"AccVelDataLink!G3194","v":14},{"$f":"AccVelDataLink!A3194","v":3191},"○","○"]
[2681,0,30000,3192,2680,2682,null,{"$f":"AccVelDataLink!G3195","v":30},{"$f":"AccVelDataLink!A3195","v":3192},"○","○"]
[2682,0,50000,3193,2681,2683,null,{"$f":"AccVelDataLink!G3196","v":50},{"$f":"AccVelDataLink!A3196","v":3193},"○","○"]
[2683,1,2000,3194,2682,2684,{"$f":"AccVelDataLink!F3197","v":"RCP6-RRA7R-8-垂直"},{"$f":"AccVelDataLink!G3197","v":2},{"$f":"AccVelDataLink!A3197","v":3194},"○","○"]
[2684,1,7000,3195,2683,2685,null,{"$f":"AccVelDataLink!G3198","v":7},{"$f":"AccVelDataLink!A3198","v":3195},"○","○"]
[2685,1,17500,3196,2684,-1,null,{"$f":"AccVelDataLink!G3199","v":17.5},{"$f":"AccVelDataLink!A3199","v":3196},"○","終端"]
[2686,0,1000,3197,-1,2687,{"$f":"AccVelDataLink!F3200","v":"RCP6-RRA7R-16-水平"},{"$f":"AccVelDataLink!G3200","v":1},{"$f":"AccVelDataLink!A3200","v":3197},"先頭","○"]
[2687,0,1500,3198,2686,2688,null,{"$f":"AccVelDataLink!G3201","v":1.5},{"$f":"AccVelDataLink!A3201","v":3198},"○","○"]
[2688,0,12000,3199,2687,2689,null,{"$f":"AccVelDataLink!G3202","v":12},{"$f":"AccVelDataLink!A3202","v":3199},"○","○"]
[2689,0,18000,3200,2688,2690,null,{"$f":"AccVelDataLink!G3203","v":18},{"$f":"AccVelDataLink!A3203","v":3200},"○","○"]
[2690,0,25000,3201,2689,2691,null,{"$f":"AccVelDataLink!G3204","v":25},{"$f":"AccVelDataLink!A3204","v":3201},"○","○"]
[2691,0,40000,3202,2690,2692,null,{"$f":"AccVelDataLink!G3205","v":40},{"$f":"AccVelDataLink!A3205","v":3202},"○","○"]
[2692,1,2000,3203,2691,2693,{"$f":"AccVelDataLink!F3206","v":"RCP6-RRA7R-16-垂直"},{"$f":"AccVelDataLink!G3206","v":2},{"$f":"AccVelDataLink!A3206","v":3203},"○","○"]
[2693,1,5000,3204,2692,-1,null,{"$f":"AccVelDataLink!G3207","v":5},{"$f":"AccVelDataLink!A3207","v":3204},"○","終端"]
[2694,0,1000,3205,-1,2695,{"$f":"AccVelDataLink!F3208","v":"RCP6-RRA7R-24-水平"},{"$f":"AccVelDataLink!G3208","v":1},{"$f":"AccVelDataLink!A3208","v":3205},"先頭","○"]
[2695,0,5000,3206,2694,2696,null,{"$f":"AccVelDataLink!G3209","v":5},{"$f":"AccVelDataLink!A3209","v":3206},"○","○"]
[2696,0,9500,3207,2695,2697,null,{"$f":"AccVelDataLink!G3210","v":9.5},{"$f":"AccVelDataLink!A3210","v":3207},"○","○"]
[2697,0,10000,3208,2696,2698,null,{"$f":"AccVelDataLink!G3211","v":10},{"$f":"AccVelDataLink!A3211","v":3208},"○","○"]
[2698,0,18000,3209,2697,2699,null,{"$f":"AccVelDataLink!G3212","v":18},{"$f":"AccVelDataLink!A3212","v":3209},"○","○"]
[2699,1,1500,3210,2698,2700,{"$f":"AccVelDataLink!F3213","v":"RCP6-RRA7R-24-垂直"},{"$f":"AccVelDataLink!G3213","v":1.5},{"$f":"AccVelDataLink!A3213","v":3210},"○","○"]
[2700,1,3000,3211,2699,-1,null,{"$f":"AccVelDataLink!G3214","v":3},{"$f":"AccVelDataLink!A3214","v":3211},"○","終端"]
[2701,0,22500,3212,-1,2702,{"$f":"AccVelDataLink!F3215","v":"RCP6-WRA10C-2.5-水平"},{"$f":"AccVelDataLink!G3215","v":22.5},{"$f":"AccVelDataLink!A3215","v":3212},"先頭","○"]
[2702,0,27000,3213,2701,2703,null,{"$f":"AccVelDataLink!G3216","v":27},{"$f":"AccVelDataLink!A3216","v":3213},"○","○"]
[2703,0,33000,3214,2702,2704,null,{"$f":"AccVelDataLink!G3217","v":33},{"$f":"AccVelDataLink!A3217","v":3214},"○","○"]
[2704,0,36000,3215,2703,2705,null,{"$f":"AccVelDataLink!G3218","v":36},{"$f":"AccVelDataLink!A3218","v":3215},"○","○"]
[2705,0,40000,3216,2704,2706,null,{"$f":"AccVelDataLink!G3219","v":40},{"$f":"AccVelDataLink!A3219","v":3216},"○","○"]
[2706,1,3500,3217,2705,2707,{"$f":"AccVelDataLink!F3220","v":"RCP6-WRA10C-2.5-垂直"},{"$f":"AccVelDataLink!G3220","v":3.5},{"$f":"AccVelDataLink!A3220","v":3217},"○","○"]
[2707,1,6000,3218,2706,2708,null,{"$f":"AccVelDataLink!G3221","v":6},{"$f":"AccVelDataLink!A3221","v":3218},"○","○"]
[2708,1,8500,3219,2707,2709,null,{"$f":"AccVelDataLink!G3222","v":8.5},{"$f":"AccVelDataLink!A3222","v":3219},"○","○"]
[2709,1,10000,3220,2708,-1,null,{"$f":"AccVelDataLink!G3223","v":10},{"$f":"AccVelDataLink!A3223","v":3220},"○","終端"]
[2710,0,6500,3221,-1,2711,{"$f":"AccVelDataLink!F3224","v":"RCP6-WRA10C-5-水平"},{"$f":"AccVelDataLink!G3224","v":6.5},{"$f":"AccVelDataLink!A3224","v":3221},"先頭","○"]
[2711,0,10500,3222,2710,2712,null,{"$f":"AccVelDataLink!G3225","v":10.5},{"$f":"AccVelDataLink!A3225","v":3222},"○","○"]
[2712,0,12000,3223,2711,2713,null,{"$f":"AccVelDataLink!G3226","v":12},{"$f":"AccVelDataLink!A3226","v":3223},{"$f":"IF(E2715=A2714,\"○\",IF(G2715=0,\"つなぎまちがい\",\"先頭\"))","v":"○"},{"$f":"IF(F2715=A2716,\"○\",IF(F2715<>E2716,\"つなぎまちがい\",\"終端\"))","v":"○"}]
[{"$f":"A2715+1","v":2713},{"$f":"IF(RIGHT(G2716,2)= \"水平\",0,IF(RIGHT(G2716,2)=\"垂直\",1,B2715))","v":0},{"$f":"H2716*$H$1","v":15500},{"$f":"I2716","v":3224},{"$f":"IF(F2715=-1,-1,A2715)","v":2712},{"$f":"A2717","v":2714},null,{"$f":"AccVelDataLink!G3227","v":15.5},{"$f":"AccVelDataLink!A3227","v":3224},"○","○"]
[2714,0,18000,3225,2713,2715,null,{"$f":"AccVelDataLink!G3228","v":18},{"$f":"AccVelDataLink!A3228","v":3225},"○","○"]
[2715,0,19000,3226,2714,2716,null,{"$f":"AccVelDataLink!G3229","v":19},{"$f":"AccVelDataLink!A3229","v":3226},"○","○"]
[2716,0,25000,3227,2715,2717,null,{"$f":"AccVelDataLink!G3230","v":25},{"$f":"AccVelDataLink!A3230","v":3227},"○","○"]
[2717,1,2500,3228,2716,2718,{"$f":"AccVelDataLink!F3231","v":"RCP6-WRA10C-5-垂直"},{"$f":"AccVelDataLink!G3231","v":2.5},{"$f":"AccVelDataLink!A3231","v":3228},"○","○"]
[2718,1,4000,3229,2717,2719,null,{"$f":"AccVelDataLink!G3232","v":4},{"$f":"AccVelDataLink!A3232","v":3229},"○","○"]
[2719,1,5000,3230,2718,-1,null,{"$f":"AccVelDataLink!G3233","v":5},{"$f":"AccVelDataLink!A3233","v":3230},"○","終端"]
[2720,0,2500,3231,-1,2721,{"$f":"AccVelDataLink!F3234","v":"RCP6-WRA10C-10-水平"},{"$f":"AccVelDataLink!G3234","v":2.5},{"$f":"AccVelDataLink!A3234","v":3231},"先頭","○"]
[2721,0,5000,3232,2720,2722,null,{"$f":"AccVelDataLink!G3235","v":5},{"$f":"AccVelDataLink!A3235","v":3232},"○","○"]
[2722,0,6000,3233,2721,2723,null,{"$f":"AccVelDataLink!G3236","v":6},{"$f":"AccVelDataLink!A3236","v":3233},"○","○"]
[2723,0,6500,3234,2722,2724,null,{"$f":"AccVelDataLink!G3237","v":6.5},{"$f":"AccVelDataLink!A3237","v":3234},"○","○"]
[2724,0,7500,3235,2723,2725,null,{"$f":"AccVelDataLink!G3238","v":7.5},{"$f":"AccVelDataLink!A3238","v":3235},"○","○"]
[2725,0,8000,3236,2724,2726,null,{"$f":"AccVelDataLink!G3239","v":8},{"$f":"AccVelDataLink!A3239","v":3236},"○","○"]
[2726,0,9500,3237,2725,-1,null,{"$f":"AccVelDataLink!G3240","v":9.5},{"$f":"AccVelDataLink!A3240","v":3237},"○","終端"]
[2727,0,500,3238,-1,2728,{"$f":"AccVelDataLink!F3241","v":"RCP6-WRA10C-16-水平"},{"$f":"AccVelDataLink!G3241","v":0.5},{"$f":"AccVelDataLink!A3241","v":3238},"先頭","○"]
[2728,0,2500,3239,2727,2729,null,{"$f":"AccVelDataLink!G3242","v":2.5},{"$f":"AccVelDataLink!A3242","v":3239},"○","○"]
[2729,0,3500,3240,2728,-1,null,{"$f":"AccVelDataLink!G3243","v":3.5},{"$f":"AccVelDataLink!A3243","v":3240},"○","終端"]
[2730,0,45000,3241,-1,2731,{"$f":"AccVelDataLink!F3244","v":"RCP6-WRA12C-3-水平"},{"$f":"AccVelDataLink!G3244","v":45},{"$f":"AccVelDataLink!A3244","v":3241},"先頭","○"]
[2731,0,60000,3242,2730,2732,null,{"$f":"AccVelDataLink!G3245","v":60},{"$f":"AccVelDataLink!A3245","v":3242},"○","○"]
[2732,1,6000,3243,2731,2733,{"$f":"AccVelDataLink!F3246","v":"RCP6-WRA12C-3-垂直"},{"$f":"AccVelDataLink!G3246","v":6},{"$f":"AccVelDataLink!A3246","v":3243},"○","○"]
[2733,1,12000,3244,2732,2734,null,{"$f":"AccVelDataLink!G3247","v":12},{"$f":"AccVelDataLink!A3247","v":3244},"○","○"]
[2734,1,13000,3245,2733,-1,null,{"$f":"AccVelDataLink!G3248","v":13},{"$f":"AccVelDataLink!A3248","v":3245},"○","終端"]
[2735,0,15000,3246,-1,2736,{"$f":"AccVelDataLink!F3249","v":"RCP6-WRA12C-6-水平"},{"$f":"AccVelDataLink!G3249","v":15},{"$f":"AccVelDataLink!A3249","v":3246},"先頭","○"]
[2736,0,24000,3247,2735,2737,null,{"$f":"AccVelDataLink!G3250","v":24},{"$f":"AccVelDataLink!A3250","v":3247},"○","○"]
[2737,0,30000,3249,2736,2738,null,{"$f":"AccVelDataLink!G3252","v":30},{"$f":"AccVelDataLink!A3252","v":3249},"○","○"]
[2738,0,39000,3250,2737,2739,null,{"$f":"AccVelDataLink!G3253","v":39},{"$f":"AccVelDataLink!A3253","v":3250},"○","○"]
[2739,1,2000,3251,2738,2740,{"$f":"AccVelDataLink!F3254","v":"RCP6-WRA12C-6-垂直"},{"$f":"AccVelDataLink!G3254","v":2},{"$f":"AccVelDataLink!A3254","v":3251},"○","○"]
[2740,1,5000,3252,2739,2741,null,{"$f":"AccVelDataLink!G3255","v":5},{"$f":"AccVelDataLink!A3255","v":3252},"○","○"]
[2741,1,6000,3253,2740,-1,null,{"$f":"AccVelDataLink!G3256","v":6},{"$f":"AccVelDataLink!A3256","v":3253},"○","終端"]
[2742,0,1500,3254,-1,2743,{"$f":"AccVelDataLink!F3257","v":"RCP6-WRA12C-12-水平"},{"$f":"AccVelDataLink!G3257","v":1.5},{"$f":"AccVelDataLink!A3257","v":3254},"先頭","○"]
[2743,0,3000,3255,2742,2744,null,{"$f":"AccVelDataLink!G3258","v":3},{"$f":"AccVelDataLink!A3258","v":3255},"○","○"]
[2744,0,7000,3256,2743,2745,null,{"$f":"AccVelDataLink!G3259","v":7},{"$f":"AccVelDataLink!A3259","v":3256},"○","○"]
[2745,0,9500,3257,2744,2746,null,{"$f":"AccVelDataLink!G3260","v":9.5},{"$f":"AccVelDataLink!A3260","v":3257},"○","○"]
[2746,0,10500,3258,2745,2747,null,{"$f":"AccVelDataLink!G3261","v":10.5},{"$f":"AccVelDataLink!A3261","v":3258},"○","○"]
[2747,0,15000,3259,2746,2748,null,{"$f":"AccVelDataLink!G3262","v":15},{"$f":"AccVelDataLink!A3262","v":3259},"○","○"]
[2748,0,18500,3260,2747,-1,null,{"$f":"AccVelDataLink!G3263","v":18.5},{"$f":"AccVelDataLink!A3263","v":3260},"○","終端"]
[2749,0,500,3261,-1,2750,{"$f":"AccVelDataLink!F3264","v":"RCP6-WRA12C-20-水平"},{"$f":"AccVelDataLink!G3264","v":0.5},{"$f":"AccVelDataLink!A3264","v":3261},"先頭","○"]
[2750,0,2500,3262,2749,2751,null,{"$f":"AccVelDataLink!G3265","v":2.5},{"$f":"AccVelDataLink!A3265","v":3262},"○","○"]
[2751,0,3000,3263,2750,2752,null,{"$f":"AccVelDataLink!G3266","v":3},{"$f":"AccVelDataLink!A3266","v":3263},"○","○"]
[2752,0,5500,3264,2751,2753,null,{"$f":"AccVelDataLink!G3267","v":5.5},{"$f":"AccVelDataLink!A3267","v":3264},"○","○"]
[2753,0,7500,3265,2752,-1,null,{"$f":"AccVelDataLink!G3268","v":7.5},{"$f":"AccVelDataLink!A3268","v":3265},"○","終端"]
[2754,0,7500,3266,-1,2755,{"$f":"AccVelDataLink!F3269","v":"RCP6-WRA14C-4-水平"},{"$f":"AccVelDataLink!G3269","v":7.5},{"$f":"AccVelDataLink!A3269","v":3266},"先頭","○"]
[2755,0,12000,3267,2754,2756,null,{"$f":"AccVelDataLink!G3270","v":12},{"$f":"AccVelDataLink!A3270","v":3267},"○","○"]
[2756,0,48000,3268,2755,2757,null,{"$f":"AccVelDataLink!G3271","v":48},{"$f":"AccVelDataLink!A3271","v":3268},"○","○"]
[2757,0,57000,3269,2756,2758,null,{"$f":"AccVelDataLink!G3272","v":57},{"$f":"AccVelDataLink!A3272","v":3269},"○","○"]
[2758,1,1000,3270,2757,2759,{"$f":"AccVelDataLink!F3273","v":"RCP6-WRA14C-4-垂直"},{"$f":"AccVelDataLink!G3273","v":1},{"$f":"AccVelDataLink!A3273","v":3270},"○","○"]
[2759,1,13500,3271,2758,2760,null,{"$f":"AccVelDataLink!G3274","v":13.5},{"$f":"AccVelDataLink!A3274","v":3271},"○","○"]
[2760,1,18000,3272,2759,-1,null,{"$f":"AccVelDataLink!G3275","v":18},{"$f":"AccVelDataLink!A3275","v":3272},"○","終端"]
[2761,0,4500,3273,-1,2762,{"$f":"AccVelDataLink!F3276","v":"RCP6-WRA14C-8-水平"},{"$f":"AccVelDataLink!G3276","v":4.5},{"$f":"AccVelDataLink!A3276","v":3273},"先頭","○"]
[2762,0,12000,3274,2761,2763,null,{"$f":"AccVelDataLink!G3277","v":12},{"$f":"AccVelDataLink!A3277","v":3274},"○","○"]
[2763,0,27000,3275,2762,2764,null,{"$f":"AccVelDataLink!G3278","v":27},{"$f":"AccVelDataLink!A3278","v":3275},"○","○"]
[2764,0,33000,3276,2763,2765,null,{"$f":"AccVelDataLink!G3279","v":33},{"$f":"AccVelDataLink!A3279","v":3276},"○","○"]
[2765,0,45000,3277,2764,2766,null,{"$f":"AccVelDataLink!G3280","v":45},{"$f":"AccVelDataLink!A3280","v":3277},"○","○"]
[2766,1,6000,3278,2765,2767,{"$f":"AccVelDataLink!F3281","v":"RCP6-WRA14C-8-垂直"},{"$f":"AccVelDataLink!G3281","v":6},{"$f":"AccVelDataLink!A3281","v":3278},"○","○"]
[2767,1,12000,3279,2766,-1,null,{"$f":"AccVelDataLink!G3282","v":12},{"$f":"AccVelDataLink!A3282","v":3279},"○","終端"]
[2768,0,3500,3280,-1,2769,{"$f":"AccVelDataLink!F3283","v":"RCP6-WRA14C-16-水平"},{"$f":"AccVelDataLink!G3283","v":3.5},{"$f":"AccVelDataLink!A3283","v":3280},"先頭","○"]
[2769,0,13000,3281,2768,2770,null,{"$f":"AccVelDataLink!G3284","v":13},{"$f":"AccVelDataLink!A3284","v":3281},"○","○"]
[2770,0,18000,3282,2769,2771,null,{"$f":"AccVelDataLink!G3285","v":18},{"$f":"AccVelDataLink!A3285","v":3282},"○","○"]
[2771,0,27000,3283,2770,2772,null,{"$f":"AccVelDataLink!G3286","v":27},{"$f":"AccVelDataLink!A3286","v":3283},"○","○"]
[2772,0,37000,3284,2771,-1,null,{"$f":"AccVelDataLink!G3287","v":37},{"$f":"AccVelDataLink!A3287","v":3284},"○","終端"]
[2773,0,3000,3285,-1,2774,{"$f":"AccVelDataLink!F3288","v":"RCP6-WRA14C-24-水平"},{"$f":"AccVelDataLink!G3288","v":3},{"$f":"AccVelDataLink!A3288","v":3285},"先頭","○"]
[2774,0,8000,3286,2773,2775,null,{"$f":"AccVelDataLink!G3289","v":8},{"$f":"AccVelDataLink!A3289","v":3286},"○","○"]
[2775,0,9500,3287,2774,2776,null,{"$f":"AccVelDataLink!G3290","v":9.5},{"$f":"AccVelDataLink!A3290","v":3287},"○","○"]
[2776,0,18000,3288,2775,-1,null,{"$f":"AccVelDataLink!G3291","v":18},{"$f":"AccVelDataLink!A3291","v":3288},{"$f":"IF(E2779=A2778,\"○\",IF(G2779=0,\"つなぎまちがい\",\"先頭\"))","v":"○"},{"$f":"IF(F2779=A2780,\"○\",IF(F2779<>E2780,\"つなぎまちがい\",\"終端\"))","v":"終端"}]
[{"$f":"A2779+1","v":2777},{"$f":"IF(RIGHT(G2780,2)= \"水平\",0,IF(RIGHT(G2780,2)=\"垂直\",1,B2779))","v":0},{"$f":"H2780*$H$1","v":22500},{"$f":"I2780","v":3289},{"$f":"IF(F2779=-1,-1,A2779)","v":-1},{"$f":"A2781","v":2778},{"$f":"AccVelDataLink!F3292","v":"RCP6-WRA10R-2.5-水平"},{"$f":"AccVelDataLink!G3292","v":22.5},{"$f":"AccVelDataLink!A3292","v":3289},"先頭","○"]
[2778,0,27000,3290,2777,2779,null,{"$f":"AccVelDataLink!G3293","v":27},{"$f":"AccVelDataLink!A3293","v":3290},"○","○"]
[2779,0,33000,3291,2778,2780,null,{"$f":"AccVelDataLink!G3294","v":33},{"$f":"AccVelDataLink!A3294","v":3291},"○","○"]
[2780,0,36000,3292,2779,2781,null,{"$f":"AccVelDataLink!G3295","v":36},{"$f":"AccVelDataLink!A3295","v":3292},"○","○"]
[2781,0,40000,3293,2780,2782,null,{"$f":"AccVelDataLink!G3296","v":40},{"$f":"AccVelDataLink!A3296","v":3293},"○","○"]
[2782,1,3500,3294,2781,2783,{"$f":"AccVelDataLink!F3297","v":"RCP6-WRA10R-2.5-垂直"},{"$f":"AccVelDataLink!G3297","v":3.5},{"$f":"AccVelDataLink!A3297","v":3294},"○","○"]
[2783,1,6000,3295,2782,2784,null,{"$f":"AccVelDataLink!G3298","v":6},{"$f":"AccVelDataLink!A3298","v":3295},"○","○"]
[2784,1,8500,3296,2783,2785,null,{"$f":"AccVelDataLink!G3299","v":8.5},{"$f":"AccVelDataLink!A3299","v":3296},"○","○"]
[2785,1,10000,3297,2784,-1,null,{"$f":"AccVelDataLink!G3300","v":10},{"$f":"AccVelDataLink!A3300","v":3297},"○","終端"]
[2786,0,6500,3298,-1,2787,{"$f":"AccVelDataLink!F3301","v":"RCP6-WRA10R-5-水平"},{"$f":"AccVelDataLink!G3301","v":6.5},{"$f":"AccVelDataLink!A3301","v":3298},"先頭","○"]
[2787,0,10500,3299,2786,2788,null,{"$f":"AccVelDataLink!G3302","v":10.5},{"$f":"AccVelDataLink!A3302","v":3299},"○","○"]
[2788,0,12000,3300,2787,2789,null,{"$f":"AccVelDataLink!G3303","v":12},{"$f":"AccVelDataLink!A3303","v":3300},"○","○"]
[2789,0,15500,3301,2788,2790,null,{"$f":"AccVelDataLink!G3304","v":15.5},{"$f":"AccVelDataLink!A3304","v":3301},"○","○"]
[2790,0,18000,3302,2789,2791,null,{"$f":"AccVelDataLink!G3305","v":18},{"$f":"AccVelDataLink!A3305","v":3302},"○","○"]
[2791,0,19000,3303,2790,2792,null,{"$f":"AccVelDataLink!G3306","v":19},{"$f":"AccVelDataLink!A3306","v":3303},"○","○"]
[2792,0,25000,3304,2791,2793,null,{"$f":"AccVelDataLink!G3307","v":25},{"$f":"AccVelDataLink!A3307","v":3304},"○","○"]
[2793,1,2500,3305,2792,2794,{"$f":"AccVelDataLink!F3308","v":"RCP6-WRA10R-5-垂直"},{"$f":"AccVelDataLink!G3308","v":2.5},{"$f":"AccVelDataLink!A3308","v":3305},"○","○"]
[2794,1,4000,3306,2793,2795,null,{"$f":"AccVelDataLink!G3309","v":4},{"$f":"AccVelDataLink!A3309","v":3306},"○","○"]
[2795,1,5000,3307,2794,-1,null,{"$f":"AccVelDataLink!G3310","v":5},{"$f":"AccVelDataLink!A3310","v":3307},"○","終端"]
[2796,0,2500,3308,-1,2797,{"$f":"AccVelDataLink!F3311","v":"RCP6-WRA10R-10-水平"},{"$f":"AccVelDataLink!G3311","v":2.5},{"$f":"AccVelDataLink!A3311","v":3308},"先頭","○"]
[2797,0,5000,3309,2796,2798,null,{"$f":"AccVelDataLink!G3312","v":5},{"$f":"AccVelDataLink!A3312","v":3309},"○","○"]
[2798,0,6000,3310,2797,2799,null,{"$f":"AccVelDataLink!G3313","v":6},{"$f":"AccVelDataLink!A3313","v":3310},"○","○"]
[2799,0,6500,3311,2798,2800,null,{"$f":"AccVelDataLink!G3314","v":6.5},{"$f":"AccVelDataLink!A3314","v":3311},"○","○"]
[2800,0,7500,3312,2799,2801,null,{"$f":"AccVelDataLink!G3315","v":7.5},{"$f":"AccVelDataLink!A3315","v":3312},"○","○"]
[2801,0,8000,3313,2800,2802,null,{"$f":"AccVelDataLink!G3316","v":8},{"$f":"AccVelDataLink!A3316","v":3313},"○","○"]
[2802,0,9500,3314,2801,-1,null,{"$f":"AccVelDataLink!G3317","v":9.5},{"$f":"AccVelDataLink!A3317","v":3314},"○","終端"]
[2803,0,500,3315,-1,2804,{"$f":"AccVelDataLink!F3318","v":"RCP6-WRA10R-16-水平"},{"$f":"AccVelDataLink!G3318","v":0.5},{"$f":"AccVelDataLink!A3318","v":3315},"先頭","○"]
[2804,0,2500,3316,2803,2805,null,{"$f":"AccVelDataLink!G3319","v":2.5},{"$f":"AccVelDataLink!A3319","v":3316},"○","○"]
[2805,0,3500,3317,2804,-1,null,{"$f":"AccVelDataLink!G3320","v":3.5},{"$f":"AccVelDataLink!A3320","v":3317},"○","終端"]
[2806,0,45000,3318,-1,2807,{"$f":"AccVelDataLink!F3321","v":"RCP6-WRA12R-3-水平"},{"$f":"AccVelDataLink!G3321","v":45},{"$f":"AccVelDataLink!A3321","v":3318},"先頭","○"]
[2807,0,60000,3319,2806,2808,null,{"$f":"AccVelDataLink!G3322","v":60},{"$f":"AccVelDataLink!A3322","v":3319},"○","○"]
[2808,1,6000,3320,2807,2809,{"$f":"AccVelDataLink!F3323","v":"RCP6-WRA12R-3-垂直"},{"$f":"AccVelDataLink!G3323","v":6},{"$f":"AccVelDataLink!A3323","v":3320},"○","○"]
[2809,1,12000,3321,2808,2810,null,{"$f":"AccVelDataLink!G3324","v":12},{"$f":"AccVelDataLink!A3324","v":3321},"○","○"]
[2810,1,13000,3322,2809,-1,null,{"$f":"AccVelDataLink!G3325","v":13},{"$f":"AccVelDataLink!A3325","v":3322},"○","終端"]
[2811,0,15000,3323,-1,2812,{"$f":"AccVelDataLink!F3326","v":"RCP6-WRA12R-6-水平"},{"$f":"AccVelDataLink!G3326","v":15},{"$f":"AccVelDataLink!A3326","v":3323},"先頭","○"]
[2812,0,24000,3324,2811,2813,null,{"$f":"AccVelDataLink!G3327","v":24},{"$f":"AccVelDataLink!A3327","v":3324},"○","○"]
[2813,0,30000,3326,2812,2814,null,{"$f":"AccVelDataLink!G3329","v":30},{"$f":"AccVelDataLink!A3329","v":3326},"○","○"]
[2814,0,39000,3327,2813,2815,null,{"$f":"AccVelDataLink!G3330","v":39},{"$f":"AccVelDataLink!A3330","v":3327},"○","○"]
[2815,1,2000,3328,2814,2816,{"$f":"AccVelDataLink!F3331","v":"RCP6-WRA12R-6-垂直"},{"$f":"AccVelDataLink!G3331","v":2},{"$f":"AccVelDataLink!A3331","v":3328},"○","○"]
[2816,1,5000,3329,2815,2817,null,{"$f":"AccVelDataLink!G3332","v":5},{"$f":"AccVelDataLink!A3332","v":3329},"○","○"]
[2817,1,6000,3330,2816,-1,null,{"$f":"AccVelDataLink!G3333","v":6},{"$f":"AccVelDataLink!A3333","v":3330},"○","終端"]
[2818,0,1500,3331,-1,2819,{"$f":"AccVelDataLink!F3334","v":"RCP6-WRA12R-12-水平"},{"$f":"AccVelDataLink!G3334","v":1.5},{"$f":"AccVelDataLink!A3334","v":3331},"先頭","○"]
[2819,0,3000,3332,2818,2820,null,{"$f":"AccVelDataLink!G3335","v":3},{"$f":"AccVelDataLink!A3335","v":3332},"○","○"]
[2820,0,7000,3333,2819,2821,null,{"$f":"AccVelDataLink!G3336","v":7},{"$f":"AccVelDataLink!A3336","v":3333},"○","○"]
[2821,0,9500,3334,2820,2822,null,{"$f":"AccVelDataLink!G3337","v":9.5},{"$f":"AccVelDataLink!A3337","v":3334},"○","○"]
[2822,0,10500,3335,2821,2823,null,{"$f":"AccVelDataLink!G3338","v":10.5},{"$f":"AccVelDataLink!A3338","v":3335},"○","○"]
[2823,0,15000,3336,2822,2824,null,{"$f":"AccVelDataLink!G3339","v":15},{"$f":"AccVelDataLink!A3339","v":3336},"○","○"]
[2824,0,18500,3337,2823,-1,null,{"$f":"AccVelDataLink!G3340","v":18.5},{"$f":"AccVelDataLink!A3340","v":3337},"○","終端"]
[2825,0,500,3338,-1,2826,{"$f":"AccVelDataLink!F3341","v":"RCP6-WRA12R-20-水平"},{"$f":"AccVelDataLink!G3341","v":0.5},{"$f":"AccVelDataLink!A3341","v":3338},"先頭","○"]
[2826,0,2500,3339,2825,2827,null,{"$f":"AccVelDataLink!G3342","v":2.5},{"$f":"AccVelDataLink!A3342","v":3339},"○","○"]
[2827,0,3000,3340,2826,2828,null,{"$f":"AccVelDataLink!G3343","v":3},{"$f":"AccVelDataLink!A3343","v":3340},"○","○"]
[2828,0,5500,3341,2827,2829,null,{"$f":"AccVelDataLink!G3344","v":5.5},{"$f":"AccVelDataLink!A3344","v":3341},"○","○"]
[2829,0,7500,3342,2828,-1,null,{"$f":"AccVelDataLink!G3345","v":7.5},{"$f":"AccVelDataLink!A3345","v":3342},"○","終端"]
[2830,0,7500,3343,-1,2831,{"$f":"AccVelDataLink!F3346","v":"RCP6-WRA14R-4-水平"},{"$f":"AccVelDataLink!G3346","v":7.5},{"$f":"AccVelDataLink!A3346","v":3343},"先頭","○"]
[2831,0,12000,3344,2830,2832,null,{"$f":"AccVelDataLink!G3347","v":12},{"$f":"AccVelDataLink!A3347","v":3344},"○","○"]
[2832,0,48000,3345,2831,2833,null,{"$f":"AccVelDataLink!G3348","v":48},{"$f":"AccVelDataLink!A3348","v":3345},"○","○"]
[2833,0,57000,3346,2832,2834,null,{"$f":"AccVelDataLink!G3349","v":57},{"$f":"AccVelDataLink!A3349","v":3346},"○","○"]
[2834,1,1000,3347,2833,2835,{"$f":"AccVelDataLink!F3350","v":"RCP6-WRA14R-4-垂直"},{"$f":"AccVelDataLink!G3350","v":1},{"$f":"AccVelDataLink!A3350","v":3347},"○","○"]
[2835,1,13500,3348,2834,2836,null,{"$f":"AccVelDataLink!G3351","v":13.5},{"$f":"AccVelDataLink!A3351","v":3348},"○","○"]
[2836,1,18000,3349,2835,-1,null,{"$f":"AccVelDataLink!G3352","v":18},{"$f":"AccVelDataLink!A3352","v":3349},"○","終端"]
[2837,0,4500,3350,-1,2838,{"$f":"AccVelDataLink!F3353","v":"RCP6-WRA14R-8-水平"},{"$f":"AccVelDataLink!G3353","v":4.5},{"$f":"AccVelDataLink!A3353","v":3350},"先頭","○"]
[2838,0,12000,3351,2837,2839,null,{"$f":"AccVelDataLink!G3354","v":12},{"$f":"AccVelDataLink!A3354","v":3351},"○","○"]
[2839,0,27000,3352,2838,2840,null,{"$f":"AccVelDataLink!G3355","v":27},{"$f":"AccVelDataLink!A3355","v":3352},"○","○"]
[2840,0,33000,3353,2839,2841,null,{"$f":"AccVelDataLink!G3356","v":33},{"$f":"AccVelDataLink!A3356","v":3353},{"$f":"IF(E2843=A2842,\"○\",IF(G2843=0,\"つなぎまちがい\",\"先頭\"))","v":"○"},{"$f":"IF(F2843=A2844,\"○\",IF(F2843<>E2844,\"つなぎまちがい\",\"終端\"))","v":"○"}]
[{"$f":"A2843+1","v":2841},{"$f":"IF(RIGHT(G2844,2)= \"水平\",0,IF(RIGHT(G2844,2)=\"垂直\",1,B2843))","v":0},{"$f":"H2844*$H$1","v":45000},{"$f":"I2844","v":3354},{"$f":"IF(F2843=-1,-1,A2843)","v":2840},{"$f":"A2845","v":2842},null,{"$f":"AccVelDataLink!G3357","v":45},{"$f":"AccVelDataLink!A3357","v":3354},"○","○"]
[2842,1,6000,3355,2841,2843,{"$f":"AccVelDataLink!F3358","v":"RCP6-WRA14R-8-垂直"},{"$f":"AccVelDataLink!G3358","v":6},{"$f":"AccVelDataLink!A3358","v":3355},"○","○"]
[2843,1,12000,3356,2842,-1,null,{"$f":"AccVelDataLink!G3359","v":12},{"$f":"AccVelDataLink!A3359","v":3356},"○","終端"]
[2844,0,3500,3357,-1,2845,{"$f":"AccVelDataLink!F3360","v":"RCP6-WRA14R-16-水平"},{"$f":"AccVelDataLink!G3360","v":3.5},{"$f":"AccVelDataLink!A3360","v":3357},"先頭","○"]
[2845,0,13000,3358,2844,2846,null,{"$f":"AccVelDataLink!G3361","v":13},{"$f":"AccVelDataLink!A3361","v":3358},"○","○"]
[2846,0,18000,3359,2845,2847,null,{"$f":"AccVelDataLink!G3362","v":18},{"$f":"AccVelDataLink!A3362","v":3359},"○","○"]
[2847,0,27000,3360,2846,2848,null,{"$f":"AccVelDataLink!G3363","v":27},{"$f":"AccVelDataLink!A3363","v":3360},"○","○"]
[2848,0,37000,3361,2847,-1,null,{"$f":"AccVelDataLink!G3364","v":37},{"$f":"AccVelDataLink!A3364","v":3361},"○","終端"]
[2849,0,3000,3362,-1,2850,{"$f":"AccVelDataLink!F3365","v":"RCP6-WRA14R-24-水平"},{"$f":"AccVelDataLink!G3365","v":3},{"$f":"AccVelDataLink!A3365","v":3362},"先頭","○"]
[2850,0,8000,3363,2849,2851,null,{"$f":"AccVelDataLink!G3366","v":8},{"$f":"AccVelDataLink!A3366","v":3363},"○","○"]
[2851,0,9500,3364,2850,2852,null,{"$f":"AccVelDataLink!G3367","v":9.5},{"$f":"AccVelDataLink!A3367","v":3364},"○","○"]
[2852,0,18000,3365,2851,-1,null,{"$f":"AccVelDataLink!G3368","v":18},{"$f":"AccVelDataLink!A3368","v":3365},"○","終端"]
[2853,0,5000,3366,-1,2854,{"$f":"AccVelDataLink!F3369","v":"RCP6-TA4C(SB)-2.5-水平"},{"$f":"AccVelDataLink!G3369","v":5},{"$f":"AccVelDataLink!A3369","v":3366},"先頭","○"]
[2854,1,4000,3367,2853,2855,{"$f":"AccVelDataLink!F3370","v":"RCP6-TA4C(SB)-2.5-垂直"},{"$f":"AccVelDataLink!G3370","v":4},{"$f":"AccVelDataLink!A3370","v":3367},"○","○"]
[2855,1,6000,3368,2854,2856,null,{"$f":"AccVelDataLink!G3371","v":6},{"$f":"AccVelDataLink!A3371","v":3368},"○","○"]
[2856,1,7500,3369,2855,2857,null,{"$f":"AccVelDataLink!G3372","v":7.5},{"$f":"AccVelDataLink!A3372","v":3369},"○","○"]
[2857,1,9000,3370,2856,-1,null,{"$f":"AccVelDataLink!G3373","v":9},{"$f":"AccVelDataLink!A3373","v":3370},"○","終端"]
[2858,0,5000,3371,-1,2859,{"$f":"AccVelDataLink!F3374","v":"RCP6-TA4C(SB)-5-水平"},{"$f":"AccVelDataLink!G3374","v":5},{"$f":"AccVelDataLink!A3374","v":3371},"先頭","○"]
[2859,1,2500,3372,2858,2860,{"$f":"AccVelDataLink!F3375","v":"RCP6-TA4C(SB)-5-垂直"},{"$f":"AccVelDataLink!G3375","v":2.5},{"$f":"AccVelDataLink!A3375","v":3372},"○","○"]
[2860,1,4000,3373,2859,2861,null,{"$f":"AccVelDataLink!G3376","v":4},{"$f":"AccVelDataLink!A3376","v":3373},"○","○"]
[2861,1,4500,3374,2860,2862,null,{"$f":"AccVelDataLink!G3377","v":4.5},{"$f":"AccVelDataLink!A3377","v":3374},"○","○"]
[2862,1,5000,3375,2861,-1,null,{"$f":"AccVelDataLink!G3378","v":5},{"$f":"AccVelDataLink!A3378","v":3375},"○","終端"]
[2863,0,2000,3376,-1,2864,{"$f":"AccVelDataLink!F3379","v":"RCP6-TA4C(SB)-10-水平"},{"$f":"AccVelDataLink!G3379","v":2},{"$f":"AccVelDataLink!A3379","v":3376},"先頭","○"]
[2864,0,3500,3377,2863,2865,null,{"$f":"AccVelDataLink!G3380","v":3.5},{"$f":"AccVelDataLink!A3380","v":3377},"○","○"]
[2865,0,4000,3378,2864,2866,null,{"$f":"AccVelDataLink!G3381","v":4},{"$f":"AccVelDataLink!A3381","v":3378},"○","○"]
[2866,1,1000,3380,2865,2867,{"$f":"AccVelDataLink!F3383","v":"RCP6-TA4C(SB)-10-垂直"},{"$f":"AccVelDataLink!G3383","v":1},{"$f":"AccVelDataLink!A3383","v":3380},"○","○"]
[2867,1,1500,3381,2866,2868,null,{"$f":"AccVelDataLink!G3384","v":1.5},{"$f":"AccVelDataLink!A3384","v":3381},"○","○"]
[2868,1,2250,3382,2867,2869,null,{"$f":"AccVelDataLink!G3385","v":2.25},{"$f":"AccVelDataLink!A3385","v":3382},"○","○"]
[2869,1,2500,3383,2868,-1,null,{"$f":"AccVelDataLink!G3386","v":2.5},{"$f":"AccVelDataLink!A3386","v":3383},"○","終端"]
[2870,0,1000,3384,-1,2871,{"$f":"AccVelDataLink!F3387","v":"RCP6-TA4C(SB)-16-水平"},{"$f":"AccVelDataLink!G3387","v":1},{"$f":"AccVelDataLink!A3387","v":3384},"先頭","○"]
[2871,0,1500,3385,2870,2872,null,{"$f":"AccVelDataLink!G3388","v":1.5},{"$f":"AccVelDataLink!A3388","v":3385},"○","○"]
[2872,0,2000,3386,2871,2873,null,{"$f":"AccVelDataLink!G3389","v":2},{"$f":"AccVelDataLink!A3389","v":3386},"○","○"]
[2873,0,2500,3387,2872,2874,null,{"$f":"AccVelDataLink!G3390","v":2.5},{"$f":"AccVelDataLink!A3390","v":3387},"○","○"]
[2874,0,3000,3388,2873,2875,null,{"$f":"AccVelDataLink!G3391","v":3},{"$f":"AccVelDataLink!A3391","v":3388},"○","○"]
[2875,1,750,3389,2874,2876,{"$f":"AccVelDataLink!F3392","v":"RCP6-TA4C(SB)-16-垂直"},{"$f":"AccVelDataLink!G3392","v":0.75},{"$f":"AccVelDataLink!A3392","v":3389},"○","○"]
[2876,1,1000,3390,2875,-1,null,{"$f":"AccVelDataLink!G3393","v":1},{"$f":"AccVelDataLink!A3393","v":3390},"○","終端"]
[2877,0,6000,3391,-1,2878,{"$f":"AccVelDataLink!F3394","v":"RCP6-TA6C(SB)-3-水平"},{"$f":"AccVelDataLink!G3394","v":6},{"$f":"AccVelDataLink!A3394","v":3391},"先頭","○"]
[2878,0,7000,3392,2877,2879,null,{"$f":"AccVelDataLink!G3395","v":7},{"$f":"AccVelDataLink!A3395","v":3392},"○","○"]
[2879,0,8000,3393,2878,2880,null,{"$f":"AccVelDataLink!G3396","v":8},{"$f":"AccVelDataLink!A3396","v":3393},"○","○"]
[2880,0,9000,3394,2879,2881,null,{"$f":"AccVelDataLink!G3397","v":9},{"$f":"AccVelDataLink!A3397","v":3394},"○","○"]
[2881,0,10000,3395,2880,2882,null,{"$f":"AccVelDataLink!G3398","v":10},{"$f":"AccVelDataLink!A3398","v":3395},"○","○"]
[2882,1,5000,3396,2881,2883,{"$f":"AccVelDataLink!F3399","v":"RCP6-TA6C(SB)-3-垂直"},{"$f":"AccVelDataLink!G3399","v":5},{"$f":"AccVelDataLink!A3399","v":3396},"○","○"]
[2883,1,7000,3397,2882,2884,null,{"$f":"AccVelDataLink!G3400","v":7},{"$f":"AccVelDataLink!A3400","v":3397},"○","○"]
[2884,1,9000,3398,2883,2885,null,{"$f":"AccVelDataLink!G3401","v":9},{"$f":"AccVelDataLink!A3401","v":3398},"○","○"]
[2885,1,12000,3399,2884,-1,null,{"$f":"AccVelDataLink!G3402","v":12},{"$f":"AccVelDataLink!A3402","v":3399},"○","終端"]
[2886,0,3000,3400,-1,2887,{"$f":"AccVelDataLink!F3403","v":"RCP6-TA6C(SB)-6-水平"},{"$f":"AccVelDataLink!G3403","v":3},{"$f":"AccVelDataLink!A3403","v":3400},"先頭","○"]
[2887,0,6000,3401,2886,2888,null,{"$f":"AccVelDataLink!G3404","v":6},{"$f":"AccVelDataLink!A3404","v":3401},"○","○"]
[2888,0,8000,3402,2887,2889,null,{"$f":"AccVelDataLink!G3405","v":8},{"$f":"AccVelDataLink!A3405","v":3402},"○","○"]
[2889,0,9000,3403,2888,2890,null,{"$f":"AccVelDataLink!G3406","v":9},{"$f":"AccVelDataLink!A3406","v":3403},"○","○"]
[2890,0,10000,3404,2889,2891,null,{"$f":"AccVelDataLink!G3407","v":10},{"$f":"AccVelDataLink!A3407","v":3404},"○","○"]
[2891,1,2000,3405,2890,2892,{"$f":"AccVelDataLink!F3408","v":"RCP6-TA6C(SB)-6-垂直"},{"$f":"AccVelDataLink!G3408","v":2},{"$f":"AccVelDataLink!A3408","v":3405},"○","○"]
[2892,1,3000,3406,2891,2893,null,{"$f":"AccVelDataLink!G3409","v":3},{"$f":"AccVelDataLink!A3409","v":3406},"○","○"]
[2893,1,4000,3407,2892,2894,null,{"$f":"AccVelDataLink!G3410","v":4},{"$f":"AccVelDataLink!A3410","v":3407},"○","○"]
[2894,1,6000,3408,2893,-1,null,{"$f":"AccVelDataLink!G3411","v":6},{"$f":"AccVelDataLink!A3411","v":3408},"○","終端"]
[2895,0,1000,3409,-1,2896,{"$f":"AccVelDataLink!F3412","v":"RCP6-TA6C(SB)-12-水平"},{"$f":"AccVelDataLink!G3412","v":1},{"$f":"AccVelDataLink!A3412","v":3409},"先頭","○"]
[2896,0,3000,3410,2895,2897,null,{"$f":"AccVelDataLink!G3413","v":3},{"$f":"AccVelDataLink!A3413","v":3410},"○","○"]
[2897,0,4500,3412,2896,2898,null,{"$f":"AccVelDataLink!G3415","v":4.5},{"$f":"AccVelDataLink!A3415","v":3412},"○","○"]
[2898,0,6000,3413,2897,2899,null,{"$f":"AccVelDataLink!G3416","v":6},{"$f":"AccVelDataLink!A3416","v":3413},"○","○"]
[2899,0,6500,3415,2898,2900,null,{"$f":"AccVelDataLink!G3418","v":6.5},{"$f":"AccVelDataLink!A3418","v":3415},"○","○"]
[2900,0,7000,3416,2899,2901,null,{"$f":"AccVelDataLink!G3419","v":7},{"$f":"AccVelDataLink!A3419","v":3416},"○","○"]
[2901,0,8000,3418,2900,2902,null,{"$f":"AccVelDataLink!G3421","v":8},{"$f":"AccVelDataLink!A3421","v":3418},"○","○"]
[2902,1,1000,3419,2901,2903,{"$f":"AccVelDataLink!F3422","v":"RCP6-TA6C(SB)-12-垂直"},{"$f":"AccVelDataLink!G3422","v":1},{"$f":"AccVelDataLink!A3422","v":3419},"○","○"]
[2903,1,1500,3420,2902,2904,null,{"$f":"AccVelDataLink!G3423","v":1.5},{"$f":"AccVelDataLink!A3423","v":3420},"○","○"]
[2904,1,2000,3421,2903,2905,null,{"$f":"AccVelDataLink!G3424","v":2},{"$f":"AccVelDataLink!A3424","v":3421},{"$f":"IF(E2907=A2906,\"○\",IF(G2907=0,\"つなぎまちがい\",\"先頭\"))","v":"○"},{"$f":"IF(F2907=A2908,\"○\",IF(F2907<>E2908,\"つなぎまちがい\",\"終端\"))","v":"○"}]
[{"$f":"A2907+1","v":2905},{"$f":"IF(RIGHT(G2908,2)= \"水平\",0,IF(RIGHT(G2908,2)=\"垂直\",1,B2907))","v":1},{"$f":"H2908*$H$1","v":3000},{"$f":"I2908","v":3422},{"$f":"IF(F2907=-1,-1,A2907)","v":2904},-1,null,{"$f":"AccVelDataLink!G3425","v":3},{"$f":"AccVelDataLink!A3425","v":3422},"○","終端"]
[2906,0,2000,3423,-1,{"$f":"A2910","v":2907},{"$f":"AccVelDataLink!F3426","v":"RCP6-TA6C(SB)-20-水平"},{"$f":"AccVelDataLink!G3426","v":2},{"$f":"AccVelDataLink!A3426","v":3423},"先頭","○"]
[2907,0,3000,3424,2906,2908,null,{"$f":"AccVelDataLink!G3427","v":3},{"$f":"AccVelDataLink!A3427","v":3424},"○","○"]
[2908,0,4000,3425,2907,2909,null,{"$f":"AccVelDataLink!G3428","v":4},{"$f":"AccVelDataLink!A3428","v":3425},"○","○"]
[2909,0,4500,3426,2908,2910,null,{"$f":"AccVelDataLink!G3429","v":4.5},{"$f":"AccVelDataLink!A3429","v":3426},"○","○"]
[2910,0,5000,3427,2909,2911,null,{"$f":"AccVelDataLink!G3430","v":5},{"$f":"AccVelDataLink!A3430","v":3427},"○","○"]
[2911,1,750,3428,2910,2912,{"$f":"AccVelDataLink!F3431","v":"RCP6-TA6C(SB)-20-垂直"},{"$f":"AccVelDataLink!G3431","v":0.75},{"$f":"AccVelDataLink!A3431","v":3428},"○","○"]
[2912,1,1000,3429,2911,-1,null,{"$f":"AccVelDataLink!G3432","v":1},{"$f":"AccVelDataLink!A3432","v":3429},"○","終端"]
[2913,0,6000,3430,-1,2914,{"$f":"AccVelDataLink!F3433","v":"RCP6-TA7C(SB)-4-水平"},{"$f":"AccVelDataLink!G3433","v":6},{"$f":"AccVelDataLink!A3433","v":3430},"先頭","○"]
[2914,0,13000,3431,2913,2915,null,{"$f":"AccVelDataLink!G3434","v":13},{"$f":"AccVelDataLink!A3434","v":3431},"○","○"]
[2915,0,15000,3432,2914,2916,null,{"$f":"AccVelDataLink!G3435","v":15},{"$f":"AccVelDataLink!A3435","v":3432},"○","○"]
[2916,1,10000,3434,2915,2917,{"$f":"AccVelDataLink!F3437","v":"RCP6-TA7C(SB)-4-垂直"},{"$f":"AccVelDataLink!G3437","v":10},{"$f":"AccVelDataLink!A3437","v":3434},"○","○"]
[2917,1,18000,3435,2916,2918,null,{"$f":"AccVelDataLink!G3438","v":18},{"$f":"AccVelDataLink!A3438","v":3435},"○","○"]
[2918,1,20000,3436,2917,-1,null,{"$f":"AccVelDataLink!G3439","v":20},{"$f":"AccVelDataLink!A3439","v":3436},"○","終端"]
[2919,0,10000,3437,-1,2920,{"$f":"AccVelDataLink!F3440","v":"RCP6-TA7C(SB)-8-水平"},{"$f":"AccVelDataLink!G3440","v":10},{"$f":"AccVelDataLink!A3440","v":3437},"先頭","○"]
[2920,0,12000,3438,2919,2921,null,{"$f":"AccVelDataLink!G3441","v":12},{"$f":"AccVelDataLink!A3441","v":3438},"○","○"]
[2921,0,15000,3439,2920,2922,null,{"$f":"AccVelDataLink!G3442","v":15},{"$f":"AccVelDataLink!A3442","v":3439},"○","○"]
[2922,1,3500,3441,2921,2923,{"$f":"AccVelDataLink!F3444","v":"RCP6-TA7C(SB)-8-垂直"},{"$f":"AccVelDataLink!G3444","v":3.5},{"$f":"AccVelDataLink!A3444","v":3441},"○","○"]
[2923,1,12000,3442,2922,-1,null,{"$f":"AccVelDataLink!G3445","v":12},{"$f":"AccVelDataLink!A3445","v":3442},"○","終端"]
[2924,0,4000,3443,-1,2925,{"$f":"AccVelDataLink!F3446","v":"RCP6-TA7C(SB)-16-水平"},{"$f":"AccVelDataLink!G3446","v":4},{"$f":"AccVelDataLink!A3446","v":3443},"先頭","○"]
[2925,0,5000,3444,2924,2926,null,{"$f":"AccVelDataLink!G3447","v":5},{"$f":"AccVelDataLink!A3447","v":3444},"○","○"]
[2926,0,10000,3445,2925,2927,null,{"$f":"AccVelDataLink!G3448","v":10},{"$f":"AccVelDataLink!A3448","v":3445},"○","○"]
[2927,0,12000,3446,2926,2928,null,{"$f":"AccVelDataLink!G3449","v":12},{"$f":"AccVelDataLink!A3449","v":3446},"○","○"]
[2928,1,5000,3447,2927,-1,{"$f":"AccVelDataLink!F3450","v":"RCP6-TA7C(SB)-16-垂直"},{"$f":"AccVelDataLink!G3450","v":5},{"$f":"AccVelDataLink!A3450","v":3447},"○","終端"]
[2929,0,1000,3448,-1,2930,{"$f":"AccVelDataLink!F3451","v":"RCP6-TA7C(SB)-24-水平"},{"$f":"AccVelDataLink!G3451","v":1},{"$f":"AccVelDataLink!A3451","v":3448},"先頭","○"]
[2930,0,5000,3450,2929,2931,null,{"$f":"AccVelDataLink!G3453","v":5},{"$f":"AccVelDataLink!A3453","v":3450},"○","○"]
[2931,0,8000,3451,2930,2932,null,{"$f":"AccVelDataLink!G3454","v":8},{"$f":"AccVelDataLink!A3454","v":3451},"○","○"]
[2932,0,10000,3452,2931,2933,null,{"$f":"AccVelDataLink!G3455","v":10},{"$f":"AccVelDataLink!A3455","v":3452},"○","○"]
[2933,1,3000,3453,2932,-1,{"$f":"AccVelDataLink!F3456","v":"RCP6-TA7C(SB)-24-垂直"},{"$f":"AccVelDataLink!G3456","v":3},{"$f":"AccVelDataLink!A3456","v":3453},"○","終端"]
[2934,0,5000,3454,-1,2935,{"$f":"AccVelDataLink!F3457","v":"RCP6-TA4R(SB)-2.5-水平"},{"$f":"AccVelDataLink!G3457","v":5},{"$f":"AccVelDataLink!A3457","v":3454},"先頭","○"]
[2935,1,4000,3455,2934,2936,{"$f":"AccVelDataLink!F3458","v":"RCP6-TA4R(SB)-2.5-垂直"},{"$f":"AccVelDataLink!G3458","v":4},{"$f":"AccVelDataLink!A3458","v":3455},"○","○"]
[2936,1,6000,3456,2935,2937,null,{"$f":"AccVelDataLink!G3459","v":6},{"$f":"AccVelDataLink!A3459","v":3456},"○","○"]
[2937,1,7500,3457,2936,2938,null,{"$f":"AccVelDataLink!G3460","v":7.5},{"$f":"AccVelDataLink!A3460","v":3457},"○","○"]
[2938,1,9000,3458,2937,-1,null,{"$f":"AccVelDataLink!G3461","v":9},{"$f":"AccVelDataLink!A3461","v":3458},"○","終端"]
[2939,0,5000,3459,-1,2940,{"$f":"AccVelDataLink!F3462","v":"RCP6-TA4R(SB)-5-水平"},{"$f":"AccVelDataLink!G3462","v":5},{"$f":"AccVelDataLink!A3462","v":3459},"先頭","○"]
[2940,1,2500,3460,2939,2941,{"$f":"AccVelDataLink!F3463","v":"RCP6-TA4R(SB)-5-垂直"},{"$f":"AccVelDataLink!G3463","v":2.5},{"$f":"AccVelDataLink!A3463","v":3460},"○","○"]
[2941,1,4000,3461,2940,2942,null,{"$f":"AccVelDataLink!G3464","v":4},{"$f":"AccVelDataLink!A3464","v":3461},"○","○"]
[2942,1,4500,3462,2941,2943,null,{"$f":"AccVelDataLink!G3465","v":4.5},{"$f":"AccVelDataLink!A3465","v":3462},"○","○"]
[2943,1,5000,3463,2942,-1,null,{"$f":"AccVelDataLink!G3466","v":5},{"$f":"AccVelDataLink!A3466","v":3463},"○","終端"]
[2944,0,2000,3464,-1,2945,{"$f":"AccVelDataLink!F3467","v":"RCP6-TA4R(SB)-10-水平"},{"$f":"AccVelDataLink!G3467","v":2},{"$f":"AccVelDataLink!A3467","v":3464},"先頭","○"]
[2945,0,3500,3465,2944,2946,null,{"$f":"AccVelDataLink!G3468","v":3.5},{"$f":"AccVelDataLink!A3468","v":3465},"○","○"]
[2946,0,4000,3466,2945,2947,null,{"$f":"AccVelDataLink!G3469","v":4},{"$f":"AccVelDataLink!A3469","v":3466},"○","○"]
[2947,1,1000,3468,2946,2948,{"$f":"AccVelDataLink!F3471","v":"RCP6-TA4R(SB)-10-垂直"},{"$f":"AccVelDataLink!G3471","v":1},{"$f":"AccVelDataLink!A3471","v":3468},"○","○"]
[2948,1,1500,3469,2947,2949,null,{"$f":"AccVelDataLink!G3472","v":1.5},{"$f":"AccVelDataLink!A3472","v":3469},"○","○"]
[2949,1,2250,3470,2948,2950,null,{"$f":"AccVelDataLink!G3473","v":2.25},{"$f":"AccVelDataLink!A3473","v":3470},"○","○"]
[2950,1,2500,3471,2949,-1,null,{"$f":"AccVelDataLink!G3474","v":2.5},{"$f":"AccVelDataLink!A3474","v":3471},"○","終端"]
[2951,0,1000,3472,-1,2952,{"$f":"AccVelDataLink!F3475","v":"RCP6-TA4R(SB)-16-水平"},{"$f":"AccVelDataLink!G3475","v":1},{"$f":"AccVelDataLink!A3475","v":3472},"先頭","○"]
[2952,0,1500,3473,2951,2953,null,{"$f":"AccVelDataLink!G3476","v":1.5},{"$f":"AccVelDataLink!A3476","v":3473},"○","○"]
[2953,0,2000,3474,2952,2954,null,{"$f":"AccVelDataLink!G3477","v":2},{"$f":"AccVelDataLink!A3477","v":3474},"○","○"]
[2954,0,2500,3475,2953,2955,null,{"$f":"AccVelDataLink!G3478","v":2.5},{"$f":"AccVelDataLink!A3478","v":3475},"○","○"]
[2955,0,3000,3476,2954,2956,null,{"$f":"AccVelDataLink!G3479","v":3},{"$f":"AccVelDataLink!A3479","v":3476},"○","○"]
[2956,1,750,3477,2955,2957,{"$f":"AccVelDataLink!F3480","v":"RCP6-TA4R(SB)-16-垂直"},{"$f":"AccVelDataLink!G3480","v":0.75},{"$f":"AccVelDataLink!A3480","v":3477},"○","○"]
[2957,1,1000,3478,2956,-1,null,{"$f":"AccVelDataLink!G3481","v":1},{"$f":"AccVelDataLink!A3481","v":3478},"○","終端"]
[2958,0,6000,3479,-1,2959,{"$f":"AccVelDataLink!F3482","v":"RCP6-TA6R(SB)-3-水平"},{"$f":"AccVelDataLink!G3482","v":6},{"$f":"AccVelDataLink!A3482","v":3479},"先頭","○"]
[2959,0,7000,3480,2958,2960,null,{"$f":"AccVelDataLink!G3483","v":7},{"$f":"AccVelDataLink!A3483","v":3480},"○","○"]
[2960,0,8000,3481,2959,2961,null,{"$f":"AccVelDataLink!G3484","v":8},{"$f":"AccVelDataLink!A3484","v":3481},"○","○"]
[2961,0,9000,3482,2960,2962,null,{"$f":"AccVelDataLink!G3485","v":9},{"$f":"AccVelDataLink!A3485","v":3482},"○","○"]
[2962,0,10000,3483,2961,2963,null,{"$f":"AccVelDataLink!G3486","v":10},{"$f":"AccVelDataLink!A3486","v":3483},"○","○"]
[2963,1,5000,3484,2962,2964,{"$f":"AccVelDataLink!F3487","v":"RCP6-TA6R(SB)-3-垂直"},{"$f":"AccVelDataLink!G3487","v":5},{"$f":"AccVelDataLink!A3487","v":3484},"○","○"]
[2964,1,7000,3485,2963,2965,null,{"$f":"AccVelDataLink!G3488","v":7},{"$f":"AccVelDataLink!A3488","v":3485},"○","○"]
[2965,1,9000,3486,2964,2966,null,{"$f":"AccVelDataLink!G3489","v":9},{"$f":"AccVelDataLink!A3489","v":3486},"○","○"]
[2966,1,12000,3487,2965,-1,null,{"$f":"AccVelDataLink!G3490","v":12},{"$f":"AccVelDataLink!A3490","v":3487},"○","終端"]
[2967,0,3000,3488,-1,2968,{"$f":"AccVelDataLink!F3491","v":"RCP6-TA6R(SB)-6-水平"},{"$f":"AccVelDataLink!G3491","v":3},{"$f":"AccVelDataLink!A3491","v":3488},"先頭","○"]
[2968,0,6000,3489,2967,2969,null,{"$f":"AccVelDataLink!G3492","v":6},{"$f":"AccVelDataLink!A3492","v":3489},{"$f":"IF(E2971=A2970,\"○\",IF(G2971=0,\"つなぎまちがい\",\"先頭\"))","v":"○"},{"$f":"IF(F2971=A2972,\"○\",IF(F2971<>E2972,\"つなぎまちがい\",\"終端\"))","v":"○"}]
[{"$f":"A2971+1","v":2969},{"$f":"IF(RIGHT(G2972,2)= \"水平\",0,IF(RIGHT(G2972,2)=\"垂直\",1,B2971))","v":0},{"$f":"H2972*$H$1","v":8000},{"$f":"I2972","v":3490},{"$f":"IF(F2971=-1,-1,A2971)","v":2968},{"$f":"A2973","v":2970},null,{"$f":"AccVelDataLink!G3493","v":8},{"$f":"AccVelDataLink!A3493","v":3490},"○","○"]
[2970,0,9000,3491,2969,2971,null,{"$f":"AccVelDataLink!G3494","v":9},{"$f":"AccVelDataLink!A3494","v":3491},"○","○"]
[2971,0,10000,3492,2970,2972,null,{"$f":"AccVelDataLink!G3495","v":10},{"$f":"AccVelDataLink!A3495","v":3492},"○","○"]
[2972,1,2000,3493,2971,2973,{"$f":"AccVelDataLink!F3496","v":"RCP6-TA6R(SB)-6-垂直"},{"$f":"AccVelDataLink!G3496","v":2},{"$f":"AccVelDataLink!A3496","v":3493},"○","○"]
[2973,1,3000,3494,2972,2974,null,{"$f":"AccVelDataLink!G3497","v":3},{"$f":"AccVelDataLink!A3497","v":3494},"○","○"]
[2974,1,4000,3495,2973,2975,null,{"$f":"AccVelDataLink!G3498","v":4},{"$f":"AccVelDataLink!A3498","v":3495},"○","○"]
[2975,1,6000,3496,2974,-1,null,{"$f":"AccVelDataLink!G3499","v":6},{"$f":"AccVelDataLink!A3499","v":3496},"○","終端"]
[2976,0,1000,3497,-1,2977,{"$f":"AccVelDataLink!F3500","v":"RCP6-TA6R(SB)-12-水平"},{"$f":"AccVelDataLink!G3500","v":1},{"$f":"AccVelDataLink!A3500","v":3497},"先頭","○"]
[2977,0,3000,3498,2976,2978,null,{"$f":"AccVelDataLink!G3501","v":3},{"$f":"AccVelDataLink!A3501","v":3498},"○","○"]
[2978,0,4500,3500,2977,2979,null,{"$f":"AccVelDataLink!G3503","v":4.5},{"$f":"AccVelDataLink!A3503","v":3500},"○","○"]
[2979,0,6000,3501,2978,2980,null,{"$f":"AccVelDataLink!G3504","v":6},{"$f":"AccVelDataLink!A3504","v":3501},"○","○"]
[2980,0,6500,3503,2979,2981,null,{"$f":"AccVelDataLink!G3506","v":6.5},{"$f":"AccVelDataLink!A3506","v":3503},"○","○"]
[2981,0,7000,3504,2980,2982,null,{"$f":"AccVelDataLink!G3507","v":7},{"$f":"AccVelDataLink!A3507","v":3504},"○","○"]
[2982,0,8000,3506,2981,2983,null,{"$f":"AccVelDataLink!G3509","v":8},{"$f":"AccVelDataLink!A3509","v":3506},"○","○"]
[2983,1,1000,3507,2982,2984,{"$f":"AccVelDataLink!F3510","v":"RCP6-TA6R(SB)-12-垂直"},{"$f":"AccVelDataLink!G3510","v":1},{"$f":"AccVelDataLink!A3510","v":3507},"○","○"]
[2984,1,1500,3508,2983,2985,null,{"$f":"AccVelDataLink!G3511","v":1.5},{"$f":"AccVelDataLink!A3511","v":3508},"○","○"]
[2985,1,2000,3509,2984,2986,null,{"$f":"AccVelDataLink!G3512","v":2},{"$f":"AccVelDataLink!A3512","v":3509},"○","○"]
[2986,1,3000,3510,2985,-1,null,{"$f":"AccVelDataLink!G3513","v":3},{"$f":"AccVelDataLink!A3513","v":3510},"○","終端"]
[2987,0,2000,3511,-1,2988,{"$f":"AccVelDataLink!F3514","v":"RCP6-TA6R(SB)-20-水平"},{"$f":"AccVelDataLink!G3514","v":2},{"$f":"AccVelDataLink!A3514","v":3511},"先頭","○"]
[2988,0,3000,3512,2987,2989,null,{"$f":"AccVelDataLink!G3515","v":3},{"$f":"AccVelDataLink!A3515","v":3512},"○","○"]
[2989,0,4000,3513,2988,2990,null,{"$f":"AccVelDataLink!G3516","v":4},{"$f":"AccVelDataLink!A3516","v":3513},"○","○"]
[2990,0,4500,3514,2989,2991,null,{"$f":"AccVelDataLink!G3517","v":4.5},{"$f":"AccVelDataLink!A3517","v":3514},"○","○"]
[2991,0,5000,3515,2990,2992,null,{"$f":"AccVelDataLink!G3518","v":5},{"$f":"AccVelDataLink!A3518","v":3515},"○","○"]
[2992,1,750,3516,2991,2993,{"$f":"AccVelDataLink!F3519","v":"RCP6-TA6R(SB)-20-垂直"},{"$f":"AccVelDataLink!G3519","v":0.75},{"$f":"AccVelDataLink!A3519","v":3516},"○","○"]
[2993,1,1000,3517,2992,-1,null,{"$f":"AccVelDataLink!G3520","v":1},{"$f":"AccVelDataLink!A3520","v":3517},"○","終端"]
[2994,0,6000,3518,-1,2995,{"$f":"AccVelDataLink!F3521","v":"RCP6-TA7R(SB)-4-水平"},{"$f":"AccVelDataLink!G3521","v":6},{"$f":"AccVelDataLink!A3521","v":3518},"先頭","○"]
[2995,0,13000,3519,2994,2996,null,{"$f":"AccVelDataLink!G3522","v":13},{"$f":"AccVelDataLink!A3522","v":3519},"○","○"]
[2996,0,15000,3520,2995,2997,null,{"$f":"AccVelDataLink!G3523","v":15},{"$f":"AccVelDataLink!A3523","v":3520},"○","○"]
[2997,1,10000,3522,2996,2998,{"$f":"AccVelDataLink!F3525","v":"RCP6-TA7R(SB)-4-垂直"},{"$f":"AccVelDataLink!G3525","v":10},{"$f":"AccVelDataLink!A3525","v":3522},"○","○"]
[2998,1,18000,3523,2997,2999,null,{"$f":"AccVelDataLink!G3526","v":18},{"$f":"AccVelDataLink!A3526","v":3523},"○","○"]
[2999,1,20000,3524,2998,-1,null,{"$f":"AccVelDataLink!G3527","v":20},{"$f":"AccVelDataLink!A3527","v":3524},"○","終端"]
[3000,0,10000,3525,-1,3001,{"$f":"AccVelDataLink!F3528","v":"RCP6-TA7R(SB)-8-水平"},{"$f":"AccVelDataLink!G3528","v":10},{"$f":"AccVelDataLink!A3528","v":3525},"先頭","○"]
[3001,0,12000,3526,3000,3002,null,{"$f":"AccVelDataLink!G3529","v":12},{"$f":"AccVelDataLink!A3529","v":3526},"○","○"]
[3002,0,15000,3527,3001,3003,null,{"$f":"AccVelDataLink!G3530","v":15},{"$f":"AccVelDataLink!A3530","v":3527},"○","○"]
[3003,1,3500,3529,3002,3004,{"$f":"AccVelDataLink!F3532","v":"RCP6-TA7R(SB)-8-垂直"},{"$f":"AccVelDataLink!G3532","v":3.5},{"$f":"AccVelDataLink!A3532","v":3529},"○","○"]
[3004,1,12000,3530,3003,-1,null,{"$f":"AccVelDataLink!G3533","v":12},{"$f":"AccVelDataLink!A3533","v":3530},"○","終端"]
[3005,0,4000,3531,-1,3006,{"$f":"AccVelDataLink!F3534","v":"RCP6-TA7R(SB)-16-水平"},{"$f":"AccVelDataLink!G3534","v":4},{"$f":"AccVelDataLink!A3534","v":3531},"先頭","○"]
[3006,0,5000,3532,3005,3007,null,{"$f":"AccVelDataLink!G3535","v":5},{"$f":"AccVelDataLink!A3535","v":3532},"○","○"]
[3007,0,10000,3533,3006,3008,null,{"$f":"AccVelDataLink!G3536","v":10},{"$f":"AccVelDataLink!A3536","v":3533},"○","○"]
[3008,0,12000,3534,3007,3009,null,{"$f":"AccVelDataLink!G3537","v":12},{"$f":"AccVelDataLink!A3537","v":3534},"○","○"]
[3009,1,5000,3535,3008,-1,{"$f":"AccVelDataLink!F3538","v":"RCP6-TA7R(SB)-16-垂直"},{"$f":"AccVelDataLink!G3538","v":5},{"$f":"AccVelDataLink!A3538","v":3535},"○","終端"]
[3010,0,1000,3536,-1,3011,{"$f":"AccVelDataLink!F3539","v":"RCP6-TA7R(SB)-24-水平"},{"$f":"AccVelDataLink!G3539","v":1},{"$f":"AccVelDataLink!A3539","v":3536},"先頭","○"]
[3011,0,5000,3538,3010,3012,null,{"$f":"AccVelDataLink!G3541","v":5},{"$f":"AccVelDataLink!A3541","v":3538},"○","○"]
[3012,0,8000,3539,3011,3013,null,{"$f":"AccVelDataLink!G3542","v":8},{"$f":"AccVelDataLink!A3542","v":3539},"○","○"]
[3013,0,10000,3540,3012,3014,null,{"$f":"AccVelDataLink!G3543","v":10},{"$f":"AccVelDataLink!A3543","v":3540},"○","○"]
[3014,1,3000,3541,3013,-1,{"$f":"AccVelDataLink!F3544","v":"RCP6-TA7R(SB)-24-垂直"},{"$f":"AccVelDataLink!G3544","v":3},{"$f":"AccVelDataLink!A3544","v":3541},"○","終端"]
[3015,0,5000,3542,-1,3016,{"$f":"AccVelDataLink!F3545","v":"RCP6-TA4C(DB)-2.5-水平"},{"$f":"AccVelDataLink!G3545","v":5},{"$f":"AccVelDataLink!A3545","v":3542},"先頭","○"]
[3016,0,6000,3543,3015,3017,null,{"$f":"AccVelDataLink!G3546","v":6},{"$f":"AccVelDataLink!A3546","v":3543},"○","○"]
[3017,0,8000,3544,3016,3018,null,{"$f":"AccVelDataLink!G3547","v":8},{"$f":"AccVelDataLink!A3547","v":3544},"○","○"]
[3018,0,9000,3546,3017,3019,null,{"$f":"AccVelDataLink!G3549","v":9},{"$f":"AccVelDataLink!A3549","v":3546},"○","○"]
[3019,0,10000,3547,3018,3020,null,{"$f":"AccVelDataLink!G3550","v":10},{"$f":"AccVelDataLink!A3550","v":3547},"○","○"]
[3020,1,4000,3548,3019,3021,{"$f":"AccVelDataLink!F3551","v":"RCP6-TA4C(DB)-2.5-垂直"},{"$f":"AccVelDataLink!G3551","v":4},{"$f":"AccVelDataLink!A3551","v":3548},"○","○"]
[3021,1,6000,3549,3020,3022,null,{"$f":"AccVelDataLink!G3552","v":6},{"$f":"AccVelDataLink!A3552","v":3549},"○","○"]
[3022,1,7500,3550,3021,3023,null,{"$f":"AccVelDataLink!G3553","v":7.5},{"$f":"AccVelDataLink!A3553","v":3550},"○","○"]
[3023,1,9000,3551,3022,-1,null,{"$f":"AccVelDataLink!G3554","v":9},{"$f":"AccVelDataLink!A3554","v":3551},"○","終端"]
[3024,0,5000,3552,-1,3025,{"$f":"AccVelDataLink!F3555","v":"RCP6-TA4C(DB)-5-水平"},{"$f":"AccVelDataLink!G3555","v":5},{"$f":"AccVelDataLink!A3555","v":3552},"先頭","○"]
[3025,0,6000,3553,3024,3026,null,{"$f":"AccVelDataLink!G3556","v":6},{"$f":"AccVelDataLink!A3556","v":3553},"○","○"]
[3026,0,8000,3554,3025,3027,null,{"$f":"AccVelDataLink!G3557","v":8},{"$f":"AccVelDataLink!A3557","v":3554},"○","○"]
[3027,0,9000,3556,3026,3028,null,{"$f":"AccVelDataLink!G3559","v":9},{"$f":"AccVelDataLink!A3559","v":3556},"○","○"]
[3028,0,10000,3557,3027,3029,null,{"$f":"AccVelDataLink!G3560","v":10},{"$f":"AccVelDataLink!A3560","v":3557},"○","○"]
[3029,1,2500,3558,3028,3030,{"$f":"AccVelDataLink!F3561","v":"RCP6-TA4C(DB)-5-垂直"},{"$f":"AccVelDataLink!G3561","v":2.5},{"$f":"AccVelDataLink!A3561","v":3558},"○","○"]
[3030,1,4000,3559,3029,3031,null,{"$f":"AccVelDataLink!G3562","v":4},{"$f":"AccVelDataLink!A3562","v":3559},"○","○"]
[3031,1,4500,3560,3030,3032,null,{"$f":"AccVelDataLink!G3563","v":4.5},{"$f":"AccVelDataLink!A3563","v":3560},"○","○"]
[3032,1,5000,3561,3031,-1,null,{"$f":"AccVelDataLink!G3564","v":5},{"$f":"AccVelDataLink!A3564","v":3561},{"$f":"IF(E3035=A3034,\"○\",IF(G3035=0,\"つなぎまちがい\",\"先頭\"))","v":"○"},{"$f":"IF(F3035=A3036,\"○\",IF(F3035<>E3036,\"つなぎまちがい\",\"終端\"))","v":"終端"}]
[{"$f":"A3035+1","v":3033},{"$f":"IF(RIGHT(G3036,2)= \"水平\",0,IF(RIGHT(G3036,2)=\"垂直\",1,B3035))","v":0},{"$f":"H3036*$H$1","v":1500},{"$f":"I3036","v":3562},{"$f":"IF(F3035=-1,-1,A3035)","v":-1},{"$f":"A3037","v":3034},{"$f":"AccVelDataLink!F3565","v":"RCP6-TA4C(DB)-10-水平"},{"$f":"AccVelDataLink!G3565","v":1.5},{"$f":"AccVelDataLink!A3565","v":3562},"先頭","○"]
[3034,0,3500,3563,3033,3035,null,{"$f":"AccVelDataLink!G3566","v":3.5},{"$f":"AccVelDataLink!A3566","v":3563},"○","○"]
[3035,0,5000,3564,3034,3036,null,{"$f":"AccVelDataLink!G3567","v":5},{"$f":"AccVelDataLink!A3567","v":3564},"○","○"]
[3036,0,6000,3566,3035,3037,null,{"$f":"AccVelDataLink!G3569","v":6},{"$f":"AccVelDataLink!A3569","v":3566},"○","○"]
[3037,0,7000,3567,3036,3038,null,{"$f":"AccVelDataLink!G3570","v":7},{"$f":"AccVelDataLink!A3570","v":3567},"○","○"]
[3038,0,8000,3568,3037,3039,null,{"$f":"AccVelDataLink!G3571","v":8},{"$f":"AccVelDataLink!A3571","v":3568},"○","○"]
[3039,1,1000,3569,3038,3040,{"$f":"AccVelDataLink!F3572","v":"RCP6-TA4C(DB)-10-垂直"},{"$f":"AccVelDataLink!G3572","v":1},{"$f":"AccVelDataLink!A3572","v":3569},"○","○"]
[3040,1,1500,3570,3039,3041,null,{"$f":"AccVelDataLink!G3573","v":1.5},{"$f":"AccVelDataLink!A3573","v":3570},"○","○"]
[3041,1,2250,3571,3040,3042,null,{"$f":"AccVelDataLink!G3574","v":2.25},{"$f":"AccVelDataLink!A3574","v":3571},"○","○"]
[3042,1,2500,3572,3041,-1,null,{"$f":"AccVelDataLink!G3575","v":2.5},{"$f":"AccVelDataLink!A3575","v":3572},"○","終端"]
[3043,0,7000,3573,-1,3044,{"$f":"AccVelDataLink!F3576","v":"RCP6-TA6C(DB)-3-水平"},{"$f":"AccVelDataLink!G3576","v":7},{"$f":"AccVelDataLink!A3576","v":3573},"先頭","○"]
[3044,0,10000,3574,3043,3045,null,{"$f":"AccVelDataLink!G3577","v":10},{"$f":"AccVelDataLink!A3577","v":3574},"○","○"]
[3045,0,14000,3575,3044,3046,null,{"$f":"AccVelDataLink!G3578","v":14},{"$f":"AccVelDataLink!A3578","v":3575},"○","○"]
[3046,0,15000,3576,3045,3047,null,{"$f":"AccVelDataLink!G3579","v":15},{"$f":"AccVelDataLink!A3579","v":3576},"○","○"]
[3047,0,16000,3578,3046,3048,null,{"$f":"AccVelDataLink!G3581","v":16},{"$f":"AccVelDataLink!A3581","v":3578},"○","○"]
[3048,0,18000,3579,3047,3049,null,{"$f":"AccVelDataLink!G3582","v":18},{"$f":"AccVelDataLink!A3582","v":3579},"○","○"]
[3049,0,20000,3580,3048,3050,null,{"$f":"AccVelDataLink!G3583","v":20},{"$f":"AccVelDataLink!A3583","v":3580},"○","○"]
[3050,1,5000,3581,3049,3051,{"$f":"AccVelDataLink!F3584","v":"RCP6-TA6C(DB)-3-垂直"},{"$f":"AccVelDataLink!G3584","v":5},{"$f":"AccVelDataLink!A3584","v":3581},"○","○"]
[3051,1,7000,3582,3050,3052,null,{"$f":"AccVelDataLink!G3585","v":7},{"$f":"AccVelDataLink!A3585","v":3582},"○","○"]
[3052,1,9000,3583,3051,3053,null,{"$f":"AccVelDataLink!G3586","v":9},{"$f":"AccVelDataLink!A3586","v":3583},"○","○"]
[3053,1,12000,3584,3052,-1,null,{"$f":"AccVelDataLink!G3587","v":12},{"$f":"AccVelDataLink!A3587","v":3584},"○","終端"]
[3054,0,3000,3585,-1,3055,{"$f":"AccVelDataLink!F3588","v":"RCP6-TA6C(DB)-6-水平"},{"$f":"AccVelDataLink!G3588","v":3},{"$f":"AccVelDataLink!A3588","v":3585},"先頭","○"]
[3055,0,5000,3586,3054,3056,null,{"$f":"AccVelDataLink!G3589","v":5},{"$f":"AccVelDataLink!A3589","v":3586},"○","○"]
[3056,0,8000,3587,3055,3057,null,{"$f":"AccVelDataLink!G3590","v":8},{"$f":"AccVelDataLink!A3590","v":3587},"○","○"]
[3057,0,12000,3588,3056,3058,null,{"$f":"AccVelDataLink!G3591","v":12},{"$f":"AccVelDataLink!A3591","v":3588},"○","○"]
[3058,0,14000,3589,3057,3059,null,{"$f":"AccVelDataLink!G3592","v":14},{"$f":"AccVelDataLink!A3592","v":3589},"○","○"]
[3059,0,16000,3590,3058,3060,null,{"$f":"AccVelDataLink!G3593","v":16},{"$f":"AccVelDataLink!A3593","v":3590},"○","○"]
[3060,0,17000,3591,3059,3061,null,{"$f":"AccVelDataLink!G3594","v":17},{"$f":"AccVelDataLink!A3594","v":3591},"○","○"]
[3061,0,20000,3592,3060,3062,null,{"$f":"AccVelDataLink!G3595","v":20},{"$f":"AccVelDataLink!A3595","v":3592},"○","○"]
[3062,1,2000,3593,3061,3063,{"$f":"AccVelDataLink!F3596","v":"RCP6-TA6C(DB)-6-垂直"},{"$f":"AccVelDataLink!G3596","v":2},{"$f":"AccVelDataLink!A3596","v":3593},"○","○"]
[3063,1,3000,3594,3062,3064,null,{"$f":"AccVelDataLink!G3597","v":3},{"$f":"AccVelDataLink!A3597","v":3594},"○","○"]
[3064,1,4000,3595,3063,3065,null,{"$f":"AccVelDataLink!G3598","v":4},{"$f":"AccVelDataLink!A3598","v":3595},"○","○"]
[3065,1,6000,3596,3064,-1,null,{"$f":"AccVelDataLink!G3599","v":6},{"$f":"AccVelDataLink!A3599","v":3596},"○","終端"]
[3066,0,1500,3597,-1,3067,{"$f":"AccVelDataLink!F3600","v":"RCP6-TA6C(DB)-12-水平"},{"$f":"AccVelDataLink!G3600","v":1.5},{"$f":"AccVelDataLink!A3600","v":3597},"先頭","○"]
[3067,0,3000,3598,3066,3068,null,{"$f":"AccVelDataLink!G3601","v":3},{"$f":"AccVelDataLink!A3601","v":3598},"○","○"]
[3068,0,4000,3599,3067,3069,null,{"$f":"AccVelDataLink!G3602","v":4},{"$f":"AccVelDataLink!A3602","v":3599},"○","○"]
[3069,0,5000,3600,3068,3070,null,{"$f":"AccVelDataLink!G3603","v":5},{"$f":"AccVelDataLink!A3603","v":3600},"○","○"]
[3070,0,6000,3601,3069,3071,null,{"$f":"AccVelDataLink!G3604","v":6},{"$f":"AccVelDataLink!A3604","v":3601},"○","○"]
[3071,0,9000,3602,3070,3072,null,{"$f":"AccVelDataLink!G3605","v":9},{"$f":"AccVelDataLink!A3605","v":3602},"○","○"]
[3072,0,10000,3603,3071,3073,null,{"$f":"AccVelDataLink!G3606","v":10},{"$f":"AccVelDataLink!A3606","v":3603},"○","○"]
[3073,0,11000,3604,3072,3074,null,{"$f":"AccVelDataLink!G3607","v":11},{"$f":"AccVelDataLink!A3607","v":3604},"○","○"]
[3074,0,15000,3605,3073,3075,null,{"$f":"AccVelDataLink!G3608","v":15},{"$f":"AccVelDataLink!A3608","v":3605},"○","○"]
[3075,1,1000,3606,3074,3076,{"$f":"AccVelDataLink!F3609","v":"RCP6-TA6C(DB)-12-垂直"},{"$f":"AccVelDataLink!G3609","v":1},{"$f":"AccVelDataLink!A3609","v":3606},"○","○"]
[3076,1,2500,3607,3075,3077,null,{"$f":"AccVelDataLink!G3610","v":2.5},{"$f":"AccVelDataLink!A3610","v":3607},"○","○"]
[3077,1,3000,3608,3076,-1,null,{"$f":"AccVelDataLink!G3611","v":3},{"$f":"AccVelDataLink!A3611","v":3608},"○","終端"]
[3078,0,12000,3609,-1,3079,{"$f":"AccVelDataLink!F3612","v":"RCP6-TA7C(DB)-4-水平"},{"$f":"AccVelDataLink!G3612","v":12},{"$f":"AccVelDataLink!A3612","v":3609},"先頭","○"]
[3079,0,18000,3610,3078,3080,null,{"$f":"AccVelDataLink!G3613","v":18},{"$f":"AccVelDataLink!A3613","v":3610},"○","○"]
[3080,0,20000,3611,3079,3081,null,{"$f":"AccVelDataLink!G3614","v":20},{"$f":"AccVelDataLink!A3614","v":3611},"○","○"]
[3081,0,25000,3612,3080,3082,null,{"$f":"AccVelDataLink!G3615","v":25},{"$f":"AccVelDataLink!A3615","v":3612},"○","○"]
[3082,0,26000,3613,3081,3083,null,{"$f":"AccVelDataLink!G3616","v":26},{"$f":"AccVelDataLink!A3616","v":3613},"○","○"]
[3083,0,30000,3614,3082,3084,null,{"$f":"AccVelDataLink!G3617","v":30},{"$f":"AccVelDataLink!A3617","v":3614},"○","○"]
[3084,1,10000,3615,3083,3085,{"$f":"AccVelDataLink!F3618","v":"RCP6-TA7C(DB)-4-垂直"},{"$f":"AccVelDataLink!G3618","v":10},{"$f":"AccVelDataLink!A3618","v":3615},"○","○"]
[3085,1,20000,3616,3084,-1,null,{"$f":"AccVelDataLink!G3619","v":20},{"$f":"AccVelDataLink!A3619","v":3616},"○","終端"]
[3086,0,4000,3617,-1,3087,{"$f":"AccVelDataLink!F3620","v":"RCP6-TA7C(DB)-8-水平"},{"$f":"AccVelDataLink!G3620","v":4},{"$f":"AccVelDataLink!A3620","v":3617},"先頭","○"]
[3087,0,10000,3618,3086,3088,null,{"$f":"AccVelDataLink!G3621","v":10},{"$f":"AccVelDataLink!A3621","v":3618},"○","○"]
[3088,0,18000,3619,3087,3089,null,{"$f":"AccVelDataLink!G3622","v":18},{"$f":"AccVelDataLink!A3622","v":3619},"○","○"]
[3089,0,25000,3621,3088,3090,null,{"$f":"AccVelDataLink!G3624","v":25},{"$f":"AccVelDataLink!A3624","v":3621},"○","○"]
[3090,0,26000,3622,3089,3091,null,{"$f":"AccVelDataLink!G3625","v":26},{"$f":"AccVelDataLink!A3625","v":3622},"○","○"]
[3091,0,30000,3623,3090,3092,null,{"$f":"AccVelDataLink!G3626","v":30},{"$f":"AccVelDataLink!A3626","v":3623},"○","○"]
[3092,1,3500,3624,3091,3093,{"$f":"AccVelDataLink!F3627","v":"RCP6-TA7C(DB)-8-垂直"},{"$f":"AccVelDataLink!G3627","v":3.5},{"$f":"AccVelDataLink!A3627","v":3624},"○","○"]
[3093,1,12000,3625,3092,-1,null,{"$f":"AccVelDataLink!G3628","v":12},{"$f":"AccVelDataLink!A3628","v":3625},"○","終端"]
[3094,0,2000,3626,-1,3095,{"$f":"AccVelDataLink!F3629","v":"RCP6-TA7C(DB)-16-水平"},{"$f":"AccVelDataLink!G3629","v":2},{"$f":"AccVelDataLink!A3629","v":3626},"先頭","○"]
[3095,0,4000,3627,3094,3096,null,{"$f":"AccVelDataLink!G3630","v":4},{"$f":"AccVelDataLink!A3630","v":3627},"○","○"]
[3096,0,10000,3628,3095,3097,null,{"$f":"AccVelDataLink!G3631","v":10},{"$f":"AccVelDataLink!A3631","v":3628},{"$f":"IF(E3099=A3098,\"○\",IF(G3099=0,\"つなぎまちがい\",\"先頭\"))","v":"○"},{"$f":"IF(F3099=A3100,\"○\",IF(F3099<>E3100,\"つなぎまちがい\",\"終端\"))","v":"○"}]
[{"$f":"A3099+1","v":3097},{"$f":"IF(RIGHT(G3100,2)= \"水平\",0,IF(RIGHT(G3100,2)=\"垂直\",1,B3099))","v":0},{"$f":"H3100*$H$1","v":14000},{"$f":"I3100","v":3629},{"$f":"IF(F3099=-1,-1,A3099)","v":3096},{"$f":"A3101","v":3098},null,{"$f":"AccVelDataLink!G3632","v":14},{"$f":"AccVelDataLink!A3632","v":3629},"○","○"]
[3098,0,16000,3630,3097,3099,null,{"$f":"AccVelDataLink!G3633","v":16},{"$f":"AccVelDataLink!A3633","v":3630},"○","○"]
[3099,0,18000,3631,3098,3100,null,{"$f":"AccVelDataLink!G3634","v":18},{"$f":"AccVelDataLink!A3634","v":3631},"○","○"]
[3100,0,22000,3632,3099,3101,null,{"$f":"AccVelDataLink!G3635","v":22},{"$f":"AccVelDataLink!A3635","v":3632},"○","○"]
[3101,1,5000,3633,3100,-1,{"$f":"AccVelDataLink!F3636","v":"RCP6-TA7C(DB)-16-垂直"},{"$f":"AccVelDataLink!G3636","v":5},{"$f":"AccVelDataLink!A3636","v":3633},"○","終端"]
[3102,0,5000,3634,-1,3103,{"$f":"AccVelDataLink!F3637","v":"RCP6-TA4R(DB)-2.5-水平"},{"$f":"AccVelDataLink!G3637","v":5},{"$f":"AccVelDataLink!A3637","v":3634},"先頭","○"]
[3103,0,6000,3635,3102,3104,null,{"$f":"AccVelDataLink!G3638","v":6},{"$f":"AccVelDataLink!A3638","v":3635},"○","○"]
[3104,0,8000,3636,3103,3105,null,{"$f":"AccVelDataLink!G3639","v":8},{"$f":"AccVelDataLink!A3639","v":3636},"○","○"]
[3105,0,9000,3638,3104,3106,null,{"$f":"AccVelDataLink!G3641","v":9},{"$f":"AccVelDataLink!A3641","v":3638},"○","○"]
[3106,0,10000,3639,3105,3107,null,{"$f":"AccVelDataLink!G3642","v":10},{"$f":"AccVelDataLink!A3642","v":3639},"○","○"]
[3107,1,4000,3640,3106,3108,{"$f":"AccVelDataLink!F3643","v":"RCP6-TA4R(DB)-2.5-垂直"},{"$f":"AccVelDataLink!G3643","v":4},{"$f":"AccVelDataLink!A3643","v":3640},"○","○"]
[3108,1,6000,3641,3107,3109,null,{"$f":"AccVelDataLink!G3644","v":6},{"$f":"AccVelDataLink!A3644","v":3641},"○","○"]
[3109,1,7500,3642,3108,3110,null,{"$f":"AccVelDataLink!G3645","v":7.5},{"$f":"AccVelDataLink!A3645","v":3642},"○","○"]
[3110,1,9000,3643,3109,-1,null,{"$f":"AccVelDataLink!G3646","v":9},{"$f":"AccVelDataLink!A3646","v":3643},"○","終端"]
[3111,0,5000,3644,-1,3112,{"$f":"AccVelDataLink!F3647","v":"RCP6-TA4R(DB)-5-水平"},{"$f":"AccVelDataLink!G3647","v":5},{"$f":"AccVelDataLink!A3647","v":3644},"先頭","○"]
[3112,0,6000,3645,3111,3113,null,{"$f":"AccVelDataLink!G3648","v":6},{"$f":"AccVelDataLink!A3648","v":3645},"○","○"]
[3113,0,8000,3646,3112,3114,null,{"$f":"AccVelDataLink!G3649","v":8},{"$f":"AccVelDataLink!A3649","v":3646},"○","○"]
[3114,0,9000,3648,3113,3115,null,{"$f":"AccVelDataLink!G3651","v":9},{"$f":"AccVelDataLink!A3651","v":3648},"○","○"]
[3115,0,10000,3649,3114,3116,null,{"$f":"AccVelDataLink!G3652","v":10},{"$f":"AccVelDataLink!A3652","v":3649},"○","○"]
[3116,1,2500,3650,3115,3117,{"$f":"AccVelDataLink!F3653","v":"RCP6-TA4R(DB)-5-垂直"},{"$f":"AccVelDataLink!G3653","v":2.5},{"$f":"AccVelDataLink!A3653","v":3650},"○","○"]
[3117,1,4000,3651,3116,3118,null,{"$f":"AccVelDataLink!G3654","v":4},{"$f":"AccVelDataLink!A3654","v":3651},"○","○"]
[3118,1,4500,3652,3117,3119,null,{"$f":"AccVelDataLink!G3655","v":4.5},{"$f":"AccVelDataLink!A3655","v":3652},"○","○"]
[3119,1,5000,3653,3118,-1,null,{"$f":"AccVelDataLink!G3656","v":5},{"$f":"AccVelDataLink!A3656","v":3653},"○","終端"]
[3120,0,1500,3654,-1,3121,{"$f":"AccVelDataLink!F3657","v":"RCP6-TA4R(DB)-10-水平"},{"$f":"AccVelDataLink!G3657","v":1.5},{"$f":"AccVelDataLink!A3657","v":3654},"先頭","○"]
[3121,0,3500,3655,3120,3122,null,{"$f":"AccVelDataLink!G3658","v":3.5},{"$f":"AccVelDataLink!A3658","v":3655},"○","○"]
[3122,0,5000,3656,3121,3123,null,{"$f":"AccVelDataLink!G3659","v":5},{"$f":"AccVelDataLink!A3659","v":3656},"○","○"]
[3123,0,6000,3658,3122,3124,null,{"$f":"AccVelDataLink!G3661","v":6},{"$f":"AccVelDataLink!A3661","v":3658},"○","○"]
[3124,0,7000,3659,3123,3125,null,{"$f":"AccVelDataLink!G3662","v":7},{"$f":"AccVelDataLink!A3662","v":3659},"○","○"]
[3125,0,8000,3660,3124,3126,null,{"$f":"AccVelDataLink!G3663","v":8},{"$f":"AccVelDataLink!A3663","v":3660},"○","○"]
[3126,1,1000,3661,3125,3127,{"$f":"AccVelDataLink!F3664","v":"RCP6-TA4R(DB)-10-垂直"},{"$f":"AccVelDataLink!G3664","v":1},{"$f":"AccVelDataLink!A3664","v":3661},"○","○"]
[3127,1,1500,3662,3126,3128,null,{"$f":"AccVelDataLink!G3665","v":1.5},{"$f":"AccVelDataLink!A3665","v":3662},"○","○"]
[3128,1,2250,3663,3127,3129,null,{"$f":"AccVelDataLink!G3666","v":2.25},{"$f":"AccVelDataLink!A3666","v":3663},"○","○"]
[3129,1,2500,3664,3128,-1,null,{"$f":"AccVelDataLink!G3667","v":2.5},{"$f":"AccVelDataLink!A3667","v":3664},"○","終端"]
[3130,0,7000,3665,-1,3131,{"$f":"AccVelDataLink!F3668","v":"RCP6-TA6R(DB)-3-水平"},{"$f":"AccVelDataLink!G3668","v":7},{"$f":"AccVelDataLink!A3668","v":3665},"先頭","○"]
[3131,0,10000,3666,3130,3132,null,{"$f":"AccVelDataLink!G3669","v":10},{"$f":"AccVelDataLink!A3669","v":3666},"○","○"]
[3132,0,14000,3667,3131,3133,null,{"$f":"AccVelDataLink!G3670","v":14},{"$f":"AccVelDataLink!A3670","v":3667},"○","○"]
[3133,0,15000,3668,3132,3134,null,{"$f":"AccVelDataLink!G3671","v":15},{"$f":"AccVelDataLink!A3671","v":3668},"○","○"]
[3134,0,16000,3670,3133,3135,null,{"$f":"AccVelDataLink!G3673","v":16},{"$f":"AccVelDataLink!A3673","v":3670},"○","○"]
[3135,0,18000,3671,3134,3136,null,{"$f":"AccVelDataLink!G3674","v":18},{"$f":"AccVelDataLink!A3674","v":3671},"○","○"]
[3136,0,20000,3672,3135,3137,null,{"$f":"AccVelDataLink!G3675","v":20},{"$f":"AccVelDataLink!A3675","v":3672},"○","○"]
[3137,1,5000,3673,3136,3138,{"$f":"AccVelDataLink!F3676","v":"RCP6-TA6R(DB)-3-垂直"},{"$f":"AccVelDataLink!G3676","v":5},{"$f":"AccVelDataLink!A3676","v":3673},"○","○"]
[3138,1,7000,3674,3137,3139,null,{"$f":"AccVelDataLink!G3677","v":7},{"$f":"AccVelDataLink!A3677","v":3674},"○","○"]
[3139,1,9000,3675,3138,3140,null,{"$f":"AccVelDataLink!G3678","v":9},{"$f":"AccVelDataLink!A3678","v":3675},"○","○"]
[3140,1,12000,3676,3139,-1,null,{"$f":"AccVelDataLink!G3679","v":12},{"$f":"AccVelDataLink!A3679","v":3676},"○","終端"]
[3141,0,3000,3677,-1,3142,{"$f":"AccVelDataLink!F3680","v":"RCP6-TA6R(DB)-6-水平"},{"$f":"AccVelDataLink!G3680","v":3},{"$f":"AccVelDataLink!A3680","v":3677},"先頭","○"]
[3142,0,5000,3678,3141,3143,null,{"$f":"AccVelDataLink!G3681","v":5},{"$f":"AccVelDataLink!A3681","v":3678},"○","○"]
[3143,0,8000,3679,3142,3144,null,{"$f":"AccVelDataLink!G3682","v":8},{"$f":"AccVelDataLink!A3682","v":3679},"○","○"]
[3144,0,12000,3680,3143,3145,null,{"$f":"AccVelDataLink!G3683","v":12},{"$f":"AccVelDataLink!A3683","v":3680},"○","○"]
[3145,0,14000,3681,3144,3146,null,{"$f":"AccVelDataLink!G3684","v":14},{"$f":"AccVelDataLink!A3684","v":3681},"○","○"]
[3146,0,16000,3682,3145,3147,null,{"$f":"AccVelDataLink!G3685","v":16},{"$f":"AccVelDataLink!A3685","v":3682},"○","○"]
[3147,0,17000,3683,3146,3148,null,{"$f":"AccVelDataLink!G3686","v":17},{"$f":"AccVelDataLink!A3686","v":3683},"○","○"]
[3148,0,20000,3684,3147,3149,null,{"$f":"AccVelDataLink!G3687","v":20},{"$f":"AccVelDataLink!A3687","v":3684},"○","○"]
[3149,1,2000,3685,3148,3150,{"$f":"AccVelDataLink!F3688","v":"RCP6-TA6R(DB)-6-垂直"},{"$f":"AccVelDataLink!G3688","v":2},{"$f":"AccVelDataLink!A3688","v":3685},"○","○"]
[3150,1,3000,3686,3149,3151,null,{"$f":"AccVelDataLink!G3689","v":3},{"$f":"AccVelDataLink!A3689","v":3686},"○","○"]
[3151,1,4000,3687,3150,3152,null,{"$f":"AccVelDataLink!G3690","v":4},{"$f":"AccVelDataLink!A3690","v":3687},"○","○"]
[3152,1,6000,3688,3151,-1,null,{"$f":"AccVelDataLink!G3691","v":6},{"$f":"AccVelDataLink!A3691","v":3688},"○","終端"]
[3153,0,1500,3689,-1,3154,{"$f":"AccVelDataLink!F3692","v":"RCP6-TA6R(DB)-12-水平"},{"$f":"AccVelDataLink!G3692","v":1.5},{"$f":"AccVelDataLink!A3692","v":3689},"先頭","○"]
[3154,0,3000,3690,3153,3155,null,{"$f":"AccVelDataLink!G3693","v":3},{"$f":"AccVelDataLink!A3693","v":3690},"○","○"]
[3155,0,4000,3691,3154,3156,null,{"$f":"AccVelDataLink!G3694","v":4},{"$f":"AccVelDataLink!A3694","v":3691},"○","○"]
[3156,0,5000,3692,3155,3157,null,{"$f":"AccVelDataLink!G3695","v":5},{"$f":"AccVelDataLink!A3695","v":3692},"○","○"]
[3157,0,6000,3693,3156,3158,null,{"$f":"AccVelDataLink!G3696","v":6},{"$f":"AccVelDataLink!A3696","v":3693},"○","○"]
[3158,0,9000,3694,3157,3159,null,{"$f":"AccVelDataLink!G3697","v":9},{"$f":"AccVelDataLink!A3697","v":3694},"○","○"]
[3159,0,10000,3695,3158,3160,null,{"$f":"AccVelDataLink!G3698","v":10},{"$f":"AccVelDataLink!A3698","v":3695},"○","○"]
[3160,0,11000,3696,3159,3161,null,{"$f":"AccVelDataLink!G3699","v":11},{"$f":"AccVelDataLink!A3699","v":3696},{"$f":"IF(E3163=A3162,\"○\",IF(G3163=0,\"つなぎまちがい\",\"先頭\"))","v":"○"},{"$f":"IF(F3163=A3164,\"○\",IF(F3163<>E3164,\"つなぎまちがい\",\"終端\"))","v":"○"}]
[{"$f":"A3163+1","v":3161},{"$f":"IF(RIGHT(G3164,2)= \"水平\",0,IF(RIGHT(G3164,2)=\"垂直\",1,B3163))","v":0},{"$f":"H3164*$H$1","v":15000},{"$f":"I3164","v":3697},{"$f":"IF(F3163=-1,-1,A3163)","v":3160},{"$f":"A3165","v":3162},null,{"$f":"AccVelDataLink!G3700","v":15},{"$f":"AccVelDataLink!A3700","v":3697},"○","○"]
[3162,1,1000,3698,3161,3163,{"$f":"AccVelDataLink!F3701","v":"RCP6-TA6R(DB)-12-垂直"},{"$f":"AccVelDataLink!G3701","v":1},{"$f":"AccVelDataLink!A3701","v":3698},"○","○"]
[3163,1,2500,3699,3162,3164,null,{"$f":"AccVelDataLink!G3702","v":2.5},{"$f":"AccVelDataLink!A3702","v":3699},"○","○"]
[3164,1,3000,3700,3163,-1,null,{"$f":"AccVelDataLink!G3703","v":3},{"$f":"AccVelDataLink!A3703","v":3700},"○","終端"]
[3165,0,12000,3701,-1,3166,{"$f":"AccVelDataLink!F3704","v":"RCP6-TA7R(DB)-4-水平"},{"$f":"AccVelDataLink!G3704","v":12},{"$f":"AccVelDataLink!A3704","v":3701},"先頭","○"]
[3166,0,18000,3702,3165,3167,null,{"$f":"AccVelDataLink!G3705","v":18},{"$f":"AccVelDataLink!A3705","v":3702},"○","○"]
[3167,0,20000,3703,3166,3168,null,{"$f":"AccVelDataLink!G3706","v":20},{"$f":"AccVelDataLink!A3706","v":3703},"○","○"]
[3168,0,25000,3704,3167,3169,null,{"$f":"AccVelDataLink!G3707","v":25},{"$f":"AccVelDataLink!A3707","v":3704},"○","○"]
[3169,0,26000,3705,3168,3170,null,{"$f":"AccVelDataLink!G3708","v":26},{"$f":"AccVelDataLink!A3708","v":3705},"○","○"]
[3170,0,30000,3706,3169,3171,null,{"$f":"AccVelDataLink!G3709","v":30},{"$f":"AccVelDataLink!A3709","v":3706},"○","○"]
[3171,1,10000,3707,3170,3172,{"$f":"AccVelDataLink!F3710","v":"RCP6-TA7R(DB)-4-垂直"},{"$f":"AccVelDataLink!G3710","v":10},{"$f":"AccVelDataLink!A3710","v":3707},"○","○"]
[3172,1,20000,3708,3171,-1,null,{"$f":"AccVelDataLink!G3711","v":20},{"$f":"AccVelDataLink!A3711","v":3708},"○","終端"]
[3173,0,4000,3709,-1,3174,{"$f":"AccVelDataLink!F3712","v":"RCP6-TA7R(DB)-8-水平"},{"$f":"AccVelDataLink!G3712","v":4},{"$f":"AccVelDataLink!A3712","v":3709},"先頭","○"]
[3174,0,10000,3710,3173,3175,null,{"$f":"AccVelDataLink!G3713","v":10},{"$f":"AccVelDataLink!A3713","v":3710},"○","○"]
[3175,0,18000,3711,3174,3176,null,{"$f":"AccVelDataLink!G3714","v":18},{"$f":"AccVelDataLink!A3714","v":3711},"○","○"]
[3176,0,25000,3713,3175,3177,null,{"$f":"AccVelDataLink!G3716","v":25},{"$f":"AccVelDataLink!A3716","v":3713},"○","○"]
[3177,0,26000,3714,3176,3178,null,{"$f":"AccVelDataLink!G3717","v":26},{"$f":"AccVelDataLink!A3717","v":3714},"○","○"]
[3178,0,30000,3715,3177,3179,null,{"$f":"AccVelDataLink!G3718","v":30},{"$f":"AccVelDataLink!A3718","v":3715},"○","○"]
[3179,1,3500,3716,3178,3180,{"$f":"AccVelDataLink!F3719","v":"RCP6-TA7R(DB)-8-垂直"},{"$f":"AccVelDataLink!G3719","v":3.5},{"$f":"AccVelDataLink!A3719","v":3716},"○","○"]
[3180,1,12000,3717,3179,-1,null,{"$f":"AccVelDataLink!G3720","v":12},{"$f":"AccVelDataLink!A3720","v":3717},"○","終端"]
[3181,0,2000,3718,-1,3182,{"$f":"AccVelDataLink!F3721","v":"RCP6-TA7R(DB)-16-水平"},{"$f":"AccVelDataLink!G3721","v":2},{"$f":"AccVelDataLink!A3721","v":3718},"先頭","○"]
[3182,0,4000,3719,3181,3183,null,{"$f":"AccVelDataLink!G3722","v":4},{"$f":"AccVelDataLink!A3722","v":3719},"○","○"]
[3183,0,10000,3720,3182,3184,null,{"$f":"AccVelDataLink!G3723","v":10},{"$f":"AccVelDataLink!A3723","v":3720},"○","○"]
[3184,0,14000,3721,3183,3185,null,{"$f":"AccVelDataLink!G3724","v":14},{"$f":"AccVelDataLink!A3724","v":3721},"○","○"]
[3185,0,16000,3722,3184,3186,null,{"$f":"AccVelDataLink!G3725","v":16},{"$f":"AccVelDataLink!A3725","v":3722},"○","○"]
[3186,0,18000,3723,3185,3187,null,{"$f":"AccVelDataLink!G3726","v":18},{"$f":"AccVelDataLink!A3726","v":3723},"○","○"]
[3187,0,22000,3724,3186,3188,null,{"$f":"AccVelDataLink!G3727","v":22},{"$f":"AccVelDataLink!A3727","v":3724},"○","○"]
[3188,1,5000,3725,3187,-1,{"$f":"AccVelDataLink!F3728","v":"RCP6-TA7R(DB)-16-垂直"},{"$f":"AccVelDataLink!G3728","v":5},{"$f":"AccVelDataLink!A3728","v":3725},"○","終端"]
[3189,0,5000,3726,-1,3190,"RCP6-HSA6C-3-水平",5,"↓ Ver.3.80 追加"]
[3190,0,6000,3727,3189,3191,"RCP6-HSA6C-3-水平",6]
[3191,0,7000,3728,3190,3192,"RCP6-HSA6C-3-水平",7]
[3192,0,8000,3729,3191,3193,"RCP6-HSA6C-3-水平",8]
[3193,0,9000,3730,3192,3194,"RCP6-HSA6C-3-水平",9]
[3194,0,10000,3731,3193,3195,"RCP6-HSA6C-3-水平",10]
[3195,0,11000,3732,3194,3196,"RCP6-HSA6C-3-水平",11]
[3196,0,12000,3734,3195,3197,"RCP6-HSA6C-3-水平",12]
[3197,0,13000,3736,3196,3198,"RCP6-HSA6C-3-水平",13]
[3198,0,14000,3738,3197,3199,"RCP6-HSA6C-3-水平",14]
[3199,0,15000,3740,3198,3200,"RCP6-HSA6C-3-水平",15]
[3200,0,16000,3742,3199,3201,"RCP6-HSA6C-3-水平",16]
[3201,0,17000,3744,3200,3202,"RCP6-HSA6C-3-水平",17]
[3202,0,18000,3746,3201,3203,"RCP6-HSA6C-3-水平",18]
[3203,0,19000,3748,3202,3204,"RCP6-HSA6C-3-水平",19]
[3204,0,20000,3750,3203,3205,"RCP6-HSA6C-3-水平",20]
[3205,0,21000,3752,3204,3206,"RCP6-HSA6C-3-水平",21]
[3206,0,22000,3754,3205,3207,"RCP6-HSA6C-3-水平",22]
[3207,0,23000,3756,3206,3208,"RCP6-HSA6C-3-水平",23]
[3208,0,24000,3757,3207,3209,"RCP6-HSA6C-3-水平",24]
[3209,0,25000,3758,3208,3210,"RCP6-HSA6C-3-水平",25]
[3210,1,1500,3759,3209,3211,"RCP6-HSA6C-3-垂直",1.5]
[3211,1,2000,3760,3210,3212,"RCP6-HSA6C-3-垂直",2]
[3212,1,3000,3761,3211,3213,"RCP6-HSA6C-3-垂直",3]
[3213,1,4000,3762,3212,3214,"RCP6-HSA6C-3-垂直",4]
[3214,1,5000,3763,3213,3215,"RCP6-HSA6C-3-垂直",5]
[3215,1,6000,3764,3214,3216,"RCP6-HSA6C-3-垂直",6]
[3216,1,7000,3765,3215,3217,"RCP6-HSA6C-3-垂直",7]
[3217,1,8000,3766,3216,3218,"RCP6-HSA6C-3-垂直",8]
[3218,1,9000,3767,3217,3219,"RCP6-HSA6C-3-垂直",9]
[3219,1,10000,3768,3218,-1,"RCP6-HSA6C-3-垂直",10]
[3220,0,1000,3769,-1,3221,"RCP6-HSA6C-6-水平",1]
[3221,0,2000,3770,3220,3222,"RCP6-HSA6C-6-水平",2]
[3222,0,3000,3771,3221,3223,"RCP6-HSA6C-6-水平",3]
[3223,0,4000,3772,3222,3224,"RCP6-HSA6C-6-水平",4]
[3224,0,5000,3773,3223,3225,"RCP6-HSA6C-6-水平",5]
[3225,0,6000,3774,3224,3226,"RCP6-HSA6C-6-水平",6]
[3226,0,7000,3775,3225,3227,"RCP6-HSA6C-6-水平",7]
[3227,0,8000,3776,3226,3228,"RCP6-HSA6C-6-水平",8]
[3228,0,9000,3778,3227,3229,"RCP6-HSA6C-6-水平",9]
[3229,0,10000,3780,3228,3230,"RCP6-HSA6C-6-水平",10]
[3230,0,11000,3782,3229,3231,"RCP6-HSA6C-6-水平",11]
[3231,0,12000,3784,3230,3232,"RCP6-HSA6C-6-水平",12]
[3232,0,13000,3786,3231,3233,"RCP6-HSA6C-6-水平",13]
[3233,0,14000,3788,3232,3234,"RCP6-HSA6C-6-水平",14]
[3234,0,15000,3790,3233,3235,"RCP6-HSA6C-6-水平",15]
[3235,0,16000,3791,3234,3236,"RCP6-HSA6C-6-水平",16]
[3236,0,17000,3792,3235,3237,"RCP6-HSA6C-6-水平",17]
[3237,0,18000,3793,3236,3238,"RCP6-HSA6C-6-水平",18]
[3238,0,19000,3794,3237,3239,"RCP6-HSA6C-6-水平",19]
[3239,0,20000,3795,3238,3240,"RCP6-HSA6C-6-水平",20]
[3240,1,1000,3796,3239,3241,"RCP6-HSA6C-6-垂直",1]
[3241,1,2000,3797,3240,3242,"RCP6-HSA6C-6-垂直",2]
[3242,1,2500,3798,3241,3243,"RCP6-HSA6C-6-垂直",2.5]
[3243,1,3000,3799,3242,3244,"RCP6-HSA6C-6-垂直",3]
[3244,1,4000,3800,3243,3245,"RCP6-HSA6C-6-垂直",4]
[3245,1,5000,3801,3244,-1,"RCP6-HSA6C-6-垂直",5]
[3246,0,2500,3802,-1,3247,"RCP6-HSA6C-12-水平",2.5]
[3247,0,3000,3803,3246,3248,"RCP6-HSA6C-12-水平",3]
[3248,0,4000,3804,3247,3249,"RCP6-HSA6C-12-水平",4]
[3249,0,5000,3806,3248,3250,"RCP6-HSA6C-12-水平",5]
[3250,0,6000,3808,3249,3251,"RCP6-HSA6C-12-水平",6]
[3251,0,7000,3810,3250,3252,"RCP6-HSA6C-12-水平",7]
[3252,0,8000,3812,3251,3253,"RCP6-HSA6C-12-水平",8]
[3253,0,9000,3814,3252,3254,"RCP6-HSA6C-12-水平",9]
[3254,0,10000,3816,3253,3255,"RCP6-HSA6C-12-水平",10]
[3255,0,11000,3818,3254,3256,"RCP6-HSA6C-12-水平",11]
[3256,0,12000,3819,3255,3257,"RCP6-HSA6C-12-水平",12]
[3257,0,13000,3820,3256,3258,"RCP6-HSA6C-12-水平",13]
[3258,0,14000,3821,3257,3259,"RCP6-HSA6C-12-水平",14]
[3259,1,1000,3822,3258,3260,"RCP6-HSA6C-12-垂直",1]
[3260,1,1500,3823,3259,3261,"RCP6-HSA6C-12-垂直",1.5]
[3261,1,2000,3824,3260,-1,"RCP6-HSA6C-12-垂直",2]
[3262,0,1500,3825,-1,3263,"RCP6-HSA6C-20-水平",1.5]
[3263,0,2000,3826,3262,3264,"RCP6-HSA6C-20-水平",2]
[3264,0,3000,3827,3263,3265,"RCP6-HSA6C-20-水平",3]
[3265,0,4000,3828,3264,3266,"RCP6-HSA6C-20-水平",4]
[3266,0,5000,3830,3265,3267,"RCP6-HSA6C-20-水平",5]
[3267,0,6000,3832,3266,3268,"RCP6-HSA6C-20-水平",6]
[3268,0,7000,3833,3267,3269,"RCP6-HSA6C-20-水平",7]
[3269,0,8000,3834,3268,3270,"RCP6-HSA6C-20-水平",8]
[3270,1,500,3835,3269,3271,"RCP6-HSA6C-20-垂直",0.5]
[3271,1,750,3836,3270,-1,"RCP6-HSA6C-20-垂直",0.75]
[3272,0,3000,3837,-1,3273,"RCP6-HSA7C-4-水平",3]
[3273,0,4000,3838,3272,3274,"RCP6-HSA7C-4-水平",4]
[3274,0,5000,3839,3273,3275,"RCP6-HSA7C-4-水平",5]
[3275,0,6000,3840,3274,3276,"RCP6-HSA7C-4-水平",6]
[3276,0,7000,3841,3275,3277,"RCP6-HSA7C-4-水平",7]
[3277,0,8000,3842,3276,3278,"RCP6-HSA7C-4-水平",8]
[3278,0,9000,3843,3277,3279,"RCP6-HSA7C-4-水平",9]
[3279,0,10000,3844,3278,3280,"RCP6-HSA7C-4-水平",10]
[3280,0,11000,3845,3279,3281,"RCP6-HSA7C-4-水平",11]
[3281,0,12000,3846,3280,3282,"RCP6-HSA7C-4-水平",12]
[3282,0,13000,3847,3281,3283,"RCP6-HSA7C-4-水平",13]
[3283,0,14000,3848,3282,3284,"RCP6-HSA7C-4-水平",14]
[3284,0,15000,3849,3283,3285,"RCP6-HSA7C-4-水平",15]
[3285,0,16000,3850,3284,3286,"RCP6-HSA7C-4-水平",16]
[3286,0,17000,3851,3285,3287,"RCP6-HSA7C-4-水平",17]
[3287,0,18000,3852,3286,3288,"RCP6-HSA7C-4-水平",18]
[3288,0,19000,3853,3287,3289,"RCP6-HSA7C-4-水平",19]
[3289,0,20000,3854,3288,3290,"RCP6-HSA7C-4-水平",20]
[3290,0,21000,3855,3289,3291,"RCP6-HSA7C-4-水平",21]
[3291,0,22000,3856,3290,3292,"RCP6-HSA7C-4-水平",22]
[3292,0,23000,3857,3291,3293,"RCP6-HSA7C-4-水平",23]
[3293,0,24000,3858,3292,3294,"RCP6-HSA7C-4-水平",24]
[3294,0,25000,3859,3293,3295,"RCP6-HSA7C-4-水平",25]
[3295,0,26000,3860,3294,3296,"RCP6-HSA7C-4-水平",26]
[3296,0,27000,3861,3295,3297,"RCP6-HSA7C-4-水平",27]
[3297,0,28000,3862,3296,3298,"RCP6-HSA7C-4-水平",28]
[3298,0,29000,3863,3297,3299,"RCP6-HSA7C-4-水平",29]
[3299,0,30000,3864,3298,3300,"RCP6-HSA7C-4-水平",30]
[3300,0,31000,3866,3299,3301,"RCP6-HSA7C-4-水平",31]
[3301,0,32000,3867,3300,3302,"RCP6-HSA7C-4-水平",32]
[3302,0,33000,3868,3301,3303,"RCP6-HSA7C-4-水平",33]
[3303,0,34000,3869,3302,3304,"RCP6-HSA7C-4-水平",34]
[3304,0,35000,3870,3303,3305,"RCP6-HSA7C-4-水平",35]
[3305,0,36000,3871,3304,3306,"RCP6-HSA7C-4-水平",36]
[3306,0,37000,3872,3305,3307,"RCP6-HSA7C-4-水平",37]
[3307,0,38000,3873,3306,3308,"RCP6-HSA7C-4-水平",38]
[3308,0,39000,3874,3307,3309,"RCP6-HSA7C-4-水平",39]
[3309,0,40000,3875,3308,3310,"RCP6-HSA7C-4-水平",40]
[3310,1,8000,3876,3309,3311,"RCP6-HSA7C-4-垂直",8]
[3311,1,9000,3877,3310,3312,"RCP6-HSA7C-4-垂直",9]
[3312,1,10000,3878,3311,3313,"RCP6-HSA7C-4-垂直",10]
[3313,1,11000,3879,3312,3314,"RCP6-HSA7C-4-垂直",11]
[3314,1,12000,3880,3313,3315,"RCP6-HSA7C-4-垂直",12]
[3315,1,13000,3881,3314,3316,"RCP6-HSA7C-4-垂直",13]
[3316,1,14000,3882,3315,3317,"RCP6-HSA7C-4-垂直",14]
[3317,1,15000,3883,3316,-1,"RCP6-HSA7C-4-垂直",15]
[3318,0,10000,3884,-1,3319,"RCP6-HSA7C-8-水平",10]
[3319,0,11000,3885,3318,3320,"RCP6-HSA7C-8-水平",11]
[3320,0,12000,3886,3319,3321,"RCP6-HSA7C-8-水平",12]
[3321,0,13000,3887,3320,3322,"RCP6-HSA7C-8-水平",13]
[3322,0,14000,3888,3321,3323,"RCP6-HSA7C-8-水平",14]
[3323,0,15000,3890,3322,3324,"RCP6-HSA7C-8-水平",15]
[3324,0,16000,3892,3323,3325,"RCP6-HSA7C-8-水平",16]
[3325,0,17000,3894,3324,3326,"RCP6-HSA7C-8-水平",17]
[3326,0,18000,3896,3325,3327,"RCP6-HSA7C-8-水平",18]
[3327,0,19000,3898,3326,3328,"RCP6-HSA7C-8-水平",19]
[3328,0,20000,3900,3327,3329,"RCP6-HSA7C-8-水平",20]
[3329,0,21000,3902,3328,3330,"RCP6-HSA7C-8-水平",21]
[3330,0,22000,3904,3329,3331,"RCP6-HSA7C-8-水平",22]
[3331,0,23000,3906,3330,3332,"RCP6-HSA7C-8-水平",23]
[3332,0,24000,3908,3331,3333,"RCP6-HSA7C-8-水平",24]
[3333,0,25000,3910,3332,3334,"RCP6-HSA7C-8-水平",25]
[3334,0,26000,3912,3333,3335,"RCP6-HSA7C-8-水平",26]
[3335,0,27000,3913,3334,3336,"RCP6-HSA7C-8-水平",27]
[3336,0,28000,3914,3335,3337,"RCP6-HSA7C-8-水平",28]
[3337,0,29000,3915,3336,3338,"RCP6-HSA7C-8-水平",29]
[3338,0,30000,3916,3337,3339,"RCP6-HSA7C-8-水平",30]
[3339,0,31000,3917,3338,3340,"RCP6-HSA7C-8-水平",31]
[3340,0,32000,3918,3339,3341,"RCP6-HSA7C-8-水平",32]
[3341,0,33000,3919,3340,3342,"RCP6-HSA7C-8-水平",33]
[3342,0,34000,3920,3341,3343,"RCP6-HSA7C-8-水平",34]
[3343,0,35000,3921,3342,3344,"RCP6-HSA7C-8-水平",35]
[3344,0,36000,3922,3343,3345,"RCP6-HSA7C-8-水平",36]
[3345,0,37000,3923,3344,3346,"RCP6-HSA7C-8-水平",37]
[3346,0,38000,3924,3345,3347,"RCP6-HSA7C-8-水平",38]
[3347,0,39000,3925,3346,3348,"RCP6-HSA7C-8-水平",39]
[3348,0,40000,3926,3347,3349,"RCP6-HSA7C-8-水平",40]
[3349,1,1500,3927,3348,3350,"RCP6-HSA7C-8-垂直",1.5]
[3350,1,2000,3928,3349,3351,"RCP6-HSA7C-8-垂直",2]
[3351,1,3000,3929,3350,3352,"RCP6-HSA7C-8-垂直",3]
[3352,1,4000,3930,3351,3353,"RCP6-HSA7C-8-垂直",4]
[3353,1,5000,3931,3352,3354,"RCP6-HSA7C-8-垂直",5]
[3354,1,6000,3932,3353,3355,"RCP6-HSA7C-8-垂直",6]
[3355,1,7000,3933,3354,3356,"RCP6-HSA7C-8-垂直",7]
[3356,1,8000,3934,3355,3357,"RCP6-HSA7C-8-垂直",8]
[3357,1,9000,3935,3356,3358,"RCP6-HSA7C-8-垂直",9]
[3358,1,10000,3936,3357,-1,"RCP6-HSA7C-8-垂直",10]
[3359,0,500,3937,-1,3360,"RCP6-HSA7C-16-水平",0.5]
[3360,0,1000,3938,3359,3361,"RCP6-HSA7C-16-水平",1]
[3361,0,2000,3939,3360,3362,"RCP6-HSA7C-16-水平",2]
[3362,0,3000,3940,3361,3363,"RCP6-HSA7C-16-水平",3]
[3363,0,4000,3941,3362,3364,"RCP6-HSA7C-16-水平",4]
[3364,0,5000,3942,3363,3365,"RCP6-HSA7C-16-水平",5]
[3365,0,6000,3943,3364,3366,"RCP6-HSA7C-16-水平",6]
[3366,0,7000,3944,3365,3367,"RCP6-HSA7C-16-水平",7]
[3367,0,8000,3946,3366,3368,"RCP6-HSA7C-16-水平",8]
[3368,0,9000,3948,3367,3369,"RCP6-HSA7C-16-水平",9]
[3369,0,10000,3950,3368,3370,"RCP6-HSA7C-16-水平",10]
[3370,0,11000,3952,3369,3371,"RCP6-HSA7C-16-水平",11]
[3371,0,12000,3954,3370,3372,"RCP6-HSA7C-16-水平",12]
[3372,0,13000,3956,3371,3373,"RCP6-HSA7C-16-水平",13]
[3373,0,14000,3958,3372,3374,"RCP6-HSA7C-16-水平",14]
[3374,0,15000,3960,3373,3375,"RCP6-HSA7C-16-水平",15]
[3375,0,16000,3962,3374,3376,"RCP6-HSA7C-16-水平",16]
[3376,0,17000,3964,3375,3377,"RCP6-HSA7C-16-水平",17]
[3377,0,18000,3966,3376,3378,"RCP6-HSA7C-16-水平",18]
[3378,0,19000,3968,3377,3379,"RCP6-HSA7C-16-水平",19]
[3379,0,20000,3970,3378,3380,"RCP6-HSA7C-16-水平",20]
[3380,0,21000,3972,3379,3381,"RCP6-HSA7C-16-水平",21]
[3381,0,22000,3973,3380,3382,"RCP6-HSA7C-16-水平",22]
[3382,0,23000,3974,3381,3383,"RCP6-HSA7C-16-水平",23]
[3383,0,24000,3975,3382,3384,"RCP6-HSA7C-16-水平",24]
[3384,0,25000,3976,3383,3385,"RCP6-HSA7C-16-水平",25]
[3385,0,26000,3977,3384,3386,"RCP6-HSA7C-16-水平",26]
[3386,0,27000,3978,3385,3387,"RCP6-HSA7C-16-水平",27]
[3387,0,28000,3979,3386,3388,"RCP6-HSA7C-16-水平",28]
[3388,0,29000,3980,3387,3389,"RCP6-HSA7C-16-水平",29]
[3389,0,30000,3981,3388,3390,"RCP6-HSA7C-16-水平",30]
[3390,0,31000,3982,3389,3391,"RCP6-HSA7C-16-水平",31]
[3391,0,32000,3983,3390,3392,"RCP6-HSA7C-16-水平",32]
[3392,0,33000,3984,3391,3393,"RCP6-HSA7C-16-水平",33]
[3393,0,34000,3985,3392,3394,"RCP6-HSA7C-16-水平",34]
[3394,0,35000,3986,3393,3395,"RCP6-HSA7C-16-水平",35]
[3395,1,500,3987,3394,3396,"RCP6-HSA7C-16-垂直",0.5]
[3396,1,1000,3988,3395,3397,"RCP6-HSA7C-16-垂直",1]
[3397,1,1500,3989,3396,3398,"RCP6-HSA7C-16-垂直",1.5]
[3398,1,2000,3990,3397,3399,"RCP6-HSA7C-16-垂直",2]
[3399,1,3000,3991,3398,3400,"RCP6-HSA7C-16-垂直",3]
[3400,1,4000,3992,3399,3401,"RCP6-HSA7C-16-垂直",4]
[3401,1,5000,3993,3400,-1,"RCP6-HSA7C-16-垂直",5]
[3402,0,500,3994,-1,3403,"RCP6-HSA7C-24-水平",0.5]
[3403,0,1000,3995,3402,3404,"RCP6-HSA7C-24-水平",1]
[3404,0,2000,3996,3403,3405,"RCP6-HSA7C-24-水平",2]
[3405,0,3000,3997,3404,3406,"RCP6-HSA7C-24-水平",3]
[3406,0,4000,3998,3405,3407,"RCP6-HSA7C-24-水平",4]
[3407,0,5000,4000,3406,3408,"RCP6-HSA7C-24-水平",5]
[3408,0,6000,4002,3407,3409,"RCP6-HSA7C-24-水平",6]
[3409,0,7000,4004,3408,3410,"RCP6-HSA7C-24-水平",7]
[3410,0,8000,4006,3409,3411,"RCP6-HSA7C-24-水平",8]
[3411,0,9000,4008,3410,3412,"RCP6-HSA7C-24-水平",9]
[3412,0,10000,4010,3411,3413,"RCP6-HSA7C-24-水平",10]
[3413,0,11000,4012,3412,3414,"RCP6-HSA7C-24-水平",11]
[3414,0,12000,4013,3413,3415,"RCP6-HSA7C-24-水平",12]
[3415,0,13000,4014,3414,3416,"RCP6-HSA7C-24-水平",13]
[3416,0,14000,4015,3415,3417,"RCP6-HSA7C-24-水平",14]
[3417,0,15000,4016,3416,3418,"RCP6-HSA7C-24-水平",15]
[3418,0,16000,4017,3417,3419,"RCP6-HSA7C-24-水平",16]
[3419,0,17000,4018,3418,3420,"RCP6-HSA7C-24-水平",17]
[3420,0,18000,4019,3419,3421,"RCP6-HSA7C-24-水平",18]
[3421,1,500,4020,3420,3422,"RCP6-HSA7C-24-垂直",0.5]
[3422,1,1000,4021,3421,3423,"RCP6-HSA7C-24-垂直",1]
[3423,1,2000,4022,3422,-1,"RCP6-HSA7C-24-垂直",2]
[3424,0,4000,4023,-1,3425,"RCP6-HSA6C-W-3-水平",4]
[3425,0,5000,4024,3424,3426,"RCP6-HSA6C-W-3-水平",5]
[3426,0,6000,4025,3425,3427,"RCP6-HSA6C-W-3-水平",6]
[3427,0,7000,4026,3426,3428,"RCP6-HSA6C-W-3-水平",7]
[3428,0,8000,4027,3427,3429,"RCP6-HSA6C-W-3-水平",8]
[3429,0,9000,4029,3428,3430,"RCP6-HSA6C-W-3-水平",9]
[3430,0,10000,4031,3429,3431,"RCP6-HSA6C-W-3-水平",10]
[3431,0,11000,4033,3430,3432,"RCP6-HSA6C-W-3-水平",11]
[3432,0,12000,4035,3431,3433,"RCP6-HSA6C-W-3-水平",12]
[3433,0,13000,4037,3432,3434,"RCP6-HSA6C-W-3-水平",13]
[3434,0,14000,4039,3433,3435,"RCP6-HSA6C-W-3-水平",14]
[3435,0,15000,4041,3434,3436,"RCP6-HSA6C-W-3-水平",15]
[3436,0,16000,4043,3435,3437,"RCP6-HSA6C-W-3-水平",16]
[3437,0,17000,4045,3436,3438,"RCP6-HSA6C-W-3-水平",17]
[3438,0,18000,4047,3437,3439,"RCP6-HSA6C-W-3-水平",18]
[3439,0,19000,4049,3438,3440,"RCP6-HSA6C-W-3-水平",19]
[3440,0,20000,4051,3439,3441,"RCP6-HSA6C-W-3-水平",20]
[3441,0,21000,4053,3440,3442,"RCP6-HSA6C-W-3-水平",21]
[3442,0,22000,4054,3441,3443,"RCP6-HSA6C-W-3-水平",22]
[3443,0,23000,4055,3442,3444,"RCP6-HSA6C-W-3-水平",23]
[3444,1,1000,4056,3443,3445,"RCP6-HSA6C-W-3-垂直",1]
[3445,1,2000,4057,3444,3446,"RCP6-HSA6C-W-3-垂直",2]
[3446,1,3000,4058,3445,3447,"RCP6-HSA6C-W-3-垂直",3]
[3447,1,4000,4059,3446,3448,"RCP6-HSA6C-W-3-垂直",4]
[3448,1,5000,4060,3447,3449,"RCP6-HSA6C-W-3-垂直",5]
[3449,1,6000,4061,3448,3450,"RCP6-HSA6C-W-3-垂直",6]
[3450,1,7000,4062,3449,3451,"RCP6-HSA6C-W-3-垂直",7]
[3451,1,8000,4063,3450,-1,"RCP6-HSA6C-W-3-垂直",8]
[3452,0,1000,4064,-1,3453,"RCP6-HSA6C-W-6-水平",1]
[3453,0,2000,4065,3452,3454,"RCP6-HSA6C-W-6-水平",2]
[3454,0,3000,4066,3453,3455,"RCP6-HSA6C-W-6-水平",3]
[3455,0,4000,4067,3454,3456,"RCP6-HSA6C-W-6-水平",4]
[3456,0,5000,4069,3455,3457,"RCP6-HSA6C-W-6-水平",5]
[3457,0,6000,4071,3456,3458,"RCP6-HSA6C-W-6-水平",6]
[3458,0,7000,4073,3457,3459,"RCP6-HSA6C-W-6-水平",7]
[3459,0,8000,4075,3458,3460,"RCP6-HSA6C-W-6-水平",8]
[3460,0,9000,4077,3459,3461,"RCP6-HSA6C-W-6-水平",9]
[3461,0,10000,4079,3460,3462,"RCP6-HSA6C-W-6-水平",10]
[3462,0,11000,4081,3461,3463,"RCP6-HSA6C-W-6-水平",11]
[3463,0,12000,4083,3462,3464,"RCP6-HSA6C-W-6-水平",12]
[3464,0,13000,4085,3463,3465,"RCP6-HSA6C-W-6-水平",13]
[3465,0,14000,4086,3464,3466,"RCP6-HSA6C-W-6-水平",14]
[3466,0,15000,4087,3465,3467,"RCP6-HSA6C-W-6-水平",15]
[3467,0,16000,4088,3466,3468,"RCP6-HSA6C-W-6-水平",16]
[3468,0,17000,4089,3467,3469,"RCP6-HSA6C-W-6-水平",17]
[3469,0,18000,4090,3468,3470,"RCP6-HSA6C-W-6-水平",18]
[3470,1,2000,4091,3469,3471,"RCP6-HSA6C-W-6-垂直",2]
[3471,1,3000,4092,3470,-1,"RCP6-HSA6C-W-6-垂直",3]
[3472,0,2000,4093,-1,3473,"RCP6-HSA6C-W-12-水平",2]
[3473,0,3000,4094,3472,3474,"RCP6-HSA6C-W-12-水平",3]
[3474,0,4000,4096,3473,3475,"RCP6-HSA6C-W-12-水平",4]
[3475,0,5000,4098,3474,3476,"RCP6-HSA6C-W-12-水平",5]
[3476,0,6000,4100,3475,3477,"RCP6-HSA6C-W-12-水平",6]
[3477,0,7000,4102,3476,3478,"RCP6-HSA6C-W-12-水平",7]
[3478,0,8000,4104,3477,3479,"RCP6-HSA6C-W-12-水平",8]
[3479,0,9000,4106,3478,3480,"RCP6-HSA6C-W-12-水平",9]
[3480,0,10000,4107,3479,3481,"RCP6-HSA6C-W-12-水平",10]
[3481,0,11000,4108,3480,3482,"RCP6-HSA6C-W-12-水平",11]
[3482,0,12000,4109,3481,-1,"RCP6-HSA6C-W-12-水平",12]
[3483,0,6000,4110,-1,3484,"RCP6-HSA7C-W-4-水平",6]
[3484,0,7000,4111,3483,3485,"RCP6-HSA7C-W-4-水平",7]
[3485,0,8000,4112,3484,3486,"RCP6-HSA7C-W-4-水平",8]
[3486,0,9000,4113,3485,3487,"RCP6-HSA7C-W-4-水平",9]
[3487,0,10000,4114,3486,3488,"RCP6-HSA7C-W-4-水平",10]
[3488,0,11000,4115,3487,3489,"RCP6-HSA7C-W-4-水平",11]
[3489,0,12000,4116,3488,3490,"RCP6-HSA7C-W-4-水平",12]
[3490,0,13000,4117,3489,3491,"RCP6-HSA7C-W-4-水平",13]
[3491,0,14000,4118,3490,3492,"RCP6-HSA7C-W-4-水平",14]
[3492,0,15000,4119,3491,3493,"RCP6-HSA7C-W-4-水平",15]
[3493,0,16000,4120,3492,3494,"RCP6-HSA7C-W-4-水平",16]
[3494,0,17000,4121,3493,3495,"RCP6-HSA7C-W-4-水平",17]
[3495,0,18000,4122,3494,3496,"RCP6-HSA7C-W-4-水平",18]
[3496,0,19000,4123,3495,3497,"RCP6-HSA7C-W-4-水平",19]
[3497,0,20000,4124,3496,3498,"RCP6-HSA7C-W-4-水平",20]
[3498,0,21000,4125,3497,3499,"RCP6-HSA7C-W-4-水平",21]
[3499,0,22000,4126,3498,3500,"RCP6-HSA7C-W-4-水平",22]
[3500,0,23000,4127,3499,3501,"RCP6-HSA7C-W-4-水平",23]
[3501,0,24000,4128,3500,3502,"RCP6-HSA7C-W-4-水平",24]
[3502,0,25000,4129,3501,3503,"RCP6-HSA7C-W-4-水平",25]
[3503,0,26000,4130,3502,3504,"RCP6-HSA7C-W-4-水平",26]
[3504,0,27000,4132,3503,3505,"RCP6-HSA7C-W-4-水平",27]
[3505,0,28000,4134,3504,3506,"RCP6-HSA7C-W-4-水平",28]
[3506,0,29000,4136,3505,3507,"RCP6-HSA7C-W-4-水平",29]
[3507,0,30000,4137,3506,3508,"RCP6-HSA7C-W-4-水平",30]
[3508,0,31000,4138,3507,3509,"RCP6-HSA7C-W-4-水平",31]
[3509,0,32000,4139,3508,3510,"RCP6-HSA7C-W-4-水平",32]
[3510,0,33000,4140,3509,3511,"RCP6-HSA7C-W-4-水平",33]
[3511,0,34000,4141,3510,3512,"RCP6-HSA7C-W-4-水平",34]
[3512,0,35000,4142,3511,3513,"RCP6-HSA7C-W-4-水平",35]
[3513,0,36000,4143,3512,3514,"RCP6-HSA7C-W-4-水平",36]
[3514,0,37000,4144,3513,3515,"RCP6-HSA7C-W-4-水平",37]
[3515,0,38000,4145,3514,3516,"RCP6-HSA7C-W-4-水平",38]
[3516,1,4000,4146,3515,3517,"RCP6-HSA7C-W-4-垂直",4]
[3517,1,5000,4147,3516,3518,"RCP6-HSA7C-W-4-垂直",5]
[3518,1,6000,4148,3517,3519,"RCP6-HSA7C-W-4-垂直",6]
[3519,1,7000,4149,3518,3520,"RCP6-HSA7C-W-4-垂直",7]
[3520,1,8000,4150,3519,3521,"RCP6-HSA7C-W-4-垂直",8]
[3521,1,9000,4151,3520,3522,"RCP6-HSA7C-W-4-垂直",9]
[3522,1,10000,4152,3521,3523,"RCP6-HSA7C-W-4-垂直",10]
[3523,1,11000,4153,3522,3524,"RCP6-HSA7C-W-4-垂直",11]
[3524,1,12000,4154,3523,3525,"RCP6-HSA7C-W-4-垂直",12]
[3525,1,13000,4155,3524,-1,"RCP6-HSA7C-W-4-垂直",13]
[3526,0,5000,4156,-1,3527,"RCP6-HSA7C-W-8-水平",5]
[3527,0,6000,4157,3526,3528,"RCP6-HSA7C-W-8-水平",6]
[3528,0,7000,4158,3527,3529,"RCP6-HSA7C-W-8-水平",7]
[3529,0,8000,4159,3528,3530,"RCP6-HSA7C-W-8-水平",8]
[3530,0,9000,4160,3529,3531,"RCP6-HSA7C-W-8-水平",9]
[3531,0,10000,4161,3530,3532,"RCP6-HSA7C-W-8-水平",10]
[3532,0,11000,4163,3531,3533,"RCP6-HSA7C-W-8-水平",11]
[3533,0,12000,4165,3532,3534,"RCP6-HSA7C-W-8-水平",12]
[3534,0,13000,4167,3533,3535,"RCP6-HSA7C-W-8-水平",13]
[3535,0,14000,4169,3534,3536,"RCP6-HSA7C-W-8-水平",14]
[3536,0,15000,4171,3535,3537,"RCP6-HSA7C-W-8-水平",15]
[3537,0,16000,4173,3536,3538,"RCP6-HSA7C-W-8-水平",16]
[3538,0,17000,4175,3537,3539,"RCP6-HSA7C-W-8-水平",17]
[3539,0,18000,4177,3538,3540,"RCP6-HSA7C-W-8-水平",18]
[3540,0,19000,4179,3539,3541,"RCP6-HSA7C-W-8-水平",19]
[3541,0,20000,4181,3540,3542,"RCP6-HSA7C-W-8-水平",20]
[3542,0,21000,4183,3541,3543,"RCP6-HSA7C-W-8-水平",21]
[3543,0,22000,4185,3542,3544,"RCP6-HSA7C-W-8-水平",22]
[3544,0,23000,4187,3543,3545,"RCP6-HSA7C-W-8-水平",23]
[3545,0,24000,4189,3544,3546,"RCP6-HSA7C-W-8-水平",24]
[3546,0,25000,4190,3545,3547,"RCP6-HSA7C-W-8-水平",25]
[3547,0,26000,4191,3546,3548,"RCP6-HSA7C-W-8-水平",26]
[3548,0,27000,4192,3547,3549,"RCP6-HSA7C-W-8-水平",27]
[3549,0,28000,4193,3548,3550,"RCP6-HSA7C-W-8-水平",28]
[3550,0,29000,4194,3549,3551,"RCP6-HSA7C-W-8-水平",29]
[3551,0,30000,4195,3550,3552,"RCP6-HSA7C-W-8-水平",30]
[3552,0,31000,4196,3551,3553,"RCP6-HSA7C-W-8-水平",31]
[3553,0,32000,4197,3552,3554,"RCP6-HSA7C-W-8-水平",32]
[3554,0,33000,4198,3553,3555,"RCP6-HSA7C-W-8-水平",33]
[3555,0,34000,4199,3554,3556,"RCP6-HSA7C-W-8-水平",34]
[3556,0,35000,4200,3555,3557,"RCP6-HSA7C-W-8-水平",35]
[3557,0,36000,4201,3556,3558,"RCP6-HSA7C-W-8-水平",36]
[3558,0,37000,4202,3557,3559,"RCP6-HSA7C-W-8-水平",37]
[3559,0,38000,4203,3558,3560,"RCP6-HSA7C-W-8-水平",38]
[3560,1,2000,4204,3559,3561,"RCP6-HSA7C-W-8-垂直",2]
[3561,1,3000,4205,3560,3562,"RCP6-HSA7C-W-8-垂直",3]
[3562,1,4000,4206,3561,3563,"RCP6-HSA7C-W-8-垂直",4]
[3563,1,5000,4207,3562,3564,"RCP6-HSA7C-W-8-垂直",5]
[3564,1,6000,4208,3563,3565,"RCP6-HSA7C-W-8-垂直",6]
[3565,1,7000,4209,3564,3566,"RCP6-HSA7C-W-8-垂直",7]
[3566,1,8000,4210,3565,-1,"RCP6-HSA7C-W-8-垂直",8]
[3567,0,3000,4211,-1,3568,"RCP6-HSA7C-W-16-水平",3]
[3568,0,4000,4212,3567,3569,"RCP6-HSA7C-W-16-水平",4]
[3569,0,5000,4213,3568,3570,"RCP6-HSA7C-W-16-水平",5]
[3570,0,6000,4214,3569,3571,"RCP6-HSA7C-W-16-水平",6]
[3571,0,7000,4215,3570,3572,"RCP6-HSA7C-W-16-水平",7]
[3572,0,8000,4216,3571,3573,"RCP6-HSA7C-W-16-水平",8]
[3573,0,9000,4217,3572,3574,"RCP6-HSA7C-W-16-水平",9]
[3574,0,10000,4218,3573,3575,"RCP6-HSA7C-W-16-水平",10]
[3575,0,11000,4220,3574,3576,"RCP6-HSA7C-W-16-水平",11]
[3576,0,12000,4222,3575,3577,"RCP6-HSA7C-W-16-水平",12]
[3577,0,13000,4224,3576,3578,"RCP6-HSA7C-W-16-水平",13]
[3578,0,14000,4226,3577,3579,"RCP6-HSA7C-W-16-水平",14]
[3579,0,15000,4228,3578,3580,"RCP6-HSA7C-W-16-水平",15]
[3580,0,16000,4230,3579,3581,"RCP6-HSA7C-W-16-水平",16]
[3581,0,17000,4232,3580,3582,"RCP6-HSA7C-W-16-水平",17]
[3582,0,18000,4234,3581,3583,"RCP6-HSA7C-W-16-水平",18]
[3583,0,19000,4236,3582,3584,"RCP6-HSA7C-W-16-水平",19]
[3584,0,20000,4237,3583,3585,"RCP6-HSA7C-W-16-水平",20]
[3585,0,21000,4238,3584,3586,"RCP6-HSA7C-W-16-水平",21]
[3586,0,22000,4239,3585,3587,"RCP6-HSA7C-W-16-水平",22]
[3587,0,23000,4240,3586,3588,"RCP6-HSA7C-W-16-水平",23]
[3588,0,24000,4241,3587,3589,"RCP6-HSA7C-W-16-水平",24]
[3589,0,25000,4242,3588,3590,"RCP6-HSA7C-W-16-水平",25]
[3590,0,26000,4243,3589,3591,"RCP6-HSA7C-W-16-水平",26]
[3591,0,27000,4244,3590,3592,"RCP6-HSA7C-W-16-水平",27]
[3592,0,28000,4245,3591,3593,"RCP6-HSA7C-W-16-水平",28]
[3593,0,29000,4246,3592,3594,"RCP6-HSA7C-W-16-水平",29]
[3594,0,30000,4247,3593,3595,"RCP6-HSA7C-W-16-水平",30]
[3595,0,31000,4248,3594,3596,"RCP6-HSA7C-W-16-水平",31]
[3596,0,32000,4249,3595,3597,"RCP6-HSA7C-W-16-水平",32]
[3597,0,33000,4250,3596,-1,"RCP6-HSA7C-W-16-水平",33,"↑ Ver.3.80 追加"]
[3598,0,4000,4251,-1,3599,"RCP6-HSA6R-3-水平",4,"↓ Ver.4.1 追加"]
[3599,0,5000,4252,3598,3600,"RCP6-HSA6R-3-水平",5]
[3600,0,6000,4253,3599,3601,"RCP6-HSA6R-3-水平",6]
[3601,0,7000,4254,3600,3602,"RCP6-HSA6R-3-水平",7]
[3602,0,8000,4255,3601,3603,"RCP6-HSA6R-3-水平",8]
[3603,0,9000,4256,3602,3604,"RCP6-HSA6R-3-水平",9]
[3604,0,10000,4257,3603,3605,"RCP6-HSA6R-3-水平",10]
[3605,0,11000,4258,3604,3606,"RCP6-HSA6R-3-水平",11]
[3606,0,12000,4259,3605,3607,"RCP6-HSA6R-3-水平",12]
[3607,0,13000,4260,3606,3608,"RCP6-HSA6R-3-水平",13]
[3608,0,14000,4261,3607,3609,"RCP6-HSA6R-3-水平",14]
[3609,0,15000,4262,3608,3610,"RCP6-HSA6R-3-水平",15]
[3610,0,16000,4264,3609,3611,"RCP6-HSA6R-3-水平",16]
[3611,0,17000,4266,3610,3612,"RCP6-HSA6R-3-水平",17]
[3612,0,18000,4268,3611,3613,"RCP6-HSA6R-3-水平",18]
[3613,0,19000,4270,3612,3614,"RCP6-HSA6R-3-水平",19]
[3614,0,20000,4272,3613,3615,"RCP6-HSA6R-3-水平",20]
[3615,0,21000,4274,3614,3616,"RCP6-HSA6R-3-水平",21]
[3616,0,22000,4276,3615,3617,"RCP6-HSA6R-3-水平",22]
[3617,0,23000,4278,3616,3618,"RCP6-HSA6R-3-水平",23]
[3618,0,24000,4279,3617,3619,"RCP6-HSA6R-3-水平",24]
[3619,0,25000,4280,3618,3620,"RCP6-HSA6R-3-水平",25]
[3620,1,3000,4281,3619,3621,"RCP6-HSA6R-3-垂直",3]
[3621,1,4000,4282,3620,3622,"RCP6-HSA6R-3-垂直",4]
[3622,1,5000,4283,3621,3623,"RCP6-HSA6R-3-垂直",5]
[3623,1,6000,4284,3622,3624,"RCP6-HSA6R-3-垂直",6]
[3624,1,7000,4285,3623,3625,"RCP6-HSA6R-3-垂直",7]
[3625,1,8000,4286,3624,3626,"RCP6-HSA6R-3-垂直",8]
[3626,1,9000,4287,3625,3627,"RCP6-HSA6R-3-垂直",9]
[3627,1,10000,4288,3626,-1,"RCP6-HSA6R-3-垂直",10]
[3628,0,1000,4289,-1,3629,"RCP6-HSA6R-6-水平",1]
[3629,0,2000,4290,3628,3630,"RCP6-HSA6R-6-水平",2]
[3630,0,3000,4291,3629,3631,"RCP6-HSA6R-6-水平",3]
[3631,0,4000,4293,3630,3632,"RCP6-HSA6R-6-水平",4]
[3632,0,5000,4295,3631,3633,"RCP6-HSA6R-6-水平",5]
[3633,0,6000,4297,3632,3634,"RCP6-HSA6R-6-水平",6]
[3634,0,7000,4299,3633,3635,"RCP6-HSA6R-6-水平",7]
[3635,0,8000,4301,3634,3636,"RCP6-HSA6R-6-水平",8]
[3636,0,9000,4303,3635,3637,"RCP6-HSA6R-6-水平",9]
[3637,0,10000,4305,3636,3638,"RCP6-HSA6R-6-水平",10]
[3638,0,11000,4307,3637,3639,"RCP6-HSA6R-6-水平",11]
[3639,0,12000,4309,3638,3640,"RCP6-HSA6R-6-水平",12]
[3640,0,13000,4311,3639,3641,"RCP6-HSA6R-6-水平",13]
[3641,0,14000,4313,3640,3642,"RCP6-HSA6R-6-水平",14]
[3642,0,15000,4315,3641,3643,"RCP6-HSA6R-6-水平",15]
[3643,0,16000,4316,3642,3644,"RCP6-HSA6R-6-水平",16]
[3644,0,17000,4317,3643,3645,"RCP6-HSA6R-6-水平",17]
[3645,0,18000,4318,3644,3646,"RCP6-HSA6R-6-水平",18]
[3646,0,19000,4319,3645,3647,"RCP6-HSA6R-6-水平",19]
[3647,0,20000,4320,3646,3648,"RCP6-HSA6R-6-水平",20]
[3648,1,1500,4321,3647,3649,"RCP6-HSA6R-6-垂直",1.5]
[3649,1,2000,4322,3648,3650,"RCP6-HSA6R-6-垂直",2]
[3650,1,3000,4323,3649,3651,"RCP6-HSA6R-6-垂直",3]
[3651,1,4000,4324,3650,3652,"RCP6-HSA6R-6-垂直",4]
[3652,1,5000,4325,3651,-1,"RCP6-HSA6R-6-垂直",5]
[3653,0,500,4326,-1,3654,"RCP6-HSA6R-12-水平",0.5]
[3654,0,1000,4327,3653,3655,"RCP6-HSA6R-12-水平",1]
[3655,0,2000,4328,3654,3656,"RCP6-HSA6R-12-水平",2]
[3656,0,3000,4329,3655,3657,"RCP6-HSA6R-12-水平",3]
[3657,0,4000,4330,3656,3658,"RCP6-HSA6R-12-水平",4]
[3658,0,5000,4332,3657,3659,"RCP6-HSA6R-12-水平",5]
[3659,0,6000,4334,3658,3660,"RCP6-HSA6R-12-水平",6]
[3660,0,7000,4336,3659,3661,"RCP6-HSA6R-12-水平",7]
[3661,0,8000,4338,3660,3662,"RCP6-HSA6R-12-水平",8]
[3662,0,9000,4340,3661,3663,"RCP6-HSA6R-12-水平",9]
[3663,0,10000,4342,3662,3664,"RCP6-HSA6R-12-水平",10]
[3664,0,11000,4344,3663,3665,"RCP6-HSA6R-12-水平",11]
[3665,0,12000,4345,3664,3666,"RCP6-HSA6R-12-水平",12]
[3666,0,13000,4346,3665,3667,"RCP6-HSA6R-12-水平",13]
[3667,0,14000,4347,3666,3668,"RCP6-HSA6R-12-水平",14]
[3668,1,500,4348,3667,3669,"RCP6-HSA6R-12-垂直",0.5]
[3669,1,1000,4349,3668,3670,"RCP6-HSA6R-12-垂直",1]
[3670,1,1500,4350,3669,3671,"RCP6-HSA6R-12-垂直",1.5]
[3671,1,2000,4351,3670,-1,"RCP6-HSA6R-12-垂直",2]
[3672,0,500,4352,-1,3673,"RCP6-HSA6R-20-水平",0.5]
[3673,0,1000,4353,3672,3674,"RCP6-HSA6R-20-水平",1]
[3674,0,2000,4354,3673,3675,"RCP6-HSA6R-20-水平",2]
[3675,0,3000,4355,3674,3676,"RCP6-HSA6R-20-水平",3]
[3676,0,4000,4357,3675,3677,"RCP6-HSA6R-20-水平",4]
[3677,0,5000,4359,3676,3678,"RCP6-HSA6R-20-水平",5]
[3678,0,6000,4361,3677,3679,"RCP6-HSA6R-20-水平",6]
[3679,0,7000,4362,3678,3680,"RCP6-HSA6R-20-水平",7]
[3680,0,8000,4363,3679,3681,"RCP6-HSA6R-20-水平",8]
[3681,1,750,4364,3680,-1,"RCP6-HSA6R-20-垂直",0.75]
[3682,0,2000,4365,-1,3683,"RCP6-HSA6R-W-3-水平",2]
[3683,0,3000,4366,3682,3684,"RCP6-HSA6R-W-3-水平",3]
[3684,0,4000,4367,3683,3685,"RCP6-HSA6R-W-3-水平",4]
[3685,0,5000,4368,3684,3686,"RCP6-HSA6R-W-3-水平",5]
[3686,0,6000,4369,3685,3687,"RCP6-HSA6R-W-3-水平",6]
[3687,0,7000,4370,3686,3688,"RCP6-HSA6R-W-3-水平",7]
[3688,0,8000,4371,3687,3689,"RCP6-HSA6R-W-3-水平",8]
[3689,0,9000,4372,3688,3690,"RCP6-HSA6R-W-3-水平",9]
[3690,0,10000,4373,3689,3691,"RCP6-HSA6R-W-3-水平",10]
[3691,0,11000,4375,3690,3692,"RCP6-HSA6R-W-3-水平",11]
[3692,0,12000,4377,3691,3693,"RCP6-HSA6R-W-3-水平",12]
[3693,0,13000,4379,3692,3694,"RCP6-HSA6R-W-3-水平",13]
[3694,0,14000,4381,3693,3695,"RCP6-HSA6R-W-3-水平",14]
[3695,0,15000,4383,3694,3696,"RCP6-HSA6R-W-3-水平",15]
[3696,0,16000,4385,3695,3697,"RCP6-HSA6R-W-3-水平",16]
[3697,0,17000,4387,3696,3698,"RCP6-HSA6R-W-3-水平",17]
[3698,0,18000,4389,3697,3699,"RCP6-HSA6R-W-3-水平",18]
[3699,0,19000,4391,3698,3700,"RCP6-HSA6R-W-3-水平",19]
[3700,0,20000,4393,3699,3701,"RCP6-HSA6R-W-3-水平",20]
[3701,0,21000,4395,3700,3702,"RCP6-HSA6R-W-3-水平",21]
[3702,0,22000,4396,3701,3703,"RCP6-HSA6R-W-3-水平",22]
[3703,0,23000,4397,3702,3704,"RCP6-HSA6R-W-3-水平",23]
[3704,1,1000,4398,3703,3705,"RCP6-HSA6R-W-3-垂直",1]
[3705,1,2000,4399,3704,3706,"RCP6-HSA6R-W-3-垂直",2]
[3706,1,3000,4400,3705,3707,"RCP6-HSA6R-W-3-垂直",3]
[3707,1,4000,4401,3706,3708,"RCP6-HSA6R-W-3-垂直",4]
[3708,1,5000,4402,3707,3709,"RCP6-HSA6R-W-3-垂直",5]
[3709,1,6000,4403,3708,3710,"RCP6-HSA6R-W-3-垂直",6]
[3710,1,7000,4404,3709,3711,"RCP6-HSA6R-W-3-垂直",7]
[3711,1,8000,4405,3710,-1,"RCP6-HSA6R-W-3-垂直",8]
[3712,0,2000,4406,-1,3713,"RCP6-HSA6R-W-6-水平",2]
[3713,0,3000,4407,3712,3714,"RCP6-HSA6R-W-6-水平",3]
[3714,0,4000,4408,3713,3715,"RCP6-HSA6R-W-6-水平",4]
[3715,0,5000,4409,3714,3716,"RCP6-HSA6R-W-6-水平",5]
[3716,0,6000,4410,3715,3717,"RCP6-HSA6R-W-6-水平",6]
[3717,0,7000,4412,3716,3718,"RCP6-HSA6R-W-6-水平",7]
[3718,0,8000,4414,3717,3719,"RCP6-HSA6R-W-6-水平",8]
[3719,0,9000,4416,3718,3720,"RCP6-HSA6R-W-6-水平",9]
[3720,0,10000,4418,3719,3721,"RCP6-HSA6R-W-6-水平",10]
[3721,0,11000,4420,3720,3722,"RCP6-HSA6R-W-6-水平",11]
[3722,0,12000,4422,3721,3723,"RCP6-HSA6R-W-6-水平",12]
[3723,0,13000,4424,3722,3724,"RCP6-HSA6R-W-6-水平",13]
[3724,0,14000,4425,3723,3725,"RCP6-HSA6R-W-6-水平",14]
[3725,0,15000,4426,3724,3726,"RCP6-HSA6R-W-6-水平",15]
[3726,0,16000,4427,3725,3727,"RCP6-HSA6R-W-6-水平",16]
[3727,0,17000,4428,3726,3728,"RCP6-HSA6R-W-6-水平",17]
[3728,0,18000,4429,3727,3729,"RCP6-HSA6R-W-6-水平",18]
[3729,1,1000,4430,3728,3730,"RCP6-HSA6R-W-6-垂直",1]
[3730,1,2000,4431,3729,3731,"RCP6-HSA6R-W-6-垂直",2]
[3731,1,3000,4432,3730,-1,"RCP6-HSA6R-W-6-垂直",3]
[3732,0,1000,4433,-1,3733,"RCP6-HSA6R-W-12-水平",1]
[3733,0,2000,4434,3732,3734,"RCP6-HSA6R-W-12-水平",2]
[3734,0,3000,4435,3733,3735,"RCP6-HSA6R-W-12-水平",3]
[3735,0,4000,4436,3734,3736,"RCP6-HSA6R-W-12-水平",4]
[3736,0,5000,4437,3735,3737,"RCP6-HSA6R-W-12-水平",5]
[3737,0,6000,4438,3736,3738,"RCP6-HSA6R-W-12-水平",6]
[3738,0,7000,4439,3737,3739,"RCP6-HSA6R-W-12-水平",7]
[3739,0,8000,4441,3738,3740,"RCP6-HSA6R-W-12-水平",8]
[3740,0,9000,4443,3739,3741,"RCP6-HSA6R-W-12-水平",9]
[3741,0,10000,4444,3740,3742,"RCP6-HSA6R-W-12-水平",10]
[3742,0,11000,4445,3741,3743,"RCP6-HSA6R-W-12-水平",11]
[3743,0,12000,4446,3742,-1,"RCP6-HSA6R-W-12-水平",12]
[3744,0,4000,4447,-1,3745,"RCP6-HSA6XC-3-3-水平",4]
[3745,0,5000,4448,3744,3746,"RCP6-HSA6XC-3-3-水平",5]
[3746,0,6000,4449,3745,3747,"RCP6-HSA6XC-3-3-水平",6]
[3747,0,7000,4450,3746,3748,"RCP6-HSA6XC-3-3-水平",7]
[3748,0,8000,4451,3747,3749,"RCP6-HSA6XC-3-3-水平",8]
[3749,0,9000,4452,3748,3750,"RCP6-HSA6XC-3-3-水平",9]
[3750,0,10000,4453,3749,3751,"RCP6-HSA6XC-3-3-水平",10]
[3751,0,11000,4454,3750,3752,"RCP6-HSA6XC-3-3-水平",11]
[3752,0,12000,4455,3751,3753,"RCP6-HSA6XC-3-3-水平",12]
[3753,0,13000,4456,3752,3754,"RCP6-HSA6XC-3-3-水平",13]
[3754,0,14000,4457,3753,3755,"RCP6-HSA6XC-3-3-水平",14]
[3755,0,15000,4458,3754,3756,"RCP6-HSA6XC-3-3-水平",15]
[3756,0,16000,4460,3755,3757,"RCP6-HSA6XC-3-3-水平",16]
[3757,0,17000,4462,3756,3758,"RCP6-HSA6XC-3-3-水平",17]
[3758,0,18000,4464,3757,3759,"RCP6-HSA6XC-3-3-水平",18]
[3759,0,19000,4466,3758,3760,"RCP6-HSA6XC-3-3-水平",19]
[3760,0,20000,4468,3759,3761,"RCP6-HSA6XC-3-3-水平",20]
[3761,0,21000,4470,3760,3762,"RCP6-HSA6XC-3-3-水平",21]
[3762,0,22000,4472,3761,3763,"RCP6-HSA6XC-3-3-水平",22]
[3763,0,23000,4474,3762,3764,"RCP6-HSA6XC-3-3-水平",23]
[3764,0,24000,4475,3763,3765,"RCP6-HSA6XC-3-3-水平",24]
[3765,0,25000,4476,3764,3766,"RCP6-HSA6XC-3-3-水平",25]
[3766,1,3000,4477,3765,3767,"RCP6-HSA6XC-3-3-垂直",3]
[3767,1,4000,4478,3766,3768,"RCP6-HSA6XC-3-3-垂直",4]
[3768,1,5000,4479,3767,3769,"RCP6-HSA6XC-3-3-垂直",5]
[3769,1,6000,4480,3768,3770,"RCP6-HSA6XC-3-3-垂直",6]
[3770,1,7000,4481,3769,3771,"RCP6-HSA6XC-3-3-垂直",7]
[3771,1,8000,4482,3770,3772,"RCP6-HSA6XC-3-3-垂直",8]
[3772,1,9000,4483,3771,3773,"RCP6-HSA6XC-3-3-垂直",9]
[3773,1,10000,4484,3772,-1,"RCP6-HSA6XC-3-3-垂直",10]
[3774,0,1000,4485,-1,3775,"RCP6-HSA6XC-6-6-水平",1]
[3775,0,2000,4486,3774,3776,"RCP6-HSA6XC-6-6-水平",2]
[3776,0,3000,4487,3775,3777,"RCP6-HSA6XC-6-6-水平",3]
[3777,0,4000,4489,3776,3778,"RCP6-HSA6XC-6-6-水平",4]
[3778,0,5000,4491,3777,3779,"RCP6-HSA6XC-6-6-水平",5]
[3779,0,6000,4493,3778,3780,"RCP6-HSA6XC-6-6-水平",6]
[3780,0,7000,4495,3779,3781,"RCP6-HSA6XC-6-6-水平",7]
[3781,0,8000,4497,3780,3782,"RCP6-HSA6XC-6-6-水平",8]
[3782,0,9000,4499,3781,3783,"RCP6-HSA6XC-6-6-水平",9]
[3783,0,10000,4501,3782,3784,"RCP6-HSA6XC-6-6-水平",10]
[3784,0,11000,4503,3783,3785,"RCP6-HSA6XC-6-6-水平",11]
[3785,0,12000,4505,3784,3786,"RCP6-HSA6XC-6-6-水平",12]
[3786,0,13000,4507,3785,3787,"RCP6-HSA6XC-6-6-水平",13]
[3787,0,14000,4509,3786,3788,"RCP6-HSA6XC-6-6-水平",14]
[3788,0,15000,4511,3787,3789,"RCP6-HSA6XC-6-6-水平",15]
[3789,0,16000,4512,3788,3790,"RCP6-HSA6XC-6-6-水平",16]
[3790,0,17000,4513,3789,3791,"RCP6-HSA6XC-6-6-水平",17]
[3791,0,18000,4514,3790,3792,"RCP6-HSA6XC-6-6-水平",18]
[3792,0,19000,4515,3791,3793,"RCP6-HSA6XC-6-6-水平",19]
[3793,0,20000,4516,3792,3794,"RCP6-HSA6XC-6-6-水平",20]
[3794,1,1500,4517,3793,3795,"RCP6-HSA6XC-6-6-垂直",1.5]
[3795,1,2000,4518,3794,3796,"RCP6-HSA6XC-6-6-垂直",2]
[3796,1,3000,4519,3795,3797,"RCP6-HSA6XC-6-6-垂直",3]
[3797,1,4000,4520,3796,3798,"RCP6-HSA6XC-6-6-垂直",4]
[3798,1,5000,4521,3797,-1,"RCP6-HSA6XC-6-6-垂直",5]
[3799,0,500,4522,-1,3800,"RCP6-HSA6XC-12-12-水平",0.5]
[3800,0,1000,4523,3799,3801,"RCP6-HSA6XC-12-12-水平",1]
[3801,0,2000,4524,3800,3802,"RCP6-HSA6XC-12-12-水平",2]
[3802,0,3000,4525,3801,3803,"RCP6-HSA6XC-12-12-水平",3]
[3803,0,4000,4526,3802,3804,"RCP6-HSA6XC-12-12-水平",4]
[3804,0,5000,4528,3803,3805,"RCP6-HSA6XC-12-12-水平",5]
[3805,0,6000,4530,3804,3806,"RCP6-HSA6XC-12-12-水平",6]
[3806,0,7000,4532,3805,3807,"RCP6-HSA6XC-12-12-水平",7]
[3807,0,8000,4534,3806,3808,"RCP6-HSA6XC-12-12-水平",8]
[3808,0,9000,4536,3807,3809,"RCP6-HSA6XC-12-12-水平",9]
[3809,0,10000,4538,3808,3810,"RCP6-HSA6XC-12-12-水平",10]
[3810,0,11000,4540,3809,3811,"RCP6-HSA6XC-12-12-水平",11]
[3811,0,12000,4541,3810,3812,"RCP6-HSA6XC-12-12-水平",12]
[3812,0,13000,4542,3811,3813,"RCP6-HSA6XC-12-12-水平",13]
[3813,0,14000,4543,3812,3814,"RCP6-HSA6XC-12-12-水平",14]
[3814,1,500,4544,3813,3815,"RCP6-HSA6XC-12-12-垂直",0.5]
[3815,1,1000,4545,3814,3816,"RCP6-HSA6XC-12-12-垂直",1]
[3816,1,1500,4546,3815,3817,"RCP6-HSA6XC-12-12-垂直",1.5]
[3817,1,2000,4547,3816,-1,"RCP6-HSA6XC-12-12-垂直",2]
[3818,0,500,4548,-1,3819,"RCP6-HSA6XC-20-20-水平",0.5]
[3819,0,1000,4549,3818,3820,"RCP6-HSA6XC-20-20-水平",1]
[3820,0,2000,4550,3819,3821,"RCP6-HSA6XC-20-20-水平",2]
[3821,0,3000,4551,3820,3822,"RCP6-HSA6XC-20-20-水平",3]
[3822,0,4000,4553,3821,3823,"RCP6-HSA6XC-20-20-水平",4]
[3823,0,5000,4555,3822,3824,"RCP6-HSA6XC-20-20-水平",5]
[3824,0,6000,4557,3823,3825,"RCP6-HSA6XC-20-20-水平",6]
[3825,0,7000,4558,3824,3826,"RCP6-HSA6XC-20-20-水平",7]
[3826,0,8000,4559,3825,3827,"RCP6-HSA6XC-20-20-水平",8]
[3827,1,750,4560,3826,-1,"RCP6-HSA6XC-20-20-垂直",0.75]
[3828,0,4000,4561,-1,3829,"RCP6-HSA6XR-3-3-水平",4]
[3829,0,5000,4562,3828,3830,"RCP6-HSA6XR-3-3-水平",5]
[3830,0,6000,4563,3829,3831,"RCP6-HSA6XR-3-3-水平",6]
[3831,0,7000,4564,3830,3832,"RCP6-HSA6XR-3-3-水平",7]
[3832,0,8000,4565,3831,3833,"RCP6-HSA6XR-3-3-水平",8]
[3833,0,9000,4566,3832,3834,"RCP6-HSA6XR-3-3-水平",9]
[3834,0,10000,4567,3833,3835,"RCP6-HSA6XR-3-3-水平",10]
[3835,0,11000,4568,3834,3836,"RCP6-HSA6XR-3-3-水平",11]
[3836,0,12000,4569,3835,3837,"RCP6-HSA6XR-3-3-水平",12]
[3837,0,13000,4570,3836,3838,"RCP6-HSA6XR-3-3-水平",13]
[3838,0,14000,4571,3837,3839,"RCP6-HSA6XR-3-3-水平",14]
[3839,0,15000,4572,3838,3840,"RCP6-HSA6XR-3-3-水平",15]
[3840,0,16000,4574,3839,3841,"RCP6-HSA6XR-3-3-水平",16]
[3841,0,17000,4576,3840,3842,"RCP6-HSA6XR-3-3-水平",17]
[3842,0,18000,4578,3841,3843,"RCP6-HSA6XR-3-3-水平",18]
[3843,0,19000,4580,3842,3844,"RCP6-HSA6XR-3-3-水平",19]
[3844,0,20000,4582,3843,3845,"RCP6-HSA6XR-3-3-水平",20]
[3845,0,21000,4584,3844,3846,"RCP6-HSA6XR-3-3-水平",21]
[3846,0,22000,4586,3845,3847,"RCP6-HSA6XR-3-3-水平",22]
[3847,0,23000,4588,3846,3848,"RCP6-HSA6XR-3-3-水平",23]
[3848,0,24000,4589,3847,3849,"RCP6-HSA6XR-3-3-水平",24]
[3849,0,25000,4590,3848,3850,"RCP6-HSA6XR-3-3-水平",25]
[3850,1,3000,4591,3849,3851,"RCP6-HSA6XR-3-3-垂直",3]
[3851,1,4000,4592,3850,3852,"RCP6-HSA6XR-3-3-垂直",4]
[3852,1,5000,4593,3851,3853,"RCP6-HSA6XR-3-3-垂直",5]
[3853,1,6000,4594,3852,3854,"RCP6-HSA6XR-3-3-垂直",6]
[3854,1,7000,4595,3853,3855,"RCP6-HSA6XR-3-3-垂直",7]
[3855,1,8000,4596,3854,3856,"RCP6-HSA6XR-3-3-垂直",8]
[3856,1,9000,4597,3855,3857,"RCP6-HSA6XR-3-3-垂直",9]
[3857,1,10000,4598,3856,-1,"RCP6-HSA6XR-3-3-垂直",10]
[3858,0,1000,4599,-1,3859,"RCP6-HSA6XR-6-6-水平",1]
[3859,0,2000,4600,3858,3860,"RCP6-HSA6XR-6-6-水平",2]
[3860,0,3000,4601,3859,3861,"RCP6-HSA6XR-6-6-水平",3]
[3861,0,4000,4603,3860,3862,"RCP6-HSA6XR-6-6-水平",4]
[3862,0,5000,4605,3861,3863,"RCP6-HSA6XR-6-6-水平",5]
[3863,0,6000,4607,3862,3864,"RCP6-HSA6XR-6-6-水平",6]
[3864,0,7000,4609,3863,3865,"RCP6-HSA6XR-6-6-水平",7]
[3865,0,8000,4611,3864,3866,"RCP6-HSA6XR-6-6-水平",8]
[3866,0,9000,4613,3865,3867,"RCP6-HSA6XR-6-6-水平",9]
[3867,0,10000,4615,3866,3868,"RCP6-HSA6XR-6-6-水平",10]
[3868,0,11000,4617,3867,3869,"RCP6-HSA6XR-6-6-水平",11]
[3869,0,12000,4619,3868,3870,"RCP6-HSA6XR-6-6-水平",12]
[3870,0,13000,4621,3869,3871,"RCP6-HSA6XR-6-6-水平",13]
[3871,0,14000,4623,3870,3872,"RCP6-HSA6XR-6-6-水平",14]
[3872,0,15000,4625,3871,3873,"RCP6-HSA6XR-6-6-水平",15]
[3873,0,16000,4626,3872,3874,"RCP6-HSA6XR-6-6-水平",16]
[3874,0,17000,4627,3873,3875,"RCP6-HSA6XR-6-6-水平",17]
[3875,0,18000,4628,3874,3876,"RCP6-HSA6XR-6-6-水平",18]
[3876,0,19000,4629,3875,3877,"RCP6-HSA6XR-6-6-水平",19]
[3877,0,20000,4630,3876,3878,"RCP6-HSA6XR-6-6-水平",20]
[3878,1,1500,4631,3877,3879,"RCP6-HSA6XR-6-6-垂直",1.5]
[3879,1,2000,4632,3878,3880,"RCP6-HSA6XR-6-6-垂直",2]
[3880,1,3000,4633,3879,3881,"RCP6-HSA6XR-6-6-垂直",3]
[3881,1,4000,4634,3880,3882,"RCP6-HSA6XR-6-6-垂直",4]
[3882,1,5000,4635,3881,-1,"RCP6-HSA6XR-6-6-垂直",5]
[3883,0,500,4636,-1,3884,"RCP6-HSA6XR-12-12-水平",0.5]
[3884,0,1000,4637,3883,3885,"RCP6-HSA6XR-12-12-水平",1]
[3885,0,2000,4638,3884,3886,"RCP6-HSA6XR-12-12-水平",2]
[3886,0,3000,4639,3885,3887,"RCP6-HSA6XR-12-12-水平",3]
[3887,0,4000,4640,3886,3888,"RCP6-HSA6XR-12-12-水平",4]
[3888,0,5000,4642,3887,3889,"RCP6-HSA6XR-12-12-水平",5]
[3889,0,6000,4644,3888,3890,"RCP6-HSA6XR-12-12-水平",6]
[3890,0,7000,4646,3889,3891,"RCP6-HSA6XR-12-12-水平",7]
[3891,0,8000,4648,3890,3892,"RCP6-HSA6XR-12-12-水平",8]
[3892,0,9000,4650,3891,3893,"RCP6-HSA6XR-12-12-水平",9]
[3893,0,10000,4652,3892,3894,"RCP6-HSA6XR-12-12-水平",10]
[3894,0,11000,4654,3893,3895,"RCP6-HSA6XR-12-12-水平",11]
[3895,0,12000,4655,3894,3896,"RCP6-HSA6XR-12-12-水平",12]
[3896,0,13000,4656,3895,3897,"RCP6-HSA6XR-12-12-水平",13]
[3897,0,14000,4657,3896,3898,"RCP6-HSA6XR-12-12-水平",14]
[3898,1,500,4658,3897,3899,"RCP6-HSA6XR-12-12-垂直",0.5]
[3899,1,1000,4659,3898,3900,"RCP6-HSA6XR-12-12-垂直",1]
[3900,1,1500,4660,3899,3901,"RCP6-HSA6XR-12-12-垂直",1.5]
[3901,1,2000,4661,3900,-1,"RCP6-HSA6XR-12-12-垂直",2]
[3902,0,500,4662,-1,3903,"RCP6-HSA6XR-20-20-水平",0.5]
[3903,0,1000,4663,3902,3904,"RCP6-HSA6XR-20-20-水平",1]
[3904,0,2000,4664,3903,3905,"RCP6-HSA6XR-20-20-水平",2]
[3905,0,3000,4665,3904,3906,"RCP6-HSA6XR-20-20-水平",3]
[3906,0,4000,4667,3905,3907,"RCP6-HSA6XR-20-20-水平",4]
[3907,0,5000,4669,3906,3908,"RCP6-HSA6XR-20-20-水平",5]
[3908,0,6000,4671,3907,3909,"RCP6-HSA6XR-20-20-水平",6]
[3909,0,7000,4672,3908,3910,"RCP6-HSA6XR-20-20-水平",7]
[3910,0,8000,4673,3909,3911,"RCP6-HSA6XR-20-20-水平",8]
[3911,1,750,4674,3910,-1,"RCP6-HSA6XR-20-20-垂直",0.75]
[3912,0,8000,4675,-1,3913,"RCP6-HSA7R-4-水平",8]
[3913,0,9000,4676,3912,3914,"RCP6-HSA7R-4-水平",9]
[3914,0,10000,4677,3913,3915,"RCP6-HSA7R-4-水平",10]
[3915,0,11000,4678,3914,3916,"RCP6-HSA7R-4-水平",11]
[3916,0,12000,4679,3915,3917,"RCP6-HSA7R-4-水平",12]
[3917,0,13000,4680,3916,3918,"RCP6-HSA7R-4-水平",13]
[3918,0,14000,4681,3917,3919,"RCP6-HSA7R-4-水平",14]
[3919,0,15000,4682,3918,3920,"RCP6-HSA7R-4-水平",15]
[3920,0,16000,4683,3919,3921,"RCP6-HSA7R-4-水平",16]
[3921,0,17000,4684,3920,3922,"RCP6-HSA7R-4-水平",17]
[3922,0,18000,4685,3921,3923,"RCP6-HSA7R-4-水平",18]
[3923,0,19000,4686,3922,3924,"RCP6-HSA7R-4-水平",19]
[3924,0,20000,4687,3923,3925,"RCP6-HSA7R-4-水平",20]
[3925,0,21000,4689,3924,3926,"RCP6-HSA7R-4-水平",21]
[3926,0,22000,4691,3925,3927,"RCP6-HSA7R-4-水平",22]
[3927,0,23000,4693,3926,3928,"RCP6-HSA7R-4-水平",23]
[3928,0,24000,4695,3927,3929,"RCP6-HSA7R-4-水平",24]
[3929,0,25000,4697,3928,3930,"RCP6-HSA7R-4-水平",25]
[3930,0,26000,4699,3929,3931,"RCP6-HSA7R-4-水平",26]
[3931,0,27000,4701,3930,3932,"RCP6-HSA7R-4-水平",27]
[3932,0,28000,4703,3931,3933,"RCP6-HSA7R-4-水平",28]
[3933,0,29000,4705,3932,3934,"RCP6-HSA7R-4-水平",29]
[3934,0,30000,4707,3933,3935,"RCP6-HSA7R-4-水平",30]
[3935,0,31000,4709,3934,3936,"RCP6-HSA7R-4-水平",31]
[3936,0,32000,4710,3935,3937,"RCP6-HSA7R-4-水平",32]
[3937,0,33000,4711,3936,3938,"RCP6-HSA7R-4-水平",33]
[3938,0,34000,4712,3937,3939,"RCP6-HSA7R-4-水平",34]
[3939,0,35000,4713,3938,3940,"RCP6-HSA7R-4-水平",35]
[3940,0,36000,4714,3939,3941,"RCP6-HSA7R-4-水平",36]
[3941,0,37000,4715,3940,3942,"RCP6-HSA7R-4-水平",37]
[3942,0,38000,4716,3941,3943,"RCP6-HSA7R-4-水平",38]
[3943,0,39000,4717,3942,3944,"RCP6-HSA7R-4-水平",39]
[3944,0,40000,4718,3943,3945,"RCP6-HSA7R-4-水平",40]
[3945,1,8000,4719,3944,3946,"RCP6-HSA7R-4-垂直",8]
[3946,1,9000,4720,3945,3947,"RCP6-HSA7R-4-垂直",9]
[3947,1,10000,4721,3946,3948,"RCP6-HSA7R-4-垂直",10]
[3948,1,11000,4722,3947,3949,"RCP6-HSA7R-4-垂直",11]
[3949,1,12000,4723,3948,3950,"RCP6-HSA7R-4-垂直",12]
[3950,1,13000,4724,3949,3951,"RCP6-HSA7R-4-垂直",13]
[3951,1,14000,4725,3950,3952,"RCP6-HSA7R-4-垂直",14]
[3952,1,15000,4726,3951,-1,"RCP6-HSA7R-4-垂直",15]
[3953,0,14000,4727,-1,3954,"RCP6-HSA7R-8-水平",14]
[3954,0,15000,4728,3953,3955,"RCP6-HSA7R-8-水平",15]
[3955,0,16000,4729,3954,3956,"RCP6-HSA7R-8-水平",16]
[3956,0,17000,4730,3955,3957,"RCP6-HSA7R-8-水平",17]
[3957,0,18000,4731,3956,3958,"RCP6-HSA7R-8-水平",18]
[3958,0,19000,4732,3957,3959,"RCP6-HSA7R-8-水平",19]
[3959,0,20000,4733,3958,3960,"RCP6-HSA7R-8-水平",20]
[3960,0,21000,4734,3959,3961,"RCP6-HSA7R-8-水平",21]
[3961,0,22000,4735,3960,3962,"RCP6-HSA7R-8-水平",22]
[3962,0,23000,4736,3961,3963,"RCP6-HSA7R-8-水平",23]
[3963,0,24000,4737,3962,3964,"RCP6-HSA7R-8-水平",24]
[3964,0,25000,4738,3963,3965,"RCP6-HSA7R-8-水平",25]
[3965,0,26000,4740,3964,3966,"RCP6-HSA7R-8-水平",26]
[3966,0,27000,4741,3965,3967,"RCP6-HSA7R-8-水平",27]
[3967,0,28000,4742,3966,3968,"RCP6-HSA7R-8-水平",28]
[3968,0,29000,4743,3967,3969,"RCP6-HSA7R-8-水平",29]
[3969,0,30000,4744,3968,3970,"RCP6-HSA7R-8-水平",30]
[3970,0,31000,4745,3969,3971,"RCP6-HSA7R-8-水平",31]
[3971,0,32000,4746,3970,3972,"RCP6-HSA7R-8-水平",32]
[3972,0,33000,4747,3971,3973,"RCP6-HSA7R-8-水平",33]
[3973,0,34000,4748,3972,3974,"RCP6-HSA7R-8-水平",34]
[3974,0,35000,4749,3973,3975,"RCP6-HSA7R-8-水平",35]
[3975,0,36000,4750,3974,3976,"RCP6-HSA7R-8-水平",36]
[3976,0,37000,4751,3975,3977,"RCP6-HSA7R-8-水平",37]
[3977,0,38000,4752,3976,3978,"RCP6-HSA7R-8-水平",38]
[3978,0,39000,4753,3977,3979,"RCP6-HSA7R-8-水平",39]
[3979,0,40000,4754,3978,3980,"RCP6-HSA7R-8-水平",40]
[3980,1,4000,4755,3979,3981,"RCP6-HSA7R-8-垂直",4]
[3981,1,5000,4756,3980,3982,"RCP6-HSA7R-8-垂直",5]
[3982,1,6000,4757,3981,3983,"RCP6-HSA7R-8-垂直",6]
[3983,1,7000,4758,3982,3984,"RCP6-HSA7R-8-垂直",7]
[3984,1,8000,4759,3983,3985,"RCP6-HSA7R-8-垂直",8]
[3985,1,9000,4760,3984,3986,"RCP6-HSA7R-8-垂直",9]
[3986,1,10000,4761,3985,-1,"RCP6-HSA7R-8-垂直",10]
[3987,0,4000,4762,-1,3988,"RCP6-HSA7R-16-水平",4]
[3988,0,5000,4764,3987,3989,"RCP6-HSA7R-16-水平",5]
[3989,0,6000,4766,3988,3990,"RCP6-HSA7R-16-水平",6]
[3990,0,7000,4768,3989,3991,"RCP6-HSA7R-16-水平",7]
[3991,0,8000,4770,3990,3992,"RCP6-HSA7R-16-水平",8]
[3992,0,9000,4772,3991,3993,"RCP6-HSA7R-16-水平",9]
[3993,0,10000,4774,3992,3994,"RCP6-HSA7R-16-水平",10]
[3994,0,11000,4776,3993,3995,"RCP6-HSA7R-16-水平",11]
[3995,0,12000,4778,3994,3996,"RCP6-HSA7R-16-水平",12]
[3996,0,13000,4780,3995,3997,"RCP6-HSA7R-16-水平",13]
[3997,0,14000,4782,3996,3998,"RCP6-HSA7R-16-水平",14]
[3998,0,15000,4784,3997,3999,"RCP6-HSA7R-16-水平",15]
[3999,0,16000,4786,3998,4000,"RCP6-HSA7R-16-水平",16]
[4000,0,17000,4788,3999,4001,"RCP6-HSA7R-16-水平",17]
[4001,0,18000,4790,4000,4002,"RCP6-HSA7R-16-水平",18]
[4002,0,19000,4792,4001,4003,"RCP6-HSA7R-16-水平",19]
[4003,0,20000,4794,4002,4004,"RCP6-HSA7R-16-水平",20]
[4004,0,21000,4796,4003,4005,"RCP6-HSA7R-16-水平",21]
[4005,0,22000,4797,4004,4006,"RCP6-HSA7R-16-水平",22]
[4006,0,23000,4798,4005,4007,"RCP6-HSA7R-16-水平",23]
[4007,0,24000,4799,4006,4008,"RCP6-HSA7R-16-水平",24]
[4008,0,25000,4800,4007,4009,"RCP6-HSA7R-16-水平",25]
[4009,0,26000,4801,4008,4010,"RCP6-HSA7R-16-水平",26]
[4010,0,27000,4802,4009,4011,"RCP6-HSA7R-16-水平",27]
[4011,0,28000,4803,4010,4012,"RCP6-HSA7R-16-水平",28]
[4012,0,29000,4804,4011,4013,"RCP6-HSA7R-16-水平",29]
[4013,0,30000,4805,4012,4014,"RCP6-HSA7R-16-水平",30]
[4014,0,31000,4806,4013,4015,"RCP6-HSA7R-16-水平",31]
[4015,0,32000,4807,4014,4016,"RCP6-HSA7R-16-水平",32]
[4016,0,33000,4808,4015,4017,"RCP6-HSA7R-16-水平",33]
[4017,0,34000,4809,4016,4018,"RCP6-HSA7R-16-水平",34]
[4018,0,35000,4810,4017,4019,"RCP6-HSA7R-16-水平",35]
[4019,1,1500,4811,4018,4020,"RCP6-HSA7R-16-垂直",1.5]
[4020,1,2000,4812,4019,4021,"RCP6-HSA7R-16-垂直",2]
[4021,1,3000,4813,4020,4022,"RCP6-HSA7R-16-垂直",3]
[4022,1,4000,4814,4021,4023,"RCP6-HSA7R-16-垂直",4]
[4023,1,5000,4815,4022,-1,"RCP6-HSA7R-16-垂直",5]
[4024,0,1000,4816,-1,4025,"RCP6-HSA7R-24-水平",1]
[4025,0,2000,4817,4024,4026,"RCP6-HSA7R-24-水平",2]
[4026,0,3000,4819,4025,4027,"RCP6-HSA7R-24-水平",3]
[4027,0,4000,4821,4026,4028,"RCP6-HSA7R-24-水平",4]
[4028,0,5000,4823,4027,4029,"RCP6-HSA7R-24-水平",5]
[4029,0,6000,4825,4028,4030,"RCP6-HSA7R-24-水平",6]
[4030,0,7000,4827,4029,4031,"RCP6-HSA7R-24-水平",7]
[4031,0,8000,4829,4030,4032,"RCP6-HSA7R-24-水平",8]
[4032,0,9000,4831,4031,4033,"RCP6-HSA7R-24-水平",9]
[4033,0,10000,4833,4032,4034,"RCP6-HSA7R-24-水平",10]
[4034,0,11000,4835,4033,4035,"RCP6-HSA7R-24-水平",11]
[4035,0,12000,4836,4034,4036,"RCP6-HSA7R-24-水平",12]
[4036,0,13000,4837,4035,4037,"RCP6-HSA7R-24-水平",13]
[4037,0,14000,4838,4036,4038,"RCP6-HSA7R-24-水平",14]
[4038,0,15000,4839,4037,4039,"RCP6-HSA7R-24-水平",15]
[4039,0,16000,4840,4038,4040,"RCP6-HSA7R-24-水平",16]
[4040,0,17000,4841,4039,4041,"RCP6-HSA7R-24-水平",17]
[4041,0,18000,4842,4040,4042,"RCP6-HSA7R-24-水平",18]
[4042,1,1000,4843,4041,4043,"RCP6-HSA7R-24-垂直",1]
[4043,1,2000,4844,4042,-1,"RCP6-HSA7R-24-垂直",2]
[4044,0,4000,4845,-1,4045,"RCP6-HSA7R-W-4-水平",4]
[4045,0,5000,4846,4044,4046,"RCP6-HSA7R-W-4-水平",5]
[4046,0,6000,4847,4045,4047,"RCP6-HSA7R-W-4-水平",6]
[4047,0,7000,4848,4046,4048,"RCP6-HSA7R-W-4-水平",7]
[4048,0,8000,4849,4047,4049,"RCP6-HSA7R-W-4-水平",8]
[4049,0,9000,4850,4048,4050,"RCP6-HSA7R-W-4-水平",9]
[4050,0,10000,4851,4049,4051,"RCP6-HSA7R-W-4-水平",10]
[4051,0,11000,4852,4050,4052,"RCP6-HSA7R-W-4-水平",11]
[4052,0,12000,4853,4051,4053,"RCP6-HSA7R-W-4-水平",12]
[4053,0,13000,4854,4052,4054,"RCP6-HSA7R-W-4-水平",13]
[4054,0,14000,4855,4053,4055,"RCP6-HSA7R-W-4-水平",14]
[4055,0,15000,4856,4054,4056,"RCP6-HSA7R-W-4-水平",15]
[4056,0,16000,4857,4055,4057,"RCP6-HSA7R-W-4-水平",16]
[4057,0,17000,4858,4056,4058,"RCP6-HSA7R-W-4-水平",17]
[4058,0,18000,4859,4057,4059,"RCP6-HSA7R-W-4-水平",18]
[4059,0,19000,4860,4058,4060,"RCP6-HSA7R-W-4-水平",19]
[4060,0,20000,4861,4059,4061,"RCP6-HSA7R-W-4-水平",20]
[4061,0,21000,4862,4060,4062,"RCP6-HSA7R-W-4-水平",21]
[4062,0,22000,4863,4061,4063,"RCP6-HSA7R-W-4-水平",22]
[4063,0,23000,4864,4062,4064,"RCP6-HSA7R-W-4-水平",23]
[4064,0,24000,4865,4063,4065,"RCP6-HSA7R-W-4-水平",24]
[4065,0,25000,4866,4064,4066,"RCP6-HSA7R-W-4-水平",25]
[4066,0,26000,4867,4065,4067,"RCP6-HSA7R-W-4-水平",26]
[4067,0,27000,4869,4066,4068,"RCP6-HSA7R-W-4-水平",27]
[4068,0,28000,4871,4067,4069,"RCP6-HSA7R-W-4-水平",28]
[4069,0,29000,4873,4068,4070,"RCP6-HSA7R-W-4-水平",29]
[4070,0,30000,4874,4069,4071,"RCP6-HSA7R-W-4-水平",30]
[4071,0,31000,4875,4070,4072,"RCP6-HSA7R-W-4-水平",31]
[4072,0,32000,4876,4071,4073,"RCP6-HSA7R-W-4-水平",32]
[4073,0,33000,4877,4072,4074,"RCP6-HSA7R-W-4-水平",33]
[4074,0,34000,4878,4073,4075,"RCP6-HSA7R-W-4-水平",34]
[4075,0,35000,4879,4074,4076,"RCP6-HSA7R-W-4-水平",35]
[4076,0,36000,4880,4075,4077,"RCP6-HSA7R-W-4-水平",36]
[4077,0,37000,4881,4076,4078,"RCP6-HSA7R-W-4-水平",37]
[4078,0,38000,4882,4077,4079,"RCP6-HSA7R-W-4-水平",38]
[4079,1,4000,4883,4078,4080,"RCP6-HSA7R-W-4-垂直",4]
[4080,1,5000,4884,4079,4081,"RCP6-HSA7R-W-4-垂直",5]
[4081,1,6000,4885,4080,4082,"RCP6-HSA7R-W-4-垂直",6]
[4082,1,7000,4886,4081,4083,"RCP6-HSA7R-W-4-垂直",7]
[4083,1,8000,4887,4082,4084,"RCP6-HSA7R-W-4-垂直",8]
[4084,1,9000,4888,4083,4085,"RCP6-HSA7R-W-4-垂直",9]
[4085,1,10000,4889,4084,4086,"RCP6-HSA7R-W-4-垂直",10]
[4086,1,11000,4890,4085,4087,"RCP6-HSA7R-W-4-垂直",11]
[4087,1,12000,4891,4086,4088,"RCP6-HSA7R-W-4-垂直",12]
[4088,1,13000,4892,4087,-1,"RCP6-HSA7R-W-4-垂直",13]
[4089,0,8000,4893,-1,4090,"RCP6-HSA7R-W-8-水平",8]
[4090,0,9000,4894,4089,4091,"RCP6-HSA7R-W-8-水平",9]
[4091,0,10000,4895,4090,4092,"RCP6-HSA7R-W-8-水平",10]
[4092,0,11000,4896,4091,4093,"RCP6-HSA7R-W-8-水平",11]
[4093,0,12000,4897,4092,4094,"RCP6-HSA7R-W-8-水平",12]
[4094,0,13000,4898,4093,4095,"RCP6-HSA7R-W-8-水平",13]
[4095,0,14000,4899,4094,4096,"RCP6-HSA7R-W-8-水平",14]
[4096,0,15000,4900,4095,4097,"RCP6-HSA7R-W-8-水平",15]
[4097,0,16000,4901,4096,4098,"RCP6-HSA7R-W-8-水平",16]
[4098,0,17000,4902,4097,4099,"RCP6-HSA7R-W-8-水平",17]
[4099,0,18000,4903,4098,4100,"RCP6-HSA7R-W-8-水平",18]
[4100,0,19000,4905,4099,4101,"RCP6-HSA7R-W-8-水平",19]
[4101,0,20000,4907,4100,4102,"RCP6-HSA7R-W-8-水平",20]
[4102,0,21000,4909,4101,4103,"RCP6-HSA7R-W-8-水平",21]
[4103,0,22000,4911,4102,4104,"RCP6-HSA7R-W-8-水平",22]
[4104,0,23000,4913,4103,4105,"RCP6-HSA7R-W-8-水平",23]
[4105,0,24000,4915,4104,4106,"RCP6-HSA7R-W-8-水平",24]
[4106,0,25000,4916,4105,4107,"RCP6-HSA7R-W-8-水平",25]
[4107,0,26000,4917,4106,4108,"RCP6-HSA7R-W-8-水平",26]
[4108,0,27000,4918,4107,4109,"RCP6-HSA7R-W-8-水平",27]
[4109,0,28000,4919,4108,4110,"RCP6-HSA7R-W-8-水平",28]
[4110,0,29000,4920,4109,4111,"RCP6-HSA7R-W-8-水平",29]
[4111,0,30000,4921,4110,4112,"RCP6-HSA7R-W-8-水平",30]
[4112,0,31000,4922,4111,4113,"RCP6-HSA7R-W-8-水平",31]
[4113,0,32000,4923,4112,4114,"RCP6-HSA7R-W-8-水平",32]
[4114,0,33000,4924,4113,4115,"RCP6-HSA7R-W-8-水平",33]
[4115,0,34000,4925,4114,4116,"RCP6-HSA7R-W-8-水平",34]
[4116,0,35000,4926,4115,4117,"RCP6-HSA7R-W-8-水平",35]
[4117,0,36000,4927,4116,4118,"RCP6-HSA7R-W-8-水平",36]
[4118,0,37000,4928,4117,4119,"RCP6-HSA7R-W-8-水平",37]
[4119,0,38000,4929,4118,4120,"RCP6-HSA7R-W-8-水平",38]
[4120,1,5000,4930,4119,4121,"RCP6-HSA7R-W-8-垂直",5]
[4121,1,6000,4931,4120,4122,"RCP6-HSA7R-W-8-垂直",6]
[4122,1,7000,4932,4121,4123,"RCP6-HSA7R-W-8-垂直",7]
[4123,1,8000,4933,4122,-1,"RCP6-HSA7R-W-8-垂直",8]
[4124,0,1000,4934,-1,4125,"RCP6-HSA7R-W-16-水平",1]
[4125,0,2000,4935,4124,4126,"RCP6-HSA7R-W-16-水平",2]
[4126,0,3000,4936,4125,4127,"RCP6-HSA7R-W-16-水平",3]
[4127,0,4000,4937,4126,4128,"RCP6-HSA7R-W-16-水平",4]
[4128,0,5000,4938,4127,4129,"RCP6-HSA7R-W-16-水平",5]
[4129,0,6000,4939,4128,4130,"RCP6-HSA7R-W-16-水平",6]
[4130,0,7000,4940,4129,4131,"RCP6-HSA7R-W-16-水平",7]
[4131,0,8000,4941,4130,4132,"RCP6-HSA7R-W-16-水平",8]
[4132,0,9000,4943,4131,4133,"RCP6-HSA7R-W-16-水平",9]
[4133,0,10000,4945,4132,4134,"RCP6-HSA7R-W-16-水平",10]
[4134,0,11000,4947,4133,4135,"RCP6-HSA7R-W-16-水平",11]
[4135,0,12000,4949,4134,4136,"RCP6-HSA7R-W-16-水平",12]
[4136,0,13000,4951,4135,4137,"RCP6-HSA7R-W-16-水平",13]
[4137,0,14000,4953,4136,4138,"RCP6-HSA7R-W-16-水平",14]
[4138,0,15000,4955,4137,4139,"RCP6-HSA7R-W-16-水平",15]
[4139,0,16000,4957,4138,4140,"RCP6-HSA7R-W-16-水平",16]
[4140,0,17000,4959,4139,4141,"RCP6-HSA7R-W-16-水平",17]
[4141,0,18000,4961,4140,4142,"RCP6-HSA7R-W-16-水平",18]
[4142,0,19000,4963,4141,4143,"RCP6-HSA7R-W-16-水平",19]
[4143,0,20000,4964,4142,4144,"RCP6-HSA7R-W-16-水平",20]
[4144,0,21000,4965,4143,4145,"RCP6-HSA7R-W-16-水平",21]
[4145,0,22000,4966,4144,4146,"RCP6-HSA7R-W-16-水平",22]
[4146,0,23000,4967,4145,4147,"RCP6-HSA7R-W-16-水平",23]
[4147,0,24000,4968,4146,4148,"RCP6-HSA7R-W-16-水平",24]
[4148,0,25000,4969,4147,4149,"RCP6-HSA7R-W-16-水平",25]
[4149,0,26000,4970,4148,4150,"RCP6-HSA7R-W-16-水平",26]
[4150,0,27000,4971,4149,4151,"RCP6-HSA7R-W-16-水平",27]
[4151,0,28000,4972,4150,4152,"RCP6-HSA7R-W-16-水平",28]
[4152,0,29000,4973,4151,4153,"RCP6-HSA7R-W-16-水平",29]
[4153,0,30000,4974,4152,4154,"RCP6-HSA7R-W-16-水平",30]
[4154,0,31000,4975,4153,4155,"RCP6-HSA7R-W-16-水平",31]
[4155,0,32000,4976,4154,4156,"RCP6-HSA7R-W-16-水平",32]
[4156,0,33000,4977,4155,-1,"RCP6-HSA7R-W-16-水平",33]
[4157,0,8000,4978,-1,4158,"RCP6-HSA7XC-4-4-水平",8]
[4158,0,9000,4979,4157,4159,"RCP6-HSA7XC-4-4-水平",9]
[4159,0,10000,4980,4158,4160,"RCP6-HSA7XC-4-4-水平",10]
[4160,0,11000,4981,4159,4161,"RCP6-HSA7XC-4-4-水平",11]
[4161,0,12000,4982,4160,4162,"RCP6-HSA7XC-4-4-水平",12]
[4162,0,13000,4983,4161,4163,"RCP6-HSA7XC-4-4-水平",13]
[4163,0,14000,4984,4162,4164,"RCP6-HSA7XC-4-4-水平",14]
[4164,0,15000,4985,4163,4165,"RCP6-HSA7XC-4-4-水平",15]
[4165,0,16000,4986,4164,4166,"RCP6-HSA7XC-4-4-水平",16]
[4166,0,17000,4987,4165,4167,"RCP6-HSA7XC-4-4-水平",17]
[4167,0,18000,4988,4166,4168,"RCP6-HSA7XC-4-4-水平",18]
[4168,0,19000,4989,4167,4169,"RCP6-HSA7XC-4-4-水平",19]
[4169,0,20000,4990,4168,4170,"RCP6-HSA7XC-4-4-水平",20]
[4170,0,21000,4992,4169,4171,"RCP6-HSA7XC-4-4-水平",21]
[4171,0,22000,4994,4170,4172,"RCP6-HSA7XC-4-4-水平",22]
[4172,0,23000,4996,4171,4173,"RCP6-HSA7XC-4-4-水平",23]
[4173,0,24000,4998,4172,4174,"RCP6-HSA7XC-4-4-水平",24]
[4174,0,25000,5000,4173,4175,"RCP6-HSA7XC-4-4-水平",25]
[4175,0,26000,5002,4174,4176,"RCP6-HSA7XC-4-4-水平",26]
[4176,0,27000,5004,4175,4177,"RCP6-HSA7XC-4-4-水平",27]
[4177,0,28000,5006,4176,4178,"RCP6-HSA7XC-4-4-水平",28]
[4178,0,29000,5008,4177,4179,"RCP6-HSA7XC-4-4-水平",29]
[4179,0,30000,5010,4178,4180,"RCP6-HSA7XC-4-4-水平",30]
[4180,0,31000,5012,4179,4181,"RCP6-HSA7XC-4-4-水平",31]
[4181,0,32000,5013,4180,4182,"RCP6-HSA7XC-4-4-水平",32]
[4182,0,33000,5014,4181,4183,"RCP6-HSA7XC-4-4-水平",33]
[4183,0,34000,5015,4182,4184,"RCP6-HSA7XC-4-4-水平",34]
[4184,0,35000,5016,4183,4185,"RCP6-HSA7XC-4-4-水平",35]
[4185,0,36000,5017,4184,4186,"RCP6-HSA7XC-4-4-水平",36]
[4186,0,37000,5018,4185,4187,"RCP6-HSA7XC-4-4-水平",37]
[4187,0,38000,5019,4186,4188,"RCP6-HSA7XC-4-4-水平",38]
[4188,0,39000,5020,4187,4189,"RCP6-HSA7XC-4-4-水平",39]
[4189,0,40000,5021,4188,4190,"RCP6-HSA7XC-4-4-水平",40]
[4190,1,8000,5022,4189,4191,"RCP6-HSA7XC-4-4-垂直",8]
[4191,1,9000,5023,4190,4192,"RCP6-HSA7XC-4-4-垂直",9]
[4192,1,10000,5024,4191,4193,"RCP6-HSA7XC-4-4-垂直",10]
[4193,1,11000,5025,4192,4194,"RCP6-HSA7XC-4-4-垂直",11]
[4194,1,12000,5026,4193,4195,"RCP6-HSA7XC-4-4-垂直",12]
[4195,1,13000,5027,4194,4196,"RCP6-HSA7XC-4-4-垂直",13]
[4196,1,14000,5028,4195,4197,"RCP6-HSA7XC-4-4-垂直",14]
[4197,1,15000,5029,4196,-1,"RCP6-HSA7XC-4-4-垂直",15]
[4198,0,14000,5030,-1,4199,"RCP6-HSA7XC-8-8-水平",14]
[4199,0,15000,5031,4198,4200,"RCP6-HSA7XC-8-8-水平",15]
[4200,0,16000,5032,4199,4201,"RCP6-HSA7XC-8-8-水平",16]
[4201,0,17000,5033,4200,4202,"RCP6-HSA7XC-8-8-水平",17]
[4202,0,18000,5034,4201,4203,"RCP6-HSA7XC-8-8-水平",18]
[4203,0,19000,5035,4202,4204,"RCP6-HSA7XC-8-8-水平",19]
[4204,0,20000,5036,4203,4205,"RCP6-HSA7XC-8-8-水平",20]
[4205,0,21000,5037,4204,4206,"RCP6-HSA7XC-8-8-水平",21]
[4206,0,22000,5038,4205,4207,"RCP6-HSA7XC-8-8-水平",22]
[4207,0,23000,5039,4206,4208,"RCP6-HSA7XC-8-8-水平",23]
[4208,0,24000,5040,4207,4209,"RCP6-HSA7XC-8-8-水平",24]
[4209,0,25000,5041,4208,4210,"RCP6-HSA7XC-8-8-水平",25]
[4210,0,26000,5043,4209,4211,"RCP6-HSA7XC-8-8-水平",26]
[4211,0,27000,5044,4210,4212,"RCP6-HSA7XC-8-8-水平",27]
[4212,0,28000,5045,4211,4213,"RCP6-HSA7XC-8-8-水平",28]
[4213,0,29000,5046,4212,4214,"RCP6-HSA7XC-8-8-水平",29]
[4214,0,30000,5047,4213,4215,"RCP6-HSA7XC-8-8-水平",30]
[4215,0,31000,5048,4214,4216,"RCP6-HSA7XC-8-8-水平",31]
[4216,0,32000,5049,4215,4217,"RCP6-HSA7XC-8-8-水平",32]
[4217,0,33000,5050,4216,4218,"RCP6-HSA7XC-8-8-水平",33]
[4218,0,34000,5051,4217,4219,"RCP6-HSA7XC-8-8-水平",34]
[4219,0,35000,5052,4218,4220,"RCP6-HSA7XC-8-8-水平",35]
[4220,0,36000,5053,4219,4221,"RCP6-HSA7XC-8-8-水平",36]
[4221,0,37000,5054,4220,4222,"RCP6-HSA7XC-8-8-水平",37]
[4222,0,38000,5055,4221,4223,"RCP6-HSA7XC-8-8-水平",38]
[4223,0,39000,5056,4222,4224,"RCP6-HSA7XC-8-8-水平",39]
[4224,0,40000,5057,4223,4225,"RCP6-HSA7XC-8-8-水平",40]
[4225,1,4000,5058,4224,4226,"RCP6-HSA7XC-8-8-垂直",4]
[4226,1,5000,5059,4225,4227,"RCP6-HSA7XC-8-8-垂直",5]
[4227,1,6000,5060,4226,4228,"RCP6-HSA7XC-8-8-垂直",6]
[4228,1,7000,5061,4227,4229,"RCP6-HSA7XC-8-8-垂直",7]
[4229,1,8000,5062,4228,4230,"RCP6-HSA7XC-8-8-垂直",8]
[4230,1,9000,5063,4229,4231,"RCP6-HSA7XC-8-8-垂直",9]
[4231,1,10000,5064,4230,-1,"RCP6-HSA7XC-8-8-垂直",10]
[4232,0,4000,5065,-1,4233,"RCP6-HSA7XC-16-16-水平",4]
[4233,0,5000,5067,4232,4234,"RCP6-HSA7XC-16-16-水平",5]
[4234,0,6000,5069,4233,4235,"RCP6-HSA7XC-16-16-水平",6]
[4235,0,7000,5071,4234,4236,"RCP6-HSA7XC-16-16-水平",7]
[4236,0,8000,5073,4235,4237,"RCP6-HSA7XC-16-16-水平",8]
[4237,0,9000,5075,4236,4238,"RCP6-HSA7XC-16-16-水平",9]
[4238,0,10000,5077,4237,4239,"RCP6-HSA7XC-16-16-水平",10]
[4239,0,11000,5079,4238,4240,"RCP6-HSA7XC-16-16-水平",11]
[4240,0,12000,5081,4239,4241,"RCP6-HSA7XC-16-16-水平",12]
[4241,0,13000,5083,4240,4242,"RCP6-HSA7XC-16-16-水平",13]
[4242,0,14000,5085,4241,4243,"RCP6-HSA7XC-16-16-水平",14]
[4243,0,15000,5087,4242,4244,"RCP6-HSA7XC-16-16-水平",15]
[4244,0,16000,5089,4243,4245,"RCP6-HSA7XC-16-16-水平",16]
[4245,0,17000,5091,4244,4246,"RCP6-HSA7XC-16-16-水平",17]
[4246,0,18000,5093,4245,4247,"RCP6-HSA7XC-16-16-水平",18]
[4247,0,19000,5095,4246,4248,"RCP6-HSA7XC-16-16-水平",19]
[4248,0,20000,5097,4247,4249,"RCP6-HSA7XC-16-16-水平",20]
[4249,0,21000,5099,4248,4250,"RCP6-HSA7XC-16-16-水平",21]
[4250,0,22000,5100,4249,4251,"RCP6-HSA7XC-16-16-水平",22]
[4251,0,23000,5101,4250,4252,"RCP6-HSA7XC-16-16-水平",23]
[4252,0,24000,5102,4251,4253,"RCP6-HSA7XC-16-16-水平",24]
[4253,0,25000,5103,4252,4254,"RCP6-HSA7XC-16-16-水平",25]
[4254,0,26000,5104,4253,4255,"RCP6-HSA7XC-16-16-水平",26]
[4255,0,27000,5105,4254,4256,"RCP6-HSA7XC-16-16-水平",27]
[4256,0,28000,5106,4255,4257,"RCP6-HSA7XC-16-16-水平",28]
[4257,0,29000,5107,4256,4258,"RCP6-HSA7XC-16-16-水平",29]
[4258,0,30000,5108,4257,4259,"RCP6-HSA7XC-16-16-水平",30]
[4259,0,31000,5109,4258,4260,"RCP6-HSA7XC-16-16-水平",31]
[4260,0,32000,5110,4259,4261,"RCP6-HSA7XC-16-16-水平",32]
[4261,0,33000,5111,4260,4262,"RCP6-HSA7XC-16-16-水平",33]
[4262,0,34000,5112,4261,4263,"RCP6-HSA7XC-16-16-水平",34]
[4263,0,35000,5113,4262,4264,"RCP6-HSA7XC-16-16-水平",35]
[4264,1,1500,5114,4263,4265,"RCP6-HSA7XC-16-16-垂直",1.5]
[4265,1,2000,5115,4264,4266,"RCP6-HSA7XC-16-16-垂直",2]
[4266,1,3000,5116,4265,4267,"RCP6-HSA7XC-16-16-垂直",3]
[4267,1,4000,5117,4266,4268,"RCP6-HSA7XC-16-16-垂直",4]
[4268,1,5000,5118,4267,-1,"RCP6-HSA7XC-16-16-垂直",5]
[4269,0,1000,5119,-1,4270,"RCP6-HSA7XC-24-24-水平",1]
[4270,0,2000,5120,4269,4271,"RCP6-HSA7XC-24-24-水平",2]
[4271,0,3000,5122,4270,4272,"RCP6-HSA7XC-24-24-水平",3]
[4272,0,4000,5124,4271,4273,"RCP6-HSA7XC-24-24-水平",4]
[4273,0,5000,5126,4272,4274,"RCP6-HSA7XC-24-24-水平",5]
[4274,0,6000,5128,4273,4275,"RCP6-HSA7XC-24-24-水平",6]
[4275,0,7000,5130,4274,4276,"RCP6-HSA7XC-24-24-水平",7]
[4276,0,8000,5132,4275,4277,"RCP6-HSA7XC-24-24-水平",8]
[4277,0,9000,5134,4276,4278,"RCP6-HSA7XC-24-24-水平",9]
[4278,0,10000,5136,4277,4279,"RCP6-HSA7XC-24-24-水平",10]
[4279,0,11000,5138,4278,4280,"RCP6-HSA7XC-24-24-水平",11]
[4280,0,12000,5139,4279,4281,"RCP6-HSA7XC-24-24-水平",12]
[4281,0,13000,5140,4280,4282,"RCP6-HSA7XC-24-24-水平",13]
[4282,0,14000,5141,4281,4283,"RCP6-HSA7XC-24-24-水平",14]
[4283,0,15000,5142,4282,4284,"RCP6-HSA7XC-24-24-水平",15]
[4284,0,16000,5143,4283,4285,"RCP6-HSA7XC-24-24-水平",16]
[4285,0,17000,5144,4284,4286,"RCP6-HSA7XC-24-24-水平",17]
[4286,0,18000,5145,4285,4287,"RCP6-HSA7XC-24-24-水平",18]
[4287,1,1000,5146,4286,4288,"RCP6-HSA7XC-24-24-垂直",1]
[4288,1,2000,5147,4287,-1,"RCP6-HSA7XC-24-24-垂直",2]
[4289,0,8000,5148,-1,4290,"RCP6-HSA7XR-4-4-水平",8]
[4290,0,9000,5149,4289,4291,"RCP6-HSA7XR-4-4-水平",9]
[4291,0,10000,5150,4290,4292,"RCP6-HSA7XR-4-4-水平",10]
[4292,0,11000,5151,4291,4293,"RCP6-HSA7XR-4-4-水平",11]
[4293,0,12000,5152,4292,4294,"RCP6-HSA7XR-4-4-水平",12]
[4294,0,13000,5153,4293,4295,"RCP6-HSA7XR-4-4-水平",13]
[4295,0,14000,5154,4294,4296,"RCP6-HSA7XR-4-4-水平",14]
[4296,0,15000,5155,4295,4297,"RCP6-HSA7XR-4-4-水平",15]
[4297,0,16000,5156,4296,4298,"RCP6-HSA7XR-4-4-水平",16]
[4298,0,17000,5157,4297,4299,"RCP6-HSA7XR-4-4-水平",17]
[4299,0,18000,5158,4298,4300,"RCP6-HSA7XR-4-4-水平",18]
[4300,0,19000,5159,4299,4301,"RCP6-HSA7XR-4-4-水平",19]
[4301,0,20000,5160,4300,4302,"RCP6-HSA7XR-4-4-水平",20]
[4302,0,21000,5162,4301,4303,"RCP6-HSA7XR-4-4-水平",21]
[4303,0,22000,5164,4302,4304,"RCP6-HSA7XR-4-4-水平",22]
[4304,0,23000,5166,4303,4305,"RCP6-HSA7XR-4-4-水平",23]
[4305,0,24000,5168,4304,4306,"RCP6-HSA7XR-4-4-水平",24]
[4306,0,25000,5170,4305,4307,"RCP6-HSA7XR-4-4-水平",25]
[4307,0,26000,5172,4306,4308,"RCP6-HSA7XR-4-4-水平",26]
[4308,0,27000,5174,4307,4309,"RCP6-HSA7XR-4-4-水平",27]
[4309,0,28000,5176,4308,4310,"RCP6-HSA7XR-4-4-水平",28]
[4310,0,29000,5178,4309,4311,"RCP6-HSA7XR-4-4-水平",29]
[4311,0,30000,5180,4310,4312,"RCP6-HSA7XR-4-4-水平",30]
[4312,0,31000,5182,4311,4313,"RCP6-HSA7XR-4-4-水平",31]
[4313,0,32000,5183,4312,4314,"RCP6-HSA7XR-4-4-水平",32]
[4314,0,33000,5184,4313,4315,"RCP6-HSA7XR-4-4-水平",33]
[4315,0,34000,5185,4314,4316,"RCP6-HSA7XR-4-4-水平",34]
[4316,0,35000,5186,4315,4317,"RCP6-HSA7XR-4-4-水平",35]
[4317,0,36000,5187,4316,4318,"RCP6-HSA7XR-4-4-水平",36]
[4318,0,37000,5188,4317,4319,"RCP6-HSA7XR-4-4-水平",37]
[4319,0,38000,5189,4318,4320,"RCP6-HSA7XR-4-4-水平",38]
[4320,0,39000,5190,4319,4321,"RCP6-HSA7XR-4-4-水平",39]
[4321,0,40000,5191,4320,4322,"RCP6-HSA7XR-4-4-水平",40]
[4322,1,8000,5192,4321,4323,"RCP6-HSA7XR-4-4-垂直",8]
[4323,1,9000,5193,4322,4324,"RCP6-HSA7XR-4-4-垂直",9]
[4324,1,10000,5194,4323,4325,"RCP6-HSA7XR-4-4-垂直",10]
[4325,1,11000,5195,4324,4326,"RCP6-HSA7XR-4-4-垂直",11]
[4326,1,12000,5196,4325,4327,"RCP6-HSA7XR-4-4-垂直",12]
[4327,1,13000,5197,4326,4328,"RCP6-HSA7XR-4-4-垂直",13]
[4328,1,14000,5198,4327,4329,"RCP6-HSA7XR-4-4-垂直",14]
[4329,1,15000,5199,4328,-1,"RCP6-HSA7XR-4-4-垂直",15]
[4330,0,14000,5200,-1,4331,"RCP6-HSA7XR-8-8-水平",14]
[4331,0,15000,5201,4330,4332,"RCP6-HSA7XR-8-8-水平",15]
[4332,0,16000,5202,4331,4333,"RCP6-HSA7XR-8-8-水平",16]
[4333,0,17000,5203,4332,4334,"RCP6-HSA7XR-8-8-水平",17]
[4334,0,18000,5204,4333,4335,"RCP6-HSA7XR-8-8-水平",18]
[4335,0,19000,5205,4334,4336,"RCP6-HSA7XR-8-8-水平",19]
[4336,0,20000,5206,4335,4337,"RCP6-HSA7XR-8-8-水平",20]
[4337,0,21000,5207,4336,4338,"RCP6-HSA7XR-8-8-水平",21]
[4338,0,22000,5208,4337,4339,"RCP6-HSA7XR-8-8-水平",22]
[4339,0,23000,5209,4338,4340,"RCP6-HSA7XR-8-8-水平",23]
[4340,0,24000,5210,4339,4341,"RCP6-HSA7XR-8-8-水平",24]
[4341,0,25000,5211,4340,4342,"RCP6-HSA7XR-8-8-水平",25]
[4342,0,26000,5213,4341,4343,"RCP6-HSA7XR-8-8-水平",26]
[4343,0,27000,5214,4342,4344,"RCP6-HSA7XR-8-8-水平",27]
[4344,0,28000,5215,4343,4345,"RCP6-HSA7XR-8-8-水平",28]
[4345,0,29000,5216,4344,4346,"RCP6-HSA7XR-8-8-水平",29]
[4346,0,30000,5217,4345,4347,"RCP6-HSA7XR-8-8-水平",30]
[4347,0,31000,5218,4346,4348,"RCP6-HSA7XR-8-8-水平",31]
[4348,0,32000,5219,4347,4349,"RCP6-HSA7XR-8-8-水平",32]
[4349,0,33000,5220,4348,4350,"RCP6-HSA7XR-8-8-水平",33]
[4350,0,34000,5221,4349,4351,"RCP6-HSA7XR-8-8-水平",34]
[4351,0,35000,5222,4350,4352,"RCP6-HSA7XR-8-8-水平",35]
[4352,0,36000,5223,4351,4353,"RCP6-HSA7XR-8-8-水平",36]
[4353,0,37000,5224,4352,4354,"RCP6-HSA7XR-8-8-水平",37]
[4354,0,38000,5225,4353,4355,"RCP6-HSA7XR-8-8-水平",38]
[4355,0,39000,5226,4354,4356,"RCP6-HSA7XR-8-8-水平",39]
[4356,0,40000,5227,4355,4357,"RCP6-HSA7XR-8-8-水平",40]
[4357,1,4000,5228,4356,4358,"RCP6-HSA7XR-8-8-垂直",4]
[4358,1,5000,5229,4357,4359,"RCP6-HSA7XR-8-8-垂直",5]
[4359,1,6000,5230,4358,4360,"RCP6-HSA7XR-8-8-垂直",6]
[4360,1,7000,5231,4359,4361,"RCP6-HSA7XR-8-8-垂直",7]
[4361,1,8000,5232,4360,4362,"RCP6-HSA7XR-8-8-垂直",8]
[4362,1,9000,5233,4361,4363,"RCP6-HSA7XR-8-8-垂直",9]
[4363,1,10000,5234,4362,-1,"RCP6-HSA7XR-8-8-垂直",10]
[4364,0,4000,5235,-1,4365,"RCP6-HSA7XR-16-16-水平",4]
[4365,0,5000,5237,4364,4366,"RCP6-HSA7XR-16-16-水平",5]
[4366,0,6000,5239,4365,4367,"RCP6-HSA7XR-16-16-水平",6]
[4367,0,7000,5241,4366,4368,"RCP6-HSA7XR-16-16-水平",7]
[4368,0,8000,5243,4367,4369,"RCP6-HSA7XR-16-16-水平",8]
[4369,0,9000,5245,4368,4370,"RCP6-HSA7XR-16-16-水平",9]
[4370,0,10000,5247,4369,4371,"RCP6-HSA7XR-16-16-水平",10]
[4371,0,11000,5249,4370,4372,"RCP6-HSA7XR-16-16-水平",11]
[4372,0,12000,5251,4371,4373,"RCP6-HSA7XR-16-16-水平",12]
[4373,0,13000,5253,4372,4374,"RCP6-HSA7XR-16-16-水平",13]
[4374,0,14000,5255,4373,4375,"RCP6-HSA7XR-16-16-水平",14]
[4375,0,15000,5257,4374,4376,"RCP6-HSA7XR-16-16-水平",15]
[4376,0,16000,5259,4375,4377,"RCP6-HSA7XR-16-16-水平",16]
[4377,0,17000,5261,4376,4378,"RCP6-HSA7XR-16-16-水平",17]
[4378,0,18000,5263,4377,4379,"RCP6-HSA7XR-16-16-水平",18]
[4379,0,19000,5265,4378,4380,"RCP6-HSA7XR-16-16-水平",19]
[4380,0,20000,5267,4379,4381,"RCP6-HSA7XR-16-16-水平",20]
[4381,0,21000,5269,4380,4382,"RCP6-HSA7XR-16-16-水平",21]
[4382,0,22000,5270,4381,4383,"RCP6-HSA7XR-16-16-水平",22]
[4383,0,23000,5271,4382,4384,"RCP6-HSA7XR-16-16-水平",23]
[4384,0,24000,5272,4383,4385,"RCP6-HSA7XR-16-16-水平",24]
[4385,0,25000,5273,4384,4386,"RCP6-HSA7XR-16-16-水平",25]
[4386,0,26000,5274,4385,4387,"RCP6-HSA7XR-16-16-水平",26]
[4387,0,27000,5275,4386,4388,"RCP6-HSA7XR-16-16-水平",27]
[4388,0,28000,5276,4387,4389,"RCP6-HSA7XR-16-16-水平",28]
[4389,0,29000,5277,4388,4390,"RCP6-HSA7XR-16-16-水平",29]
[4390,0,30000,5278,4389,4391,"RCP6-HSA7XR-16-16-水平",30]
[4391,0,31000,5279,4390,4392,"RCP6-HSA7XR-16-16-水平",31]
[4392,0,32000,5280,4391,4393,"RCP6-HSA7XR-16-16-水平",32]
[4393,0,33000,5281,4392,4394,"RCP6-HSA7XR-16-16-水平",33]
[4394,0,34000,5282,4393,4395,"RCP6-HSA7XR-16-16-水平",34]
[4395,0,35000,5283,4394,4396,"RCP6-HSA7XR-16-16-水平",35]
[4396,1,1500,5284,4395,4397,"RCP6-HSA7XR-16-16-垂直",1.5]
[4397,1,2000,5285,4396,4398,"RCP6-HSA7XR-16-16-垂直",2]
[4398,1,3000,5286,4397,4399,"RCP6-HSA7XR-16-16-垂直",3]
[4399,1,4000,5287,4398,4400,"RCP6-HSA7XR-16-16-垂直",4]
[4400,1,5000,5288,4399,-1,"RCP6-HSA7XR-16-16-垂直",5]
[4401,0,1000,5289,-1,4402,"RCP6-HSA7XR-24-24-水平",1]
[4402,0,2000,5290,4401,4403,"RCP6-HSA7XR-24-24-水平",2]
[4403,0,3000,5292,4402,4404,"RCP6-HSA7XR-24-24-水平",3]
[4404,0,4000,5294,4403,4405,"RCP6-HSA7XR-24-24-水平",4]
[4405,0,5000,5296,4404,4406,"RCP6-HSA7XR-24-24-水平",5]
[4406,0,6000,5298,4405,4407,"RCP6-HSA7XR-24-24-水平",6]
[4407,0,7000,5300,4406,4408,"RCP6-HSA7XR-24-24-水平",7]
[4408,0,8000,5302,4407,4409,"RCP6-HSA7XR-24-24-水平",8]
[4409,0,9000,5304,4408,4410,"RCP6-HSA7XR-24-24-水平",9]
[4410,0,10000,5306,4409,4411,"RCP6-HSA7XR-24-24-水平",10]
[4411,0,11000,5308,4410,4412,"RCP6-HSA7XR-24-24-水平",11]
[4412,0,12000,5309,4411,4413,"RCP6-HSA7XR-24-24-水平",12]
[4413,0,13000,5310,4412,4414,"RCP6-HSA7XR-24-24-水平",13]
[4414,0,14000,5311,4413,4415,"RCP6-HSA7XR-24-24-水平",14]
[4415,0,15000,5312,4414,4416,"RCP6-HSA7XR-24-24-水平",15]
[4416,0,16000,5313,4415,4417,"RCP6-HSA7XR-24-24-水平",16]
[4417,0,17000,5314,4416,4418,"RCP6-HSA7XR-24-24-水平",17]
[4418,0,18000,5315,4417,4419,"RCP6-HSA7XR-24-24-水平",18]
[4419,1,1000,5316,4418,4420,"RCP6-HSA7XR-24-24-垂直",1]
[4420,1,2000,5317,4419,-1,"RCP6-HSA7XR-24-24-垂直",2,"↑ Ver.4.1 追加"]
[4421,0,5000,5318,-1,4422,"RCP6CR-HSA6C-3-水平",5,"↓ Ver.4.3 追加"]
[4422,0,6000,5319,4421,4423,"RCP6CR-HSA6C-3-水平",6]
[4423,0,7000,5320,4422,4424,"RCP6CR-HSA6C-3-水平",7]
[4424,0,8000,5321,4423,4425,"RCP6CR-HSA6C-3-水平",8]
[4425,0,9000,5322,4424,4426,"RCP6CR-HSA6C-3-水平",9]
[4426,0,10000,5323,4425,4427,"RCP6CR-HSA6C-3-水平",10]
[4427,0,11000,5324,4426,4428,"RCP6CR-HSA6C-3-水平",11]
[4428,0,12000,5326,4427,4429,"RCP6CR-HSA6C-3-水平",12]
[4429,0,13000,5328,4428,4430,"RCP6CR-HSA6C-3-水平",13]
[4430,0,14000,5330,4429,4431,"RCP6CR-HSA6C-3-水平",14]
[4431,0,15000,5332,4430,4432,"RCP6CR-HSA6C-3-水平",15]
[4432,0,16000,5334,4431,4433,"RCP6CR-HSA6C-3-水平",16]
[4433,0,17000,5336,4432,4434,"RCP6CR-HSA6C-3-水平",17]
[4434,0,18000,5338,4433,4435,"RCP6CR-HSA6C-3-水平",18]
[4435,0,19000,5340,4434,4436,"RCP6CR-HSA6C-3-水平",19]
[4436,0,20000,5342,4435,4437,"RCP6CR-HSA6C-3-水平",20]
[4437,0,21000,5344,4436,4438,"RCP6CR-HSA6C-3-水平",21]
[4438,0,22000,5346,4437,4439,"RCP6CR-HSA6C-3-水平",22]
[4439,0,23000,5348,4438,4440,"RCP6CR-HSA6C-3-水平",23]
[4440,0,24000,5349,4439,4441,"RCP6CR-HSA6C-3-水平",24]
[4441,0,25000,5350,4440,4442,"RCP6CR-HSA6C-3-水平",25]
[4442,1,1500,5351,4441,4443,"RCP6CR-HSA6C-3-垂直",1.5]
[4443,1,2000,5352,4442,4444,"RCP6CR-HSA6C-3-垂直",2]
[4444,1,3000,5353,4443,4445,"RCP6CR-HSA6C-3-垂直",3]
[4445,1,4000,5354,4444,4446,"RCP6CR-HSA6C-3-垂直",4]
[4446,1,5000,5355,4445,4447,"RCP6CR-HSA6C-3-垂直",5]
[4447,1,6000,5356,4446,4448,"RCP6CR-HSA6C-3-垂直",6]
[4448,1,7000,5357,4447,4449,"RCP6CR-HSA6C-3-垂直",7]
[4449,1,8000,5358,4448,4450,"RCP6CR-HSA6C-3-垂直",8]
[4450,1,9000,5359,4449,4451,"RCP6CR-HSA6C-3-垂直",9]
[4451,1,10000,5360,4450,-1,"RCP6CR-HSA6C-3-垂直",10]
[4452,0,1000,5361,-1,4453,"RCP6CR-HSA6C-6-水平",1]
[4453,0,2000,5362,4452,4454,"RCP6CR-HSA6C-6-水平",2]
[4454,0,3000,5363,4453,4455,"RCP6CR-HSA6C-6-水平",3]
[4455,0,4000,5364,4454,4456,"RCP6CR-HSA6C-6-水平",4]
[4456,0,5000,5365,4455,4457,"RCP6CR-HSA6C-6-水平",5]
[4457,0,6000,5366,4456,4458,"RCP6CR-HSA6C-6-水平",6]
[4458,0,7000,5367,4457,4459,"RCP6CR-HSA6C-6-水平",7]
[4459,0,8000,5368,4458,4460,"RCP6CR-HSA6C-6-水平",8]
[4460,0,9000,5370,4459,4461,"RCP6CR-HSA6C-6-水平",9]
[4461,0,10000,5372,4460,4462,"RCP6CR-HSA6C-6-水平",10]
[4462,0,11000,5374,4461,4463,"RCP6CR-HSA6C-6-水平",11]
[4463,0,12000,5376,4462,4464,"RCP6CR-HSA6C-6-水平",12]
[4464,0,13000,5378,4463,4465,"RCP6CR-HSA6C-6-水平",13]
[4465,0,14000,5380,4464,4466,"RCP6CR-HSA6C-6-水平",14]
[4466,0,15000,5382,4465,4467,"RCP6CR-HSA6C-6-水平",15]
[4467,0,16000,5383,4466,4468,"RCP6CR-HSA6C-6-水平",16]
[4468,0,17000,5384,4467,4469,"RCP6CR-HSA6C-6-水平",17]
[4469,0,18000,5385,4468,4470,"RCP6CR-HSA6C-6-水平",18]
[4470,0,19000,5386,4469,4471,"RCP6CR-HSA6C-6-水平",19]
[4471,0,20000,5387,4470,4472,"RCP6CR-HSA6C-6-水平",20]
[4472,1,1000,5388,4471,4473,"RCP6CR-HSA6C-6-垂直",1]
[4473,1,2000,5389,4472,4474,"RCP6CR-HSA6C-6-垂直",2]
[4474,1,2500,5390,4473,4475,"RCP6CR-HSA6C-6-垂直",2.5]
[4475,1,3000,5391,4474,4476,"RCP6CR-HSA6C-6-垂直",3]
[4476,1,4000,5392,4475,4477,"RCP6CR-HSA6C-6-垂直",4]
[4477,1,5000,5393,4476,-1,"RCP6CR-HSA6C-6-垂直",5]
[4478,0,2500,5394,-1,4479,"RCP6CR-HSA6C-12-水平",2.5]
[4479,0,3000,5395,4478,4480,"RCP6CR-HSA6C-12-水平",3]
[4480,0,4000,5396,4479,4481,"RCP6CR-HSA6C-12-水平",4]
[4481,0,5000,5398,4480,4482,"RCP6CR-HSA6C-12-水平",5]
[4482,0,6000,5400,4481,4483,"RCP6CR-HSA6C-12-水平",6]
[4483,0,7000,5402,4482,4484,"RCP6CR-HSA6C-12-水平",7]
[4484,0,8000,5404,4483,4485,"RCP6CR-HSA6C-12-水平",8]
[4485,0,9000,5406,4484,4486,"RCP6CR-HSA6C-12-水平",9]
[4486,0,10000,5408,4485,4487,"RCP6CR-HSA6C-12-水平",10]
[4487,0,11000,5410,4486,4488,"RCP6CR-HSA6C-12-水平",11]
[4488,0,12000,5411,4487,4489,"RCP6CR-HSA6C-12-水平",12]
[4489,0,13000,5412,4488,4490,"RCP6CR-HSA6C-12-水平",13]
[4490,0,14000,5413,4489,4491,"RCP6CR-HSA6C-12-水平",14]
[4491,1,1000,5414,4490,4492,"RCP6CR-HSA6C-12-垂直",1]
[4492,1,1500,5415,4491,4493,"RCP6CR-HSA6C-12-垂直",1.5]
[4493,1,2000,5416,4492,-1,"RCP6CR-HSA6C-12-垂直",2]
[4494,0,1500,5417,-1,4495,"RCP6CR-HSA6C-20-水平",1.5]
[4495,0,2000,5418,4494,4496,"RCP6CR-HSA6C-20-水平",2]
[4496,0,3000,5419,4495,4497,"RCP6CR-HSA6C-20-水平",3]
[4497,0,4000,5420,4496,4498,"RCP6CR-HSA6C-20-水平",4]
[4498,0,5000,5422,4497,4499,"RCP6CR-HSA6C-20-水平",5]
[4499,0,6000,5424,4498,4500,"RCP6CR-HSA6C-20-水平",6]
[4500,0,7000,5425,4499,4501,"RCP6CR-HSA6C-20-水平",7]
[4501,0,8000,5426,4500,4502,"RCP6CR-HSA6C-20-水平",8]
[4502,1,500,5427,4501,4503,"RCP6CR-HSA6C-20-垂直",0.5]
[4503,1,750,5428,4502,-1,"RCP6CR-HSA6C-20-垂直",0.75]
[4504,0,4000,5429,-1,4505,"RCP6CR-HSA6C-W-3-水平",4]
[4505,0,5000,5430,4504,4506,"RCP6CR-HSA6C-W-3-水平",5]
[4506,0,6000,5431,4505,4507,"RCP6CR-HSA6C-W-3-水平",6]
[4507,0,7000,5432,4506,4508,"RCP6CR-HSA6C-W-3-水平",7]
[4508,0,8000,5433,4507,4509,"RCP6CR-HSA6C-W-3-水平",8]
[4509,0,9000,5435,4508,4510,"RCP6CR-HSA6C-W-3-水平",9]
[4510,0,10000,5437,4509,4511,"RCP6CR-HSA6C-W-3-水平",10]
[4511,0,11000,5439,4510,4512,"RCP6CR-HSA6C-W-3-水平",11]
[4512,0,12000,5441,4511,4513,"RCP6CR-HSA6C-W-3-水平",12]
[4513,0,13000,5443,4512,4514,"RCP6CR-HSA6C-W-3-水平",13]
[4514,0,14000,5445,4513,4515,"RCP6CR-HSA6C-W-3-水平",14]
[4515,0,15000,5447,4514,4516,"RCP6CR-HSA6C-W-3-水平",15]
[4516,0,16000,5449,4515,4517,"RCP6CR-HSA6C-W-3-水平",16]
[4517,0,17000,5451,4516,4518,"RCP6CR-HSA6C-W-3-水平",17]
[4518,0,18000,5453,4517,4519,"RCP6CR-HSA6C-W-3-水平",18]
[4519,0,19000,5455,4518,4520,"RCP6CR-HSA6C-W-3-水平",19]
[4520,0,20000,5457,4519,4521,"RCP6CR-HSA6C-W-3-水平",20]
[4521,0,21000,5459,4520,4522,"RCP6CR-HSA6C-W-3-水平",21]
[4522,0,22000,5460,4521,4523,"RCP6CR-HSA6C-W-3-水平",22]
[4523,0,23000,5461,4522,4524,"RCP6CR-HSA6C-W-3-水平",23]
[4524,1,1000,5462,4523,4525,"RCP6CR-HSA6C-W-3-垂直",1]
[4525,1,2000,5463,4524,4526,"RCP6CR-HSA6C-W-3-垂直",2]
[4526,1,3000,5464,4525,4527,"RCP6CR-HSA6C-W-3-垂直",3]
[4527,1,4000,5465,4526,4528,"RCP6CR-HSA6C-W-3-垂直",4]
[4528,1,5000,5466,4527,4529,"RCP6CR-HSA6C-W-3-垂直",5]
[4529,1,6000,5467,4528,4530,"RCP6CR-HSA6C-W-3-垂直",6]
[4530,1,7000,5468,4529,4531,"RCP6CR-HSA6C-W-3-垂直",7]
[4531,1,8000,5469,4530,-1,"RCP6CR-HSA6C-W-3-垂直",8]
[4532,0,1000,5470,-1,4533,"RCP6CR-HSA6C-W-6-水平",1]
[4533,0,2000,5471,4532,4534,"RCP6CR-HSA6C-W-6-水平",2]
[4534,0,3000,5472,4533,4535,"RCP6CR-HSA6C-W-6-水平",3]
[4535,0,4000,5473,4534,4536,"RCP6CR-HSA6C-W-6-水平",4]
[4536,0,5000,5475,4535,4537,"RCP6CR-HSA6C-W-6-水平",5]
[4537,0,6000,5477,4536,4538,"RCP6CR-HSA6C-W-6-水平",6]
[4538,0,7000,5479,4537,4539,"RCP6CR-HSA6C-W-6-水平",7]
[4539,0,8000,5481,4538,4540,"RCP6CR-HSA6C-W-6-水平",8]
[4540,0,9000,5483,4539,4541,"RCP6CR-HSA6C-W-6-水平",9]
[4541,0,10000,5485,4540,4542,"RCP6CR-HSA6C-W-6-水平",10]
[4542,0,11000,5487,4541,4543,"RCP6CR-HSA6C-W-6-水平",11]
[4543,0,12000,5489,4542,4544,"RCP6CR-HSA6C-W-6-水平",12]
[4544,0,13000,5491,4543,4545,"RCP6CR-HSA6C-W-6-水平",13]
[4545,0,14000,5492,4544,4546,"RCP6CR-HSA6C-W-6-水平",14]
[4546,0,15000,5493,4545,4547,"RCP6CR-HSA6C-W-6-水平",15]
[4547,0,16000,5494,4546,4548,"RCP6CR-HSA6C-W-6-水平",16]
[4548,0,17000,5495,4547,4549,"RCP6CR-HSA6C-W-6-水平",17]
[4549,0,18000,5496,4548,4550,"RCP6CR-HSA6C-W-6-水平",18]
[4550,1,2000,5497,4549,4551,"RCP6CR-HSA6C-W-6-垂直",2]
[4551,1,3000,5498,4550,-1,"RCP6CR-HSA6C-W-6-垂直",3]
[4552,0,2000,5499,-1,4553,"RCP6CR-HSA6C-W-12-水平",2]
[4553,0,3000,5500,4552,4554,"RCP6CR-HSA6C-W-12-水平",3]
[4554,0,4000,5502,4553,4555,"RCP6CR-HSA6C-W-12-水平",4]
[4555,0,5000,5504,4554,4556,"RCP6CR-HSA6C-W-12-水平",5]
[4556,0,6000,5506,4555,4557,"RCP6CR-HSA6C-W-12-水平",6]
[4557,0,7000,5508,4556,4558,"RCP6CR-HSA6C-W-12-水平",7]
[4558,0,8000,5510,4557,4559,"RCP6CR-HSA6C-W-12-水平",8]
[4559,0,9000,5512,4558,4560,"RCP6CR-HSA6C-W-12-水平",9]
[4560,0,10000,5513,4559,4561,"RCP6CR-HSA6C-W-12-水平",10]
[4561,0,11000,5514,4560,4562,"RCP6CR-HSA6C-W-12-水平",11]
[4562,0,12000,5515,4561,-1,"RCP6CR-HSA6C-W-12-水平",12]
[4563,0,4000,5516,-1,4564,"RCP6CR-HSA6XC-3-3-水平",4]
[4564,0,5000,5517,4563,4565,"RCP6CR-HSA6XC-3-3-水平",5]
[4565,0,6000,5518,4564,4566,"RCP6CR-HSA6XC-3-3-水平",6]
[4566,0,7000,5519,4565,4567,"RCP6CR-HSA6XC-3-3-水平",7]
[4567,0,8000,5520,4566,4568,"RCP6CR-HSA6XC-3-3-水平",8]
[4568,0,9000,5521,4567,4569,"RCP6CR-HSA6XC-3-3-水平",9]
[4569,0,10000,5522,4568,4570,"RCP6CR-HSA6XC-3-3-水平",10]
[4570,0,11000,5523,4569,4571,"RCP6CR-HSA6XC-3-3-水平",11]
[4571,0,12000,5524,4570,4572,"RCP6CR-HSA6XC-3-3-水平",12]
[4572,0,13000,5525,4571,4573,"RCP6CR-HSA6XC-3-3-水平",13]
[4573,0,14000,5526,4572,4574,"RCP6CR-HSA6XC-3-3-水平",14]
[4574,0,15000,5527,4573,4575,"RCP6CR-HSA6XC-3-3-水平",15]
[4575,0,16000,5529,4574,4576,"RCP6CR-HSA6XC-3-3-水平",16]
[4576,0,17000,5531,4575,4577,"RCP6CR-HSA6XC-3-3-水平",17]
[4577,0,18000,5533,4576,4578,"RCP6CR-HSA6XC-3-3-水平",18]
[4578,0,19000,5535,4577,4579,"RCP6CR-HSA6XC-3-3-水平",19]
[4579,0,20000,5537,4578,4580,"RCP6CR-HSA6XC-3-3-水平",20]
[4580,0,21000,5539,4579,4581,"RCP6CR-HSA6XC-3-3-水平",21]
[4581,0,22000,5541,4580,4582,"RCP6CR-HSA6XC-3-3-水平",22]
[4582,0,23000,5543,4581,4583,"RCP6CR-HSA6XC-3-3-水平",23]
[4583,0,24000,5544,4582,4584,"RCP6CR-HSA6XC-3-3-水平",24]
[4584,0,25000,5545,4583,4585,"RCP6CR-HSA6XC-3-3-水平",25]
[4585,1,3000,5546,4584,4586,"RCP6CR-HSA6XC-3-3-垂直",3]
[4586,1,4000,5547,4585,4587,"RCP6CR-HSA6XC-3-3-垂直",4]
[4587,1,5000,5548,4586,4588,"RCP6CR-HSA6XC-3-3-垂直",5]
[4588,1,6000,5549,4587,4589,"RCP6CR-HSA6XC-3-3-垂直",6]
[4589,1,7000,5550,4588,4590,"RCP6CR-HSA6XC-3-3-垂直",7]
[4590,1,8000,5551,4589,4591,"RCP6CR-HSA6XC-3-3-垂直",8]
[4591,1,9000,5552,4590,4592,"RCP6CR-HSA6XC-3-3-垂直",9]
[4592,1,10000,5553,4591,-1,"RCP6CR-HSA6XC-3-3-垂直",10]
[4593,0,1000,5554,-1,4594,"RCP6CR-HSA6XC-6-6-水平",1]
[4594,0,2000,5555,4593,4595,"RCP6CR-HSA6XC-6-6-水平",2]
[4595,0,3000,5556,4594,4596,"RCP6CR-HSA6XC-6-6-水平",3]
[4596,0,4000,5558,4595,4597,"RCP6CR-HSA6XC-6-6-水平",4]
[4597,0,5000,5560,4596,4598,"RCP6CR-HSA6XC-6-6-水平",5]
[4598,0,6000,5562,4597,4599,"RCP6CR-HSA6XC-6-6-水平",6]
[4599,0,7000,5564,4598,4600,"RCP6CR-HSA6XC-6-6-水平",7]
[4600,0,8000,5566,4599,4601,"RCP6CR-HSA6XC-6-6-水平",8]
[4601,0,9000,5568,4600,4602,"RCP6CR-HSA6XC-6-6-水平",9]
[4602,0,10000,5570,4601,4603,"RCP6CR-HSA6XC-6-6-水平",10]
[4603,0,11000,5572,4602,4604,"RCP6CR-HSA6XC-6-6-水平",11]
[4604,0,12000,5574,4603,4605,"RCP6CR-HSA6XC-6-6-水平",12]
[4605,0,13000,5576,4604,4606,"RCP6CR-HSA6XC-6-6-水平",13]
[4606,0,14000,5578,4605,4607,"RCP6CR-HSA6XC-6-6-水平",14]
[4607,0,15000,5580,4606,4608,"RCP6CR-HSA6XC-6-6-水平",15]
[4608,0,16000,5581,4607,4609,"RCP6CR-HSA6XC-6-6-水平",16]
[4609,0,17000,5582,4608,4610,"RCP6CR-HSA6XC-6-6-水平",17]
[4610,0,18000,5583,4609,4611,"RCP6CR-HSA6XC-6-6-水平",18]
[4611,0,19000,5584,4610,4612,"RCP6CR-HSA6XC-6-6-水平",19]
[4612,0,20000,5585,4611,4613,"RCP6CR-HSA6XC-6-6-水平",20]
[4613,1,1500,5586,4612,4614,"RCP6CR-HSA6XC-6-6-垂直",1.5]
[4614,1,2000,5587,4613,4615,"RCP6CR-HSA6XC-6-6-垂直",2]
[4615,1,3000,5588,4614,4616,"RCP6CR-HSA6XC-6-6-垂直",3]
[4616,1,4000,5589,4615,4617,"RCP6CR-HSA6XC-6-6-垂直",4]
[4617,1,5000,5590,4616,-1,"RCP6CR-HSA6XC-6-6-垂直",5]
[4618,0,500,5591,-1,4619,"RCP6CR-HSA6XC-12-12-水平",0.5]
[4619,0,1000,5592,4618,4620,"RCP6CR-HSA6XC-12-12-水平",1]
[4620,0,2000,5593,4619,4621,"RCP6CR-HSA6XC-12-12-水平",2]
[4621,0,3000,5594,4620,4622,"RCP6CR-HSA6XC-12-12-水平",3]
[4622,0,4000,5595,4621,4623,"RCP6CR-HSA6XC-12-12-水平",4]
[4623,0,5000,5597,4622,4624,"RCP6CR-HSA6XC-12-12-水平",5]
[4624,0,6000,5599,4623,4625,"RCP6CR-HSA6XC-12-12-水平",6]
[4625,0,7000,5601,4624,4626,"RCP6CR-HSA6XC-12-12-水平",7]
[4626,0,8000,5603,4625,4627,"RCP6CR-HSA6XC-12-12-水平",8]
[4627,0,9000,5605,4626,4628,"RCP6CR-HSA6XC-12-12-水平",9]
[4628,0,10000,5607,4627,4629,"RCP6CR-HSA6XC-12-12-水平",10]
[4629,0,11000,5609,4628,4630,"RCP6CR-HSA6XC-12-12-水平",11]
[4630,0,12000,5610,4629,4631,"RCP6CR-HSA6XC-12-12-水平",12]
[4631,0,13000,5611,4630,4632,"RCP6CR-HSA6XC-12-12-水平",13]
[4632,0,14000,5612,4631,4633,"RCP6CR-HSA6XC-12-12-水平",14]
[4633,1,500,5613,4632,4634,"RCP6CR-HSA6XC-12-12-垂直",0.5]
[4634,1,1000,5614,4633,4635,"RCP6CR-HSA6XC-12-12-垂直",1]
[4635,1,1500,5615,4634,4636,"RCP6CR-HSA6XC-12-12-垂直",1.5]
[4636,1,2000,5616,4635,-1,"RCP6CR-HSA6XC-12-12-垂直",2]
[4637,0,500,5617,-1,4638,"RCP6CR-HSA6XC-20-20-水平",0.5]
[4638,0,1000,5618,4637,4639,"RCP6CR-HSA6XC-20-20-水平",1]
[4639,0,2000,5619,4638,4640,"RCP6CR-HSA6XC-20-20-水平",2]
[4640,0,3000,5620,4639,4641,"RCP6CR-HSA6XC-20-20-水平",3]
[4641,0,4000,5622,4640,4642,"RCP6CR-HSA6XC-20-20-水平",4]
[4642,0,5000,5624,4641,4643,"RCP6CR-HSA6XC-20-20-水平",5]
[4643,0,6000,5626,4642,4644,"RCP6CR-HSA6XC-20-20-水平",6]
[4644,0,7000,5627,4643,4645,"RCP6CR-HSA6XC-20-20-水平",7]
[4645,0,8000,5628,4644,4646,"RCP6CR-HSA6XC-20-20-水平",8]
[4646,1,750,5629,4645,-1,"RCP6CR-HSA6XC-20-20-垂直",0.75]
[4647,0,3000,5630,-1,4648,"RCP6CR-HSA7C-4-水平",3]
[4648,0,4000,5631,4647,4649,"RCP6CR-HSA7C-4-水平",4]
[4649,0,5000,5632,4648,4650,"RCP6CR-HSA7C-4-水平",5]
[4650,0,6000,5633,4649,4651,"RCP6CR-HSA7C-4-水平",6]
[4651,0,7000,5634,4650,4652,"RCP6CR-HSA7C-4-水平",7]
[4652,0,8000,5635,4651,4653,"RCP6CR-HSA7C-4-水平",8]
[4653,0,9000,5636,4652,4654,"RCP6CR-HSA7C-4-水平",9]
[4654,0,10000,5637,4653,4655,"RCP6CR-HSA7C-4-水平",10]
[4655,0,11000,5638,4654,4656,"RCP6CR-HSA7C-4-水平",11]
[4656,0,12000,5639,4655,4657,"RCP6CR-HSA7C-4-水平",12]
[4657,0,13000,5640,4656,4658,"RCP6CR-HSA7C-4-水平",13]
[4658,0,14000,5641,4657,4659,"RCP6CR-HSA7C-4-水平",14]
[4659,0,15000,5642,4658,4660,"RCP6CR-HSA7C-4-水平",15]
[4660,0,16000,5643,4659,4661,"RCP6CR-HSA7C-4-水平",16]
[4661,0,17000,5644,4660,4662,"RCP6CR-HSA7C-4-水平",17]
[4662,0,18000,5645,4661,4663,"RCP6CR-HSA7C-4-水平",18]
[4663,0,19000,5646,4662,4664,"RCP6CR-HSA7C-4-水平",19]
[4664,0,20000,5647,4663,4665,"RCP6CR-HSA7C-4-水平",20]
[4665,0,21000,5648,4664,4666,"RCP6CR-HSA7C-4-水平",21]
[4666,0,22000,5649,4665,4667,"RCP6CR-HSA7C-4-水平",22]
[4667,0,23000,5650,4666,4668,"RCP6CR-HSA7C-4-水平",23]
[4668,0,24000,5651,4667,4669,"RCP6CR-HSA7C-4-水平",24]
[4669,0,25000,5652,4668,4670,"RCP6CR-HSA7C-4-水平",25]
[4670,0,26000,5653,4669,4671,"RCP6CR-HSA7C-4-水平",26]
[4671,0,27000,5654,4670,4672,"RCP6CR-HSA7C-4-水平",27]
[4672,0,28000,5655,4671,4673,"RCP6CR-HSA7C-4-水平",28]
[4673,0,29000,5656,4672,4674,"RCP6CR-HSA7C-4-水平",29]
[4674,0,30000,5657,4673,4675,"RCP6CR-HSA7C-4-水平",30]
[4675,0,31000,5659,4674,4676,"RCP6CR-HSA7C-4-水平",31]
[4676,0,32000,5660,4675,4677,"RCP6CR-HSA7C-4-水平",32]
[4677,0,33000,5661,4676,4678,"RCP6CR-HSA7C-4-水平",33]
[4678,0,34000,5662,4677,4679,"RCP6CR-HSA7C-4-水平",34]
[4679,0,35000,5663,4678,4680,"RCP6CR-HSA7C-4-水平",35]
[4680,0,36000,5664,4679,4681,"RCP6CR-HSA7C-4-水平",36]
[4681,0,37000,5665,4680,4682,"RCP6CR-HSA7C-4-水平",37]
[4682,0,38000,5666,4681,4683,"RCP6CR-HSA7C-4-水平",38]
[4683,0,39000,5667,4682,4684,"RCP6CR-HSA7C-4-水平",39]
[4684,0,40000,5668,4683,4685,"RCP6CR-HSA7C-4-水平",40]
[4685,1,8000,5669,4684,4686,"RCP6CR-HSA7C-4-垂直",8]
[4686,1,9000,5670,4685,4687,"RCP6CR-HSA7C-4-垂直",9]
[4687,1,10000,5671,4686,4688,"RCP6CR-HSA7C-4-垂直",10]
[4688,1,11000,5672,4687,4689,"RCP6CR-HSA7C-4-垂直",11]
[4689,1,12000,5673,4688,4690,"RCP6CR-HSA7C-4-垂直",12]
[4690,1,13000,5674,4689,4691,"RCP6CR-HSA7C-4-垂直",13]
[4691,1,14000,5675,4690,4692,"RCP6CR-HSA7C-4-垂直",14]
[4692,1,15000,5676,4691,-1,"RCP6CR-HSA7C-4-垂直",15]
[4693,0,10000,5677,-1,4694,"RCP6CR-HSA7C-8-水平",10]
[4694,0,11000,5678,4693,4695,"RCP6CR-HSA7C-8-水平",11]
[4695,0,12000,5679,4694,4696,"RCP6CR-HSA7C-8-水平",12]
[4696,0,13000,5680,4695,4697,"RCP6CR-HSA7C-8-水平",13]
[4697,0,14000,5681,4696,4698,"RCP6CR-HSA7C-8-水平",14]
[4698,0,15000,5683,4697,4699,"RCP6CR-HSA7C-8-水平",15]
[4699,0,16000,5685,4698,4700,"RCP6CR-HSA7C-8-水平",16]
[4700,0,17000,5687,4699,4701,"RCP6CR-HSA7C-8-水平",17]
[4701,0,18000,5689,4700,4702,"RCP6CR-HSA7C-8-水平",18]
[4702,0,19000,5691,4701,4703,"RCP6CR-HSA7C-8-水平",19]
[4703,0,20000,5693,4702,4704,"RCP6CR-HSA7C-8-水平",20]
[4704,0,21000,5695,4703,4705,"RCP6CR-HSA7C-8-水平",21]
[4705,0,22000,5697,4704,4706,"RCP6CR-HSA7C-8-水平",22]
[4706,0,23000,5699,4705,4707,"RCP6CR-HSA7C-8-水平",23]
[4707,0,24000,5701,4706,4708,"RCP6CR-HSA7C-8-水平",24]
[4708,0,25000,5703,4707,4709,"RCP6CR-HSA7C-8-水平",25]
[4709,0,26000,5705,4708,4710,"RCP6CR-HSA7C-8-水平",26]
[4710,0,27000,5706,4709,4711,"RCP6CR-HSA7C-8-水平",27]
[4711,0,28000,5707,4710,4712,"RCP6CR-HSA7C-8-水平",28]
[4712,0,29000,5708,4711,4713,"RCP6CR-HSA7C-8-水平",29]
[4713,0,30000,5709,4712,4714,"RCP6CR-HSA7C-8-水平",30]
[4714,0,31000,5710,4713,4715,"RCP6CR-HSA7C-8-水平",31]
[4715,0,32000,5711,4714,4716,"RCP6CR-HSA7C-8-水平",32]
[4716,0,33000,5712,4715,4717,"RCP6CR-HSA7C-8-水平",33]
[4717,0,34000,5713,4716,4718,"RCP6CR-HSA7C-8-水平",34]
[4718,0,35000,5714,4717,4719,"RCP6CR-HSA7C-8-水平",35]
[4719,0,36000,5715,4718,4720,"RCP6CR-HSA7C-8-水平",36]
[4720,0,37000,5716,4719,4721,"RCP6CR-HSA7C-8-水平",37]
[4721,0,38000,5717,4720,4722,"RCP6CR-HSA7C-8-水平",38]
[4722,0,39000,5718,4721,4723,"RCP6CR-HSA7C-8-水平",39]
[4723,0,40000,5719,4722,4724,"RCP6CR-HSA7C-8-水平",40]
[4724,1,1500,5720,4723,4725,"RCP6CR-HSA7C-8-垂直",1.5]
[4725,1,2000,5721,4724,4726,"RCP6CR-HSA7C-8-垂直",2]
[4726,1,3000,5722,4725,4727,"RCP6CR-HSA7C-8-垂直",3]
[4727,1,4000,5723,4726,4728,"RCP6CR-HSA7C-8-垂直",4]
[4728,1,5000,5724,4727,4729,"RCP6CR-HSA7C-8-垂直",5]
[4729,1,6000,5725,4728,4730,"RCP6CR-HSA7C-8-垂直",6]
[4730,1,7000,5726,4729,4731,"RCP6CR-HSA7C-8-垂直",7]
[4731,1,8000,5727,4730,4732,"RCP6CR-HSA7C-8-垂直",8]
[4732,1,9000,5728,4731,4733,"RCP6CR-HSA7C-8-垂直",9]
[4733,1,10000,5729,4732,-1,"RCP6CR-HSA7C-8-垂直",10]
[4734,0,500,5730,-1,4735,"RCP6CR-HSA7C-16-水平",0.5]
[4735,0,1000,5731,4734,4736,"RCP6CR-HSA7C-16-水平",1]
[4736,0,2000,5732,4735,4737,"RCP6CR-HSA7C-16-水平",2]
[4737,0,3000,5733,4736,4738,"RCP6CR-HSA7C-16-水平",3]
[4738,0,4000,5734,4737,4739,"RCP6CR-HSA7C-16-水平",4]
[4739,0,5000,5735,4738,4740,"RCP6CR-HSA7C-16-水平",5]
[4740,0,6000,5736,4739,4741,"RCP6CR-HSA7C-16-水平",6]
[4741,0,7000,5737,4740,4742,"RCP6CR-HSA7C-16-水平",7]
[4742,0,8000,5739,4741,4743,"RCP6CR-HSA7C-16-水平",8]
[4743,0,9000,5741,4742,4744,"RCP6CR-HSA7C-16-水平",9]
[4744,0,10000,5743,4743,4745,"RCP6CR-HSA7C-16-水平",10]
[4745,0,11000,5745,4744,4746,"RCP6CR-HSA7C-16-水平",11]
[4746,0,12000,5747,4745,4747,"RCP6CR-HSA7C-16-水平",12]
[4747,0,13000,5749,4746,4748,"RCP6CR-HSA7C-16-水平",13]
[4748,0,14000,5751,4747,4749,"RCP6CR-HSA7C-16-水平",14]
[4749,0,15000,5753,4748,4750,"RCP6CR-HSA7C-16-水平",15]
[4750,0,16000,5755,4749,4751,"RCP6CR-HSA7C-16-水平",16]
[4751,0,17000,5757,4750,4752,"RCP6CR-HSA7C-16-水平",17]
[4752,0,18000,5759,4751,4753,"RCP6CR-HSA7C-16-水平",18]
[4753,0,19000,5761,4752,4754,"RCP6CR-HSA7C-16-水平",19]
[4754,0,20000,5763,4753,4755,"RCP6CR-HSA7C-16-水平",20]
[4755,0,21000,5765,4754,4756,"RCP6CR-HSA7C-16-水平",21]
[4756,0,22000,5766,4755,4757,"RCP6CR-HSA7C-16-水平",22]
[4757,0,23000,5767,4756,4758,"RCP6CR-HSA7C-16-水平",23]
[4758,0,24000,5768,4757,4759,"RCP6CR-HSA7C-16-水平",24]
[4759,0,25000,5769,4758,4760,"RCP6CR-HSA7C-16-水平",25]
[4760,0,26000,5770,4759,4761,"RCP6CR-HSA7C-16-水平",26]
[4761,0,27000,5771,4760,4762,"RCP6CR-HSA7C-16-水平",27]
[4762,0,28000,5772,4761,4763,"RCP6CR-HSA7C-16-水平",28]
[4763,0,29000,5773,4762,4764,"RCP6CR-HSA7C-16-水平",29]
[4764,0,30000,5774,4763,4765,"RCP6CR-HSA7C-16-水平",30]
[4765,0,31000,5775,4764,4766,"RCP6CR-HSA7C-16-水平",31]
[4766,0,32000,5776,4765,4767,"RCP6CR-HSA7C-16-水平",32]
[4767,0,33000,5777,4766,4768,"RCP6CR-HSA7C-16-水平",33]
[4768,0,34000,5778,4767,4769,"RCP6CR-HSA7C-16-水平",34]
[4769,0,35000,5779,4768,4770,"RCP6CR-HSA7C-16-水平",35]
[4770,1,500,5780,4769,4771,"RCP6CR-HSA7C-16-垂直",0.5]
[4771,1,1000,5781,4770,4772,"RCP6CR-HSA7C-16-垂直",1]
[4772,1,1500,5782,4771,4773,"RCP6CR-HSA7C-16-垂直",1.5]
[4773,1,2000,5783,4772,4774,"RCP6CR-HSA7C-16-垂直",2]
[4774,1,3000,5784,4773,4775,"RCP6CR-HSA7C-16-垂直",3]
[4775,1,4000,5785,4774,4776,"RCP6CR-HSA7C-16-垂直",4]
[4776,1,5000,5786,4775,-1,"RCP6CR-HSA7C-16-垂直",5]
[4777,0,500,5787,-1,4778,"RCP6CR-HSA7C-24-水平",0.5]
[4778,0,1000,5788,4777,4779,"RCP6CR-HSA7C-24-水平",1]
[4779,0,2000,5789,4778,4780,"RCP6CR-HSA7C-24-水平",2]
[4780,0,3000,5790,4779,4781,"RCP6CR-HSA7C-24-水平",3]
[4781,0,4000,5791,4780,4782,"RCP6CR-HSA7C-24-水平",4]
[4782,0,5000,5793,4781,4783,"RCP6CR-HSA7C-24-水平",5]
[4783,0,6000,5795,4782,4784,"RCP6CR-HSA7C-24-水平",6]
[4784,0,7000,5797,4783,4785,"RCP6CR-HSA7C-24-水平",7]
[4785,0,8000,5799,4784,4786,"RCP6CR-HSA7C-24-水平",8]
[4786,0,9000,5801,4785,4787,"RCP6CR-HSA7C-24-水平",9]
[4787,0,10000,5803,4786,4788,"RCP6CR-HSA7C-24-水平",10]
[4788,0,11000,5805,4787,4789,"RCP6CR-HSA7C-24-水平",11]
[4789,0,12000,5806,4788,4790,"RCP6CR-HSA7C-24-水平",12]
[4790,0,13000,5807,4789,4791,"RCP6CR-HSA7C-24-水平",13]
[4791,0,14000,5808,4790,4792,"RCP6CR-HSA7C-24-水平",14]
[4792,0,15000,5809,4791,4793,"RCP6CR-HSA7C-24-水平",15]
[4793,0,16000,5810,4792,4794,"RCP6CR-HSA7C-24-水平",16]
[4794,0,17000,5811,4793,4795,"RCP6CR-HSA7C-24-水平",17]
[4795,0,18000,5812,4794,4796,"RCP6CR-HSA7C-24-水平",18]
[4796,1,500,5813,4795,4797,"RCP6CR-HSA7C-24-垂直",0.5]
[4797,1,1000,5814,4796,4798,"RCP6CR-HSA7C-24-垂直",1]
[4798,1,2000,5815,4797,-1,"RCP6CR-HSA7C-24-垂直",2]
[4799,0,6000,5816,-1,4800,"RCP6CR-HSA7C-W-4-水平",6]
[4800,0,7000,5817,4799,4801,"RCP6CR-HSA7C-W-4-水平",7]
[4801,0,8000,5818,4800,4802,"RCP6CR-HSA7C-W-4-水平",8]
[4802,0,9000,5819,4801,4803,"RCP6CR-HSA7C-W-4-水平",9]
[4803,0,10000,5820,4802,4804,"RCP6CR-HSA7C-W-4-水平",10]
[4804,0,11000,5821,4803,4805,"RCP6CR-HSA7C-W-4-水平",11]
[4805,0,12000,5822,4804,4806,"RCP6CR-HSA7C-W-4-水平",12]
[4806,0,13000,5823,4805,4807,"RCP6CR-HSA7C-W-4-水平",13]
[4807,0,14000,5824,4806,4808,"RCP6CR-HSA7C-W-4-水平",14]
[4808,0,15000,5825,4807,4809,"RCP6CR-HSA7C-W-4-水平",15]
[4809,0,16000,5826,4808,4810,"RCP6CR-HSA7C-W-4-水平",16]
[4810,0,17000,5827,4809,4811,"RCP6CR-HSA7C-W-4-水平",17]
[4811,0,18000,5828,4810,4812,"RCP6CR-HSA7C-W-4-水平",18]
[4812,0,19000,5829,4811,4813,"RCP6CR-HSA7C-W-4-水平",19]
[4813,0,20000,5830,4812,4814,"RCP6CR-HSA7C-W-4-水平",20]
[4814,0,21000,5831,4813,4815,"RCP6CR-HSA7C-W-4-水平",21]
[4815,0,22000,5832,4814,4816,"RCP6CR-HSA7C-W-4-水平",22]
[4816,0,23000,5833,4815,4817,"RCP6CR-HSA7C-W-4-水平",23]
[4817,0,24000,5834,4816,4818,"RCP6CR-HSA7C-W-4-水平",24]
[4818,0,25000,5835,4817,4819,"RCP6CR-HSA7C-W-4-水平",25]
[4819,0,26000,5836,4818,4820,"RCP6CR-HSA7C-W-4-水平",26]
[4820,0,27000,5838,4819,4821,"RCP6CR-HSA7C-W-4-水平",27]
[4821,0,28000,5840,4820,4822,"RCP6CR-HSA7C-W-4-水平",28]
[4822,0,29000,5842,4821,4823,"RCP6CR-HSA7C-W-4-水平",29]
[4823,0,30000,5843,4822,4824,"RCP6CR-HSA7C-W-4-水平",30]
[4824,0,31000,5844,4823,4825,"RCP6CR-HSA7C-W-4-水平",31]
[4825,0,32000,5845,4824,4826,"RCP6CR-HSA7C-W-4-水平",32]
[4826,0,33000,5846,4825,4827,"RCP6CR-HSA7C-W-4-水平",33]
[4827,0,34000,5847,4826,4828,"RCP6CR-HSA7C-W-4-水平",34]
[4828,0,35000,5848,4827,4829,"RCP6CR-HSA7C-W-4-水平",35]
[4829,0,36000,5849,4828,4830,"RCP6CR-HSA7C-W-4-水平",36]
[4830,0,37000,5850,4829,4831,"RCP6CR-HSA7C-W-4-水平",37]
[4831,0,38000,5851,4830,4832,"RCP6CR-HSA7C-W-4-水平",38]
[4832,1,4000,5852,4831,4833,"RCP6CR-HSA7C-W-4-垂直",4]
[4833,1,5000,5853,4832,4834,"RCP6CR-HSA7C-W-4-垂直",5]
[4834,1,6000,5854,4833,4835,"RCP6CR-HSA7C-W-4-垂直",6]
[4835,1,7000,5855,4834,4836,"RCP6CR-HSA7C-W-4-垂直",7]
[4836,1,8000,5856,4835,4837,"RCP6CR-HSA7C-W-4-垂直",8]
[4837,1,9000,5857,4836,4838,"RCP6CR-HSA7C-W-4-垂直",9]
[4838,1,10000,5858,4837,4839,"RCP6CR-HSA7C-W-4-垂直",10]
[4839,1,11000,5859,4838,4840,"RCP6CR-HSA7C-W-4-垂直",11]
[4840,1,12000,5860,4839,4841,"RCP6CR-HSA7C-W-4-垂直",12]
[4841,1,13000,5861,4840,-1,"RCP6CR-HSA7C-W-4-垂直",13]
[4842,0,5000,5862,-1,4843,"RCP6CR-HSA7C-W-8-水平",5]
[4843,0,6000,5863,4842,4844,"RCP6CR-HSA7C-W-8-水平",6]
[4844,0,7000,5864,4843,4845,"RCP6CR-HSA7C-W-8-水平",7]
[4845,0,8000,5865,4844,4846,"RCP6CR-HSA7C-W-8-水平",8]
[4846,0,9000,5866,4845,4847,"RCP6CR-HSA7C-W-8-水平",9]
[4847,0,10000,5867,4846,4848,"RCP6CR-HSA7C-W-8-水平",10]
[4848,0,11000,5869,4847,4849,"RCP6CR-HSA7C-W-8-水平",11]
[4849,0,12000,5871,4848,4850,"RCP6CR-HSA7C-W-8-水平",12]
[4850,0,13000,5873,4849,4851,"RCP6CR-HSA7C-W-8-水平",13]
[4851,0,14000,5875,4850,4852,"RCP6CR-HSA7C-W-8-水平",14]
[4852,0,15000,5877,4851,4853,"RCP6CR-HSA7C-W-8-水平",15]
[4853,0,16000,5879,4852,4854,"RCP6CR-HSA7C-W-8-水平",16]
[4854,0,17000,5881,4853,4855,"RCP6CR-HSA7C-W-8-水平",17]
[4855,0,18000,5883,4854,4856,"RCP6CR-HSA7C-W-8-水平",18]
[4856,0,19000,5885,4855,4857,"RCP6CR-HSA7C-W-8-水平",19]
[4857,0,20000,5887,4856,4858,"RCP6CR-HSA7C-W-8-水平",20]
[4858,0,21000,5889,4857,4859,"RCP6CR-HSA7C-W-8-水平",21]
[4859,0,22000,5891,4858,4860,"RCP6CR-HSA7C-W-8-水平",22]
[4860,0,23000,5893,4859,4861,"RCP6CR-HSA7C-W-8-水平",23]
[4861,0,24000,5895,4860,4862,"RCP6CR-HSA7C-W-8-水平",24]
[4862,0,25000,5896,4861,4863,"RCP6CR-HSA7C-W-8-水平",25]
[4863,0,26000,5897,4862,4864,"RCP6CR-HSA7C-W-8-水平",26]
[4864,0,27000,5898,4863,4865,"RCP6CR-HSA7C-W-8-水平",27]
[4865,0,28000,5899,4864,4866,"RCP6CR-HSA7C-W-8-水平",28]
[4866,0,29000,5900,4865,4867,"RCP6CR-HSA7C-W-8-水平",29]
[4867,0,30000,5901,4866,4868,"RCP6CR-HSA7C-W-8-水平",30]
[4868,0,31000,5902,4867,4869,"RCP6CR-HSA7C-W-8-水平",31]
[4869,0,32000,5903,4868,4870,"RCP6CR-HSA7C-W-8-水平",32]
[4870,0,33000,5904,4869,4871,"RCP6CR-HSA7C-W-8-水平",33]
[4871,0,34000,5905,4870,4872,"RCP6CR-HSA7C-W-8-水平",34]
[4872,0,35000,5906,4871,4873,"RCP6CR-HSA7C-W-8-水平",35]
[4873,0,36000,5907,4872,4874,"RCP6CR-HSA7C-W-8-水平",36]
[4874,0,37000,5908,4873,4875,"RCP6CR-HSA7C-W-8-水平",37]
[4875,0,38000,5909,4874,4876,"RCP6CR-HSA7C-W-8-水平",38]
[4876,1,2000,5910,4875,4877,"RCP6CR-HSA7C-W-8-垂直",2]
[4877,1,3000,5911,4876,4878,"RCP6CR-HSA7C-W-8-垂直",3]
[4878,1,4000,5912,4877,4879,"RCP6CR-HSA7C-W-8-垂直",4]
[4879,1,5000,5913,4878,4880,"RCP6CR-HSA7C-W-8-垂直",5]
[4880,1,6000,5914,4879,4881,"RCP6CR-HSA7C-W-8-垂直",6]
[4881,1,7000,5915,4880,4882,"RCP6CR-HSA7C-W-8-垂直",7]
[4882,1,8000,5916,4881,-1,"RCP6CR-HSA7C-W-8-垂直",8]
[4883,0,3000,5917,-1,4884,"RCP6CR-HSA7C-W-16-水平",3]
[4884,0,4000,5918,4883,4885,"RCP6CR-HSA7C-W-16-水平",4]
[4885,0,5000,5919,4884,4886,"RCP6CR-HSA7C-W-16-水平",5]
[4886,0,6000,5920,4885,4887,"RCP6CR-HSA7C-W-16-水平",6]
[4887,0,7000,5921,4886,4888,"RCP6CR-HSA7C-W-16-水平",7]
[4888,0,8000,5922,4887,4889,"RCP6CR-HSA7C-W-16-水平",8]
[4889,0,9000,5923,4888,4890,"RCP6CR-HSA7C-W-16-水平",9]
[4890,0,10000,5924,4889,4891,"RCP6CR-HSA7C-W-16-水平",10]
[4891,0,11000,5926,4890,4892,"RCP6CR-HSA7C-W-16-水平",11]
[4892,0,12000,5928,4891,4893,"RCP6CR-HSA7C-W-16-水平",12]
[4893,0,13000,5930,4892,4894,"RCP6CR-HSA7C-W-16-水平",13]
[4894,0,14000,5932,4893,4895,"RCP6CR-HSA7C-W-16-水平",14]
[4895,0,15000,5934,4894,4896,"RCP6CR-HSA7C-W-16-水平",15]
[4896,0,16000,5936,4895,4897,"RCP6CR-HSA7C-W-16-水平",16]
[4897,0,17000,5938,4896,4898,"RCP6CR-HSA7C-W-16-水平",17]
[4898,0,18000,5940,4897,4899,"RCP6CR-HSA7C-W-16-水平",18]
[4899,0,19000,5942,4898,4900,"RCP6CR-HSA7C-W-16-水平",19]
[4900,0,20000,5943,4899,4901,"RCP6CR-HSA7C-W-16-水平",20]
[4901,0,21000,5944,4900,4902,"RCP6CR-HSA7C-W-16-水平",21]
[4902,0,22000,5945,4901,4903,"RCP6CR-HSA7C-W-16-水平",22]
[4903,0,23000,5946,4902,4904,"RCP6CR-HSA7C-W-16-水平",23]
[4904,0,24000,5947,4903,4905,"RCP6CR-HSA7C-W-16-水平",24]
[4905,0,25000,5948,4904,4906,"RCP6CR-HSA7C-W-16-水平",25]
[4906,0,26000,5949,4905,4907,"RCP6CR-HSA7C-W-16-水平",26]
[4907,0,27000,5950,4906,4908,"RCP6CR-HSA7C-W-16-水平",27]
[4908,0,28000,5951,4907,4909,"RCP6CR-HSA7C-W-16-水平",28]
[4909,0,29000,5952,4908,4910,"RCP6CR-HSA7C-W-16-水平",29]
[4910,0,30000,5953,4909,4911,"RCP6CR-HSA7C-W-16-水平",30]
[4911,0,31000,5954,4910,4912,"RCP6CR-HSA7C-W-16-水平",31]
[4912,0,32000,5955,4911,4913,"RCP6CR-HSA7C-W-16-水平",32]
[4913,0,33000,5956,4912,-1,"RCP6CR-HSA7C-W-16-水平",33]
[4914,0,8000,5957,-1,4915,"RCP6CR-HSA7XC-4-4-水平",8]
[4915,0,9000,5958,4914,4916,"RCP6CR-HSA7XC-4-4-水平",9]
[4916,0,10000,5959,4915,4917,"RCP6CR-HSA7XC-4-4-水平",10]
[4917,0,11000,5960,4916,4918,"RCP6CR-HSA7XC-4-4-水平",11]
[4918,0,12000,5961,4917,4919,"RCP6CR-HSA7XC-4-4-水平",12]
[4919,0,13000,5962,4918,4920,"RCP6CR-HSA7XC-4-4-水平",13]
[4920,0,14000,5963,4919,4921,"RCP6CR-HSA7XC-4-4-水平",14]
[4921,0,15000,5964,4920,4922,"RCP6CR-HSA7XC-4-4-水平",15]
[4922,0,16000,5965,4921,4923,"RCP6CR-HSA7XC-4-4-水平",16]
[4923,0,17000,5966,4922,4924,"RCP6CR-HSA7XC-4-4-水平",17]
[4924,0,18000,5967,4923,4925,"RCP6CR-HSA7XC-4-4-水平",18]
[4925,0,19000,5968,4924,4926,"RCP6CR-HSA7XC-4-4-水平",19]
[4926,0,20000,5969,4925,4927,"RCP6CR-HSA7XC-4-4-水平",20]
[4927,0,21000,5971,4926,4928,"RCP6CR-HSA7XC-4-4-水平",21]
[4928,0,22000,5973,4927,4929,"RCP6CR-HSA7XC-4-4-水平",22]
[4929,0,23000,5975,4928,4930,"RCP6CR-HSA7XC-4-4-水平",23]
[4930,0,24000,5977,4929,4931,"RCP6CR-HSA7XC-4-4-水平",24]
[4931,0,25000,5979,4930,4932,"RCP6CR-HSA7XC-4-4-水平",25]
[4932,0,26000,5981,4931,4933,"RCP6CR-HSA7XC-4-4-水平",26]
[4933,0,27000,5983,4932,4934,"RCP6CR-HSA7XC-4-4-水平",27]
[4934,0,28000,5985,4933,4935,"RCP6CR-HSA7XC-4-4-水平",28]
[4935,0,29000,5987,4934,4936,"RCP6CR-HSA7XC-4-4-水平",29]
[4936,0,30000,5989,4935,4937,"RCP6CR-HSA7XC-4-4-水平",30]
[4937,0,31000,5991,4936,4938,"RCP6CR-HSA7XC-4-4-水平",31]
[4938,0,32000,5992,4937,4939,"RCP6CR-HSA7XC-4-4-水平",32]
[4939,0,33000,5993,4938,4940,"RCP6CR-HSA7XC-4-4-水平",33]
[4940,0,34000,5994,4939,4941,"RCP6CR-HSA7XC-4-4-水平",34]
[4941,0,35000,5995,4940,4942,"RCP6CR-HSA7XC-4-4-水平",35]
[4942,0,36000,5996,4941,4943,"RCP6CR-HSA7XC-4-4-水平",36]
[4943,0,37000,5997,4942,4944,"RCP6CR-HSA7XC-4-4-水平",37]
[4944,0,38000,5998,4943,4945,"RCP6CR-HSA7XC-4-4-水平",38]
[4945,0,39000,5999,4944,4946,"RCP6CR-HSA7XC-4-4-水平",39]
[4946,0,40000,6000,4945,4947,"RCP6CR-HSA7XC-4-4-水平",40]
[4947,1,8000,6001,4946,4948,"RCP6CR-HSA7XC-4-4-垂直",8]
[4948,1,9000,6002,4947,4949,"RCP6CR-HSA7XC-4-4-垂直",9]
[4949,1,10000,6003,4948,4950,"RCP6CR-HSA7XC-4-4-垂直",10]
[4950,1,11000,6004,4949,4951,"RCP6CR-HSA7XC-4-4-垂直",11]
[4951,1,12000,6005,4950,4952,"RCP6CR-HSA7XC-4-4-垂直",12]
[4952,1,13000,6006,4951,4953,"RCP6CR-HSA7XC-4-4-垂直",13]
[4953,1,14000,6007,4952,4954,"RCP6CR-HSA7XC-4-4-垂直",14]
[4954,1,15000,6008,4953,-1,"RCP6CR-HSA7XC-4-4-垂直",15]
[4955,0,14000,6009,-1,4956,"RCP6CR-HSA7XC-8-8-水平",14]
[4956,0,15000,6010,4955,4957,"RCP6CR-HSA7XC-8-8-水平",15]
[4957,0,16000,6011,4956,4958,"RCP6CR-HSA7XC-8-8-水平",16]
[4958,0,17000,6012,4957,4959,"RCP6CR-HSA7XC-8-8-水平",17]
[4959,0,18000,6013,4958,4960,"RCP6CR-HSA7XC-8-8-水平",18]
[4960,0,19000,6014,4959,4961,"RCP6CR-HSA7XC-8-8-水平",19]
[4961,0,20000,6015,4960,4962,"RCP6CR-HSA7XC-8-8-水平",20]
[4962,0,21000,6016,4961,4963,"RCP6CR-HSA7XC-8-8-水平",21]
[4963,0,22000,6017,4962,4964,"RCP6CR-HSA7XC-8-8-水平",22]
[4964,0,23000,6018,4963,4965,"RCP6CR-HSA7XC-8-8-水平",23]
[4965,0,24000,6019,4964,4966,"RCP6CR-HSA7XC-8-8-水平",24]
[4966,0,25000,6020,4965,4967,"RCP6CR-HSA7XC-8-8-水平",25]
[4967,0,26000,6022,4966,4968,"RCP6CR-HSA7XC-8-8-水平",26]
[4968,0,27000,6023,4967,4969,"RCP6CR-HSA7XC-8-8-水平",27]
[4969,0,28000,6024,4968,4970,"RCP6CR-HSA7XC-8-8-水平",28]
[4970,0,29000,6025,4969,4971,"RCP6CR-HSA7XC-8-8-水平",29]
[4971,0,30000,6026,4970,4972,"RCP6CR-HSA7XC-8-8-水平",30]
[4972,0,31000,6027,4971,4973,"RCP6CR-HSA7XC-8-8-水平",31]
[4973,0,32000,6028,4972,4974,"RCP6CR-HSA7XC-8-8-水平",32]
[4974,0,33000,6029,4973,4975,"RCP6CR-HSA7XC-8-8-水平",33]
[4975,0,34000,6030,4974,4976,"RCP6CR-HSA7XC-8-8-水平",34]
[4976,0,35000,6031,4975,4977,"RCP6CR-HSA7XC-8-8-水平",35]
[4977,0,36000,6032,4976,4978,"RCP6CR-HSA7XC-8-8-水平",36]
[4978,0,37000,6033,4977,4979,"RCP6CR-HSA7XC-8-8-水平",37]
[4979,0,38000,6034,4978,4980,"RCP6CR-HSA7XC-8-8-水平",38]
[4980,0,39000,6035,4979,4981,"RCP6CR-HSA7XC-8-8-水平",39]
[4981,0,40000,6036,4980,4982,"RCP6CR-HSA7XC-8-8-水平",40]
[4982,1,4000,6037,4981,4983,"RCP6CR-HSA7XC-8-8-垂直",4]
[4983,1,5000,6038,4982,4984,"RCP6CR-HSA7XC-8-8-垂直",5]
[4984,1,6000,6039,4983,4985,"RCP6CR-HSA7XC-8-8-垂直",6]
[4985,1,7000,6040,4984,4986,"RCP6CR-HSA7XC-8-8-垂直",7]
[4986,1,8000,6041,4985,4987,"RCP6CR-HSA7XC-8-8-垂直",8]
[4987,1,9000,6042,4986,4988,"RCP6CR-HSA7XC-8-8-垂直",9]
[4988,1,10000,6043,4987,-1,"RCP6CR-HSA7XC-8-8-垂直",10]
[4989,0,4000,6044,-1,4990,"RCP6CR-HSA7XC-16-16-水平",4]
[4990,0,5000,6046,4989,4991,"RCP6CR-HSA7XC-16-16-水平",5]
[4991,0,6000,6048,4990,4992,"RCP6CR-HSA7XC-16-16-水平",6]
[4992,0,7000,6050,4991,4993,"RCP6CR-HSA7XC-16-16-水平",7]
[4993,0,8000,6052,4992,4994,"RCP6CR-HSA7XC-16-16-水平",8]
[4994,0,9000,6054,4993,4995,"RCP6CR-HSA7XC-16-16-水平",9]
[4995,0,10000,6056,4994,4996,"RCP6CR-HSA7XC-16-16-水平",10]
[4996,0,11000,6058,4995,4997,"RCP6CR-HSA7XC-16-16-水平",11]
[4997,0,12000,6060,4996,4998,"RCP6CR-HSA7XC-16-16-水平",12]
[4998,0,13000,6062,4997,4999,"RCP6CR-HSA7XC-16-16-水平",13]
[4999,0,14000,6064,4998,5000,"RCP6CR-HSA7XC-16-16-水平",14]
[5000,0,15000,6066,4999,5001,"RCP6CR-HSA7XC-16-16-水平",15]
[5001,0,16000,6068,5000,5002,"RCP6CR-HSA7XC-16-16-水平",16]
[5002,0,17000,6070,5001,5003,"RCP6CR-HSA7XC-16-16-水平",17]
[5003,0,18000,6072,5002,5004,"RCP6CR-HSA7XC-16-16-水平",18]
[5004,0,19000,6074,5003,5005,"RCP6CR-HSA7XC-16-16-水平",19]
[5005,0,20000,6076,5004,5006,"RCP6CR-HSA7XC-16-16-水平",20]
[5006,0,21000,6078,5005,5007,"RCP6CR-HSA7XC-16-16-水平",21]
[5007,0,22000,6079,5006,5008,"RCP6CR-HSA7XC-16-16-水平",22]
[5008,0,23000,6080,5007,5009,"RCP6CR-HSA7XC-16-16-水平",23]
[5009,0,24000,6081,5008,5010,"RCP6CR-HSA7XC-16-16-水平",24]
[5010,0,25000,6082,5009,5011,"RCP6CR-HSA7XC-16-16-水平",25]
[5011,0,26000,6083,5010,5012,"RCP6CR-HSA7XC-16-16-水平",26]
[5012,0,27000,6084,5011,5013,"RCP6CR-HSA7XC-16-16-水平",27]
[5013,0,28000,6085,5012,5014,"RCP6CR-HSA7XC-16-16-水平",28]
[5014,0,29000,6086,5013,5015,"RCP6CR-HSA7XC-16-16-水平",29]
[5015,0,30000,6087,5014,5016,"RCP6CR-HSA7XC-16-16-水平",30]
[5016,0,31000,6088,5015,5017,"RCP6CR-HSA7XC-16-16-水平",31]
[5017,0,32000,6089,5016,5018,"RCP6CR-HSA7XC-16-16-水平",32]
[5018,0,33000,6090,5017,5019,"RCP6CR-HSA7XC-16-16-水平",33]
[5019,0,34000,6091,5018,5020,"RCP6CR-HSA7XC-16-16-水平",34]
[5020,0,35000,6092,5019,5021,"RCP6CR-HSA7XC-16-16-水平",35]
[5021,1,1500,6093,5020,5022,"RCP6CR-HSA7XC-16-16-垂直",1.5]
[5022,1,2000,6094,5021,5023,"RCP6CR-HSA7XC-16-16-垂直",2]
[5023,1,3000,6095,5022,5024,"RCP6CR-HSA7XC-16-16-垂直",3]
[5024,1,4000,6096,5023,5025,"RCP6CR-HSA7XC-16-16-垂直",4]
[5025,1,5000,6097,5024,-1,"RCP6CR-HSA7XC-16-16-垂直",5]
[5026,0,1000,6098,-1,5027,"RCP6CR-HSA7XC-24-24-水平",1]
[5027,0,2000,6099,5026,5028,"RCP6CR-HSA7XC-24-24-水平",2]
[5028,0,3000,6101,5027,5029,"RCP6CR-HSA7XC-24-24-水平",3]
[5029,0,4000,6103,5028,5030,"RCP6CR-HSA7XC-24-24-水平",4]
[5030,0,5000,6105,5029,5031,"RCP6CR-HSA7XC-24-24-水平",5]
[5031,0,6000,6107,5030,5032,"RCP6CR-HSA7XC-24-24-水平",6]
[5032,0,7000,6109,5031,5033,"RCP6CR-HSA7XC-24-24-水平",7]
[5033,0,8000,6111,5032,5034,"RCP6CR-HSA7XC-24-24-水平",8]
[5034,0,9000,6113,5033,5035,"RCP6CR-HSA7XC-24-24-水平",9]
[5035,0,10000,6115,5034,5036,"RCP6CR-HSA7XC-24-24-水平",10]
[5036,0,11000,6117,5035,5037,"RCP6CR-HSA7XC-24-24-水平",11]
[5037,0,12000,6118,5036,5038,"RCP6CR-HSA7XC-24-24-水平",12]
[5038,0,13000,6119,5037,5039,"RCP6CR-HSA7XC-24-24-水平",13]
[5039,0,14000,6120,5038,5040,"RCP6CR-HSA7XC-24-24-水平",14]
[5040,0,15000,6121,5039,5041,"RCP6CR-HSA7XC-24-24-水平",15]
[5041,0,16000,6122,5040,5042,"RCP6CR-HSA7XC-24-24-水平",16]
[5042,0,17000,6123,5041,5043,"RCP6CR-HSA7XC-24-24-水平",17]
[5043,0,18000,6124,5042,5044,"RCP6CR-HSA7XC-24-24-水平",18]
[5044,1,1000,6125,5043,5045,"RCP6CR-HSA7XC-24-24-垂直",1]
[5045,1,2000,6126,5044,-1,"RCP6CR-HSA7XC-24-24-垂直",2,"↑ Ver.4.3 追加"]
["EOF"]

{"sheet":"AccVelDataLink","index":6,"n_rows":6130,"n_cols":11,"rows_kept":6130,"cut":false,"hidden":true,"merged":[[3670,6,3671,6],[3713,6,3714,6],[3566,6,3567,6],[3578,6,3579,6],[3621,6,3622,6],[3638,6,3639,6],[3648,6,3649,6],[3658,6,3659,6],[3506,6,3507,6],[3522,6,3523,6],[3529,6,3530,6],[3538,6,3539,6],[3546,6,3547,6],[3556,6,3557,6],[3434,6,3435,6],[3441,6,3442,6],[3450,6,3451,6],[3468,6,3469,6],[3500,6,3501,6],[3503,6,3504,6],[3249,6,3250,6],[3326,6,3327,6],[3380,6,3381,6],[3412,6,3413,6],[3415,6,3416,6],[3418,6,3419,6],[3121,6,3122,6],[3132,6,3133,6],[3143,6,3144,6],[3166,6,3167,6],[3169,6,3170,6],[3178,6,3179,6],[3054,6,3055,6],[3057,6,3058,6],[3066,6,3067,6],[3104,6,3105,6],[3106,6,3107,6],[3108,6,3109,6],[2992,6,2993,6],[2994,6,2995,6],[2996,6,2997,6],[3009,6,3010,6],[3020,6,3021,6],[3031,6,3032,6],[2905,6,2906,6],[2916,6,2917,6],[2939,6,2940,6],[2942,6,2943,6],[2951,6,2952,6],[2953,6,2954,6],[2836,6,2837,6],[2838,6,2839,6],[2877,6,2878,6],[2879,6,2880,6],[2881,6,2882,6],[2894,6,2895,6],[2766,6,2767,6],[2779,6,2780,6],[2790,6,2791,6],[2801,6,2802,6],[2824,6,2825,6],[2827,6,2828,6],[2682,6,2683,6],[2702,6,2703,6],[2714,6,2715,6],[2716,6,2717,6],[2762,6,2763,6],[2764,6,2765,6],[2554,6,2555,6],[2576,6,2577,6],[2593,6,2594,6],[2613,6,2614,6],[2625,6,2626,6],[2627,6,2628,6],[2488,6,2489,6],[2490,6,2491,6],[2492,6,2493,6],[2499,6,2500,6],[2524,6,2525,6],[2537,6,2538,6],[2455,6,2456,6],[2462,6,2463,6],[2464,6,2465,6],[2466,6,2467,6],[2474,6,2475,6],[2476,6,2477,6],[2391,6,2392,6],[2404,6,2405,6],[2421,6,2422,6],[2443,6,2444,6],[2451,6,2452,6],[2453,6,2454,6],[2341,6,2342,6],[2343,6,2344,6],[2355,6,2356,6],[2357,6,2358,6],[2359,6,2360,6],[2366,6,2367,6],[2318,6,2319,6],[2320,6,2321,6],[2322,6,2323,6],[2329,6,2330,6],[2331,6,2332,6],[2333,6,2334,6],[3638,5,3639,5],[3648,5,3649,5],[3658,5,3659,5],[2391,5,2392,5],[2404,5,2405,5],[2421,5,2422,5],[2443,5,2444,5],[2451,5,2452,5],[2453,5,2454,5],[2341,5,2342,5],[2343,5,2344,5],[2355,5,2356,5],[2357,5,2358,5],[2359,5,2360,5],[2366,5,2367,5],[2318,5,2319,5],[2320,5,2321,5],[2322,5,2323,5],[3670,5,3671,5],[3713,5,3714,5],[3538,5,3539,5],[3546,5,3547,5],[3556,5,3557,5],[3566,5,3567,5],[3578,5,3579,5],[3621,5,3622,5],[2455,5,2456,5],[2462,5,2463,5],[2464,5,2465,5],[2466,5,2467,5],[2524,5,2525,5],[2537,5,2538,5],[2554,5,2555,5],[2576,5,2577,5],[2593,5,2594,5],[2613,5,2614,5],[2625,5,2626,5],[2627,5,2628,5],[2682,5,2683,5],[2702,5,2703,5],[2714,5,2715,5],[2716,5,2717,5],[2101,6,2102,6],[2107,6,2108,6],[2110,6,2111,6],[2112,6,2113,6],[2112,5,2113,5],[2110,5,2111,5],[2107,5,2108,5],[2101,5,2102,5],[2081,6,2082,6],[2086,6,2087,6],[2089,6,2090,6],[2094,6,2095,6],[2094,5,2095,5],[2089,5,2090,5],[2086,5,2087,5],[2081,5,2082,5],[2049,6,2050,6],[2055,6,2056,6],[2055,5,2056,5],[2049,5,2050,5],[2068,6,2069,6],[2070,6,2072,6],[2068,5,2069,5],[2070,5,2072,5],[2042,6,2043,6],[2030,5,2031,5],[2033,5,2035,5],[2037,5,2038,5],[2039,5,2040,5],[2042,5,2043,5],[2019,6,2020,6],[2019,5,2020,5],[2030,6,2031,6],[2033,6,2035,6],[2037,6,2038,6],[2039,6,2040,6],[2005,6,2006,6],[2009,6,2010,6],[2012,6,2015,6],[2012,5,2015,5],[2009,5,2010,5],[2005,5,2006,5],[931,6,932,6],[933,6,934,6],[910,6,911,6],[912,6,914,6],[915,6,918,6],[920,6,922,6],[923,6,924,6],[925,6,927,6],[988,6,990,6],[962,6,963,6],[964,6,966,6],[940,6,941,6],[942,6,944,6],[945,6,947,6],[948,6,949,6],[954,6,955,6],[1001,6,1002,6],[1004,6,1006,6],[1007,6,1010,6],[1012,6,1014,6],[1016,6,1017,6],[970,6,971,6],[972,6,973,6],[975,6,977,6],[978,6,979,6],[984,6,986,6],[1027,6,1029,6],[1030,6,1031,6],[1034,6,1037,6],[1038,6,1040,6],[1043,6,1045,6],[1046,6,1047,6],[1066,5,1067,5],[1069,5,1070,5],[1056,6,1057,6],[1058,6,1059,6],[1061,6,1062,6],[1063,6,1064,6],[1066,6,1067,6],[1069,6,1070,6],[1043,5,1045,5],[1046,5,1047,5],[1056,5,1057,5],[1058,5,1059,5],[1061,5,1062,5],[1063,5,1064,5],[1012,5,1014,5],[1016,5,1017,5],[1027,5,1029,5],[1030,5,1031,5],[1034,5,1037,5],[1038,5,1040,5],[978,5,979,5],[984,5,986,5],[988,5,990,5],[1001,5,1002,5],[1004,5,1006,5],[1007,5,1010,5],[954,5,955,5],[962,5,963,5],[964,5,966,5],[970,5,971,5],[972,5,973,5],[975,5,977,5],[931,5,932,5],[933,5,934,5],[940,5,941,5],[942,5,944,5],[945,5,947,5],[948,5,949,5],[910,5,911,5],[912,5,914,5],[915,5,918,5],[920,5,922,5],[923,5,924,5],[925,5,927,5],[23,5,24,5],[23,6,24,6],[5,6,6,6],[5,5,6,5],[10,5,11,5],[10,6,11,6],[12,5,15,5],[12,6,15,6],[32,5,33,5],[32,6,33,6],[36,5,37,5],[36,6,37,6],[38,5,39,5],[38,6,39,6],[41,5,42,5],[41,6,42,6],[46,5,47,5],[46,6,47,6],[48,5,50,5],[48,6,50,6],[56,5,57,5],[56,6,57,6],[58,5,59,5],[58,6,59,6],[60,5,61,5],[60,6,61,6],[63,5,64,5],[63,6,64,6],[65,5,66,5],[65,6,66,6],[68,5,69,5],[68,6,69,6],[71,5,72,5],[71,6,72,6],[77,5,78,5],[77,6,78,6],[82,5,83,5],[82,6,83,6],[84,5,85,5],[84,6,85,6],[87,5,88,5],[87,6,88,6],[96,5,97,5],[96,6,97,6],[102,5,103,5],[102,6,103,6],[104,5,105,5],[104,6,105,6],[106,5,107,5],[106,6,107,6],[111,5,112,5],[111,6,112,6],[113,5,114,5],[113,6,114,6],[116,5,117,5],[116,6,117,6],[119,5,120,5],[119,6,120,6],[124,5,125,5],[124,6,125,6],[126,5,128,5],[126,6,128,6],[132,5,133,5],[132,6,133,6],[134,5,135,5],[134,6,135,6],[136,5,137,5],[136,6,137,6],[139,5,140,5],[139,6,140,6],[141,5,142,5],[141,6,142,6],[143,5,144,5],[143,6,144,6],[145,5,146,5],[145,6,146,6],[291,5,292,5],[291,6,292,6],[296,5,297,5],[296,6,297,6],[298,5,301,5],[298,6,301,6],[309,5,310,5],[309,6,310,6],[318,5,319,5],[318,6,319,6],[324,5,325,5],[324,6,325,6],[327,5,328,5],[327,6,328,6],[332,5,333,5],[332,6,333,6],[334,5,336,5],[334,6,336,6],[342,5,343,5],[342,6,343,6],[344,5,345,5],[344,6,345,6],[346,5,347,5],[346,6,347,6],[349,5,350,5],[349,6,350,6],[351,5,352,5],[351,6,352,6],[354,5,355,5],[354,6,355,6],[357,5,358,5],[357,6,358,6],[363,5,364,5],[363,6,364,6],[368,5,369,5],[368,6,369,6],[370,5,371,5],[370,6,371,6],[373,5,374,5],[373,6,374,6],[382,5,383,5],[382,6,383,6],[388,5,389,5],[388,6,389,6],[390,5,391,5],[390,6,391,6],[392,5,393,5],[392,6,393,6],[399,5,400,5],[399,6,400,6],[402,5,403,5],[402,6,403,6],[405,5,406,5],[405,6,406,6],[410,5,411,5],[410,6,411,6],[412,5,414,5],[412,6,414,6],[418,5,419,5],[418,6,419,6],[420,5,421,5],[420,6,421,6],[422,5,423,5],[422,6,423,6],[427,5,428,5],[427,6,428,6],[429,5,430,5],[429,6,430,6],[431,5,432,5],[431,6,432,6],[571,5,572,5],[571,6,572,6],[573,5,575,5],[573,6,575,6],[576,5,577,5],[576,6,577,6],[578,5,580,5],[578,6,580,6],[585,5,586,5],[585,6,586,6],[587,5,589,5],[587,6,589,6],[590,5,593,5],[590,6,593,6],[594,5,597,5],[594,6,597,6],[605,5,606,5],[605,6,606,6],[607,5,609,5],[607,6,609,6],[610,5,613,5],[610,6,613,6],[614,5,615,5],[614,6,615,6],[616,5,618,5],[616,6,618,6],[619,5,620,5],[619,6,620,6],[623,5,624,5],[623,6,624,6],[625,5,626,5],[625,6,626,6],[629,5,630,5],[629,6,630,6],[631,5,633,5],[631,6,633,6],[634,5,636,5],[634,6,636,6],[637,5,640,5],[637,6,640,6],[641,5,643,5],[641,6,643,6],[645,5,646,5],[645,6,646,6],[647,5,649,5],[647,6,649,6],[651,5,652,5],[651,6,652,6],[656,5,657,5],[656,6,657,6],[658,5,659,5],[658,6,659,6],[661,5,662,5],[661,6,662,6],[670,5,671,5],[670,6,671,6],[676,5,677,5],[676,6,677,6],[678,5,679,5],[678,6,679,6],[680,5,681,5],[680,6,681,6],[685,5,686,5],[685,6,686,6],[687,5,688,5],[687,6,688,6],[690,5,691,5],[690,6,691,6],[693,5,694,5],[693,6,694,6],[698,5,699,5],[698,6,699,6],[700,5,702,5],[700,6,702,6],[706,5,707,5],[706,6,707,6],[708,5,709,5],[708,6,709,6],[710,5,711,5],[710,6,711,6],[713,5,714,5],[713,6,714,6],[715,5,716,5],[715,6,716,6],[717,5,718,5],[717,6,718,6],[719,5,720,5],[719,6,720,6],[754,5,755,5],[754,6,755,6],[757,5,759,5],[757,6,759,6],[760,5,762,5],[760,6,762,6],[776,5,777,5],[776,6,777,6],[778,5,779,5],[778,6,779,6],[780,5,781,5],[780,6,781,6],[794,5,795,5],[794,6,795,6],[796,5,797,5],[796,6,797,6],[803,5,805,5],[803,6,805,6],[817,5,818,5],[817,6,818,6],[828,5,829,5],[828,6,829,6],[819,5,820,5],[819,6,820,6],[822,5,823,5],[822,6,823,6],[825,5,826,5],[825,6,826,6],[1215,6,1216,6],[1217,6,1219,6],[1220,6,1223,6],[1225,6,1227,6],[1228,6,1229,6],[1230,6,1232,6],[1230,5,1232,5],[1228,5,1229,5],[1225,5,1227,5],[1220,5,1223,5],[1217,5,1219,5],[1215,5,1216,5],[1247,5,1249,5],[1245,5,1246,5],[1236,6,1237,6],[1238,6,1239,6],[1238,5,1239,5],[1236,5,1237,5],[1245,6,1246,6],[1247,6,1249,6],[1276,5,1278,5],[1279,5,1280,5],[1250,6,1252,6],[1253,6,1254,6],[1253,5,1254,5],[1250,5,1252,5],[1308,5,1311,5],[1313,5,1315,5],[1259,6,1260,6],[1259,5,1260,5],[1271,6,1272,6],[1273,6,1274,6],[1276,6,1278,6],[1279,6,1280,6],[1271,5,1272,5],[1273,5,1274,5],[1285,6,1287,6],[1289,6,1291,6],[1285,5,1287,5],[1289,5,1291,5],[1302,5,1303,5],[1305,5,1307,5],[1340,6,1341,6],[1302,6,1303,6],[1305,6,1307,6],[1308,6,1311,6],[1313,6,1315,6],[1317,6,1318,6],[1317,5,1318,5],[1343,6,1344,6],[1326,5,1327,5],[1328,5,1329,5],[1331,5,1332,5],[1333,5,1335,5],[1336,5,1338,5],[1340,5,1341,5],[1343,5,1344,5],[1326,6,1327,6],[1328,6,1329,6],[1331,6,1332,6],[1333,6,1335,6],[1336,6,1338,6],[1353,6,1354,6],[1355,6,1357,6],[1358,6,1359,6],[1361,6,1362,6],[1353,5,1354,5],[1355,5,1357,5],[1358,5,1359,5],[1361,5,1362,5],[1378,6,1379,6],[1380,6,1382,6],[1383,6,1384,6],[1385,6,1387,6],[1378,5,1379,5],[1380,5,1382,5],[1383,5,1384,5],[1385,5,1387,5],[1392,6,1393,6],[1394,6,1396,6],[1397,6,1400,6],[1401,6,1404,6],[1401,5,1404,5],[1397,5,1400,5],[1394,5,1396,5],[1392,5,1393,5],[1412,6,1413,6],[1414,6,1416,6],[1417,6,1420,6],[1421,6,1422,6],[1423,6,1425,6],[1426,6,1427,6],[1412,5,1413,5],[1414,5,1416,5],[1417,5,1420,5],[1421,5,1422,5],[1423,5,1425,5],[1426,5,1427,5],[1430,6,1431,6],[1432,6,1433,6],[1430,5,1431,5],[1432,5,1433,5],[1436,6,1437,6],[1438,6,1440,6],[1438,5,1440,5],[1436,5,1437,5],[1441,6,1443,6],[1444,6,1447,6],[1448,6,1450,6],[1448,5,1450,5],[1444,5,1447,5],[1441,5,1443,5],[1452,6,1453,6],[1454,6,1456,6],[1452,5,1453,5],[1454,5,1456,5],[1458,6,1459,6],[1463,6,1464,6],[1465,6,1466,6],[1468,6,1469,6],[1458,5,1459,5],[1463,5,1464,5],[1465,5,1466,5],[1468,5,1469,5],[1477,6,1478,6],[1477,5,1478,5],[1483,6,1484,6],[1485,6,1486,6],[1487,6,1488,6],[1487,5,1488,5],[1485,5,1486,5],[1483,5,1484,5],[1494,6,1495,6],[1497,6,1498,6],[1494,5,1495,5],[1497,5,1498,5],[1500,6,1501,6],[1505,6,1506,6],[1507,6,1509,6],[1507,5,1509,5],[1505,5,1506,5],[1500,5,1501,5],[1513,6,1514,6],[1515,6,1516,6],[1517,6,1518,6],[1513,5,1514,5],[1515,5,1516,5],[1517,5,1518,5],[1522,6,1523,6],[1524,6,1525,6],[1526,6,1527,6],[1526,5,1527,5],[1524,5,1525,5],[1522,5,1523,5],[1557,6,1558,6],[1559,6,1561,6],[1559,5,1561,5],[1557,5,1558,5],[1586,5,1587,5],[1605,6,1606,6],[1605,5,1606,5],[1602,5,1604,5],[1600,5,1601,5],[1562,6,1565,6],[1566,6,1569,6],[1571,6,1572,6],[1571,5,1572,5],[1566,5,1569,5],[1562,5,1565,5],[1574,6,1575,6],[1577,6,1578,6],[1579,6,1580,6],[1577,5,1578,5],[1574,5,1575,5],[1611,6,1612,6],[1613,6,1615,6],[1581,6,1582,6],[1581,5,1582,5],[1579,5,1580,5],[1616,6,1618,6],[1619,6,1620,6],[1621,6,1622,6],[1621,5,1622,5],[1619,5,1620,5],[1616,5,1618,5],[1597,6,1598,6],[1597,5,1598,5],[1613,5,1615,5],[1611,5,1612,5],[1600,6,1601,6],[1602,6,1604,6],[1586,6,1587,6],[1589,6,1590,6],[1591,6,1593,6],[1594,6,1596,6],[1594,5,1596,5],[1591,5,1593,5],[1589,5,1590,5],[1639,5,1640,5],[1639,6,1640,6],[1626,6,1627,6],[1626,5,1627,5],[1629,6,1630,6],[1631,6,1632,6],[1634,6,1635,6],[1636,6,1637,6],[1636,5,1637,5],[1634,5,1635,5],[1631,5,1632,5],[1629,5,1630,5],[1772,6,1773,6],[1775,6,1776,6],[1781,6,1782,6],[1783,6,1785,6],[1772,5,1773,5],[1775,5,1776,5],[1781,5,1782,5],[1783,5,1785,5],[1787,6,1788,6],[1791,6,1792,6],[1791,5,1792,5],[1787,5,1788,5],[1804,6,1805,6],[1812,6,1813,6],[1814,6,1815,6],[1804,5,1805,5],[1814,5,1815,5],[1812,5,1813,5],[1818,6,1819,6],[1818,5,1819,5],[1826,6,1827,6],[1831,6,1832,6],[1837,6,1838,6],[1839,6,1840,6],[1842,6,1844,6],[1848,6,1849,6],[1848,5,1849,5],[1842,5,1844,5],[1839,5,1840,5],[1837,5,1838,5],[1831,5,1832,5],[1826,5,1827,5],[1860,6,1861,6],[1867,6,1868,6],[1874,6,1875,6],[1877,6,1878,6],[1860,5,1861,5],[1867,5,1868,5],[1874,5,1875,5],[1877,5,1878,5],[1897,6,1898,6],[1899,6,1901,6],[1897,5,1898,5],[1899,5,1901,5],[1903,6,1904,6],[1903,5,1904,5],[1916,6,1917,6],[1926,6,1927,6],[1930,6,1931,6],[1932,6,1933,6],[1932,5,1933,5],[1930,5,1931,5],[1926,5,1927,5],[1916,5,1917,5],[1935,6,1936,6],[1935,5,1936,5],[1943,6,1944,6],[1945,6,1946,6],[1947,6,1948,6],[1961,6,1962,6],[1961,5,1962,5],[1947,5,1948,5],[1945,5,1946,5],[1943,5,1944,5],[1971,6,1972,6],[1973,6,1974,6],[1980,6,1981,6],[1985,6,1986,6],[1993,6,1994,6],[1971,5,1972,5],[1973,5,1974,5],[1980,5,1981,5],[1985,5,1986,5],[1993,5,1994,5],[2329,5,2330,5],[2331,5,2332,5],[2333,5,2334,5],[2474,5,2475,5],[2476,5,2477,5],[2488,5,2489,5],[2490,5,2491,5],[2492,5,2493,5],[2499,5,2500,5],[2762,5,2763,5],[2764,5,2765,5],[2766,5,2767,5],[2779,5,2780,5],[2790,5,2791,5],[2801,5,2802,5],[2824,5,2825,5],[2827,5,2828,5],[2836,5,2837,5],[2838,5,2839,5],[2877,5,2878,5],[2879,5,2880,5],[2881,5,2882,5],[2894,5,2895,5],[2905,5,2906,5],[2916,5,2917,5],[2939,5,2940,5],[2942,5,2943,5],[2951,5,2952,5],[2953,5,2954,5],[2992,5,2993,5],[2994,5,2995,5],[2996,5,2997,5],[3009,5,3010,5],[3020,5,3021,5],[3031,5,3032,5],[3054,5,3055,5],[3169,5,3170,5],[3178,5,3179,5],[3249,5,3250,5],[3326,5,3327,5],[3380,5,3381,5],[3412,5,3413,5],[3500,5,3501,5],[3503,5,3504,5],[3057,5,3058,5],[3066,5,3067,5],[3104,5,3105,5],[3106,5,3107,5],[3108,5,3109,5],[3121,5,3122,5],[3132,5,3133,5],[3143,5,3144,5],[3166,5,3167,5],[3506,5,3507,5],[3522,5,3523,5],[3529,5,3530,5],[3415,5,3416,5],[3418,5,3419,5],[3434,5,3435,5],[3441,5,3442,5],[3450,5,3451,5],[3468,5,3469,5]]}
[{"$f":"LeadData!A1","v":9.8066499999999994},1,2,3,4]
["ﾃﾞｰﾀ№","水平定格加速度","最高速度","前ﾃﾞｰﾀ№","次ﾃﾞｰﾀ№","備考"]
[{"$f":"ModelData!A3","v":0},"0.001mm/s^2","㎜/s","ﾚｺｰﾄﾞ№","ﾚｺｰﾄﾞ№","型式-姿勢","kg","G","mm/s","前№ﾁｪｯｸ","後№ﾁｪｯｸ"]
[{"$f":"A3+1","v":1},{"$f":"H4*$A$1*1000*1000","v":6864654.9999999991},{"$f":"I4","v":150},-1,-1,"RCP4-SA5C-3-水平",8,0.7,150,{"$f":"IF(G4=0,IF(D4<>A3,\"ﾘﾝｸ不正\",\"○\"),\"○\")","v":"○"},{"$f":"IF(D5<>-1,IF(E4<>A5,\"ﾘﾝｸ不正\",\"○\"),\"○\")","v":"○"}]
[2,4903325,150,-1,-1,"RCP4-SA5C-3-水平",9,0.5,150,"○","○"]
[3,2941995,150,-1,{"$f":"A7","v":4},"RCP4-SA5C-3-水平",10,0.3,150,"○","○"]
[4,6864654.9999999991,125,{"$f":"A6","v":3},-1,null,null,0.7,125,"○","○"]
[5,4903325,125,-1,-1,"RCP4-SA5C-3-水平",11,0.5,125,"○","○"]
[6,6864654.9999999991,100,-1,-1,"RCP4-SA5C-3-水平",12,0.7,100,"○","○"]
[7,2941995,125,-1,-1,"RCP4-SA5C-3-水平",13,0.3,125,"○","○"]
[8,4903325,100,-1,{"$f":"A12","v":9},"RCP4-SA5C-3-水平",14,0.5,100,"○","○"]
[9,6864654.9999999991,75,{"$f":"A11","v":8},-1,null,null,0.7,75,"○","○"]
[10,1961330,150,-1,{"$f":"A14","v":11},"RCP4-SA5C-3-水平",16,0.2,150,"○","○"]
[11,2941995,100,{"$f":"A13","v":10},{"$f":"A15","v":12},null,null,0.3,100,"○","○"]
[12,4903325,75,{"$f":"A14","v":11},{"$f":"A16","v":13},null,null,0.5,75,"○","○"]
[13,6864654.9999999991,50,{"$f":"A15","v":12},-1,null,null,0.7,50,"○","○"]
[14,2941995,150,-1,-1,"RCP4-SA5C-3-垂直",3,0.3,150,"○","○"]
[15,1961330,150,-1,-1,"RCP4-SA5C-3-垂直",4.5,0.2,150,"○","○"]
[16,980665,150,-1,-1,"RCP4-SA5C-3-垂直",5,0.1,150,"○","○"]
[17,2941995,125,-1,-1,"RCP4-SA5C-3-垂直",6,0.3,125,"○","○"]
[18,980665,125,-1,-1,"RCP4-SA5C-3-垂直",7,0.1,125,"○","○"]
[19,2941995,100,-1,-1,"RCP4-SA5C-3-垂直",8,0.3,100,"○","○"]
[20,1961330,100,-1,-1,"RCP4-SA5C-3-垂直",9,0.2,100,"○","○"]
[21,980665,100,-1,{"$f":"A25","v":22},"RCP4-SA5C-3-垂直",10,0.1,100,"○","○"]
[22,2941995,75,{"$f":"A24","v":21},-1,null,null,0.3,75,"○","○"]
[23,6864654.9999999991,300,-1,-1,"RCP4-SA5C-6-水平",4,0.7,300,"○","○"]
[24,4903325,300,-1,-1,"RCP4-SA5C-6-水平",5,0.5,300,"○","○"]
[25,6864654.9999999991,250,-1,-1,"RCP4-SA5C-6-水平",7,0.7,250,"○","○"]
[26,4903325,250,-1,-1,"RCP4-SA5C-6-水平",8,0.5,250,"○","○"]
[27,2941995,300,-1,-1,"RCP4-SA5C-6-水平",9,0.3,300,"○","○"]
[28,2941995,250,-1,-1,"RCP4-SA5C-6-水平",10,0.3,250,"○","○"]
[29,6864654.9999999991,200,-1,-1,"RCP4-SA5C-6-水平",12,0.7,200,"○","○"]
[30,1961330,300,-1,{"$f":"A34","v":31},"RCP4-SA5C-6-水平",13,0.2,300,"○","○"]
[31,4903325,200,{"$f":"A33","v":30},-1,null,null,0.5,200,"○","○"]
[32,2941995,300,-1,-1,"RCP4-SA5C-6-垂直",2,0.3,300,"○","○"]
[33,1961330,300,-1,-1,"RCP4-SA5C-6-垂直",2.5,0.2,300,"○","○"]
[34,980665,300,-1,{"$f":"A38","v":35},"RCP4-SA5C-6-垂直",3,0.1,300,"○","○"]
[35,2941995,250,{"$f":"A37","v":34},-1,null,null,0.3,250,"○","○"]
[36,1961330,250,-1,{"$f":"A40","v":37},"RCP4-SA5C-6-垂直",4,0.2,250,"○","○"]
[37,2941995,200,{"$f":"A39","v":36},-1,null,null,0.3,200,"○","○"]
[38,1961330,200,-1,-1,"RCP4-SA5C-6-垂直",4.5,0.2,200,"○","○"]
[39,980665,200,-1,{"$f":"A43","v":40},"RCP4-SA5C-6-垂直",5,0.1,200,"○","○"]
[40,2941995,150,{"$f":"A42","v":39},-1,null,null,0.3,150,"○","○"]
[41,6864654.9999999991,600,-1,-1,"RCP4-SA5C-12-水平",1.5,0.7,600,"○","○"]
[42,4903325,600,-1,-1,"RCP4-SA5C-12-水平",2,0.5,600,"○","○"]
[43,6864654.9999999991,400,-1,-1,"RCP4-SA5C-12-水平",3.5,0.7,400,"○","○"]
[44,2941995,600,-1,{"$f":"A48","v":45},"RCP4-SA5C-12-水平",4,0.3,600,"○","○"]
[45,4903325,400,{"$f":"A47","v":44},-1,null,null,0.5,400,"○","○"]
[46,1961330,600,-1,{"$f":"A50","v":47},"RCP4-SA5C-12-水平",5,0.2,600,"○","○"]
[47,2941995,500,{"$f":"A49","v":46},{"$f":"A51","v":48},null,null,0.3,500,"○","○"]
[48,6864654.9999999991,300,{"$f":"A50","v":47},-1,null,null,0.7,300,"○","○"]
[49,4903325,300,-1,-1,"RCP4-SA5C-12-水平",5.5,0.5,300,"○","○"]
[50,2941995,400,-1,-1,"RCP4-SA5C-12-水平",6,0.3,400,"○","○"]
[51,1961330,500,-1,-1,"RCP4-SA5C-12-水平",7,0.2,500,"○","○"]
[52,1961330,400,-1,-1,"RCP4-SA5C-12-水平",8,0.2,400,"○","○"]
[53,2941995,600,-1,-1,"RCP4-SA5C-12-垂直",0.5,0.3,600,"○","○"]
[54,1961330,600,-1,{"$f":"A58","v":55},"RCP4-SA5C-12-垂直",1,0.2,600,"○","○"]
[55,2941995,500,{"$f":"A57","v":54},-1,null,null,0.3,500,"○","○"]
[56,1961330,500,-1,{"$f":"A60","v":57},"RCP4-SA5C-12-垂直",1.5,0.2,500,"○","○"]
[57,2941995,400,{"$f":"A59","v":56},-1,null,null,0.3,400,"○","○"]
[58,1961330,400,-1,{"$f":"A62","v":59},"RCP4-SA5C-12-垂直",2,0.2,400,"○","○"]
[59,2941995,300,{"$f":"A61","v":58},-1,null,null,0.3,300,"○","○"]
[60,6864654.9999999991,960,-1,-1,"RCP4-SA5C-20-水平",0.5,0.7,960,"○","○"]
[61,4903325,960,-1,{"$f":"A65","v":62},"RCP4-SA5C-20-水平",1,0.5,960,"○","○"]
[62,6864654.9999999991,800,{"$f":"A64","v":61},-1,null,null,0.7,800,"○","○"]
[63,2941995,960,-1,{"$f":"A67","v":64},"RCP4-SA5C-20-水平",2,0.3,960,"○","○"]
[64,6864654.9999999991,640,{"$f":"A66","v":63},-1,null,null,0.7,640,"○","○"]
[{"$f":"A67+1","v":65},{"$f":"H68*$A$1*1000*1000","v":2941995},{"$f":"I68","v":800},-1,-1,"RCP4-SA5C-20-水平",2.5,0.3,800,{"$f":"IF(G68=0,IF(D68<>A67,\"ﾘﾝｸ不正\",\"○\"),\"○\")","v":"○"},{"$f":"IF(D69<>-1,IF(E68<>A69,\"ﾘﾝｸ不正\",\"○\"),\"○\")","v":"○"}]
[66,1961330,800,-1,{"$f":"A70","v":67},"RCP4-SA5C-20-水平",3,0.2,800,"○","○"]
[67,6864654.9999999991,480,{"$f":"A69","v":66},-1,null,null,0.7,480,"○","○"]
[68,2941995,640,-1,-1,"RCP4-SA5C-20-水平",3.5,0.3,640,"○","○"]
[69,1961330,640,-1,{"$f":"A73","v":70},"RCP4-SA5C-20-水平",4,0.2,640,"○","○"]
[70,2941995,480,{"$f":"A72","v":69},-1,null,null,0.3,480,"○","○"]
[71,1961330,480,-1,-1,"RCP4-SA5C-20-水平",4.5,0.2,480,"○","○"]
[72,1961330,320,-1,-1,"RCP4-SA5C-20-水平",5,0.2,320,"○","○"]
[73,1961330,960,-1,-1,"RCP4-SA5C-20-垂直",0.5,0.2,960,"○","○"]
[74,6864654.9999999991,150,-1,-1,"RCP4-SA6C-3-水平",9,0.7,150,"○","○"]
[75,4903325,150,-1,{"$f":"A79","v":76},"RCP4-SA6C-3-水平",10,0.5,150,"○","○"]
[76,6864654.9999999991,125,{"$f":"A78","v":75},-1,null,null,0.7,125,"○","○"]
[77,4903325,125,-1,-1,"RCP4-SA6C-3-水平",11,0.5,125,"○","○"]
[78,6864654.9999999991,100,-1,-1,"RCP4-SA6C-3-水平",12,0.7,100,"○","○"]
[79,2941995,150,-1,-1,"RCP4-SA6C-3-水平",13,0.3,150,"○","○"]
[80,2941995,125,-1,{"$f":"A84","v":81},"RCP4-SA6C-3-水平",14,0.3,125,"○","○"]
[81,4903325,100,{"$f":"A83","v":80},-1,null,null,0.5,100,"○","○"]
[82,1961330,150,-1,{"$f":"A86","v":83},"RCP4-SA6C-3-水平",16,0.2,150,"○","○"]
[83,2941995,100,{"$f":"A85","v":82},-1,null,null,0.3,100,"○","○"]
[84,1961330,125,-1,-1,"RCP4-SA6C-3-水平",18,0.2,125,"○","○"]
[85,1961330,100,-1,{"$f":"A89","v":86},"RCP4-SA6C-3-水平",19,0.2,100,"○","○"]
[86,6864654.9999999991,75,{"$f":"A88","v":85},-1,null,null,0.7,75,"○","○"]
[87,2941995,150,-1,-1,"RCP4-SA6C-3-垂直",3,0.3,150,"○","○"]
[88,1961330,150,-1,-1,"RCP4-SA6C-3-垂直",4.5,0.2,150,"○","○"]
[89,980665,150,-1,-1,"RCP4-SA6C-3-垂直",5,0.1,150,"○","○"]
[90,2941995,125,-1,-1,"RCP4-SA6C-3-垂直",6,0.3,125,"○","○"]
[91,980665,125,-1,-1,"RCP4-SA6C-3-垂直",7,0.1,125,"○","○"]
[92,2941995,100,-1,-1,"RCP4-SA6C-3-垂直",8,0.3,100,"○","○"]
[93,1961330,100,-1,-1,"RCP4-SA6C-3-垂直",9,0.2,100,"○","○"]
[94,980665,100,-1,{"$f":"A98","v":95},"RCP4-SA6C-3-垂直",10,0.1,100,"○","○"]
[95,2941995,75,{"$f":"A97","v":94},-1,null,null,0.3,75,"○","○"]
[96,6864654.9999999991,300,-1,-1,"RCP4-SA6C-6-水平",4,0.7,300,"○","○"]
[97,4903325,300,-1,-1,"RCP4-SA6C-6-水平",6,0.5,300,"○","○"]
[98,6864654.9999999991,250,-1,-1,"RCP4-SA6C-6-水平",7,0.7,250,"○","○"]
[99,4903325,250,-1,-1,"RCP4-SA6C-6-水平",10,0.5,250,"○","○"]
[100,2941995,300,-1,{"$f":"A104","v":101},"RCP4-SA6C-6-水平",12,0.3,300,"○","○"]
[101,6864654.9999999991,200,{"$f":"A103","v":100},-1,null,null,0.7,200,"○","○"]
[102,1961330,300,-1,{"$f":"A106","v":103},"RCP4-SA6C-6-水平",13,0.2,300,"○","○"]
[103,4903325,200,{"$f":"A105","v":102},-1,null,null,0.5,200,"○","○"]
[104,1961330,250,-1,{"$f":"A108","v":105},"RCP4-SA6C-6-水平",15,0.2,250,"○","○"]
[105,2941995,200,{"$f":"A107","v":104},-1,null,null,0.3,200,"○","○"]
[106,1961330,200,-1,-1,"RCP4-SA6C-6-水平",16,0.2,200,"○","○"]
[107,2941995,300,-1,-1,"RCP4-SA6C-6-垂直",2,0.3,300,"○","○"]
[108,1961330,300,-1,-1,"RCP4-SA6C-6-垂直",2.5,0.2,300,"○","○"]
[109,980665,300,-1,{"$f":"A113","v":110},"RCP4-SA6C-6-垂直",3,0.1,300,"○","○"]
[110,2941995,250,{"$f":"A112","v":109},-1,null,null,0.3,250,"○","○"]
[111,1961330,250,-1,{"$f":"A115","v":112},"RCP4-SA6C-6-垂直",4,0.2,250,"○","○"]
[112,2941995,200,{"$f":"A114","v":111},-1,null,null,0.3,200,"○","○"]
[113,1961330,200,-1,-1,"RCP4-SA6C-6-垂直",4.5,0.2,200,"○","○"]
[114,980665,200,-1,{"$f":"A118","v":115},"RCP4-SA6C-6-垂直",5,0.1,200,"○","○"]
[115,2941995,150,{"$f":"A117","v":114},-1,null,null,0.3,150,"○","○"]
[116,6864654.9999999991,600,-1,-1,"RCP4-SA6C-12-水平",1.5,0.7,600,"○","○"]
[117,4903325,600,-1,{"$f":"A121","v":118},"RCP4-SA6C-12-水平",2,0.5,600,"○","○"]
[118,6864654.9999999991,500,{"$f":"A120","v":117},-1,null,null,0.7,500,"○","○"]
[119,4903325,500,-1,-1,"RCP4-SA6C-12-水平",3,0.5,500,"○","○"]
[120,6864654.9999999991,400,-1,-1,"RCP4-SA6C-12-水平",3.5,0.7,400,"○","○"]
[121,4903325,400,-1,-1,"RCP4-SA6C-12-水平",4,0.5,400,"○","○"]
[122,2941995,600,-1,{"$f":"A126","v":123},"RCP4-SA6C-12-水平",6,0.3,600,"○","○"]
[123,6864654.9999999991,300,{"$f":"A125","v":122},-1,null,null,0.7,300,"○","○"]
[124,1961330,500,-1,{"$f":"A128","v":125},"RCP4-SA6C-12-水平",7,0.2,500,"○","○"]
[125,2941995,400,{"$f":"A127","v":124},{"$f":"A129","v":126},null,null,0.3,400,"○","○"]
[126,4903325,300,{"$f":"A128","v":125},-1,null,null,0.5,300,"○","○"]
[127,1961330,400,-1,-1,"RCP4-SA6C-12-水平",8,0.2,400,"○","○"]
[128,2941995,300,-1,-1,"RCP4-SA6C-12-水平",8.5,0.3,300,"○","○"]
[{"$f":"A131+1","v":129},{"$f":"H132*$A$1*1000*1000","v":2941995},{"$f":"I132","v":600},-1,-1,"RCP4-SA6C-12-垂直",0.5,0.3,600,{"$f":"IF(G132=0,IF(D132<>A131,\"ﾘﾝｸ不正\",\"○\"),\"○\")","v":"○"},{"$f":"IF(D133<>-1,IF(E132<>A133,\"ﾘﾝｸ不正\",\"○\"),\"○\")","v":"○"}]
[130,1961330,600,-1,{"$f":"A134","v":131},"RCP4-SA6C-12-垂直",1,0.2,600,"○","○"]
[131,2941995,500,{"$f":"A133","v":130},-1,null,null,0.3,500,"○","○"]
[132,1961330,500,-1,{"$f":"A136","v":133},"RCP4-SA6C-12-垂直",1.5,0.2,500,"○","○"]
[133,2941995,400,{"$f":"A135","v":132},-1,null,null,0.3,400,"○","○"]
[134,1961330,400,-1,{"$f":"A138","v":135},"RCP4-SA6C-12-垂直",2,0.2,400,"○","○"]
[135,2941995,300,{"$f":"A137","v":134},-1,null,null,0.3,300,"○","○"]
[136,6864654.9999999991,960,-1,-1,"RCP4-SA6C-20-水平",0.5,0.7,960,"○","○"]
[137,4903325,960,-1,{"$f":"A141","v":138},"RCP4-SA6C-20-水平",1,0.5,960,"○","○"]
[138,6864654.9999999991,800,{"$f":"A140","v":137},-1,null,null,0.7,800,"○","○"]
[139,2941995,960,-1,{"$f":"A143","v":140},"RCP4-SA6C-20-水平",2,0.3,960,"○","○"]
[140,6864654.9999999991,640,{"$f":"A142","v":139},-1,null,null,0.7,640,"○","○"]
[141,2941995,800,-1,{"$f":"A145","v":142},"RCP4-SA6C-20-水平",3,0.3,800,"○","○"]
[142,6864654.9999999991,480,{"$f":"A144","v":141},-1,null,null,0.7,480,"○","○"]
[143,2941995,640,-1,{"$f":"A147","v":144},"RCP4-SA6C-20-水平",4,0.3,640,"○","○"]
[144,6864654.9999999991,320,{"$f":"A146","v":143},-1,null,null,0.7,320,"○","○"]
[145,2941995,480,-1,-1,"RCP4-SA6C-20-水平",5,0.3,480,"○","○"]
[146,2941995,320,-1,-1,"RCP4-SA6C-20-水平",6,0.3,320,"○","○"]
[147,1961330,960,-1,-1,"RCP4-SA6C-20-垂直",0.5,0.2,960,"○","○"]
[148,1961330,140,-1,-1,"RCP4-SA7C-4-水平",40,0.2,140,"○","○"]
[149,1961330,140,-1,-1,"RCP4-SA7C-4-垂直",5,0.2,140,"○","○"]
[150,1961330,105,-1,-1,"RCP4-SA7C-4-垂直",10,0.2,105,"○","○"]
[151,1961330,70,-1,-1,"RCP4-SA7C-4-垂直",15,0.2,70,"○","○"]
[152,2941995,280,-1,-1,"RCP4-SA7C-8-水平",10,0.3,280,"○","○"]
[153,2941995,210,-1,-1,"RCP4-SA7C-8-水平",25,0.3,210,"○","○"]
[154,2941995,140,-1,-1,"RCP4-SA7C-8-水平",40,0.3,140,"○","○"]
[155,1961330,280,-1,-1,"RCP4-SA7C-8-垂直",1.5,0.2,280,"○","○"]
[156,1961330,210,-1,-1,"RCP4-SA7C-8-垂直",4,0.2,210,"○","○"]
[157,1961330,140,-1,-1,"RCP4-SA7C-8-垂直",7,0.2,140,"○","○"]
[158,1961330,70,-1,-1,"RCP4-SA7C-8-垂直",10,0.2,70,"○","○"]
[159,2941995,560,-1,-1,"RCP4-SA7C-16-水平",7,0.3,560,"○","○"]
[160,2941995,420,-1,-1,"RCP4-SA7C-16-水平",15,0.3,420,"○","○"]
[161,2941995,280,-1,-1,"RCP4-SA7C-16-水平",25,0.3,280,"○","○"]
[162,2941995,140,-1,-1,"RCP4-SA7C-16-水平",35,0.3,140,"○","○"]
[163,1961330,560,-1,-1,"RCP4-SA7C-16-垂直",0.5,0.2,560,"○","○"]
[164,1961330,420,-1,-1,"RCP4-SA7C-16-垂直",1.5,0.2,420,"○","○"]
[165,1961330,280,-1,-1,"RCP4-SA7C-16-垂直",3,0.2,280,"○","○"]
[166,1961330,140,-1,-1,"RCP4-SA7C-16-垂直",5,0.2,140,"○","○"]
[167,2941995,1000,-1,-1,"RCP4-SA7C-24-水平",1.5,0.3,1000,"○","○"]
[168,2941995,800,-1,-1,"RCP4-SA7C-24-水平",5,0.3,800,"○","○"]
[169,2941995,600,-1,-1,"RCP4-SA7C-24-水平",10,0.3,600,"○","○"]
[170,2941995,400,-1,-1,"RCP4-SA7C-24-水平",18,0.3,400,"○","○"]
[171,1961330,800,-1,-1,"RCP4-SA7C-24-垂直",1,0.2,800,"○","○"]
[172,1961330,600,-1,-1,"RCP4-SA7C-24-垂直",1.5,0.2,600,"○","○"]
[173,1961330,400,-1,-1,"RCP4-SA7C-24-垂直",2,0.2,400,"○","○"]
[174,1961330,125,-1,-1,"RCP4-RA5C-3-水平",40,0.2,125,"○","○"]
[175,1961330,125,-1,-1,"RCP4-RA5C-3-垂直",5,0.2,125,"○","○"]
[176,1961330,100,-1,-1,"RCP4-RA5C-3-垂直",9,0.2,100,"○","○"]
[177,1961330,75,-1,-1,"RCP4-RA5C-3-垂直",12,0.2,75,"○","○"]
[178,1961330,50,-1,-1,"RCP4-RA5C-3-垂直",16,0.2,50,"○","○"]
[179,1961330,25,-1,-1,"RCP4-RA5C-3-垂直",20,0.2,25,"○","○"]
[180,1961330,250,-1,-1,"RCP4-RA5C-6-水平",10,0.2,250,"○","○"]
[181,1961330,200,-1,-1,"RCP4-RA5C-6-水平",35,0.2,200,"○","○"]
[182,1961330,150,-1,-1,"RCP4-RA5C-6-水平",40,0.2,150,"○","○"]
[183,1961330,250,-1,-1,"RCP4-RA5C-6-垂直",3,0.2,250,"○","○"]
[184,1961330,200,-1,-1,"RCP4-RA5C-6-垂直",5,0.2,200,"○","○"]
[185,1961330,150,-1,-1,"RCP4-RA5C-6-垂直",8,0.2,150,"○","○"]
[186,1961330,100,-1,-1,"RCP4-RA5C-6-垂直",10,0.2,100,"○","○"]
[187,1961330,500,-1,-1,"RCP4-RA5C-12-水平",5,0.2,500,"○","○"]
[188,1961330,400,-1,-1,"RCP4-RA5C-12-水平",10,0.2,400,"○","○"]
[189,1961330,300,-1,-1,"RCP4-RA5C-12-水平",20,0.2,300,"○","○"]
[190,1961330,200,-1,-1,"RCP4-RA5C-12-水平",25,0.2,200,"○","○"]
[191,1961330,500,-1,-1,"RCP4-RA5C-12-垂直",1,0.2,500,"○","○"]
[192,1961330,400,-1,-1,"RCP4-RA5C-12-垂直",2,0.2,400,"○","○"]
[{"$f":"A195+1","v":193},{"$f":"H196*$A$1*1000*1000","v":1961330},{"$f":"I196","v":300},-1,-1,"RCP4-RA5C-12-垂直",3,0.2,300,{"$f":"IF(G196=0,IF(D196<>A195,\"ﾘﾝｸ不正\",\"○\"),\"○\")","v":"○"},{"$f":"IF(D197<>-1,IF(E196<>A197,\"ﾘﾝｸ不正\",\"○\"),\"○\")","v":"○"}]
[194,1961330,200,-1,-1,"RCP4-RA5C-12-垂直",4,0.2,200,"○","○"]
[195,2941995,640,-1,-1,"RCP4-RA5C-20-水平",3,0.3,640,"○","○"]
[196,2941995,480,-1,-1,"RCP4-RA5C-20-水平",4,0.3,480,"○","○"]
[197,2941995,320,-1,-1,"RCP4-RA5C-20-水平",6,0.3,320,"○","○"]
[198,1961330,640,-1,-1,"RCP4-RA5C-20-垂直",0.5,0.2,640,"○","○"]
[199,1961330,480,-1,-1,"RCP4-RA5C-20-垂直",1,0.2,480,"○","○"]
[200,1961330,320,-1,-1,"RCP4-RA5C-20-垂直",1.5,0.2,320,"○","○"]
[201,1961330,140,-1,-1,"RCP4-RA6C-4-水平",35,0.2,140,"○","○"]
[202,1961330,105,-1,-1,"RCP4-RA6C-4-水平",55,0.2,105,"○","○"]
[203,1961330,140,-1,-1,"RCP4-RA6C-4-垂直",2,0.2,140,"○","○"]
[204,1961330,105,-1,-1,"RCP4-RA6C-4-垂直",4,0.2,105,"○","○"]
[205,1961330,70,-1,-1,"RCP4-RA6C-4-垂直",15,0.2,70,"○","○"]
[206,1961330,35,-1,-1,"RCP4-RA6C-4-垂直",26,0.2,35,"○","○"]
[207,1961330,210,-1,-1,"RCP4-RA6C-8-水平",30,0.2,210,"○","○"]
[208,1961330,140,-1,-1,"RCP4-RA6C-8-水平",50,0.2,140,"○","○"]
[209,1961330,210,-1,-1,"RCP4-RA6C-8-垂直",2,0.2,210,"○","○"]
[210,1961330,140,-1,-1,"RCP4-RA6C-8-垂直",7,0.2,140,"○","○"]
[211,1961330,70,-1,-1,"RCP4-RA6C-8-垂直",17.5,0.2,70,"○","○"]
[212,1961330,420,-1,-1,"RCP4-RA6C-16-水平",15,0.2,420,"○","○"]
[213,1961330,280,-1,-1,"RCP4-RA6C-16-水平",30,0.2,280,"○","○"]
[214,1961330,140,-1,-1,"RCP4-RA6C-16-水平",40,0.2,140,"○","○"]
[215,1961330,420,-1,-1,"RCP4-RA6C-16-垂直",1,0.2,420,"○","○"]
[216,1961330,280,-1,-1,"RCP4-RA6C-16-垂直",3,0.2,280,"○","○"]
[217,1961330,140,-1,-1,"RCP4-RA6C-16-垂直",5,0.2,140,"○","○"]
[218,2941995,600,-1,-1,"RCP4-RA6C-24-水平",1,0.3,600,"○","○"]
[219,2941995,400,-1,-1,"RCP4-RA6C-24-水平",10,0.3,400,"○","○"]
[220,2941995,200,-1,-1,"RCP4-RA6C-24-水平",18,0.3,200,"○","○"]
[221,1961330,400,-1,-1,"RCP4-RA6C-24-垂直",2,0.2,400,"○","○"]
[222,1961330,200,-1,-1,"RCP4-RA6C-24-垂直",3,0.2,200,"○","○"]
[223,1961330,150,-1,-1,"ERC3-SA5-3-水平",12,0.2,150,"○","○"]
[224,1961330,150,-1,-1,"ERC3-SA5-3-垂直",4,0.2,150,"○","○"]
[225,1961330,120,-1,-1,"ERC3-SA5-3-垂直",6,0.2,120,"○","○"]
[226,2941995,300,-1,-1,"ERC3-SA5-6-水平",12,0.3,300,"○","○"]
[227,1961330,300,-1,-1,"ERC3-SA5-6-垂直",2.5,0.2,300,"○","○"]
[228,1961330,250,-1,-1,"ERC3-SA5-6-垂直",3,0.2,250,"○","○"]
[229,2941995,600,-1,-1,"ERC3-SA5-12-水平",2,0.3,600,"○","○"]
[230,2941995,400,-1,-1,"ERC3-SA5-12-水平",6,0.3,400,"○","○"]
[231,1961330,600,-1,-1,"ERC3-SA5-12-垂直",1,0.2,600,"○","○"]
[232,1961330,450,-1,-1,"ERC3-SA5-12-垂直",1.5,0.2,450,"○","○"]
[233,2941995,1000,-1,-1,"ERC3-SA5-20-水平",1,0.3,1000,"○","○"]
[234,2941995,667,-1,-1,"ERC3-SA5-20-水平",3.5,0.3,667,"○","○"]
[235,1961330,1000,-1,-1,"ERC3-SA5-20-垂直",0.5,0.2,1000,"○","○"]
[236,1961330,750,-1,-1,"ERC3-SA5-20-垂直",1,0.2,750,"○","○"]
[237,1961330,125,-1,-1,"ERC3-SA7-4-水平",20,0.2,125,"○","○"]
[238,1961330,125,-1,-1,"ERC3-SA7-4-垂直",2,0.2,125,"○","○"]
[239,1961330,90,-1,-1,"ERC3-SA7-4-垂直",10,0.2,90,"○","○"]
[240,2941995,250,-1,-1,"ERC3-SA7-8-水平",3.5,0.3,250,"○","○"]
[241,2941995,180,-1,-1,"ERC3-SA7-8-水平",20,0.3,180,"○","○"]
[242,1961330,250,-1,-1,"ERC3-SA7-8-垂直",0.5,0.2,250,"○","○"]
[243,1961330,200,-1,-1,"ERC3-SA7-8-垂直",1,0.2,200,"○","○"]
[244,1961330,150,-1,-1,"ERC3-SA7-8-垂直",5,0.2,150,"○","○"]
[245,2941995,450,-1,-1,"ERC3-SA7-16-水平",2,0.3,450,"○","○"]
[246,2941995,300,-1,-1,"ERC3-SA7-16-水平",10,0.3,300,"○","○"]
[247,1961330,400,-1,-1,"ERC3-SA7-16-垂直",0.5,0.2,400,"○","○"]
[248,1961330,300,-1,-1,"ERC3-SA7-16-垂直",2.5,0.2,300,"○","○"]
[249,2941995,675,-1,-1,"ERC3-SA7-24-水平",1,0.3,675,"○","○"]
[250,2941995,450,-1,-1,"ERC3-SA7-24-水平",6,0.3,450,"○","○"]
[251,1961330,600,-1,-1,"ERC3-SA7-24-垂直",0.5,0.2,600,"○","○"]
[252,1961330,450,-1,-1,"ERC3-SA7-24-垂直",1.5,0.2,450,"○","○"]
[253,1961330,150,-1,-1,"ERC3-RA4-3-水平",40,0.2,150,"○","○"]
[254,1961330,150,-1,-1,"ERC3-RA4-3-垂直",4,0.2,150,"○","○"]
[255,1961330,50,-1,-1,"ERC3-RA4-3-垂直",18,0.2,50,"○","○"]
[256,2941995,300,-1,-1,"ERC3-RA4-6-水平",12,0.3,300,"○","○"]
[{"$f":"A259+1","v":257},{"$f":"H260*$A$1*1000*1000","v":2941995},{"$f":"I260","v":200},-1,-1,"ERC3-RA4-6-水平",40,0.3,200,{"$f":"IF(G260=0,IF(D260<>A259,\"ﾘﾝｸ不正\",\"○\"),\"○\")","v":"○"},{"$f":"IF(D261<>-1,IF(E260<>A261,\"ﾘﾝｸ不正\",\"○\"),\"○\")","v":"○"}]
[258,1961330,300,-1,-1,"ERC3-RA4-6-垂直",2.5,0.2,300,"○","○"]
[259,1961330,80,-1,-1,"ERC3-RA4-6-垂直",12,0.2,80,"○","○"]
[260,2941995,600,-1,-1,"ERC3-RA4-12-水平",2.5,0.3,600,"○","○"]
[261,2941995,300,-1,-1,"ERC3-RA4-12-水平",12,0.3,300,"○","○"]
[262,2941995,150,-1,-1,"ERC3-RA4-12-水平",25,0.3,150,"○","○"]
[263,1961330,600,-1,-1,"ERC3-RA4-12-垂直",0.5,0.2,600,"○","○"]
[264,1961330,125,-1,-1,"ERC3-RA4-12-垂直",4.5,0.2,125,"○","○"]
[265,2941995,667,-1,-1,"ERC3-RA4-20-水平",6,0.3,667,"○","○"]
[266,2941995,500,-1,-1,"ERC3-RA4-20-水平",7,0.3,500,"○","○"]
[267,2941995,250,-1,-1,"ERC3-RA4-20-水平",12,0.3,250,"○","○"]
[268,1961330,667,-1,-1,"ERC3-RA4-20-垂直",0.5,0.2,667,"○","○"]
[269,1961330,208,-1,-1,"ERC3-RA4-20-垂直",2,0.2,208,"○","○"]
[270,1961330,125,-1,-1,"ERC3-RA6-4-水平",25,0.2,125,"○","○"]
[271,1961330,100,-1,-1,"ERC3-RA6-4-水平",55,0.2,100,"○","○"]
[272,1961330,125,-1,-1,"ERC3-RA6-4-垂直",2,0.2,125,"○","○"]
[273,1961330,35,-1,-1,"ERC3-RA6-4-垂直",25,0.2,35,"○","○"]
[274,2941995,250,-1,-1,"ERC3-RA6-8-水平",3.5,0.3,250,"○","○"]
[275,2941995,160,-1,-1,"ERC3-RA6-8-水平",50,0.3,160,"○","○"]
[276,1961330,200,-1,-1,"ERC3-RA6-8-垂直",1,0.2,200,"○","○"]
[277,1961330,30,-1,-1,"ERC3-RA6-8-垂直",17.5,0.2,30,"○","○"]
[278,2941995,450,-1,-1,"ERC3-RA6-16-水平",2,0.3,450,"○","○"]
[279,2941995,125,-1,-1,"ERC3-RA6-16-水平",40,0.3,125,"○","○"]
[280,1961330,400,-1,-1,"ERC3-RA6-16-垂直",0.5,0.2,400,"○","○"]
[281,1961330,150,-1,-1,"ERC3-RA6-16-垂直",5,0.2,150,"○","○"]
[282,2941995,675,-1,-1,"ERC3-RA6-24-水平",1.5,0.3,675,"○","○"]
[283,2941995,188,-1,-1,"ERC3-RA6-24-水平",20,0.3,188,"○","○"]
[284,2941995,150,-1,-1,"ERC3-RA6-24-水平",25,0.3,150,"○","○"]
[285,1961330,600,-1,-1,"ERC3-RA6-24-垂直",0.5,0.2,600,"○","○"]
[286,1961330,225,-1,-1,"ERC3-RA6-24-垂直",3,0.2,225,"○","○"]
[287,6864654.9999999991,150,-1,-1,"RCP4-SA5R-3-水平",8,0.7,150,"○","○"]
[288,4903325,150,-1,-1,"RCP4-SA5R-3-水平",9,0.5,150,"○","○"]
[289,2941995,150,-1,{"$f":"A293","v":290},"RCP4-SA5R-3-水平",10,0.3,150,"○","○"]
[290,6864654.9999999991,125,{"$f":"A292","v":289},-1,null,null,0.7,125,"○","○"]
[291,4903325,125,-1,-1,"RCP4-SA5R-3-水平",11,0.5,125,"○","○"]
[292,6864654.9999999991,100,-1,-1,"RCP4-SA5R-3-水平",12,0.7,100,"○","○"]
[293,2941995,125,-1,-1,"RCP4-SA5R-3-水平",13,0.3,125,"○","○"]
[294,4903325,100,-1,{"$f":"A298","v":295},"RCP4-SA5R-3-水平",14,0.5,100,"○","○"]
[295,6864654.9999999991,75,{"$f":"A297","v":294},-1,null,null,0.7,75,"○","○"]
[296,1961330,150,-1,{"$f":"A300","v":297},"RCP4-SA5R-3-水平",16,0.2,150,"○","○"]
[297,2941995,100,{"$f":"A299","v":296},{"$f":"A301","v":298},null,null,0.3,100,"○","○"]
[298,4903325,75,{"$f":"A300","v":297},{"$f":"A302","v":299},null,null,0.5,75,"○","○"]
[299,6864654.9999999991,50,{"$f":"A301","v":298},-1,null,null,0.7,50,"○","○"]
[300,2941995,150,-1,-1,"RCP4-SA5R-3-垂直",3,0.3,150,"○","○"]
[301,1961330,150,-1,-1,"RCP4-SA5R-3-垂直",4.5,0.2,150,"○","○"]
[302,980665,150,-1,-1,"RCP4-SA5R-3-垂直",5,0.1,150,"○","○"]
[303,2941995,125,-1,-1,"RCP4-SA5R-3-垂直",6,0.3,125,"○","○"]
[304,980665,125,-1,-1,"RCP4-SA5R-3-垂直",7,0.1,125,"○","○"]
[305,2941995,100,-1,-1,"RCP4-SA5R-3-垂直",8,0.3,100,"○","○"]
[306,1961330,100,-1,-1,"RCP4-SA5R-3-垂直",9,0.2,100,"○","○"]
[307,980665,100,-1,{"$f":"A311","v":308},"RCP4-SA5R-3-垂直",10,0.1,100,"○","○"]
[308,2941995,75,{"$f":"A310","v":307},-1,null,null,0.3,75,"○","○"]
[309,6864654.9999999991,300,-1,-1,"RCP4-SA5R-6-水平",4,0.7,300,"○","○"]
[310,4903325,300,-1,-1,"RCP4-SA5R-6-水平",5,0.5,300,"○","○"]
[311,6864654.9999999991,250,-1,-1,"RCP4-SA5R-6-水平",7,0.7,250,"○","○"]
[312,4903325,250,-1,-1,"RCP4-SA5R-6-水平",8,0.5,250,"○","○"]
[313,2941995,300,-1,-1,"RCP4-SA5R-6-水平",9,0.3,300,"○","○"]
[314,2941995,250,-1,-1,"RCP4-SA5R-6-水平",10,0.3,250,"○","○"]
[315,6864654.9999999991,200,-1,-1,"RCP4-SA5R-6-水平",12,0.7,200,"○","○"]
[316,1961330,300,-1,{"$f":"A320","v":317},"RCP4-SA5R-6-水平",13,0.2,300,"○","○"]
[317,4903325,200,{"$f":"A319","v":316},-1,null,null,0.5,200,"○","○"]
[318,2941995,300,-1,-1,"RCP4-SA5R-6-垂直",1.5,0.3,300,"○","○"]
[319,1961330,300,-1,-1,"RCP4-SA5R-6-垂直",2,0.2,300,"○","○"]
[320,980665,300,-1,-1,"RCP4-SA5R-6-垂直",2.5,0.1,300,"○","○"]
[{"$f":"A323+1","v":321},{"$f":"H324*$A$1*1000*1000","v":2941995},{"$f":"I324","v":250},-1,-1,"RCP4-SA5R-6-垂直",3,0.3,250,{"$f":"IF(G324=0,IF(D324<>A323,\"ﾘﾝｸ不正\",\"○\"),\"○\")","v":"○"},{"$f":"IF(D325<>-1,IF(E324<>A325,\"ﾘﾝｸ不正\",\"○\"),\"○\")","v":"○"}]
[322,1961330,250,-1,{"$f":"A326","v":323},"RCP4-SA5R-6-垂直",4,0.2,250,"○","○"]
[323,2941995,200,{"$f":"A325","v":322},-1,null,null,0.3,200,"○","○"]
[324,1961330,200,-1,-1,"RCP4-SA5R-6-垂直",4.5,0.2,200,"○","○"]
[325,980665,200,-1,{"$f":"A329","v":326},"RCP4-SA5R-6-垂直",5,0.1,200,"○","○"]
[326,2941995,150,{"$f":"A328","v":325},-1,null,null,0.3,150,"○","○"]
[327,6864654.9999999991,600,-1,-1,"RCP4-SA5R-12-水平",1.5,0.7,600,"○","○"]
[328,4903325,600,-1,-1,"RCP4-SA5R-12-水平",2,0.5,600,"○","○"]
[329,6864654.9999999991,400,-1,-1,"RCP4-SA5R-12-水平",3.5,0.7,400,"○","○"]
[330,2941995,600,-1,{"$f":"A334","v":331},"RCP4-SA5R-12-水平",4,0.3,600,"○","○"]
[331,4903325,400,{"$f":"A333","v":330},-1,null,null,0.5,400,"○","○"]
[332,1961330,600,-1,{"$f":"A336","v":333},"RCP4-SA5R-12-水平",5,0.2,600,"○","○"]
[333,2941995,500,{"$f":"A335","v":332},{"$f":"A337","v":334},null,null,0.3,500,"○","○"]
[334,6864654.9999999991,300,{"$f":"A336","v":333},-1,null,null,0.7,300,"○","○"]
[335,4903325,300,-1,-1,"RCP4-SA5R-12-水平",5.5,0.5,300,"○","○"]
[336,2941995,400,-1,-1,"RCP4-SA5R-12-水平",6,0.3,400,"○","○"]
[337,1961330,500,-1,-1,"RCP4-SA5R-12-水平",7,0.2,500,"○","○"]
[338,1961330,400,-1,-1,"RCP4-SA5R-12-水平",8,0.2,400,"○","○"]
[339,2941995,600,-1,-1,"RCP4-SA5R-12-垂直",0.5,0.3,600,"○","○"]
[340,980665,600,-1,{"$f":"A344","v":341},"RCP4-SA5R-12-垂直",1,0.1,600,"○","○"]
[341,2941995,500,{"$f":"A343","v":340},-1,null,null,0.3,500,"○","○"]
[342,1961330,500,-1,{"$f":"A346","v":343},"RCP4-SA5R-12-垂直",1.5,0.2,500,"○","○"]
[343,2941995,400,{"$f":"A345","v":342},-1,null,null,0.3,400,"○","○"]
[344,1961330,400,-1,{"$f":"A348","v":345},"RCP4-SA5R-12-垂直",2,0.2,400,"○","○"]
[345,2941995,300,{"$f":"A347","v":344},-1,null,null,0.3,300,"○","○"]
[346,6864654.9999999991,960,-1,-1,"RCP4-SA5R-20-水平",0.5,0.7,960,"○","○"]
[347,4903325,960,-1,{"$f":"A351","v":348},"RCP4-SA5R-20-水平",1,0.5,960,"○","○"]
[348,6864654.9999999991,800,{"$f":"A350","v":347},-1,null,null,0.7,800,"○","○"]
[349,2941995,960,-1,{"$f":"A353","v":350},"RCP4-SA5R-20-水平",2,0.3,960,"○","○"]
[350,6864654.9999999991,640,{"$f":"A352","v":349},-1,null,null,0.7,640,"○","○"]
[351,2941995,800,-1,-1,"RCP4-SA5R-20-水平",2.5,0.3,800,"○","○"]
[352,1961330,800,-1,{"$f":"A356","v":353},"RCP4-SA5R-20-水平",3,0.2,800,"○","○"]
[353,6864654.9999999991,480,{"$f":"A355","v":352},-1,null,null,0.7,480,"○","○"]
[354,2941995,640,-1,-1,"RCP4-SA5R-20-水平",3.5,0.3,640,"○","○"]
[355,1961330,640,-1,{"$f":"A359","v":356},"RCP4-SA5R-20-水平",4,0.2,640,"○","○"]
[356,2941995,480,{"$f":"A358","v":355},-1,null,null,0.3,480,"○","○"]
[357,1961330,480,-1,-1,"RCP4-SA5R-20-水平",4.5,0.2,480,"○","○"]
[358,1961330,320,-1,-1,"RCP4-SA5R-20-水平",5,0.2,320,"○","○"]
[359,1961330,800,-1,-1,"RCP4-SA5R-20-垂直",0.5,0.2,800,"○","○"]
[360,6864654.9999999991,150,-1,-1,"RCP4-SA6R-3-水平",9,0.7,150,"○","○"]
[361,4903325,150,-1,{"$f":"A365","v":362},"RCP4-SA6R-3-水平",10,0.5,150,"○","○"]
[362,6864654.9999999991,125,{"$f":"A364","v":361},-1,null,null,0.7,125,"○","○"]
[363,4903325,125,-1,-1,"RCP4-SA6R-3-水平",11,0.5,125,"○","○"]
[364,6864654.9999999991,100,-1,-1,"RCP4-SA6R-3-水平",12,0.7,100,"○","○"]
[365,2941995,150,-1,-1,"RCP4-SA6R-3-水平",13,0.3,150,"○","○"]
[366,2941995,125,-1,{"$f":"A370","v":367},"RCP4-SA6R-3-水平",14,0.3,125,"○","○"]
[367,4903325,100,{"$f":"A369","v":366},-1,null,null,0.5,100,"○","○"]
[368,1961330,150,-1,{"$f":"A372","v":369},"RCP4-SA6R-3-水平",16,0.2,150,"○","○"]
[369,2941995,100,{"$f":"A371","v":368},-1,null,null,0.3,100,"○","○"]
[370,1961330,125,-1,-1,"RCP4-SA6R-3-水平",18,0.2,125,"○","○"]
[371,1961330,100,-1,{"$f":"A375","v":372},"RCP4-SA6R-3-水平",19,0.2,100,"○","○"]
[372,6864654.9999999991,75,{"$f":"A374","v":371},-1,null,null,0.7,75,"○","○"]
[373,2941995,150,-1,-1,"RCP4-SA6R-3-垂直",3,0.3,150,"○","○"]
[374,1961330,150,-1,-1,"RCP4-SA6R-3-垂直",4.5,0.2,150,"○","○"]
[375,980665,150,-1,-1,"RCP4-SA6R-3-垂直",5,0.1,150,"○","○"]
[376,2941995,125,-1,-1,"RCP4-SA6R-3-垂直",6,0.3,125,"○","○"]
[377,980665,125,-1,-1,"RCP4-SA6R-3-垂直",7,0.1,125,"○","○"]
[378,2941995,100,-1,-1,"RCP4-SA6R-3-垂直",8,0.3,100,"○","○"]
[379,1961330,100,-1,-1,"RCP4-SA6R-3-垂直",9,0.2,100,"○","○"]
[380,980665,100,-1,{"$f":"A384","v":381},"RCP4-SA6R-3-垂直",10,0.1,100,"○","○"]
[381,2941995,75,{"$f":"A383","v":380},-1,null,null,0.3,75,"○","○"]
[382,6864654.9999999991,300,-1,-1,"RCP4-SA6R-6-水平",4,0.7,300,"○","○"]
[383,4903325,300,-1,-1,"RCP4-SA6R-6-水平",6,0.5,300,"○","○"]
[384,6864654.9999999991,250,-1,-1,"RCP4-SA6R-6-水平",7,0.7,250,"○","○"]
[{"$f":"A387+1","v":385},{"$f":"H388*$A$1*1000*1000","v":4903325},{"$f":"I388","v":250},-1,-1,"RCP4-SA6R-6-水平",10,0.5,250,{"$f":"IF(G388=0,IF(D388<>A387,\"ﾘﾝｸ不正\",\"○\"),\"○\")","v":"○"},{"$f":"IF(D389<>-1,IF(E388<>A389,\"ﾘﾝｸ不正\",\"○\"),\"○\")","v":"○"}]
[386,2941995,300,-1,{"$f":"A390","v":387},"RCP4-SA6R-6-水平",12,0.3,300,"○","○"]
[387,6864654.9999999991,200,{"$f":"A389","v":386},-1,null,null,0.7,200,"○","○"]
[388,1961330,300,-1,{"$f":"A392","v":389},"RCP4-SA6R-6-水平",13,0.2,300,"○","○"]
[389,4903325,200,{"$f":"A391","v":388},-1,null,null,0.5,200,"○","○"]
[390,1961330,250,-1,{"$f":"A394","v":391},"RCP4-SA6R-6-水平",15,0.2,250,"○","○"]
[391,2941995,200,{"$f":"A393","v":390},-1,null,null,0.3,200,"○","○"]
[392,1961330,200,-1,-1,"RCP4-SA6R-6-水平",16,0.2,200,"○","○"]
[393,2941995,300,-1,-1,"RCP4-SA6R-6-垂直",1.5,0.3,300,"○","○"]
[394,1961330,300,-1,-1,"RCP4-SA6R-6-垂直",2,0.2,300,"○","○"]
[395,980665,300,-1,-1,"RCP4-SA6R-6-垂直",2.5,0.1,300,"○","○"]
[396,2941995,250,-1,-1,"RCP4-SA6R-6-垂直",3,0.3,250,"○","○"]
[397,1961330,250,-1,{"$f":"A401","v":398},"RCP4-SA6R-6-垂直",4,0.2,250,"○","○"]
[398,2941995,200,{"$f":"A400","v":397},-1,null,null,0.3,200,"○","○"]
[399,1961330,200,-1,-1,"RCP4-SA6R-6-垂直",4.5,0.2,200,"○","○"]
[400,980665,200,-1,{"$f":"A404","v":401},"RCP4-SA6R-6-垂直",5,0.1,200,"○","○"]
[401,2941995,150,{"$f":"A403","v":400},-1,null,null,0.3,150,"○","○"]
[402,6864654.9999999991,600,-1,-1,"RCP4-SA6R-12-水平",1.5,0.7,600,"○","○"]
[403,4903325,600,-1,{"$f":"A407","v":404},"RCP4-SA6R-12-水平",2,0.5,600,"○","○"]
[404,6864654.9999999991,500,{"$f":"A406","v":403},-1,null,null,0.7,500,"○","○"]
[405,4903325,500,-1,-1,"RCP4-SA6R-12-水平",3,0.5,500,"○","○"]
[406,6864654.9999999991,400,-1,-1,"RCP4-SA6R-12-水平",3.5,0.7,400,"○","○"]
[407,4903325,400,-1,-1,"RCP4-SA6R-12-水平",4,0.5,400,"○","○"]
[408,2941995,600,-1,{"$f":"A412","v":409},"RCP4-SA6R-12-水平",6,0.3,600,"○","○"]
[409,6864654.9999999991,300,{"$f":"A411","v":408},-1,null,null,0.7,300,"○","○"]
[410,1961330,500,-1,{"$f":"A414","v":411},"RCP4-SA6R-12-水平",7,0.2,500,"○","○"]
[411,2941995,400,{"$f":"A413","v":410},{"$f":"A415","v":412},null,null,0.3,400,"○","○"]
[412,4903325,300,{"$f":"A414","v":411},-1,null,null,0.5,300,"○","○"]
[413,1961330,400,-1,-1,"RCP4-SA6R-12-水平",8,0.2,400,"○","○"]
[414,2941995,300,-1,-1,"RCP4-SA6R-12-水平",8.5,0.3,300,"○","○"]
[415,2941995,600,-1,-1,"RCP4-SA6R-12-垂直",0.5,0.3,600,"○","○"]
[416,980665,600,-1,{"$f":"A420","v":417},"RCP4-SA6R-12-垂直",1,0.1,600,"○","○"]
[417,2941995,500,{"$f":"A419","v":416},-1,null,null,0.3,500,"○","○"]
[418,1961330,500,-1,{"$f":"A422","v":419},"RCP4-SA6R-12-垂直",1.5,0.2,500,"○","○"]
[419,2941995,400,{"$f":"A421","v":418},-1,null,null,0.3,400,"○","○"]
[420,1961330,400,-1,{"$f":"A424","v":421},"RCP4-SA6R-12-垂直",2,0.2,400,"○","○"]
[421,2941995,300,{"$f":"A423","v":420},-1,null,null,0.3,300,"○","○"]
[422,4903325,960,-1,-1,"RCP4-SA6R-20-水平",0.5,0.5,960,"○","○"]
[423,6864654.9999999991,800,-1,-1,"RCP4-SA6R-20-水平",1,0.7,800,"○","○"]
[424,2941995,960,-1,-1,"RCP4-SA6R-20-水平",1.5,0.3,960,"○","○"]
[425,1961330,960,-1,{"$f":"A429","v":426},"RCP4-SA6R-20-水平",2,0.2,960,"○","○"]
[426,6864654.9999999991,640,{"$f":"A428","v":425},-1,null,null,0.7,640,"○","○"]
[427,2941995,800,-1,{"$f":"A431","v":428},"RCP4-SA6R-20-水平",3,0.3,800,"○","○"]
[428,6864654.9999999991,480,{"$f":"A430","v":427},-1,null,null,0.7,480,"○","○"]
[429,2941995,640,-1,{"$f":"A433","v":430},"RCP4-SA6R-20-水平",4,0.3,640,"○","○"]
[430,6864654.9999999991,320,{"$f":"A432","v":429},-1,null,null,0.7,320,"○","○"]
[431,2941995,480,-1,-1,"RCP4-SA6R-20-水平",5,0.3,480,"○","○"]
[432,2941995,320,-1,-1,"RCP4-SA6R-20-水平",6,0.3,320,"○","○"]
[433,1961330,800,-1,-1,"RCP4-SA6R-20-垂直",0.5,0.2,800,"○","○"]
[434,1961330,140,-1,-1,"RCP4-SA7R-4-水平",22,0.2,140,"○","○"]
[435,1961330,105,-1,-1,"RCP4-SA7R-4-水平",40,0.2,105,"○","○"]
[436,1961330,140,-1,-1,"RCP4-SA7R-4-垂直",3,0.2,140,"○","○"]
[437,1961330,105,-1,-1,"RCP4-SA7R-4-垂直",10,0.2,105,"○","○"]
[438,1961330,70,-1,-1,"RCP4-SA7R-4-垂直",15,0.2,70,"○","○"]
[439,2941995,280,-1,-1,"RCP4-SA7R-8-水平",6,0.3,280,"○","○"]
[440,2941995,210,-1,-1,"RCP4-SA7R-8-水平",25,0.3,210,"○","○"]
[441,2941995,140,-1,-1,"RCP4-SA7R-8-水平",40,0.3,140,"○","○"]
[442,1961330,280,-1,-1,"RCP4-SA7R-8-垂直",1,0.2,280,"○","○"]
[443,1961330,210,-1,-1,"RCP4-SA7R-8-垂直",4,0.2,210,"○","○"]
[444,1961330,140,-1,-1,"RCP4-SA7R-8-垂直",7,0.2,140,"○","○"]
[445,1961330,70,-1,-1,"RCP4-SA7R-8-垂直",10,0.2,70,"○","○"]
[446,2941995,560,-1,-1,"RCP4-SA7R-16-水平",4,0.3,560,"○","○"]
[447,2941995,420,-1,-1,"RCP4-SA7R-16-水平",15,0.3,420,"○","○"]
[448,2941995,280,-1,-1,"RCP4-SA7R-16-水平",25,0.3,280,"○","○"]
[{"$f":"A451+1","v":449},{"$f":"H452*$A$1*1000*1000","v":2941995},{"$f":"I452","v":140},-1,-1,"RCP4-SA7R-16-水平",35,0.3,140,{"$f":"IF(G452=0,IF(D452<>A451,\"ﾘﾝｸ不正\",\"○\"),\"○\")","v":"○"},{"$f":"IF(D453<>-1,IF(E452<>A453,\"ﾘﾝｸ不正\",\"○\"),\"○\")","v":"○"}]
[450,1961330,560,-1,-1,"RCP4-SA7R-16-垂直",0.5,0.2,560,"○","○"]
[451,1961330,420,-1,-1,"RCP4-SA7R-16-垂直",1.5,0.2,420,"○","○"]
[452,1961330,280,-1,-1,"RCP4-SA7R-16-垂直",3,0.2,280,"○","○"]
[453,1961330,140,-1,-1,"RCP4-SA7R-16-垂直",5,0.2,140,"○","○"]
[454,2941995,800,-1,-1,"RCP4-SA7R-24-水平",1,0.3,800,"○","○"]
[455,2941995,600,-1,-1,"RCP4-SA7R-24-水平",9,0.3,600,"○","○"]
[456,2941995,400,-1,-1,"RCP4-SA7R-24-水平",18,0.3,400,"○","○"]
[457,1961330,600,-1,-1,"RCP4-SA7R-24-垂直",1.5,0.2,600,"○","○"]
[458,1961330,400,-1,-1,"RCP4-SA7R-24-垂直",2,0.2,400,"○","○"]
[459,1961330,125,-1,-1,"RCP4-RA5R-3-水平",40,0.2,125,"○","○"]
[460,1961330,125,-1,-1,"RCP4-RA5R-3-垂直",5,0.2,125,"○","○"]
[461,1961330,100,-1,-1,"RCP4-RA5R-3-垂直",9,0.2,100,"○","○"]
[462,1961330,75,-1,-1,"RCP4-RA5R-3-垂直",12,0.2,75,"○","○"]
[463,1961330,50,-1,-1,"RCP4-RA5R-3-垂直",16,0.2,50,"○","○"]
[464,1961330,25,-1,-1,"RCP4-RA5R-3-垂直",20,0.2,25,"○","○"]
[465,1961330,250,-1,-1,"RCP4-RA5R-6-水平",10,0.2,250,"○","○"]
[466,1961330,200,-1,-1,"RCP4-RA5R-6-水平",35,0.2,200,"○","○"]
[467,1961330,150,-1,-1,"RCP4-RA5R-6-水平",40,0.2,150,"○","○"]
[468,1961330,250,-1,-1,"RCP4-RA5R-6-垂直",3,0.2,250,"○","○"]
[469,1961330,200,-1,-1,"RCP4-RA5R-6-垂直",5,0.2,200,"○","○"]
[470,1961330,150,-1,-1,"RCP4-RA5R-6-垂直",8,0.2,150,"○","○"]
[471,1961330,100,-1,-1,"RCP4-RA5R-6-垂直",10,0.2,100,"○","○"]
[472,1961330,500,-1,-1,"RCP4-RA5R-12-水平",5,0.2,500,"○","○"]
[473,1961330,400,-1,-1,"RCP4-RA5R-12-水平",10,0.2,400,"○","○"]
[474,1961330,300,-1,-1,"RCP4-RA5R-12-水平",20,0.2,300,"○","○"]
[475,1961330,200,-1,-1,"RCP4-RA5R-12-水平",25,0.2,200,"○","○"]
[476,1961330,500,-1,-1,"RCP4-RA5R-12-垂直",1,0.2,500,"○","○"]
[477,1961330,400,-1,-1,"RCP4-RA5R-12-垂直",2,0.2,400,"○","○"]
[478,1961330,300,-1,-1,"RCP4-RA5R-12-垂直",3,0.2,300,"○","○"]
[479,1961330,200,-1,-1,"RCP4-RA5R-12-垂直",4,0.2,200,"○","○"]
[480,2941995,640,-1,-1,"RCP4-RA5R-20-水平",3,0.3,640,"○","○"]
[481,2941995,480,-1,-1,"RCP4-RA5R-20-水平",4,0.3,480,"○","○"]
[482,2941995,320,-1,-1,"RCP4-RA5R-20-水平",6,0.3,320,"○","○"]
[483,1961330,640,-1,-1,"RCP4-RA5R-20-垂直",0.5,0.2,640,"○","○"]
[484,1961330,480,-1,-1,"RCP4-RA5R-20-垂直",1,0.2,480,"○","○"]
[485,1961330,320,-1,-1,"RCP4-RA5R-20-垂直",1.5,0.2,320,"○","○"]
[486,1961330,140,-1,-1,"RCP4-RA6R-4-水平",5,0.2,140,"○","○"]
[487,1961330,105,-1,-1,"RCP4-RA6R-4-水平",55,0.2,105,"○","○"]
[488,1961330,140,-1,-1,"RCP4-RA6R-4-垂直",0.5,0.2,140,"○","○"]
[489,1961330,105,-1,-1,"RCP4-RA6R-4-垂直",4,0.2,105,"○","○"]
[490,1961330,70,-1,-1,"RCP4-RA6R-4-垂直",15,0.2,70,"○","○"]
[491,1961330,35,-1,-1,"RCP4-RA6R-4-垂直",26,0.2,35,"○","○"]
[492,1961330,210,-1,-1,"RCP4-RA6R-8-水平",30,0.2,210,"○","○"]
[493,1961330,140,-1,-1,"RCP4-RA6R-8-水平",50,0.2,140,"○","○"]
[494,1961330,210,-1,-1,"RCP4-RA6R-8-垂直",2,0.2,210,"○","○"]
[495,1961330,140,-1,-1,"RCP4-RA6R-8-垂直",7,0.2,140,"○","○"]
[496,1961330,70,-1,-1,"RCP4-RA6R-8-垂直",17.5,0.2,70,"○","○"]
[497,1961330,420,-1,-1,"RCP4-RA6R-16-水平",6,0.2,420,"○","○"]
[498,1961330,280,-1,-1,"RCP4-RA6R-16-水平",30,0.2,280,"○","○"]
[499,1961330,140,-1,-1,"RCP4-RA6R-16-水平",40,0.2,140,"○","○"]
[500,1961330,420,-1,-1,"RCP4-RA6R-16-垂直",0.5,0.2,420,"○","○"]
[501,1961330,280,-1,-1,"RCP4-RA6R-16-垂直",3,0.2,280,"○","○"]
[502,1961330,140,-1,-1,"RCP4-RA6R-16-垂直",5,0.2,140,"○","○"]
[503,2941995,600,-1,-1,"RCP4-RA6R-24-水平",1,0.3,600,"○","○"]
[504,2941995,400,-1,-1,"RCP4-RA6R-24-水平",10,0.3,400,"○","○"]
[505,2941995,200,-1,-1,"RCP4-RA6R-24-水平",18,0.3,200,"○","○"]
[506,1961330,400,-1,-1,"RCP4-RA6R-24-垂直",2,0.2,400,"○","○"]
[507,1961330,200,-1,-1,"RCP4-RA6R-24-垂直",3,0.2,200,"○","○"]
[508,1961330,150,-1,-1,"ERC3D-SA5-3-水平",12,0.2,150,"○","○"]
[509,1961330,150,-1,-1,"ERC3D-SA5-3-垂直",4,0.2,150,"○","○"]
[510,1961330,120,-1,-1,"ERC3D-SA5-3-垂直",6,0.2,120,"○","○"]
[511,2941995,300,-1,-1,"ERC3D-SA5-6-水平",12,0.3,300,"○","○"]
[512,1961330,300,-1,-1,"ERC3D-SA5-6-垂直",2.5,0.2,300,"○","○"]
[{"$f":"A515+1","v":513},{"$f":"H516*$A$1*1000*1000","v":1961330},{"$f":"I516","v":250},-1,-1,"ERC3D-SA5-6-垂直",3,0.2,250,{"$f":"IF(G516=0,IF(D516<>A515,\"ﾘﾝｸ不正\",\"○\"),\"○\")","v":"○"},{"$f":"IF(D517<>-1,IF(E516<>A517,\"ﾘﾝｸ不正\",\"○\"),\"○\")","v":"○"}]
[514,2941995,600,-1,-1,"ERC3D-SA5-12-水平",2,0.3,600,"○","○"]
[515,2941995,400,-1,-1,"ERC3D-SA5-12-水平",6,0.3,400,"○","○"]
[516,1961330,600,-1,-1,"ERC3D-SA5-12-垂直",1,0.2,600,"○","○"]
[517,1961330,450,-1,-1,"ERC3D-SA5-12-垂直",1.5,0.2,450,"○","○"]
[518,2941995,1000,-1,-1,"ERC3D-SA5-20-水平",1,0.3,1000,"○","○"]
[519,2941995,667,-1,-1,"ERC3D-SA5-20-水平",3.5,0.3,667,"○","○"]
[520,1961330,1000,-1,-1,"ERC3D-SA5-20-垂直",0.5,0.2,1000,"○","○"]
[521,1961330,750,-1,-1,"ERC3D-SA5-20-垂直",1,0.2,750,"○","○"]
[522,1961330,125,-1,-1,"ERC3D-SA7-4-水平",20,0.2,125,"○","○"]
[523,1961330,125,-1,-1,"ERC3D-SA7-4-垂直",2,0.2,125,"○","○"]
[524,1961330,90,-1,-1,"ERC3D-SA7-4-垂直",10,0.2,90,"○","○"]
[525,2941995,250,-1,-1,"ERC3D-SA7-8-水平",3.5,0.3,250,"○","○"]
[526,2941995,180,-1,-1,"ERC3D-SA7-8-水平",20,0.3,180,"○","○"]
[527,1961330,250,-1,-1,"ERC3D-SA7-8-垂直",0.5,0.2,250,"○","○"]
[528,1961330,200,-1,-1,"ERC3D-SA7-8-垂直",1,0.2,200,"○","○"]
[529,1961330,150,-1,-1,"ERC3D-SA7-8-垂直",5,0.2,150,"○","○"]
[530,2941995,450,-1,-1,"ERC3D-SA7-16-水平",2,0.3,450,"○","○"]
[531,2941995,300,-1,-1,"ERC3D-SA7-16-水平",10,0.3,300,"○","○"]
[532,1961330,400,-1,-1,"ERC3D-SA7-16-垂直",0.5,0.2,400,"○","○"]
[533,1961330,300,-1,-1,"ERC3D-SA7-16-垂直",2.5,0.2,300,"○","○"]
[534,2941995,675,-1,-1,"ERC3D-SA7-24-水平",1,0.3,675,"○","○"]
[535,2941995,450,-1,-1,"ERC3D-SA7-24-水平",6,0.3,450,"○","○"]
[536,1961330,600,-1,-1,"ERC3D-SA7-24-垂直",0.5,0.2,600,"○","○"]
[537,1961330,450,-1,-1,"ERC3D-SA7-24-垂直",1.5,0.2,450,"○","○"]
[538,1961330,150,-1,-1,"ERC3CR-SA5-3-水平",12,0.2,150,"○","○"]
[539,1961330,150,-1,-1,"ERC3CR-SA5-3-垂直",4,0.2,150,"○","○"]
[540,1961330,120,-1,-1,"ERC3CR-SA5-3-垂直",6,0.2,120,"○","○"]
[541,2941995,300,-1,-1,"ERC3CR-SA5-6-水平",12,0.3,300,"○","○"]
[542,1961330,300,-1,-1,"ERC3CR-SA5-6-垂直",2.5,0.2,300,"○","○"]
[543,1961330,250,-1,-1,"ERC3CR-SA5-6-垂直",3,0.2,250,"○","○"]
[544,2941995,600,-1,-1,"ERC3CR-SA5-12-水平",2,0.3,600,"○","○"]
[545,2941995,400,-1,-1,"ERC3CR-SA5-12-水平",6,0.3,400,"○","○"]
[546,1961330,600,-1,-1,"ERC3CR-SA5-12-垂直",1,0.2,600,"○","○"]
[547,1961330,450,-1,-1,"ERC3CR-SA5-12-垂直",1.5,0.2,450,"○","○"]
[548,2941995,1000,-1,-1,"ERC3CR-SA5-20-水平",1,0.3,1000,"○","○"]
[549,2941995,667,-1,-1,"ERC3CR-SA5-20-水平",3.5,0.3,667,"○","○"]
[550,1961330,1000,-1,-1,"ERC3CR-SA5-20-垂直",0.5,0.2,1000,"○","○"]
[551,1961330,750,-1,-1,"ERC3CR-SA5-20-垂直",1,0.2,750,"○","○"]
[552,1961330,125,-1,-1,"ERC3CR-SA7-4-水平",20,0.2,125,"○","○"]
[553,1961330,125,-1,-1,"ERC3CR-SA7-4-垂直",2,0.2,125,"○","○"]
[554,1961330,90,-1,-1,"ERC3CR-SA7-4-垂直",10,0.2,90,"○","○"]
[555,2941995,250,-1,-1,"ERC3CR-SA7-8-水平",3.5,0.3,250,"○","○"]
[556,2941995,180,-1,-1,"ERC3CR-SA7-8-水平",20,0.3,180,"○","○"]
[557,1961330,250,-1,-1,"ERC3CR-SA7-8-垂直",0.5,0.2,250,"○","○"]
[558,1961330,200,-1,-1,"ERC3CR-SA7-8-垂直",1,0.2,200,"○","○"]
[559,1961330,150,-1,-1,"ERC3CR-SA7-8-垂直",5,0.2,150,"○","○"]
[560,2941995,450,-1,-1,"ERC3CR-SA7-16-水平",2,0.3,450,"○","○"]
[561,2941995,300,-1,-1,"ERC3CR-SA7-16-水平",10,0.3,300,"○","○"]
[562,1961330,400,-1,-1,"ERC3CR-SA7-16-垂直",0.5,0.2,400,"○","○"]
[563,1961330,300,-1,-1,"ERC3CR-SA7-16-垂直",2.5,0.2,300,"○","○"]
[564,2941995,675,-1,-1,"ERC3CR-SA7-24-水平",1,0.3,675,"○","○"]
[565,2941995,450,-1,-1,"ERC3CR-SA7-24-水平",6,0.3,450,"○","○"]
[566,1961330,600,-1,-1,"ERC3CR-SA7-24-垂直",0.5,0.2,600,"○","○"]
[567,1961330,450,-1,-1,"ERC3CR-SA7-24-垂直",1.5,0.2,450,"○","○"]
[568,6864654.9999999991,130,-1,-1,"RCP5-SA4C-2.5-水平",8,0.7,130,"○","○"]
[569,4903325,130,-1,{"$f":"A573","v":570},"RCP5-SA4C-2.5-水平",9,0.5,130,"○","○"]
[570,6864654.9999999991,105,{"$f":"A572","v":569},-1,null,null,0.7,105,"○","○"]
[571,2941995,130,-1,{"$f":"A575","v":572},"RCP5-SA4C-2.5-水平",10,0.3,130,"○","○"]
[572,4903325,105,{"$f":"A574","v":571},{"$f":"A576","v":573},null,null,0.5,105,"○","○"]
[573,6864654.9999999991,85,{"$f":"A575","v":572},-1,null,null,0.7,85,"○","○"]
[574,2941995,85,-1,{"$f":"A578","v":575},"RCP5-SA4C-2.5-水平",11,0.3,85,"○","○"]
[575,6864654.9999999991,65,{"$f":"A577","v":574},-1,null,null,0.7,65,"○","○"]
[576,1961330,130,-1,{"$f":"A580","v":577},"RCP5-SA4C-2.5-水平",12,0.2,130,"○","○"]
[{"$f":"A579+1","v":577},{"$f":"H580*$A$1*1000*1000","v":2941995},{"$f":"I580","v":65},{"$f":"A579","v":576},{"$f":"A581","v":578},null,null,0.3,65,{"$f":"IF(G580=0,IF(D580<>A579,\"ﾘﾝｸ不正\",\"○\"),\"○\")","v":"○"},{"$f":"IF(D581<>-1,IF(E580<>A581,\"ﾘﾝｸ不正\",\"○\"),\"○\")","v":"○"}]
[578,6864654.9999999991,40,{"$f":"A580","v":577},-1,null,null,0.7,40,"○","○"]
[579,2941995,130,-1,-1,"RCP5-SA4C-2.5-垂直",5,0.3,130,"○","○"]
[580,2941995,105,-1,-1,"RCP5-SA4C-2.5-垂直",8,0.3,105,"○","○"]
[581,2941995,40,-1,-1,"RCP5-SA4C-2.5-垂直",9,0.3,40,"○","○"]
[582,6864654.9999999991,260,-1,-1,"RCP5-SA4C-5-水平",6,0.7,260,"○","○"]
[583,4903325,260,-1,{"$f":"A587","v":584},"RCP5-SA4C-5-水平",7,0.5,260,"○","○"]
[584,6864654.9999999991,215,{"$f":"A586","v":583},-1,null,null,0.7,215,"○","○"]
[585,2941995,260,-1,{"$f":"A589","v":586},"RCP5-SA4C-5-水平",8,0.3,260,"○","○"]
[586,4903325,215,{"$f":"A588","v":585},{"$f":"A590","v":587},null,null,0.5,215,"○","○"]
[587,6864654.9999999991,175,{"$f":"A589","v":586},-1,null,null,0.7,175,"○","○"]
[588,1961330,260,-1,{"$f":"A592","v":589},"RCP5-SA4C-5-水平",9,0.2,260,"○","○"]
[589,2941995,215,{"$f":"A591","v":588},{"$f":"A593","v":590},null,null,0.3,215,"○","○"]
[590,4903325,175,{"$f":"A592","v":589},{"$f":"A594","v":591},null,null,0.5,175,"○","○"]
[591,6864654.9999999991,130,{"$f":"A593","v":590},-1,null,null,0.7,130,"○","○"]
[592,1961330,215,-1,{"$f":"A596","v":593},"RCP5-SA4C-5-水平",10,0.2,215,"○","○"]
[593,2941995,175,{"$f":"A595","v":592},{"$f":"A597","v":594},null,null,0.3,175,"○","○"]
[594,4903325,130,{"$f":"A596","v":593},{"$f":"A598","v":595},null,null,0.5,130,"○","○"]
[595,6864654.9999999991,85,{"$f":"A597","v":594},-1,null,null,0.7,85,"○","○"]
[596,4903325,85,-1,-1,"RCP5-SA4C-5-水平",12,0.5,85,"○","○"]
[597,2941995,260,-1,-1,"RCP5-SA4C-5-垂直",2.5,0.3,260,"○","○"]
[598,1961330,260,-1,-1,"RCP5-SA4C-5-垂直",3,0.2,260,"○","○"]
[599,980665,260,-1,-1,"RCP5-SA4C-5-垂直",3.5,0.1,260,"○","○"]
[600,2941995,215,-1,-1,"RCP5-SA4C-5-垂直",4,0.3,215,"○","○"]
[601,2941995,85,-1,-1,"RCP5-SA4C-5-垂直",4.5,0.3,85,"○","○"]
[602,6864654.9999999991,525,-1,-1,"RCP5-SA4C-10-水平",3,0.7,525,"○","○"]
[603,4903325,525,-1,{"$f":"A607","v":604},"RCP5-SA4C-10-水平",4,0.5,525,"○","○"]
[604,6864654.9999999991,435,{"$f":"A606","v":603},-1,null,null,0.7,435,"○","○"]
[605,2941995,525,-1,{"$f":"A609","v":606},"RCP5-SA4C-10-水平",5,0.3,525,"○","○"]
[606,4903325,435,{"$f":"A608","v":605},{"$f":"A610","v":607},null,null,0.5,435,"○","○"]
[607,6864654.9999999991,350,{"$f":"A609","v":606},-1,null,null,0.7,350,"○","○"]
[608,1961330,525,-1,{"$f":"A612","v":609},"RCP5-SA4C-10-水平",6,0.2,525,"○","○"]
[609,2941995,435,{"$f":"A611","v":608},{"$f":"A613","v":610},null,null,0.3,435,"○","○"]
[610,4903325,350,{"$f":"A612","v":609},{"$f":"A614","v":611},null,null,0.5,350,"○","○"]
[611,6864654.9999999991,260,{"$f":"A613","v":610},-1,null,null,0.7,260,"○","○"]
[612,1961330,435,-1,{"$f":"A616","v":613},"RCP5-SA4C-10-水平",7,0.2,435,"○","○"]
[613,2941995,350,{"$f":"A615","v":612},-1,null,null,0.3,350,"○","○"]
[614,1961330,350,-1,{"$f":"A618","v":615},"RCP5-SA4C-10-水平",8,0.2,350,"○","○"]
[615,4903325,260,{"$f":"A617","v":614},{"$f":"A619","v":616},null,null,0.5,260,"○","○"]
[616,6864654.9999999991,175,{"$f":"A618","v":615},-1,null,null,0.7,175,"○","○"]
[617,2941995,260,-1,{"$f":"A621","v":618},"RCP5-SA4C-10-水平",9,0.3,260,"○","○"]
[618,4903325,175,{"$f":"A620","v":617},-1,null,null,0.5,175,"○","○"]
[619,2941995,175,-1,-1,"RCP5-SA4C-10-水平",10,0.3,175,"○","○"]
[620,2941995,525,-1,-1,"RCP5-SA4C-10-垂直",1,0.3,525,"○","○"]
[621,980665,525,-1,{"$f":"A625","v":622},"RCP5-SA4C-10-垂直",1.5,0.1,525,"○","○"]
[622,2941995,435,{"$f":"A624","v":621},-1,null,null,0.3,435,"○","○"]
[623,980665,435,-1,{"$f":"A627","v":624},"RCP5-SA4C-10-垂直",2,0.1,435,"○","○"]
[624,2941995,350,{"$f":"A626","v":623},-1,null,null,0.3,350,"○","○"]
[625,2941995,175,-1,-1,"RCP5-SA4C-10-垂直",2.25,0.3,175,"○","○"]
[626,6864654.9999999991,840,-1,-1,"RCP5-SA4C-16-水平",1.5,0.7,840,"○","○"]
[627,4903325,840,-1,{"$f":"A631","v":628},"RCP5-SA4C-16-水平",2,0.5,840,"○","○"]
[628,6864654.9999999991,700,{"$f":"A630","v":627},-1,null,null,0.7,700,"○","○"]
[629,2941995,840,-1,{"$f":"A633","v":630},"RCP5-SA4C-16-水平",2.5,0.3,840,"○","○"]
[630,4903325,700,{"$f":"A632","v":629},{"$f":"A634","v":631},null,null,0.5,700,"○","○"]
[631,6864654.9999999991,560,{"$f":"A633","v":630},-1,null,null,0.7,560,"○","○"]
[632,2941995,700,-1,{"$f":"A636","v":633},"RCP5-SA4C-16-水平",3,0.3,700,"○","○"]
[633,4903325,560,{"$f":"A635","v":632},{"$f":"A637","v":634},null,null,0.5,560,"○","○"]
[634,6864654.9999999991,420,{"$f":"A636","v":633},-1,null,null,0.7,420,"○","○"]
[635,1961330,700,-1,{"$f":"A639","v":636},"RCP5-SA4C-16-水平",3.5,0.2,700,"○","○"]
[636,2941995,560,{"$f":"A638","v":635},{"$f":"A640","v":637},null,null,0.3,560,"○","○"]
[637,4903325,420,{"$f":"A639","v":636},{"$f":"A641","v":638},null,null,0.5,420,"○","○"]
[638,6864654.9999999991,280,{"$f":"A640","v":637},-1,null,null,0.7,280,"○","○"]
[639,1961330,560,-1,{"$f":"A643","v":640},"RCP5-SA4C-16-水平",4,0.2,560,"○","○"]
[640,2941995,420,{"$f":"A642","v":639},{"$f":"A644","v":641},null,null,0.3,420,"○","○"]
[{"$f":"A643+1","v":641},{"$f":"H644*$A$1*1000*1000","v":4903325},{"$f":"I644","v":280},{"$f":"A643","v":640},-1,null,null,0.5,280,{"$f":"IF(G644=0,IF(D644<>A643,\"ﾘﾝｸ不正\",\"○\"),\"○\")","v":"○"},{"$f":"IF(D645<>-1,IF(E644<>A645,\"ﾘﾝｸ不正\",\"○\"),\"○\")","v":"○"}]
[642,2941995,840,-1,-1,"RCP5-SA4C-16-垂直",0.5,0.3,840,"○","○"]
[643,1961330,700,-1,{"$f":"A647","v":644},"RCP5-SA4C-16-垂直",0.75,0.2,700,"○","○"]
[644,2941995,560,{"$f":"A646","v":643},-1,null,null,0.3,560,"○","○"]
[645,980665,560,-1,{"$f":"A649","v":646},"RCP5-SA4C-16-垂直",1,0.1,560,"○","○"]
[646,1961330,420,{"$f":"A648","v":645},{"$f":"A650","v":647},null,null,0.2,420,"○","○"]
[647,2941995,280,{"$f":"A649","v":646},-1,null,null,0.3,280,"○","○"]
[648,6864654.9999999991,150,-1,-1,"RCP5-SA6C-3-水平",9,0.7,150,"○","○"]
[649,4903325,150,-1,{"$f":"A653","v":650},"RCP5-SA6C-3-水平",10,0.5,150,"○","○"]
[650,6864654.9999999991,125,{"$f":"A652","v":649},-1,null,null,0.7,125,"○","○"]
[651,4903325,125,-1,-1,"RCP5-SA6C-3-水平",11,0.5,125,"○","○"]
[652,6864654.9999999991,100,-1,-1,"RCP5-SA6C-3-水平",12,0.7,100,"○","○"]
[653,2941995,150,-1,-1,"RCP5-SA6C-3-水平",13,0.3,150,"○","○"]
[654,2941995,125,-1,{"$f":"A658","v":655},"RCP5-SA6C-3-水平",14,0.3,125,"○","○"]
[655,4903325,100,{"$f":"A657","v":654},-1,null,null,0.5,100,"○","○"]
[656,1961330,150,-1,{"$f":"A660","v":657},"RCP5-SA6C-3-水平",16,0.2,150,"○","○"]
[657,2941995,100,{"$f":"A659","v":656},-1,null,null,0.3,100,"○","○"]
[658,1961330,125,-1,-1,"RCP5-SA6C-3-水平",18,0.2,125,"○","○"]
[659,1961330,100,-1,{"$f":"A663","v":660},"RCP5-SA6C-3-水平",19,0.2,100,"○","○"]
[660,6864654.9999999991,75,{"$f":"A662","v":659},-1,null,null,0.7,75,"○","○"]
[661,2941995,150,-1,-1,"RCP5-SA6C-3-垂直",3,0.3,150,"○","○"]
[662,1961330,150,-1,-1,"RCP5-SA6C-3-垂直",4.5,0.2,150,"○","○"]
[663,980665,150,-1,-1,"RCP5-SA6C-3-垂直",5,0.1,150,"○","○"]
[664,2941995,125,-1,-1,"RCP5-SA6C-3-垂直",6,0.3,125,"○","○"]
[665,980665,125,-1,-1,"RCP5-SA6C-3-垂直",7,0.1,125,"○","○"]
[666,2941995,100,-1,-1,"RCP5-SA6C-3-垂直",8,0.3,100,"○","○"]
[667,1961330,100,-1,-1,"RCP5-SA6C-3-垂直",9,0.2,100,"○","○"]
[668,980665,100,-1,{"$f":"A672","v":669},"RCP5-SA6C-3-垂直",10,0.1,100,"○","○"]
[669,2941995,75,{"$f":"A671","v":668},-1,null,null,0.3,75,"○","○"]
[670,6864654.9999999991,300,-1,-1,"RCP5-SA6C-6-水平",4,0.7,300,"○","○"]
[671,4903325,300,-1,-1,"RCP5-SA6C-6-水平",6,0.5,300,"○","○"]
[672,6864654.9999999991,250,-1,-1,"RCP5-SA6C-6-水平",7,0.7,250,"○","○"]
[673,4903325,250,-1,-1,"RCP5-SA6C-6-水平",10,0.5,250,"○","○"]
[674,2941995,300,-1,{"$f":"A678","v":675},"RCP5-SA6C-6-水平",12,0.3,300,"○","○"]
[675,6864654.9999999991,200,{"$f":"A677","v":674},-1,null,null,0.7,200,"○","○"]
[676,1961330,300,-1,{"$f":"A680","v":677},"RCP5-SA6C-6-水平",13,0.2,300,"○","○"]
[677,4903325,200,{"$f":"A679","v":676},-1,null,null,0.5,200,"○","○"]
[678,1961330,250,-1,{"$f":"A682","v":679},"RCP5-SA6C-6-水平",15,0.2,250,"○","○"]
[679,2941995,200,{"$f":"A681","v":678},-1,null,null,0.3,200,"○","○"]
[680,1961330,200,-1,-1,"RCP5-SA6C-6-水平",16,0.2,200,"○","○"]
[681,2941995,300,-1,-1,"RCP5-SA6C-6-垂直",2,0.3,300,"○","○"]
[682,1961330,300,-1,-1,"RCP5-SA6C-6-垂直",2.5,0.2,300,"○","○"]
[683,980665,300,-1,{"$f":"A687","v":684},"RCP5-SA6C-6-垂直",3,0.1,300,"○","○"]
[684,2941995,250,{"$f":"A686","v":683},-1,null,null,0.3,250,"○","○"]
[685,1961330,250,-1,{"$f":"A689","v":686},"RCP5-SA6C-6-垂直",4,0.2,250,"○","○"]
[686,2941995,200,{"$f":"A688","v":685},-1,null,null,0.3,200,"○","○"]
[687,1961330,200,-1,-1,"RCP5-SA6C-6-垂直",4.5,0.2,200,"○","○"]
[688,980665,200,-1,{"$f":"A692","v":689},"RCP5-SA6C-6-垂直",5,0.1,200,"○","○"]
[689,2941995,150,{"$f":"A691","v":688},-1,null,null,0.3,150,"○","○"]
[690,6864654.9999999991,600,-1,-1,"RCP5-SA6C-12-水平",1.5,0.7,600,"○","○"]
[691,4903325,600,-1,{"$f":"A695","v":692},"RCP5-SA6C-12-水平",2,0.5,600,"○","○"]
[692,6864654.9999999991,500,{"$f":"A694","v":691},-1,null,null,0.7,500,"○","○"]
[693,4903325,500,-1,-1,"RCP5-SA6C-12-水平",3,0.5,500,"○","○"]
[694,6864654.9999999991,400,-1,-1,"RCP5-SA6C-12-水平",3.5,0.7,400,"○","○"]
[695,4903325,400,-1,-1,"RCP5-SA6C-12-水平",4,0.5,400,"○","○"]
[696,2941995,600,-1,{"$f":"A700","v":697},"RCP5-SA6C-12-水平",6,0.3,600,"○","○"]
[697,6864654.9999999991,300,{"$f":"A699","v":696},-1,null,null,0.7,300,"○","○"]
[698,1961330,500,-1,{"$f":"A702","v":699},"RCP5-SA6C-12-水平",7,0.2,500,"○","○"]
[699,2941995,400,{"$f":"A701","v":698},{"$f":"A703","v":700},null,null,0.3,400,"○","○"]
[700,4903325,300,{"$f":"A702","v":699},-1,null,null,0.5,300,"○","○"]
[701,1961330,400,-1,-1,"RCP5-SA6C-12-水平",8,0.2,400,"○","○"]
[702,2941995,300,-1,-1,"RCP5-SA6C-12-水平",8.5,0.3,300,"○","○"]
[703,2941995,600,-1,-1,"RCP5-SA6C-12-垂直",0.5,0.3,600,"○","○"]
[704,1961330,600,-1,{"$f":"A708","v":705},"RCP5-SA6C-12-垂直",1,0.2,600,"○","○"]
[{"$f":"A707+1","v":705},{"$f":"H708*$A$1*1000*1000","v":2941995},{"$f":"I708","v":500},{"$f":"A707","v":704},-1,null,null,0.3,500,{"$f":"IF(G708=0,IF(D708<>A707,\"ﾘﾝｸ不正\",\"○\"),\"○\")","v":"○"},{"$f":"IF(D709<>-1,IF(E708<>A709,\"ﾘﾝｸ不正\",\"○\"),\"○\")","v":"○"}]
[706,1961330,500,-1,{"$f":"A710","v":707},"RCP5-SA6C-12-垂直",1.5,0.2,500,"○","○"]
[707,2941995,400,{"$f":"A709","v":706},-1,null,null,0.3,400,"○","○"]
[708,1961330,400,-1,{"$f":"A712","v":709},"RCP5-SA6C-12-垂直",2,0.2,400,"○","○"]
[709,2941995,300,{"$f":"A711","v":708},-1,null,null,0.3,300,"○","○"]
[710,6864654.9999999991,960,-1,-1,"RCP5-SA6C-20-水平",0.5,0.7,960,"○","○"]
[711,4903325,960,-1,{"$f":"A715","v":712},"RCP5-SA6C-20-水平",1,0.5,960,"○","○"]
[712,6864654.9999999991,800,{"$f":"A714","v":711},-1,null,null,0.7,800,"○","○"]
[713,2941995,960,-1,{"$f":"A717","v":714},"RCP5-SA6C-20-水平",2,0.3,960,"○","○"]
[714,6864654.9999999991,640,{"$f":"A716","v":713},-1,null,null,0.7,640,"○","○"]
[715,2941995,800,-1,{"$f":"A719","v":716},"RCP5-SA6C-20-水平",3,0.3,800,"○","○"]
[716,6864654.9999999991,480,{"$f":"A718","v":715},-1,null,null,0.7,480,"○","○"]
[717,2941995,640,-1,{"$f":"A721","v":718},"RCP5-SA6C-20-水平",4,0.3,640,"○","○"]
[718,6864654.9999999991,320,{"$f":"A720","v":717},-1,null,null,0.7,320,"○","○"]
[719,2941995,480,-1,-1,"RCP5-SA6C-20-水平",5,0.3,480,"○","○"]
[720,2941995,320,-1,-1,"RCP5-SA6C-20-水平",6,0.3,320,"○","○"]
[721,1961330,960,-1,-1,"RCP5-SA6C-20-垂直",0.5,0.2,960,"○","○"]
[722,1961330,140,-1,-1,"RCP5-SA7C-4-水平",40,0.2,140,"○","○"]
[723,1961330,140,-1,-1,"RCP5-SA7C-4-垂直",5,0.2,140,"○","○"]
[724,1961330,105,-1,-1,"RCP5-SA7C-4-垂直",10,0.2,105,"○","○"]
[725,1961330,70,-1,-1,"RCP5-SA7C-4-垂直",15,0.2,70,"○","○"]
[726,2941995,280,-1,-1,"RCP5-SA7C-8-水平",10,0.3,280,"○","○"]
[727,2941995,210,-1,-1,"RCP5-SA7C-8-水平",25,0.3,210,"○","○"]
[728,2941995,140,-1,-1,"RCP5-SA7C-8-水平",40,0.3,140,"○","○"]
[729,1961330,280,-1,-1,"RCP5-SA7C-8-垂直",1.5,0.2,280,"○","○"]
[730,1961330,210,-1,-1,"RCP5-SA7C-8-垂直",4,0.2,210,"○","○"]
[731,1961330,140,-1,-1,"RCP5-SA7C-8-垂直",7,0.2,140,"○","○"]
[732,1961330,70,-1,-1,"RCP5-SA7C-8-垂直",10,0.2,70,"○","○"]
[733,2941995,560,-1,-1,"RCP5-SA7C-16-水平",7,0.3,560,"○","○"]
[734,2941995,420,-1,-1,"RCP5-SA7C-16-水平",15,0.3,420,"○","○"]
[735,2941995,280,-1,-1,"RCP5-SA7C-16-水平",25,0.3,280,"○","○"]
[736,2941995,140,-1,-1,"RCP5-SA7C-16-水平",35,0.3,140,"○","○"]
[737,1961330,560,-1,-1,"RCP5-SA7C-16-垂直",0.5,0.2,560,"○","○"]
[738,1961330,420,-1,-1,"RCP5-SA7C-16-垂直",1.5,0.2,420,"○","○"]
[739,1961330,280,-1,-1,"RCP5-SA7C-16-垂直",3,0.2,280,"○","○"]
[740,1961330,140,-1,-1,"RCP5-SA7C-16-垂直",5,0.2,140,"○","○"]
[741,2941995,800,-1,-1,"RCP5-SA7C-24-水平",5,0.3,800,"○","○"]
[742,2941995,600,-1,-1,"RCP5-SA7C-24-水平",10,0.3,600,"○","○"]
[743,2941995,400,-1,-1,"RCP5-SA7C-24-水平",18,0.3,400,"○","○"]
[744,1961330,800,-1,-1,"RCP5-SA7C-24-垂直",1,0.2,800,"○","○"]
[745,1961330,600,-1,-1,"RCP5-SA7C-24-垂直",1.5,0.2,600,"○","○"]
[746,1961330,400,-1,-1,"RCP5-SA7C-24-垂直",2,0.2,400,"○","○"]
[747,9806650,175,-1,-1,"RCP5-RA4C-2.5-水平",12,1,175,"○","○"]
[748,4903325,175,-1,-1,"RCP5-RA4C-2.5-水平",16,0.5,175,"○","○"]
[749,2941995,175,-1,-1,"RCP5-RA4C-2.5-水平",18,0.3,175,"○","○"]
[750,9806650,150,-1,-1,"RCP5-RA4C-2.5-水平",20,1,150,"○","○"]
[751,6864654.9999999991,150,-1,-1,"RCP5-RA4C-2.5-水平",24,0.7,150,"○","○"]
[752,980665,175,-1,{"$f":"A756","v":753},"RCP5-RA4C-2.5-水平",28,0.1,175,"○","○"]
[753,4903325,150,{"$f":"A755","v":752},-1,null,null,0.5,150,"○","○"]
[754,9806650,130,-1,-1,"RCP5-RA4C-2.5-水平",30,1,130,"○","○"]
[755,2941995,150,-1,{"$f":"A759","v":756},"RCP5-RA4C-2.5-水平",32,0.3,150,"○","○"]
[756,4903325,130,{"$f":"A758","v":755},{"$f":"A760","v":757},null,null,0.5,130,"○","○"]
[757,6864654.9999999991,105,{"$f":"A759","v":756},-1,null,null,0.7,105,"○","○"]
[758,980665,130,-1,{"$f":"A762","v":759},"RCP5-RA4C-2.5-水平",36,0.1,130,"○","○"]
[759,2941995,105,{"$f":"A761","v":758},{"$f":"A763","v":760},null,null,0.3,105,"○","○"]
[760,4903325,85,{"$f":"A762","v":759},-1,null,null,0.5,85,"○","○"]
[761,4903325,175,-1,-1,"RCP5-RA4C-2.5-垂直",2,0.5,175,"○","○"]
[762,4903325,150,-1,-1,"RCP5-RA4C-2.5-垂直",5,0.5,150,"○","○"]
[763,4903325,130,-1,-1,"RCP5-RA4C-2.5-垂直",8,0.5,130,"○","○"]
[764,2941995,130,-1,-1,"RCP5-RA4C-2.5-垂直",9,0.3,130,"○","○"]
[765,4903325,105,-1,-1,"RCP5-RA4C-2.5-垂直",10,0.5,105,"○","○"]
[766,9806650,350,-1,-1,"RCP5-RA4C-5-水平",4,1,350,"○","○"]
[767,6864654.9999999991,350,-1,-1,"RCP5-RA4C-5-水平",6,0.7,350,"○","○"]
[768,4903325,350,-1,-1,"RCP5-RA4C-5-水平",7,0.5,350,"○","○"]
[{"$f":"A771+1","v":769},{"$f":"H772*$A$1*1000*1000","v":9806650},{"$f":"I772","v":305},-1,-1,"RCP5-RA4C-5-水平",8.5,1,305,{"$f":"IF(G772=0,IF(D772<>A771,\"ﾘﾝｸ不正\",\"○\"),\"○\")","v":"○"},{"$f":"IF(D773<>-1,IF(E772<>A773,\"ﾘﾝｸ不正\",\"○\"),\"○\")","v":"○"}]
[770,6864654.9999999991,305,-1,-1,"RCP5-RA4C-5-水平",10,0.7,305,"○","○"]
[771,2941995,350,-1,-1,"RCP5-RA4C-5-水平",11,0.3,350,"○","○"]
[772,4903325,305,-1,-1,"RCP5-RA4C-5-水平",12,0.5,305,"○","○"]
[773,9806650,260,-1,-1,"RCP5-RA4C-5-水平",15,1,260,"○","○"]
[774,2941995,305,-1,{"$f":"A778","v":775},"RCP5-RA4C-5-水平",16,0.3,305,"○","○"]
[775,6864654.9999999991,260,{"$f":"A777","v":774},-1,null,null,0.7,260,"○","○"]
[776,980665,350,-1,{"$f":"A780","v":777},"RCP5-RA4C-5-水平",17,0.1,350,"○","○"]
[777,4903325,260,{"$f":"A779","v":776},-1,null,null,0.5,260,"○","○"]
[778,2941995,260,-1,{"$f":"A782","v":779},"RCP5-RA4C-5-水平",20,0.3,260,"○","○"]
[779,9806650,215,{"$f":"A781","v":778},-1,null,null,1,215,"○","○"]
[780,4903325,215,-1,-1,"RCP5-RA4C-5-水平",22,0.5,215,"○","○"]
[781,2941995,215,-1,-1,"RCP5-RA4C-5-水平",25,0.3,215,"○","○"]
[782,980665,305,-1,-1,"RCP5-RA4C-5-水平",28,0.1,305,"○","○"]
[783,4903325,350,-1,-1,"RCP5-RA4C-5-垂直",2,0.5,350,"○","○"]
[784,4903325,305,-1,-1,"RCP5-RA4C-5-垂直",3,0.5,305,"○","○"]
[785,4903325,260,-1,-1,"RCP5-RA4C-5-垂直",4,0.5,260,"○","○"]
[786,2941995,260,-1,-1,"RCP5-RA4C-5-垂直",4.5,0.3,260,"○","○"]
[787,4903325,215,-1,-1,"RCP5-RA4C-5-垂直",5,0.5,215,"○","○"]
[788,9806650,700,-1,-1,"RCP5-RA4C-10-水平",1,1,700,"○","○"]
[789,6864654.9999999991,700,-1,-1,"RCP5-RA4C-10-水平",1.5,0.7,700,"○","○"]
[790,9806650,610,-1,-1,"RCP5-RA4C-10-水平",2,1,610,"○","○"]
[791,4903325,700,-1,-1,"RCP5-RA4C-10-水平",2.5,0.5,700,"○","○"]
[792,2941995,700,-1,{"$f":"A796","v":793},"RCP5-RA4C-10-水平",3,0.3,700,"○","○"]
[793,6864654.9999999991,610,{"$f":"A795","v":792},-1,null,null,0.7,610,"○","○"]
[794,4903325,610,-1,{"$f":"A798","v":795},"RCP5-RA4C-10-水平",4,0.5,610,"○","○"]
[795,9806650,525,{"$f":"A797","v":794},-1,null,null,1,525,"○","○"]
[796,2941995,610,-1,-1,"RCP5-RA4C-10-水平",6,0.3,610,"○","○"]
[797,9806650,435,-1,-1,"RCP5-RA4C-10-水平",7,1,435,"○","○"]
[798,4903325,525,-1,-1,"RCP5-RA4C-10-水平",8,0.5,525,"○","○"]
[799,9806650,350,-1,-1,"RCP5-RA4C-10-水平",10,1,350,"○","○"]
[800,980665,525,-1,-1,"RCP5-RA4C-10-水平",11,0.1,525,"○","○"]
[801,4903325,435,-1,{"$f":"A805","v":802},"RCP5-RA4C-10-水平",12,0.5,435,"○","○"]
[802,6864654.9999999991,350,{"$f":"A804","v":801},{"$f":"A806","v":803},null,null,0.7,350,"○","○"]
[803,9806650,260,{"$f":"A805","v":802},-1,null,null,1,260,"○","○"]
[804,4903325,350,-1,-1,"RCP5-RA4C-10-水平",13,0.5,350,"○","○"]
[805,2941995,350,-1,-1,"RCP5-RA4C-10-水平",15,0.3,350,"○","○"]
[806,4903325,700,-1,-1,"RCP5-RA4C-10-垂直",0.5,0.5,700,"○","○"]
[807,4903325,610,-1,-1,"RCP5-RA4C-10-垂直",1,0.5,610,"○","○"]
[808,4903325,525,-1,-1,"RCP5-RA4C-10-垂直",2,0.5,525,"○","○"]
[809,4903325,435,-1,-1,"RCP5-RA4C-10-垂直",2.25,0.5,435,"○","○"]
[810,4903325,350,-1,-1,"RCP5-RA4C-10-垂直",2.5,0.5,350,"○","○"]
[811,9806650,840,-1,-1,"RCP5-RA4C-16-水平",1,1,840,"○","○"]
[812,6864654.9999999991,840,-1,-1,"RCP5-RA4C-16-水平",1.5,0.7,840,"○","○"]
[813,9806650,700,-1,-1,"RCP5-RA4C-16-水平",2,1,700,"○","○"]
[814,4903325,840,-1,-1,"RCP5-RA4C-16-水平",2.5,0.5,840,"○","○"]
[815,6864654.9999999991,700,-1,{"$f":"A819","v":816},"RCP5-RA4C-16-水平",3.5,0.7,700,"○","○"]
[816,9806650,560,{"$f":"A818","v":815},-1,null,null,1,560,"○","○"]
[817,2941995,840,-1,{"$f":"A821","v":818},"RCP5-RA4C-16-水平",4,0.3,840,"○","○"]
[818,4903325,700,{"$f":"A820","v":817},-1,null,null,0.5,700,"○","○"]
[819,6864654.9999999991,560,-1,-1,"RCP5-RA4C-16-水平",4.5,0.7,560,"○","○"]
[820,2941995,700,-1,{"$f":"A824","v":821},"RCP5-RA4C-16-水平",5,0.3,700,"○","○"]
[821,6864654.9999999991,420,{"$f":"A823","v":820},-1,null,null,0.7,420,"○","○"]
[822,4903325,560,-1,-1,"RCP5-RA4C-16-水平",5.5,0.5,560,"○","○"]
[823,2941995,560,-1,{"$f":"A827","v":824},"RCP5-RA4C-16-水平",6,0.3,560,"○","○"]
[824,4903325,420,{"$f":"A826","v":823},-1,null,null,0.5,420,"○","○"]
[825,4903325,840,-1,-1,"RCP5-RA4C-16-垂直",0.75,0.5,840,"○","○"]
[826,2941995,840,-1,{"$f":"A830","v":827},"RCP5-RA4C-16-垂直",1,0.3,840,"○","○"]
[827,4903325,700,{"$f":"A829","v":826},-1,null,null,0.5,700,"○","○"]
[828,4903325,280,-1,-1,"RCP5-RA4C-16-垂直",1.5,0.5,280,"○","○"]
[829,1961330,125,-1,-1,"RCP5-RA6C-3-水平",40,0.2,125,"○","○"]
[830,1961330,125,-1,-1,"RCP5-RA6C-3-垂直",5,0.2,125,"○","○"]
[831,1961330,100,-1,-1,"RCP5-RA6C-3-垂直",9,0.2,100,"○","○"]
[832,1961330,75,-1,-1,"RCP5-RA6C-3-垂直",12,0.2,75,"○","○"]
[{"$f":"A835+1","v":833},{"$f":"H836*$A$1*1000*1000","v":1961330},{"$f":"I836","v":50},-1,-1,"RCP5-RA6C-3-垂直",16,0.2,50,{"$f":"IF(G836=0,IF(D836<>A835,\"ﾘﾝｸ不正\",\"○\"),\"○\")","v":"○"},{"$f":"IF(D837<>-1,IF(E836<>A837,\"ﾘﾝｸ不正\",\"○\"),\"○\")","v":"○"}]
[834,1961330,25,-1,-1,"RCP5-RA6C-3-垂直",20,0.2,25,"○","○"]
[835,1961330,250,-1,-1,"RCP5-RA6C-6-水平",10,0.2,250,"○","○"]
[836,1961330,200,-1,-1,"RCP5-RA6C-6-水平",35,0.2,200,"○","○"]
[837,1961330,150,-1,-1,"RCP5-RA6C-6-水平",40,0.2,150,"○","○"]
[838,1961330,250,-1,-1,"RCP5-RA6C-6-垂直",3,0.2,250,"○","○"]
[839,1961330,200,-1,-1,"RCP5-RA6C-6-垂直",5,0.2,200,"○","○"]
[840,1961330,150,-1,-1,"RCP5-RA6C-6-垂直",8,0.2,150,"○","○"]
[841,1961330,100,-1,-1,"RCP5-RA6C-6-垂直",10,0.2,100,"○","○"]
[842,1961330,500,-1,-1,"RCP5-RA6C-12-水平",5,0.2,500,"○","○"]
[843,1961330,400,-1,-1,"RCP5-RA6C-12-水平",10,0.2,400,"○","○"]
[844,1961330,300,-1,-1,"RCP5-RA6C-12-水平",20,0.2,300,"○","○"]
[845,1961330,200,-1,-1,"RCP5-RA6C-12-水平",25,0.2,200,"○","○"]
[846,1961330,500,-1,-1,"RCP5-RA6C-12-垂直",1,0.2,500,"○","○"]
[847,1961330,400,-1,-1,"RCP5-RA6C-12-垂直",2,0.2,400,"○","○"]
[848,1961330,300,-1,-1,"RCP5-RA6C-12-垂直",3,0.2,300,"○","○"]
[849,1961330,200,-1,-1,"RCP5-RA6C-12-垂直",4,0.2,200,"○","○"]
[850,2941995,640,-1,-1,"RCP5-RA6C-20-水平",3,0.3,640,"○","○"]
[851,2941995,480,-1,-1,"RCP5-RA6C-20-水平",4,0.3,480,"○","○"]
[852,2941995,320,-1,-1,"RCP5-RA6C-20-水平",6,0.3,320,"○","○"]
[853,1961330,640,-1,-1,"RCP5-RA6C-20-垂直",0.5,0.2,640,"○","○"]
[854,1961330,480,-1,-1,"RCP5-RA6C-20-垂直",1,0.2,480,"○","○"]
[855,1961330,320,-1,-1,"RCP5-RA6C-20-垂直",1.5,0.2,320,"○","○"]
[856,1961330,140,-1,-1,"RCP5-RA7C-4-水平",35,0.2,140,"○","○"]
[857,1961330,105,-1,-1,"RCP5-RA7C-4-水平",55,0.2,105,"○","○"]
[858,1961330,140,-1,-1,"RCP5-RA7C-4-垂直",2,0.2,140,"○","○"]
[859,1961330,105,-1,-1,"RCP5-RA7C-4-垂直",4,0.2,105,"○","○"]
[860,1961330,70,-1,-1,"RCP5-RA7C-4-垂直",15,0.2,70,"○","○"]
[861,1961330,35,-1,-1,"RCP5-RA7C-4-垂直",26,0.2,35,"○","○"]
[862,1961330,210,-1,-1,"RCP5-RA7C-8-水平",30,0.2,210,"○","○"]
[863,1961330,140,-1,-1,"RCP5-RA7C-8-水平",50,0.2,140,"○","○"]
[864,1961330,210,-1,-1,"RCP5-RA7C-8-垂直",2,0.2,210,"○","○"]
[865,1961330,140,-1,-1,"RCP5-RA7C-8-垂直",7,0.2,140,"○","○"]
[866,1961330,70,-1,-1,"RCP5-RA7C-8-垂直",17.5,0.2,70,"○","○"]
[867,1961330,420,-1,-1,"RCP5-RA7C-16-水平",15,0.2,420,"○","○"]
[868,1961330,280,-1,-1,"RCP5-RA7C-16-水平",30,0.2,280,"○","○"]
[869,1961330,140,-1,-1,"RCP5-RA7C-16-水平",40,0.2,140,"○","○"]
[870,1961330,420,-1,-1,"RCP5-RA7C-16-垂直",1,0.2,420,"○","○"]
[871,1961330,280,-1,-1,"RCP5-RA7C-16-垂直",3,0.2,280,"○","○"]
[872,1961330,140,-1,-1,"RCP5-RA7C-16-垂直",5,0.2,140,"○","○"]
[873,2941995,600,-1,-1,"RCP5-RA7C-24-水平",1,0.3,600,"○","○"]
[874,2941995,400,-1,-1,"RCP5-RA7C-24-水平",10,0.3,400,"○","○"]
[875,2941995,200,-1,-1,"RCP5-RA7C-24-水平",18,0.3,200,"○","○"]
[876,1961330,400,-1,-1,"RCP5-RA7C-24-垂直",2,0.2,400,"○","○"]
[{"$f":"A879+1","v":877},{"$f":"H880*$A$1*1000*1000","v":1961330},{"$f":"I880","v":200},-1,-1,"RCP5-RA7C-24-垂直",3,0.2,200,"○","○"]
[878,2941995,125,-1,-1,"RCP4W-RA6C-3-水平",40,0.3,125,"○","○"]
[879,2941995,125,-1,-1,"RCP4W-RA6C-3-垂直",5,0.3,125,"○","○"]
[880,2941995,50,-1,-1,"RCP4W-RA6C-3-垂直",16,0.3,50,"○","○"]
[881,2941995,250,-1,-1,"RCP4W-RA6C-6-水平",10,0.3,250,"○","○"]
[882,2941995,200,-1,-1,"RCP4W-RA6C-6-水平",40,0.3,200,"○","○"]
[883,2941995,250,-1,-1,"RCP4W-RA6C-6-垂直",2.5,0.3,250,"○","○"]
[884,2941995,140,-1,-1,"RCP4W-RA6C-6-垂直",8,0.3,140,"○","○"]
[885,2941995,500,-1,-1,"RCP4W-RA6C-12-水平",5,0.3,500,"○","○"]
[886,2941995,350,-1,-1,"RCP4W-RA6C-12-水平",20,0.3,350,"○","○"]
[887,2941995,400,-1,-1,"RCP4W-RA6C-12-垂直",1,0.3,400,"○","○"]
[888,2941995,280,-1,-1,"RCP4W-RA6C-12-垂直",3,0.3,280,"○","○"]
[889,2941995,60,-1,-1,"RCP4W-RA6C(高推力)-3-垂直",5,0.3,60,"○","○"]
[890,2941995,30,-1,-1,"RCP4W-RA6C(高推力)-3-垂直",30,0.3,30,"○","○"]
[891,2941995,140,-1,-1,"RCP4W-RA7C-4-水平",5,0.3,140,"○","○"]
[892,2941995,80,-1,-1,"RCP4W-RA7C-4-水平",70,0.3,80,"○","○"]
[893,2941995,110,-1,-1,"RCP4W-RA7C-4-垂直",2,0.3,110,"○","○"]
[894,2941995,90,-1,-1,"RCP4W-RA7C-4-垂直",5,0.3,90,"○","○"]
[895,2941995,40,-1,-1,"RCP4W-RA7C-4-垂直",25,0.3,40,"○","○"]
[896,2941995,210,-1,-1,"RCP4W-RA7C-8-水平",30,0.3,210,"○","○"]
[897,2941995,120,-1,-1,"RCP4W-RA7C-8-水平",50,0.3,120,{"$f":"IF(G900=0,IF(D900<>A899,\"ﾘﾝｸ不正\",\"○\"),\"○\")","v":"○"},{"$f":"IF(D901<>-1,IF(E900<>A901,\"ﾘﾝｸ不正\",\"○\"),\"○\")","v":"○"}]
[898,2941995,210,-1,-1,"RCP4W-RA7C-8-垂直",2,0.3,210,"○","○"]
[899,2941995,140,-1,-1,"RCP4W-RA7C-8-垂直",7,0.3,140,"○","○"]
[900,2941995,80,-1,-1,"RCP4W-RA7C-8-垂直",15,0.3,80,"○","○"]
[901,2941995,420,-1,-1,"RCP4W-RA7C-16-水平",5,0.3,420,"○","○"]
[902,2941995,150,-1,-1,"RCP4W-RA7C-16-水平",40,0.3,150,"○","○"]
[903,2941995,350,-1,-1,"RCP4W-RA7C-16-垂直",1,0.3,350,"○","○"]
[904,2941995,220,-1,-1,"RCP4W-RA7C-16-垂直",5,0.3,220,"○","○"]
[905,4903325,80,-1,-1,"RCP4W-RA7C(高推力)-4-垂直",25,0.5,80,"○","○"]
[906,4903325,60,-1,-1,"RCP4W-RA7C(高推力)-4-垂直",45,0.5,60,"○","○"]
[907,9806650,140,-1,-1,"RCP4-SA3C-2-水平",3.5,1,140,"○","○"]
[908,6864654.9999999991,140,-1,{"$f":"A912","v":909},"RCP4-SA3C-2-水平",4,0.7,140,"○","○"]
[909,9806650,120,{"$f":"A911","v":908},-1,null,null,1,120,"○","○"]
[910,4903325,140,-1,{"$f":"A914","v":911},"RCP4-SA3C-2-水平",4.5,0.5,140,"○","○"]
[911,6864654.9999999991,120,{"$f":"A913","v":910},{"$f":"A915","v":912},null,null,0.7,120,"○","○"]
[912,9806650,105,{"$f":"A914","v":911},-1,null,null,1,105,"○","○"]
[913,2941995,140,-1,{"$f":"A917","v":914},"RCP4-SA3C-2-水平",5,0.3,140,"○","○"]
[914,4903325,120,{"$f":"A916","v":913},{"$f":"A918","v":915},null,null,0.5,120,"○","○"]
[915,6864654.9999999991,105,{"$f":"A917","v":914},{"$f":"A919","v":916},null,null,0.7,105,"○","○"]
[916,9806650,50,{"$f":"A918","v":915},-1,null,null,1,50,"○","○"]
[917,980665,140,-1,-1,"RCP4-SA3C-2-水平",5.5,0.1,140,"○","○"]
[918,2941995,120,-1,{"$f":"A922","v":919},"RCP4-SA3C-2-水平",6,0.3,120,"○","○"]
[919,4903325,105,{"$f":"A921","v":918},{"$f":"A923","v":920},null,null,0.5,105,"○","○"]
[920,6864654.9999999991,50,{"$f":"A922","v":919},-1,null,null,0.7,50,"○","○"]
[921,980665,120,-1,{"$f":"A925","v":922},"RCP4-SA3C-2-水平",6.5,0.1,120,"○","○"]
[922,2941995,105,{"$f":"A924","v":921},-1,null,null,0.3,105,"○","○"]
[923,980665,105,-1,{"$f":"A927","v":924},"RCP4-SA3C-2-水平",7,0.1,105,"○","○"]
[924,2941995,85,{"$f":"A926","v":923},{"$f":"A928","v":925},null,null,0.3,85,"○","○"]
[925,4903325,50,{"$f":"A927","v":924},-1,null,null,0.5,50,"○","○"]
[926,980665,85,-1,-1,"RCP4-SA3C-2-水平",7.5,0.1,85,"○","○"]
[927,2941995,50,-1,-1,"RCP4-SA3C-2-水平",8,0.3,50,"○","○"]
[928,4903325,140,-1,-1,"RCP4-SA3C-2-垂直",1,0.5,140,"○","○"]
[929,2941995,140,-1,{"$f":"A933","v":930},"RCP4-SA3C-2-垂直",1.5,0.3,140,"○","○"]
[930,4903325,120,{"$f":"A932","v":929},-1,null,null,0.5,120,"○","○"]
[931,2941995,120,-1,{"$f":"A935","v":932},"RCP4-SA3C-2-垂直",2,0.3,120,"○","○"]
[932,4903325,105,{"$f":"A934","v":931},-1,null,null,0.5,105,"○","○"]
[933,2941995,105,-1,-1,"RCP4-SA3C-2-垂直",2.5,0.3,105,"○","○"]
[934,4903325,85,-1,-1,"RCP4-SA3C-2-垂直",3,0.5,85,"○","○"]
[935,4903325,70,-1,-1,"RCP4-SA3C-2-垂直",3.25,0.5,70,"○","○"]
[936,4903325,50,-1,-1,"RCP4-SA3C-2-垂直",3.5,0.5,50,"○","○"]
[937,9806650,280,-1,-1,"RCP4-SA3C-4-水平",2.5,1,280,"○","○"]
[938,6864654.9999999991,280,-1,{"$f":"A942","v":939},"RCP4-SA3C-4-水平",3,0.7,280,"○","○"]
[939,9806650,245,{"$f":"A941","v":938},-1,null,null,1,245,"○","○"]
[940,4903325,280,-1,{"$f":"A944","v":941},"RCP4-SA3C-4-水平",3.5,0.5,280,"○","○"]
[{"$f":"A943+1","v":941},{"$f":"H944*$A$1*1000*1000","v":6864654.9999999991},{"$f":"I944","v":245},{"$f":"A943","v":940},{"$f":"A945","v":942},null,null,0.7,245,"○","○"]
[942,9806650,210,{"$f":"A944","v":941},-1,null,null,1,210,"○","○"]
[943,4903325,245,-1,{"$f":"A947","v":944},"RCP4-SA3C-4-水平",4,0.5,245,"○","○"]
[944,6864654.9999999991,210,{"$f":"A946","v":943},{"$f":"A948","v":945},null,null,0.7,210,"○","○"]
[945,9806650,175,{"$f":"A947","v":944},-1,null,null,1,175,"○","○"]
[946,6864654.9999999991,175,-1,{"$f":"A950","v":947},"RCP4-SA3C-4-水平",4.5,0.7,175,"○","○"]
[947,9806650,105,{"$f":"A949","v":946},-1,null,null,1,105,"○","○"]
[948,6864654.9999999991,105,-1,-1,"RCP4-SA3C-4-水平",5,0.7,105,"○","○"]
[949,4903325,280,-1,-1,"RCP4-SA3C-4-垂直",0.75,0.5,280,"○","○"]
[950,2941995,280,-1,-1,"RCP4-SA3C-4-垂直",1,0.3,280,"○","○"]
[951,4903325,245,-1,-1,"RCP4-SA3C-4-垂直",1.5,0.5,245,"○","○"]
[952,2941995,245,-1,{"$f":"A956","v":953},"RCP4-SA3C-4-垂直",2,0.3,245,"○","○"]
[953,4903325,210,{"$f":"A955","v":952},-1,null,null,0.5,210,"○","○"]
[954,4903325,140,-1,-1,"RCP4-SA3C-4-垂直",2.25,0.5,140,"○","○"]
[955,4903325,105,-1,-1,"RCP4-SA3C-4-垂直",2.5,0.5,105,"○","○"]
[956,9806650,420,-1,-1,"RCP4-SA3C-6-水平",2,1,420,"○","○"]
[957,9806650,365,-1,-1,"RCP4-SA3C-6-水平",2.5,1,365,"○","○"]
[958,9806650,315,-1,-1,"RCP4-SA3C-6-水平",3,1,315,"○","○"]
[959,4903325,420,-1,-1,"RCP4-SA3C-6-垂直",0.5,0.5,420,"○","○"]
[960,2941995,420,-1,{"$f":"A964","v":961},"RCP4-SA3C-6-垂直",0.75,0.3,420,"○","○"]
[961,4903325,365,{"$f":"A963","v":960},-1,null,null,0.5,365,{"$f":"IF(G964=0,IF(D964<>A963,\"ﾘﾝｸ不正\",\"○\"),\"○\")","v":"○"},{"$f":"IF(D965<>-1,IF(E964<>A965,\"ﾘﾝｸ不正\",\"○\"),\"○\")","v":"○"}]
[962,980665,420,-1,{"$f":"A966","v":963},"RCP4-SA3C-6-垂直",1,0.1,420,"○","○"]
[963,2941995,365,{"$f":"A965","v":962},{"$f":"A967","v":964},null,null,0.3,365,"○","○"]
[964,4903325,315,{"$f":"A966","v":963},-1,null,null,0.5,315,"○","○"]
[965,4903325,210,-1,-1,"RCP4-SA3C-6-垂直",1.25,0.5,210,"○","○"]
[966,4903325,155,-1,-1,"RCP4-SA3C-6-垂直",1.5,0.5,155,"○","○"]
[967,9806650,175,-1,-1,"RCP4-RA3C-2.5-水平",8,1,175,"○","○"]
[968,6864654.9999999991,175,-1,{"$f":"A972","v":969},"RCP4-RA3C-2.5-水平",12,0.7,175,"○","○"]
[969,9806650,150,{"$f":"A971","v":968},-1,null,null,1,150,"○","○"]
[970,6864654.9999999991,150,-1,{"$f":"A974","v":971},"RCP4-RA3C-2.5-水平",14,0.7,150,"○","○"]
[971,9806650,130,{"$f":"A973","v":970},-1,null,null,1,130,"○","○"]
[972,4903325,175,-1,-1,"RCP4-RA3C-2.5-水平",16,0.5,175,"○","○"]
[973,2941995,175,-1,{"$f":"A977","v":974},"RCP4-RA3C-2.5-水平",18,0.3,175,"○","○"]
[974,6864654.9999999991,130,{"$f":"A976","v":973},{"$f":"A978","v":975},null,null,0.7,130,"○","○"]
[975,9806650,105,{"$f":"A977","v":974},-1,null,null,1,105,"○","○"]
[976,4903325,150,-1,{"$f":"A980","v":977},"RCP4-RA3C-2.5-水平",20,0.5,150,"○","○"]
[977,9806650,85,{"$f":"A979","v":976},-1,null,null,1,85,"○","○"]
[978,6864654.9999999991,105,-1,-1,"RCP4-RA3C-2.5-水平",22,0.7,105,"○","○"]
[979,4903325,130,-1,-1,"RCP4-RA3C-2.5-水平",24,0.5,130,"○","○"]
[980,2941995,150,-1,-1,"RCP4-RA3C-2.5-水平",26,0.3,150,"○","○"]
[981,980665,175,-1,-1,"RCP4-RA3C-2.5-水平",28,0.1,175,"○","○"]
[982,2941995,130,-1,{"$f":"A986","v":983},"RCP4-RA3C-2.5-水平",30,0.3,130,"○","○"]
[983,4903325,105,{"$f":"A985","v":982},{"$f":"A987","v":984},null,null,0.5,105,"○","○"]
[984,6864654.9999999991,85,{"$f":"A986","v":983},-1,null,null,0.7,85,"○","○"]
[985,980665,150,-1,-1,"RCP4-RA3C-2.5-水平",32,0.1,150,"○","○"]
[986,980665,130,-1,{"$f":"A990","v":987},"RCP4-RA3C-2.5-水平",36,0.1,130,"○","○"]
[987,2941995,105,{"$f":"A989","v":986},{"$f":"A991","v":988},null,null,0.3,105,"○","○"]
[988,4903325,85,{"$f":"A990","v":987},-1,null,null,0.5,85,"○","○"]
[989,4903325,175,-1,-1,"RCP4-RA3C-2.5-垂直",2,0.5,175,"○","○"]
[990,4903325,150,-1,-1,"RCP4-RA3C-2.5-垂直",5,0.5,150,"○","○"]
[991,4903325,130,-1,-1,"RCP4-RA3C-2.5-垂直",8,0.5,130,"○","○"]
[992,2941995,130,-1,-1,"RCP4-RA3C-2.5-垂直",9,0.3,130,"○","○"]
[993,4903325,105,-1,-1,"RCP4-RA3C-2.5-垂直",10,0.5,105,"○","○"]
[994,9806650,350,-1,-1,"RCP4-RA3C-5-水平",3,1,350,"○","○"]
[995,9806650,305,-1,-1,"RCP4-RA3C-5-水平",5,1,305,"○","○"]
[996,6864654.9999999991,350,-1,-1,"RCP4-RA3C-5-水平",6,0.7,350,"○","○"]
[997,4903325,350,-1,-1,"RCP4-RA3C-5-水平",7,0.5,350,"○","○"]
[998,9806650,260,-1,-1,"RCP4-RA3C-5-水平",7.5,1,260,"○","○"]
[999,6864654.9999999991,305,-1,{"$f":"A1003","v":1000},"RCP4-RA3C-5-水平",10,0.7,305,"○","○"]
[1000,9806650,215,{"$f":"A1002","v":999},-1,null,null,1,215,"○","○"]
[1001,2941995,350,-1,-1,"RCP4-RA3C-5-水平",11,0.3,350,"○","○"]
[1002,4903325,305,-1,{"$f":"A1006","v":1003},"RCP4-RA3C-5-水平",12,0.5,305,"○","○"]
[1003,6864654.9999999991,260,{"$f":"A1005","v":1002},{"$f":"A1007","v":1004},null,null,0.7,260,"○","○"]
[1004,9806650,175,{"$f":"A1006","v":1003},-1,null,null,1,175,"○","○"]
[{"$f":"A1007+1","v":1005},{"$f":"H1008*$A$1*1000*1000","v":980665},{"$f":"I1008","v":350},-1,{"$f":"A1009","v":1006},"RCP4-RA3C-5-水平",16,0.1,350,"○","○"]
[1006,2941995,305,{"$f":"A1008","v":1005},{"$f":"A1010","v":1007},null,null,0.3,305,"○","○"]
[1007,4903325,260,{"$f":"A1009","v":1006},{"$f":"A1011","v":1008},null,null,0.5,260,"○","○"]
[1008,6864654.9999999991,215,{"$f":"A1010","v":1007},-1,null,null,0.7,215,"○","○"]
[1009,6864654.9999999991,175,-1,-1,"RCP4-RA3C-5-水平",18,0.7,175,"○","○"]
[1010,980665,305,-1,{"$f":"A1014","v":1011},"RCP4-RA3C-5-水平",20,0.1,305,"○","○"]
[1011,2941995,260,{"$f":"A1013","v":1010},{"$f":"A1015","v":1012},null,null,0.3,260,"○","○"]
[1012,4903325,215,{"$f":"A1014","v":1011},-1,null,null,0.5,215,"○","○"]
[1013,4903325,175,-1,-1,"RCP4-RA3C-5-水平",22,0.5,175,"○","○"]
[1014,980665,260,-1,{"$f":"A1018","v":1015},"RCP4-RA3C-5-水平",24,0.1,260,"○","○"]
[1015,2941995,215,{"$f":"A1017","v":1014},-1,null,null,0.3,215,"○","○"]
[1016,4903325,350,-1,-1,"RCP4-RA3C-5-垂直",2,0.5,350,"○","○"]
[1017,4903325,305,-1,-1,"RCP4-RA3C-5-垂直",3,0.5,305,"○","○"]
[1018,4903325,260,-1,-1,"RCP4-RA3C-5-垂直",4,0.5,260,"○","○"]
[1019,2941995,260,-1,-1,"RCP4-RA3C-5-垂直",4.5,0.3,260,"○","○"]
[1020,4903325,215,-1,-1,"RCP4-RA3C-5-垂直",5,0.5,215,"○","○"]
[1021,9806650,700,-1,-1,"RCP4-RA3C-10-水平",1,1,700,"○","○"]
[1022,6864654.9999999991,700,-1,-1,"RCP4-RA3C-10-水平",1.5,0.7,700,"○","○"]
[1023,9806650,610,-1,-1,"RCP4-RA3C-10-水平",2,1,610,"○","○"]
[1024,4903325,700,-1,-1,"RCP4-RA3C-10-水平",2.5,0.5,700,"○","○"]
[1025,2941995,700,-1,{"$f":"A1029","v":1026},"RCP4-RA3C-10-水平",3,0.3,700,{"$f":"IF(G1028=0,IF(D1028<>A1027,\"ﾘﾝｸ不正\",\"○\"),\"○\")","v":"○"},{"$f":"IF(D1029<>-1,IF(E1028<>A1029,\"ﾘﾝｸ不正\",\"○\"),\"○\")","v":"○"}]
[1026,6864654.9999999991,610,{"$f":"A1028","v":1025},{"$f":"A1030","v":1027},null,null,0.7,610,"○","○"]
[1027,9806650,525,{"$f":"A1029","v":1026},-1,null,null,1,525,"○","○"]
[1028,4903325,610,-1,{"$f":"A1032","v":1029},"RCP4-RA3C-10-水平",4,0.5,610,"○","○"]
[1029,6864654.9999999991,525,{"$f":"A1031","v":1028},-1,null,null,0.7,525,"○","○"]
[1030,9806650,435,-1,-1,"RCP4-RA3C-10-水平",5,1,435,"○","○"]
[1031,9806650,350,-1,-1,"RCP4-RA3C-10-水平",5.5,1,350,"○","○"]
[1032,2941995,610,-1,{"$f":"A1036","v":1033},"RCP4-RA3C-10-水平",6,0.3,610,"○","○"]
[1033,4903325,525,{"$f":"A1035","v":1032},{"$f":"A1037","v":1034},null,null,0.5,525,"○","○"]
[1034,6864654.9999999991,435,{"$f":"A1036","v":1033},{"$f":"A1038","v":1035},null,null,0.7,435,"○","○"]
[1035,9806650,260,{"$f":"A1037","v":1034},-1,null,null,1,260,"○","○"]
[1036,2941995,525,-1,{"$f":"A1040","v":1037},"RCP4-RA3C-10-水平",8,0.3,525,"○","○"]
[1037,4903325,435,{"$f":"A1039","v":1036},{"$f":"A1041","v":1038},null,null,0.5,435,"○","○"]
[1038,6864654.9999999991,350,{"$f":"A1040","v":1037},-1,null,null,0.7,350,"○","○"]
[1039,6864654.9999999991,260,-1,-1,"RCP4-RA3C-10-水平",9,0.7,260,"○","○"]
[1040,4903325,350,-1,-1,"RCP4-RA3C-10-水平",10,0.5,350,"○","○"]
[1041,980665,525,-1,{"$f":"A1045","v":1042},"RCP4-RA3C-10-水平",11,0.1,525,"○","○"]
[1042,2941995,435,{"$f":"A1044","v":1041},{"$f":"A1046","v":1043},null,null,0.3,435,"○","○"]
[1043,4903325,260,{"$f":"A1045","v":1042},-1,null,null,0.5,260,"○","○"]
[1044,980665,435,-1,{"$f":"A1048","v":1045},"RCP4-RA3C-10-水平",12,0.1,435,"○","○"]
[1045,2941995,350,{"$f":"A1047","v":1044},-1,null,null,0.3,350,"○","○"]
[1046,4903325,700,-1,-1,"RCP4-RA3C-10-垂直",0.5,0.5,700,"○","○"]
[1047,4903325,610,-1,-1,"RCP4-RA3C-10-垂直",1,0.5,610,"○","○"]
[1048,4903325,525,-1,-1,"RCP4-RA3C-10-垂直",2,0.5,525,"○","○"]
[1049,4903325,435,-1,-1,"RCP4-RA3C-10-垂直",2.25,0.5,435,"○","○"]
[1050,4903325,350,-1,-1,"RCP4-RA3C-10-垂直",2.5,0.5,350,"○","○"]
[1051,9806650,840,-1,-1,"RCP4-RA3C-16-水平",1.5,1,840,"○","○"]
[1052,9806650,700,-1,-1,"RCP4-RA3C-16-水平",2,1,700,"○","○"]
[1053,6864654.9999999991,840,-1,-1,"RCP4-RA3C-16-水平",2.5,0.7,840,"○","○"]
[1054,4903325,840,-1,{"$f":"A1058","v":1055},"RCP4-RA3C-16-水平",3,0.5,840,"○","○"]
[1055,9806650,560,{"$f":"A1057","v":1054},-1,null,null,1,560,"○","○"]
[1056,6864654.9999999991,700,-1,{"$f":"A1060","v":1057},"RCP4-RA3C-16-水平",3.5,0.7,700,"○","○"]
[1057,9806650,420,{"$f":"A1059","v":1056},-1,null,null,1,420,"○","○"]
[1058,2941995,840,-1,-1,"RCP4-RA3C-16-水平",4,0.3,840,"○","○"]
[1059,4903325,700,-1,{"$f":"A1063","v":1060},"RCP4-RA3C-16-水平",4.5,0.5,700,"○","○"]
[1060,6864654.9999999991,560,{"$f":"A1062","v":1059},-1,null,null,0.7,560,"○","○"]
[1061,2941995,700,-1,{"$f":"A1065","v":1062},"RCP4-RA3C-16-水平",5,0.3,700,"○","○"]
[1062,6864654.9999999991,420,{"$f":"A1064","v":1061},-1,null,null,0.7,420,"○","○"]
[1063,4903325,560,-1,-1,"RCP4-RA3C-16-水平",5.5,0.5,560,"○","○"]
[1064,2941995,560,-1,{"$f":"A1068","v":1065},"RCP4-RA3C-16-水平",6,0.3,560,"○","○"]
[1065,4903325,420,{"$f":"A1067","v":1064},-1,null,null,0.5,420,"○","○"]
[1066,4903325,840,-1,-1,"RCP4-RA3C-16-垂直",0.75,0.5,840,"○","○"]
[1067,2941995,840,-1,{"$f":"A1071","v":1068},"RCP4-RA3C-16-垂直",1,0.3,840,"○","○"]
[1068,4903325,700,{"$f":"A1070","v":1067},-1,null,null,0.5,700,"○","○"]
[{"$f":"A1071+1","v":1069},{"$f":"H1072*$A$1*1000*1000","v":4903325},{"$f":"I1072","v":280},-1,-1,"RCP4-RA3C-16-垂直",1.5,0.5,280,"○","○"]
[1070,980665,150,-1,-1,"RCP5-RA8C-5-水平",60,0.1,150,"○","○"]
[1071,980665,140,-1,-1,"RCP5-RA8C-5-水平",75,0.1,140,"○","○"]
[1072,980665,130,-1,-1,"RCP5-RA8C-5-水平",90,0.1,130,"○","○"]
[1073,980665,120,-1,-1,"RCP5-RA8C-5-水平",100,0.1,120,"○","○"]
[1074,980665,150,-1,-1,"RCP5-RA8C-5-垂直",2,0.1,150,"○","○"]
[1075,980665,120,-1,-1,"RCP5-RA8C-5-垂直",10,0.1,120,"○","○"]
[1076,980665,100,-1,-1,"RCP5-RA8C-5-垂直",15,0.1,100,"○","○"]
[1077,980665,90,-1,-1,"RCP5-RA8C-5-垂直",20,0.1,90,"○","○"]
[1078,980665,80,-1,-1,"RCP5-RA8C-5-垂直",25,0.1,80,"○","○"]
[1079,980665,70,-1,-1,"RCP5-RA8C-5-垂直",35,0.1,70,"○","○"]
[1080,980665,60,-1,-1,"RCP5-RA8C-5-垂直",50,0.1,60,"○","○"]
[1081,980665,48,-1,-1,"RCP5-RA8C-5-垂直",70,0.1,48,"○","○"]
[1082,1961330,300,-1,-1,"RCP5-RA8C-10-水平",10,0.2,300,"○","○"]
[1083,1961330,240,-1,-1,"RCP5-RA8C-10-水平",40,0.2,240,"○","○"]
[1084,1961330,200,-1,-1,"RCP5-RA8C-10-水平",45,0.2,200,"○","○"]
[1085,1961330,150,-1,-1,"RCP5-RA8C-10-水平",60,0.2,150,"○","○"]
[1086,1961330,250,-1,-1,"RCP5-RA8C-10-垂直",2,0.2,250,"○","○"]
[1087,1961330,220,-1,-1,"RCP5-RA8C-10-垂直",3,0.2,220,"○","○"]
[1088,1961330,200,-1,-1,"RCP5-RA8C-10-垂直",4,0.2,200,"○","○"]
[1089,1961330,190,-1,-1,"RCP5-RA8C-10-垂直",5,0.2,190,{"$f":"IF(G1092=0,IF(D1092<>A1091,\"ﾘﾝｸ不正\",\"○\"),\"○\")","v":"○"},{"$f":"IF(D1093<>-1,IF(E1092<>A1093,\"ﾘﾝｸ不正\",\"○\"),\"○\")","v":"○"}]
[1090,1961330,180,-1,-1,"RCP5-RA8C-10-垂直",7,0.2,180,"○","○"]
[1091,1961330,170,-1,-1,"RCP5-RA8C-10-垂直",8,0.2,170,"○","○"]
[1092,1961330,160,-1,-1,"RCP5-RA8C-10-垂直",10,0.2,160,"○","○"]
[1093,1961330,150,-1,-1,"RCP5-RA8C-10-垂直",11,0.2,150,"○","○"]
[1094,1961330,140,-1,-1,"RCP5-RA8C-10-垂直",15,0.2,140,"○","○"]
[1095,1961330,130,-1,-1,"RCP5-RA8C-10-垂直",18,0.2,130,"○","○"]
[1096,1961330,120,-1,-1,"RCP5-RA8C-10-垂直",23,0.2,120,"○","○"]
[1097,1961330,110,-1,-1,"RCP5-RA8C-10-垂直",28,0.2,110,"○","○"]
[1098,1961330,100,-1,-1,"RCP5-RA8C-10-垂直",33,0.2,100,"○","○"]
[1099,1961330,88,-1,-1,"RCP5-RA8C-10-垂直",40,0.2,88,"○","○"]
[1100,1961330,600,-1,-1,"RCP5-RA8C-20-水平",5,0.2,600,"○","○"]
[1101,1961330,540,-1,-1,"RCP5-RA8C-20-水平",6,0.2,540,"○","○"]
[1102,1961330,510,-1,-1,"RCP5-RA8C-20-水平",8,0.2,510,"○","○"]
[1103,1961330,480,-1,-1,"RCP5-RA8C-20-水平",10,0.2,480,"○","○"]
[1104,1961330,450,-1,-1,"RCP5-RA8C-20-水平",12,0.2,450,"○","○"]
[1105,1961330,420,-1,-1,"RCP5-RA8C-20-水平",16,0.2,420,"○","○"]
[1106,1961330,360,-1,-1,"RCP5-RA8C-20-水平",24,0.2,360,"○","○"]
[1107,1961330,300,-1,-1,"RCP5-RA8C-20-水平",30,0.2,300,"○","○"]
[1108,1961330,450,-1,-1,"RCP5-RA8C-20-垂直",2,0.2,450,"○","○"]
[1109,1961330,420,-1,-1,"RCP5-RA8C-20-垂直",2.5,0.2,420,"○","○"]
[1110,1961330,400,-1,-1,"RCP5-RA8C-20-垂直",3,0.2,400,"○","○"]
[1111,1961330,360,-1,-1,"RCP5-RA8C-20-垂直",5,0.2,360,"○","○"]
[1112,{"$f":"ROUND(H1115*$A$1*1000*1000,0)","v":98067},63,-1,-1,"RCP5-RA10C-2.5-水平",300,0.01,63,"○","○"]
[1113,98067,63,-1,-1,"RCP5-RA10C-2.5-垂直",10,0.01,63,"○","○"]
[1114,98067,55,-1,-1,"RCP5-RA10C-2.5-垂直",20,0.01,55,"○","○"]
[1115,98067,50,-1,-1,"RCP5-RA10C-2.5-垂直",30,0.01,50,"○","○"]
[1116,98067,37,-1,-1,"RCP5-RA10C-2.5-垂直",65,0.01,37,"○","○"]
[1117,98067,35,-1,-1,"RCP5-RA10C-2.5-垂直",75,0.01,35,"○","○"]
[1118,98067,30,-1,-1,"RCP5-RA10C-2.5-垂直",100,0.01,30,"○","○"]
[1119,98067,20,-1,-1,"RCP5-RA10C-2.5-垂直",150,0.01,20,"○","○"]
[1120,196133,125,-1,-1,"RCP5-RA10C-5-水平",150,0.02,125,"○","○"]
[1121,196133,125,-1,-1,"RCP5-RA10C-5-垂直",3,0.02,125,"○","○"]
[1122,196133,105,-1,-1,"RCP5-RA10C-5-垂直",7,0.02,105,"○","○"]
[1123,196133,100,-1,-1,"RCP5-RA10C-5-垂直",9,0.02,100,"○","○"]
[1124,196133,90,-1,-1,"RCP5-RA10C-5-垂直",13,0.02,90,"○","○"]
[1125,196133,77,-1,-1,"RCP5-RA10C-5-垂直",20,0.02,77,"○","○"]
[1126,196133,70,-1,-1,"RCP5-RA10C-5-垂直",25,0.02,70,"○","○"]
[1127,196133,68,-1,-1,"RCP5-RA10C-5-垂直",27,0.02,68,"○","○"]
[1128,196133,65,-1,-1,"RCP5-RA10C-5-垂直",29,0.02,65,"○","○"]
[1129,196133,60,-1,-1,"RCP5-RA10C-5-垂直",35,0.02,60,"○","○"]
[1130,196133,58,-1,-1,"RCP5-RA10C-5-垂直",37,0.02,58,"○","○"]
[1131,196133,55,-1,-1,"RCP5-RA10C-5-垂直",40,0.02,55,"○","○"]
[1132,196133,45,-1,-1,"RCP5-RA10C-5-垂直",55,0.02,45,"○","○"]
[{"$f":"A1135+1","v":1133},{"$f":"H1136*$A$1*1000*1000","v":196133},{"$f":"I1136","v":40},-1,-1,"RCP5-RA10C-5-垂直",65,0.02,40,"○","○"]
[1134,196133,26,-1,-1,"RCP5-RA10C-5-垂直",90,0.02,26,"○","○"]
[1135,196133,20,-1,-1,"RCP5-RA10C-5-垂直",100,0.02,20,"○","○"]
[1136,392266,250,-1,-1,"RCP5-RA10C-10-水平",15,0.04,250,"○","○"]
[1137,392266,240,-1,-1,"RCP5-RA10C-10-水平",20,0.04,240,"○","○"]
[1138,392266,225,-1,-1,"RCP5-RA10C-10-水平",38,0.04,225,"○","○"]
[1139,392266,200,-1,-1,"RCP5-RA10C-10-水平",80,0.04,200,"○","○"]
[1140,392266,167,-1,-1,"RCP5-RA10C-10-垂直",6,0.04,167,"○","○"]
[1141,392266,152,-1,-1,"RCP5-RA10C-10-垂直",8,0.04,152,"○","○"]
[1142,392266,140,-1,-1,"RCP5-RA10C-10-垂直",10,0.04,140,"○","○"]
[1143,392266,120,-1,-1,"RCP5-RA10C-10-垂直",15,0.04,120,"○","○"]
[1144,392266,105,-1,-1,"RCP5-RA10C-10-垂直",20,0.04,105,"○","○"]
[1145,392266,75,-1,-1,"RCP5-RA10C-10-垂直",35,0.04,75,"○","○"]
[1146,392266,53,-1,-1,"RCP5-RA10C-10-垂直",50,0.04,53,"○","○"]
[1147,392266,45,-1,-1,"RCP5-RA10C-10-垂直",58,0.04,45,"○","○"]
[1148,392266,37,-1,-1,"RCP5-RA10C-10-垂直",69,0.04,37,"○","○"]
[1149,392266,34,-1,-1,"RCP5-RA10C-10-垂直",80,0.04,34,"○","○"]
[1150,980665,100,-1,-1,"RCP5-RA8R-5-水平",75,0.1,100,"○","○"]
[1151,980665,90,-1,-1,"RCP5-RA8R-5-水平",100,0.1,90,"○","○"]
[1152,980665,100,-1,-1,"RCP5-RA8R-5-垂直",10,0.1,100,"○","○"]
[1153,980665,90,-1,-1,"RCP5-RA8R-5-垂直",16,0.1,90,{"$f":"IF(G1156=0,IF(D1156<>A1155,\"ﾘﾝｸ不正\",\"○\"),\"○\")","v":"○"},{"$f":"IF(D1157<>-1,IF(E1156<>A1157,\"ﾘﾝｸ不正\",\"○\"),\"○\")","v":"○"}]
[1154,980665,80,-1,-1,"RCP5-RA8R-5-垂直",25,0.1,80,"○","○"]
[1155,980665,70,-1,-1,"RCP5-RA8R-5-垂直",35,0.1,70,"○","○"]
[1156,980665,60,-1,-1,"RCP5-RA8R-5-垂直",45,0.1,60,"○","○"]
[1157,980665,45,-1,-1,"RCP5-RA8R-5-垂直",70,0.1,45,"○","○"]
[1158,1961330,200,-1,-1,"RCP5-RA8R-10-水平",12,0.2,200,"○","○"]
[1159,1961330,190,-1,-1,"RCP5-RA8R-10-水平",15,0.2,190,"○","○"]
[1160,1961330,180,-1,-1,"RCP5-RA8R-10-水平",25,0.2,180,"○","○"]
[1161,1961330,170,-1,-1,"RCP5-RA8R-10-水平",40,0.2,170,"○","○"]
[1162,1961330,160,-1,-1,"RCP5-RA8R-10-水平",60,0.2,160,"○","○"]
[1163,1961330,200,-1,-1,"RCP5-RA8R-10-垂直",2,0.2,200,"○","○"]
[1164,1961330,190,-1,-1,"RCP5-RA8R-10-垂直",3,0.2,190,"○","○"]
[1165,1961330,180,-1,-1,"RCP5-RA8R-10-垂直",4,0.2,180,"○","○"]
[1166,1961330,170,-1,-1,"RCP5-RA8R-10-垂直",6,0.2,170,"○","○"]
[1167,1961330,160,-1,-1,"RCP5-RA8R-10-垂直",8,0.2,160,"○","○"]
[1168,1961330,150,-1,-1,"RCP5-RA8R-10-垂直",10,0.2,150,"○","○"]
[1169,1961330,140,-1,-1,"RCP5-RA8R-10-垂直",12,0.2,140,"○","○"]
[1170,1961330,130,-1,-1,"RCP5-RA8R-10-垂直",15,0.2,130,"○","○"]
[1171,1961330,120,-1,-1,"RCP5-RA8R-10-垂直",18,0.2,120,"○","○"]
[1172,1961330,110,-1,-1,"RCP5-RA8R-10-垂直",23,0.2,110,"○","○"]
[1173,1961330,100,-1,-1,"RCP5-RA8R-10-垂直",28,0.2,100,"○","○"]
[1174,1961330,90,-1,-1,"RCP5-RA8R-10-垂直",34,0.2,90,"○","○"]
[1175,1961330,80,-1,-1,"RCP5-RA8R-10-垂直",40,0.2,80,"○","○"]
[1176,1961330,400,-1,-1,"RCP5-RA8R-20-水平",6,0.2,400,"○","○"]
[1177,1961330,350,-1,-1,"RCP5-RA8R-20-水平",14,0.2,350,"○","○"]
[1178,1961330,300,-1,-1,"RCP5-RA8R-20-水平",30,0.2,300,"○","○"]
[1179,1961330,400,-1,-1,"RCP5-RA8R-20-垂直",0.5,0.2,400,"○","○"]
[1180,1961330,360,-1,-1,"RCP5-RA8R-20-垂直",2,0.2,360,"○","○"]
[1181,1961330,330,-1,-1,"RCP5-RA8R-20-垂直",3.5,0.2,330,"○","○"]
[1182,1961330,300,-1,-1,"RCP5-RA8R-20-垂直",5,0.2,300,"○","○"]
[1183,{"$f":"ROUND(H1186*$A$1*1000*1000,0)","v":98067},50,-1,-1,"RCP5-RA10R-2.5-水平",300,0.01,50,"○","○"]
[1184,98067,50,-1,-1,"RCP5-RA10R-2.5-垂直",6,0.01,50,"○","○"]
[1185,98067,37,-1,-1,"RCP5-RA10R-2.5-垂直",60,0.01,37,"○","○"]
[1186,98067,35,-1,-1,"RCP5-RA10R-2.5-垂直",70,0.01,35,"○","○"]
[1187,98067,30,-1,-1,"RCP5-RA10R-2.5-垂直",95,0.01,30,"○","○"]
[1188,98067,20,-1,-1,"RCP5-RA10R-2.5-垂直",150,0.01,20,"○","○"]
[1189,196133,100,-1,-1,"RCP5-RA10R-5-水平",150,0.02,100,"○","○"]
[1190,196133,100,-1,-1,"RCP5-RA10R-5-垂直",9,0.02,100,"○","○"]
[1191,196133,90,-1,-1,"RCP5-RA10R-5-垂直",13,0.02,90,"○","○"]
[1192,196133,77,-1,-1,"RCP5-RA10R-5-垂直",20,0.02,77,"○","○"]
[1193,196133,70,-1,-1,"RCP5-RA10R-5-垂直",25,0.02,70,"○","○"]
[1194,196133,68,-1,-1,"RCP5-RA10R-5-垂直",27,0.02,68,"○","○"]
[1195,196133,65,-1,-1,"RCP5-RA10R-5-垂直",29,0.02,65,"○","○"]
[1196,196133,60,-1,-1,"RCP5-RA10R-5-垂直",35,0.02,60,"○","○"]
[{"$f":"A1199+1","v":1197},{"$f":"H1200*$A$1*1000*1000","v":196133},{"$f":"I1200","v":58},-1,-1,"RCP5-RA10R-5-垂直",37,0.02,58,"○","○"]
[1198,196133,55,-1,-1,"RCP5-RA10R-5-垂直",40,0.02,55,"○","○"]
[1199,196133,45,-1,-1,"RCP5-RA10R-5-垂直",55,0.02,45,"○","○"]
[1200,196133,40,-1,-1,"RCP5-RA10R-5-垂直",65,0.02,40,"○","○"]
[1201,196133,26,-1,-1,"RCP5-RA10R-5-垂直",90,0.02,26,"○","○"]
[1202,196133,20,-1,-1,"RCP5-RA10R-5-垂直",100,0.02,20,"○","○"]
[1203,392266,200,-1,-1,"RCP5-RA10R-10-水平",80,0.04,200,"○","○"]
[1204,392266,140,-1,-1,"RCP5-RA10R-10-垂直",10,0.04,140,"○","○"]
[1205,392266,120,-1,-1,"RCP5-RA10R-10-垂直",15,0.04,120,"○","○"]
[1206,392266,105,-1,-1,"RCP5-RA10R-10-垂直",20,0.04,105,"○","○"]
[1207,392266,75,-1,-1,"RCP5-RA10R-10-垂直",35,0.04,75,"○","○"]
[1208,392266,53,-1,-1,"RCP5-RA10R-10-垂直",50,0.04,53,"○","○"]
[1209,392266,45,-1,-1,"RCP5-RA10R-10-垂直",58,0.04,45,"○","○"]
[1210,392266,37,-1,-1,"RCP5-RA10R-10-垂直",69,0.04,37,"○","○"]
[1211,392266,34,-1,-1,"RCP5-RA10R-10-垂直",80,0.04,34,"○","○"]
[1212,{"$f":"H1215*$A$1*1000*1000","v":9806650},{"$f":"I1215","v":140},-1,-1,"RCP4-SA3R-2-水平",3.5,1,140,"○","○"]
[1213,6864654.9999999991,140,-1,{"$f":"A1217","v":1214},"RCP4-SA3R-2-水平",4,0.7,140,"○","○"]
[1214,9806650,120,{"$f":"A1216","v":1213},-1,null,null,1,120,"○","○"]
[1215,4903325,140,-1,{"$f":"A1219","v":1216},"RCP4-SA3R-2-水平",4.5,0.5,140,"○","○"]
[1216,6864654.9999999991,120,{"$f":"A1218","v":1215},{"$f":"A1220","v":1217},null,null,0.7,120,"○","○"]
[1217,9806650,105,{"$f":"A1219","v":1216},-1,null,null,1,105,{"$f":"IF(G1220=0,IF(D1220<>A1219,\"ﾘﾝｸ不正\",\"○\"),\"○\")","v":"○"},{"$f":"IF(D1221<>-1,IF(E1220<>A1221,\"ﾘﾝｸ不正\",\"○\"),\"○\")","v":"○"}]
[1218,2941995,140,-1,{"$f":"A1222","v":1219},"RCP4-SA3R-2-水平",5,0.3,140,"○","○"]
[1219,4903325,120,{"$f":"A1221","v":1218},{"$f":"A1223","v":1220},null,null,0.5,120,"○","○"]
[1220,6864654.9999999991,105,{"$f":"A1222","v":1219},{"$f":"A1224","v":1221},null,null,0.7,105,"○","○"]
[1221,9806650,50,{"$f":"A1223","v":1220},-1,null,null,1,50,"○","○"]
[1222,980665,140,-1,-1,"RCP4-SA3R-2-水平",5.5,0.1,140,"○","○"]
[1223,2941995,120,-1,{"$f":"A1227","v":1224},"RCP4-SA3R-2-水平",6,0.3,120,"○","○"]
[1224,4903325,105,{"$f":"A1226","v":1223},{"$f":"A1228","v":1225},null,null,0.5,105,"○","○"]
[1225,6864654.9999999991,50,{"$f":"A1227","v":1224},-1,null,null,0.7,50,"○","○"]
[1226,980665,120,-1,{"$f":"A1230","v":1227},"RCP4-SA3R-2-水平",6.5,0.1,120,"○","○"]
[1227,2941995,105,{"$f":"A1229","v":1226},-1,null,null,0.3,105,"○","○"]
[1228,980665,105,-1,{"$f":"A1232","v":1229},"RCP4-SA3R-2-水平",7,0.1,105,"○","○"]
[1229,2941995,85,{"$f":"A1231","v":1228},{"$f":"A1233","v":1230},null,null,0.3,85,"○","○"]
[1230,4903325,50,{"$f":"A1232","v":1229},-1,null,null,0.5,50,"○","○"]
[1231,980665,85,-1,-1,"RCP4-SA3R-2-水平",7.5,0.1,85,"○","○"]
[1232,2941995,50,-1,-1,"RCP4-SA3R-2-水平",8,0.3,50,"○","○"]
[1233,{"$f":"H1236*$A$1*1000*1000","v":4903325},{"$f":"I1236","v":140},-1,-1,"RCP4-SA3R-2-垂直",1,0.5,140,"○","○"]
[1234,2941995,140,-1,{"$f":"A1238","v":1235},"RCP4-SA3R-2-垂直",1.5,0.3,140,"○","○"]
[1235,4903325,120,{"$f":"A1237","v":1234},-1,null,null,0.5,120,"○","○"]
[1236,2941995,120,-1,{"$f":"A1240","v":1237},"RCP4-SA3R-2-垂直",2,0.3,120,"○","○"]
[1237,4903325,105,{"$f":"A1239","v":1236},-1,null,null,0.5,105,"○","○"]
[1238,2941995,105,-1,-1,"RCP4-SA3R-2-垂直",2.5,0.3,105,"○","○"]
[1239,4903325,85,-1,-1,"RCP4-SA3R-2-垂直",3,0.5,85,"○","○"]
[1240,4903325,70,-1,-1,"RCP4-SA3R-2-垂直",3.25,0.5,70,"○","○"]
[1241,4903325,50,-1,-1,"RCP4-SA3R-2-垂直",3.5,0.5,50,"○","○"]
[1242,{"$f":"H1245*$A$1*1000*1000","v":9806650},{"$f":"I1245","v":280},-1,-1,"RCP4-SA3R-4-水平",2.5,1,280,"○","○"]
[1243,6864654.9999999991,280,-1,{"$f":"A1247","v":1244},"RCP4-SA3R-4-水平",3,0.7,280,"○","○"]
[1244,9806650,245,{"$f":"A1246","v":1243},-1,null,null,1,245,"○","○"]
[1245,4903325,280,-1,{"$f":"A1249","v":1246},"RCP4-SA3R-4-水平",3.5,0.5,280,"○","○"]
[1246,6864654.9999999991,245,{"$f":"A1248","v":1245},{"$f":"A1250","v":1247},null,null,0.7,245,"○","○"]
[1247,9806650,210,{"$f":"A1249","v":1246},-1,null,null,1,210,"○","○"]
[1248,4903325,245,-1,{"$f":"A1252","v":1249},"RCP4-SA3R-4-水平",4,0.5,245,"○","○"]
[1249,6864654.9999999991,210,{"$f":"A1251","v":1248},{"$f":"A1253","v":1250},null,null,0.7,210,"○","○"]
[1250,9806650,175,{"$f":"A1252","v":1249},-1,null,null,1,175,"○","○"]
[1251,6864654.9999999991,175,-1,{"$f":"A1255","v":1252},"RCP4-SA3R-4-水平",4.5,0.7,175,"○","○"]
[1252,9806650,105,{"$f":"A1254","v":1251},-1,null,null,1,105,"○","○"]
[1253,6864654.9999999991,105,-1,-1,"RCP4-SA3R-4-水平",5,0.7,105,"○","○"]
[1254,{"$f":"H1257*$A$1*1000*1000","v":4903325},{"$f":"I1257","v":280},-1,-1,"RCP4-SA3R-4-垂直",0.75,0.5,280,"○","○"]
[1255,2941995,280,-1,-1,"RCP4-SA3R-4-垂直",1,0.3,280,"○","○"]
[1256,4903325,245,-1,-1,"RCP4-SA3R-4-垂直",1.5,0.5,245,"○","○"]
[1257,2941995,245,-1,{"$f":"A1261","v":1258},"RCP4-SA3R-4-垂直",2,0.3,245,"○","○"]
[1258,4903325,175,{"$f":"A1260","v":1257},-1,null,null,0.5,175,"○","○"]
[1259,4903325,140,-1,-1,"RCP4-SA3R-4-垂直",2.25,0.5,140,"○","○"]
[1260,4903325,105,-1,-1,"RCP4-SA3R-4-垂直",2.5,0.5,105,"○","○"]
[1261,{"$f":"H1264*$A$1*1000*1000","v":9806650},{"$f":"I1264","v":420},-1,-1,"RCP4-SA3R-6-水平",2,1,420,"○","○"]
[{"$f":"A1264+1","v":1262},9806650,365,-1,-1,"RCP4-SA3R-6-水平",2.5,1,365,"○","○"]
[1263,9806650,315,-1,-1,"RCP4-SA3R-6-水平",3,1,315,"○","○"]
[1264,4903325,420,-1,-1,"RCP4-SA3R-6-垂直",0.5,0.5,420,"○","○"]
[1265,4903325,315,-1,-1,"RCP4-SA3R-6-垂直",1,0.5,315,"○","○"]
[1266,4903325,210,-1,-1,"RCP4-SA3R-6-垂直",1.25,0.5,210,"○","○"]
[1267,4903325,155,-1,-1,"RCP4-SA3R-6-垂直",1.5,0.5,155,"○","○"]
[1268,{"$f":"H1271*$A$1*1000*1000","v":9806650},{"$f":"I1271","v":175},-1,-1,"RCP4-RA3R-2.5-水平",8,1,175,"○","○"]
[1269,6864654.9999999991,175,-1,{"$f":"A1273","v":1270},"RCP4-RA3R-2.5-水平",12,0.7,175,"○","○"]
[1270,9806650,150,{"$f":"A1272","v":1269},-1,null,null,1,150,"○","○"]
[1271,6864654.9999999991,150,-1,{"$f":"A1275","v":1272},"RCP4-RA3R-2.5-水平",14,0.7,150,"○","○"]
[1272,9806650,130,{"$f":"A1274","v":1271},-1,null,null,1,130,"○","○"]
[1273,4903325,175,-1,-1,"RCP4-RA3R-2.5-水平",16,0.5,175,"○","○"]
[1274,2941995,175,-1,{"$f":"A1278","v":1275},"RCP4-RA3R-2.5-水平",18,0.3,175,"○","○"]
[1275,6864654.9999999991,130,{"$f":"A1277","v":1274},{"$f":"A1279","v":1276},null,null,0.7,130,"○","○"]
[1276,9806650,105,{"$f":"A1278","v":1275},-1,null,null,1,105,"○","○"]
[1277,4903325,150,-1,{"$f":"A1281","v":1278},"RCP4-RA3R-2.5-水平",20,0.5,150,"○","○"]
[1278,9806650,85,{"$f":"A1280","v":1277},-1,null,null,1,85,"○","○"]
[1279,6864654.9999999991,105,-1,-1,"RCP4-RA3R-2.5-水平",22,0.7,105,"○","○"]
[1280,4903325,130,-1,-1,"RCP4-RA3R-2.5-水平",24,0.5,130,"○","○"]
[1281,2941995,150,-1,-1,"RCP4-RA3R-2.5-水平",26,0.3,150,{"$f":"IF(G1284=0,IF(D1284<>A1283,\"ﾘﾝｸ不正\",\"○\"),\"○\")","v":"○"},{"$f":"IF(D1285<>-1,IF(E1284<>A1285,\"ﾘﾝｸ不正\",\"○\"),\"○\")","v":"○"}]
[1282,980665,175,-1,-1,"RCP4-RA3R-2.5-水平",28,0.1,175,"○","○"]
[1283,2941995,130,-1,{"$f":"A1287","v":1284},"RCP4-RA3R-2.5-水平",30,0.3,130,"○","○"]
[1284,4903325,105,{"$f":"A1286","v":1283},{"$f":"A1288","v":1285},null,null,0.5,105,"○","○"]
[1285,6864654.9999999991,85,{"$f":"A1287","v":1284},-1,null,null,0.7,85,"○","○"]
[1286,980665,150,-1,-1,"RCP4-RA3R-2.5-水平",32,0.1,150,"○","○"]
[1287,980665,130,-1,{"$f":"A1291","v":1288},"RCP4-RA3R-2.5-水平",36,0.1,130,"○","○"]
[1288,2941995,105,{"$f":"A1290","v":1287},{"$f":"A1292","v":1289},null,null,0.3,105,"○","○"]
[1289,4903325,85,{"$f":"A1291","v":1288},-1,null,null,0.5,85,"○","○"]
[1290,{"$f":"H1293*$A$1*1000*1000","v":4903325},{"$f":"I1293","v":175},-1,-1,"RCP4-RA3R-2.5-垂直",2,0.5,175,"○","○"]
[1291,{"$f":"H1294*$A$1*1000*1000","v":4903325},{"$f":"I1294","v":150},-1,-1,"RCP4-RA3R-2.5-垂直",5,0.5,150,"○","○"]
[1292,{"$f":"H1295*$A$1*1000*1000","v":4903325},{"$f":"I1295","v":130},-1,-1,"RCP4-RA3R-2.5-垂直",8,0.5,130,"○","○"]
[1293,{"$f":"H1296*$A$1*1000*1000","v":2941995},{"$f":"I1296","v":130},-1,-1,"RCP4-RA3R-2.5-垂直",9,0.3,130,"○","○"]
[1294,{"$f":"H1297*$A$1*1000*1000","v":4903325},{"$f":"I1297","v":105},-1,-1,"RCP4-RA3R-2.5-垂直",10,0.5,105,"○","○"]
[1295,{"$f":"H1298*$A$1*1000*1000","v":9806650},{"$f":"I1298","v":350},-1,-1,"RCP4-RA3R-5-水平",3,1,350,"○","○"]
[1296,9806650,305,-1,-1,"RCP4-RA3R-5-水平",5,1,305,"○","○"]
[1297,6864654.9999999991,350,-1,-1,"RCP4-RA3R-5-水平",6,0.7,350,"○","○"]
[1298,4903325,350,-1,-1,"RCP4-RA3R-5-水平",7,0.5,350,"○","○"]
[1299,9806650,260,-1,-1,"RCP4-RA3R-5-水平",7.5,1,260,"○","○"]
[1300,6864654.9999999991,305,-1,{"$f":"A1304","v":1301},"RCP4-RA3R-5-水平",10,0.7,305,"○","○"]
[1301,9806650,215,{"$f":"A1303","v":1300},-1,null,null,1,215,"○","○"]
[1302,2941995,350,-1,-1,"RCP4-RA3R-5-水平",11,0.3,350,"○","○"]
[1303,4903325,305,-1,{"$f":"A1307","v":1304},"RCP4-RA3R-5-水平",12,0.5,305,"○","○"]
[1304,6864654.9999999991,260,{"$f":"A1306","v":1303},{"$f":"A1308","v":1305},null,null,0.7,260,"○","○"]
[1305,9806650,175,{"$f":"A1307","v":1304},-1,null,null,1,175,"○","○"]
[1306,980665,350,-1,{"$f":"A1310","v":1307},"RCP4-RA3R-5-水平",16,0.1,350,"○","○"]
[1307,2941995,305,{"$f":"A1309","v":1306},{"$f":"A1311","v":1308},null,null,0.3,305,"○","○"]
[1308,4903325,260,{"$f":"A1310","v":1307},{"$f":"A1312","v":1309},null,null,0.5,260,"○","○"]
[1309,6864654.9999999991,215,{"$f":"A1311","v":1308},-1,null,null,0.7,215,"○","○"]
[1310,6864654.9999999991,175,-1,-1,"RCP4-RA3R-5-水平",18,0.7,175,"○","○"]
[1311,980665,305,-1,{"$f":"A1315","v":1312},"RCP4-RA3R-5-水平",20,0.1,305,"○","○"]
[1312,2941995,260,{"$f":"A1314","v":1311},{"$f":"A1316","v":1313},null,null,0.3,260,"○","○"]
[1313,4903325,215,{"$f":"A1315","v":1312},-1,null,null,0.5,215,"○","○"]
[1314,4903325,175,-1,-1,"RCP4-RA3R-5-水平",22,0.5,175,"○","○"]
[1315,980665,260,-1,{"$f":"A1319","v":1316},"RCP4-RA3R-5-水平",24,0.1,260,"○","○"]
[1316,2941995,215,{"$f":"A1318","v":1315},-1,null,null,0.3,215,"○","○"]
[1317,{"$f":"H1320*$A$1*1000*1000","v":4903325},{"$f":"I1320","v":350},-1,-1,"RCP4-RA3R-5-垂直",2,0.5,350,"○","○"]
[1318,{"$f":"H1321*$A$1*1000*1000","v":4903325},{"$f":"I1321","v":305},-1,-1,"RCP4-RA3R-5-垂直",3,0.5,305,"○","○"]
[1319,{"$f":"H1322*$A$1*1000*1000","v":4903325},{"$f":"I1322","v":260},-1,-1,"RCP4-RA3R-5-垂直",4,0.5,260,"○","○"]
[1320,{"$f":"H1323*$A$1*1000*1000","v":2941995},{"$f":"I1323","v":260},-1,-1,"RCP4-RA3R-5-垂直",4.5,0.3,260,"○","○"]
[1321,{"$f":"H1324*$A$1*1000*1000","v":4903325},{"$f":"I1324","v":215},-1,-1,"RCP4-RA3R-5-垂直",5,0.5,215,"○","○"]
[1322,{"$f":"H1325*$A$1*1000*1000","v":9806650},{"$f":"I1325","v":700},-1,-1,"RCP4-RA3R-10-水平",1,1,700,"○","○"]
[1323,6864654.9999999991,700,-1,-1,"RCP4-RA3R-10-水平",1.5,0.7,700,"○","○"]
[1324,4903325,700,-1,{"$f":"A1328","v":1325},"RCP4-RA3R-10-水平",2,0.5,700,"○","○"]
[1325,9806650,610,{"$f":"A1327","v":1324},-1,null,null,1,610,"○","○"]
[{"$f":"A1328+1","v":1326},2941995,700,-1,{"$f":"A1330","v":1327},"RCP4-RA3R-10-水平",3,0.3,700,"○","○"]
[1327,6864654.9999999991,525,{"$f":"A1329","v":1326},-1,null,null,0.7,525,"○","○"]
[1328,9806650,435,-1,-1,"RCP4-RA3R-10-水平",4,1,435,"○","○"]
[1329,2941995,610,-1,{"$f":"A1333","v":1330},"RCP4-RA3R-10-水平",5,0.3,610,"○","○"]
[1330,9806650,350,{"$f":"A1332","v":1329},-1,null,null,1,350,"○","○"]
[1331,4903325,525,-1,{"$f":"A1335","v":1332},"RCP4-RA3R-10-水平",6,0.5,525,"○","○"]
[1332,6864654.9999999991,435,{"$f":"A1334","v":1331},{"$f":"A1336","v":1333},null,null,0.7,435,"○","○"]
[1333,9806650,175,{"$f":"A1335","v":1332},-1,null,null,1,175,"○","○"]
[1334,2941995,525,-1,{"$f":"A1338","v":1335},"RCP4-RA3R-10-水平",8,0.3,525,"○","○"]
[1335,4903325,435,{"$f":"A1337","v":1334},{"$f":"A1339","v":1336},null,null,0.5,435,"○","○"]
[1336,6864654.9999999991,350,{"$f":"A1338","v":1335},-1,null,null,0.7,350,"○","○"]
[1337,6864654.9999999991,260,-1,-1,"RCP4-RA3R-10-水平",9,0.7,260,"○","○"]
[1338,2941995,435,-1,{"$f":"A1342","v":1339},"RCP4-RA3R-10-水平",10,0.3,435,"○","○"]
[1339,4903325,350,{"$f":"A1341","v":1338},-1,null,null,0.5,350,"○","○"]
[1340,980665,525,-1,-1,"RCP4-RA3R-10-水平",11,0.1,525,"○","○"]
[1341,980665,435,-1,{"$f":"A1345","v":1342},"RCP4-RA3R-10-水平",12,0.1,435,"○","○"]
[1342,2941995,350,{"$f":"A1344","v":1341},-1,null,null,0.3,350,"○","○"]
[1343,{"$f":"H1346*$A$1*1000*1000","v":4903325},{"$f":"I1346","v":700},-1,-1,"RCP4-RA3R-10-垂直",0.5,0.5,700,"○","○"]
[1344,{"$f":"H1347*$A$1*1000*1000","v":4903325},{"$f":"I1347","v":610},-1,-1,"RCP4-RA3R-10-垂直",1,0.5,610,"○","○"]
[1345,{"$f":"H1348*$A$1*1000*1000","v":4903325},{"$f":"I1348","v":525},-1,-1,"RCP4-RA3R-10-垂直",2,0.5,525,{"$f":"IF(G1348=0,IF(D1348<>A1347,\"ﾘﾝｸ不正\",\"○\"),\"○\")","v":"○"},{"$f":"IF(D1349<>-1,IF(E1348<>A1349,\"ﾘﾝｸ不正\",\"○\"),\"○\")","v":"○"}]
[1346,{"$f":"H1349*$A$1*1000*1000","v":4903325},{"$f":"I1349","v":435},-1,-1,"RCP4-RA3R-10-垂直",2.25,0.5,435,"○","○"]
[1347,{"$f":"H1350*$A$1*1000*1000","v":4903325},{"$f":"I1350","v":350},-1,-1,"RCP4-RA3R-10-垂直",2.5,0.5,350,"○","○"]
[1348,{"$f":"H1351*$A$1*1000*1000","v":9806650},{"$f":"I1351","v":840},-1,-1,"RCP4-RA3R-16-水平",0.5,1,840,"○","○"]
[1349,6864654.9999999991,840,-1,-1,"RCP4-RA3R-16-水平",1,0.7,840,"○","○"]
[1350,9806650,700,-1,-1,"RCP4-RA3R-16-水平",1.5,1,700,"○","○"]
[1351,6864654.9999999991,700,-1,{"$f":"A1355","v":1352},"RCP4-RA3R-16-水平",2,0.7,700,"○","○"]
[1352,9806650,560,{"$f":"A1354","v":1351},-1,null,null,1,560,"○","○"]
[1353,4903325,840,-1,{"$f":"A1357","v":1354},"RCP4-RA3R-16-水平",2.5,0.5,840,"○","○"]
[1354,6864654.9999999991,560,{"$f":"A1356","v":1353},{"$f":"A1358","v":1355},null,null,0.7,560,"○","○"]
[1355,9806650,140,{"$f":"A1357","v":1354},-1,null,null,1,140,"○","○"]
[1356,2941995,840,-1,{"$f":"A1360","v":1357},"RCP4-RA3R-16-水平",3,0.3,840,"○","○"]
[1357,6864654.9999999991,420,{"$f":"A1359","v":1356},-1,null,null,0.7,420,"○","○"]
[1358,4903325,560,-1,-1,"RCP4-RA3R-16-水平",3.5,0.5,560,"○","○"]
[1359,2941995,700,-1,{"$f":"A1363","v":1360},"RCP4-RA3R-16-水平",4.5,0.3,700,"○","○"]
[1360,4903325,420,{"$f":"A1362","v":1359},-1,null,null,0.5,420,"○","○"]
[1361,2941995,560,-1,-1,"RCP4-RA3R-16-水平",5,0.3,560,"○","○"]
[1362,{"$f":"H1365*$A$1*1000*1000","v":4903325},{"$f":"I1365","v":840},-1,-1,"RCP4-RA3R-16-垂直",0.5,0.5,840,"○","○"]
[{"$f":"A1365+1","v":1363},4903325,700,-1,-1,"RCP4-RA3R-16-垂直",1,0.5,700,"○","○"]
[{"$f":"A1366+1","v":1364},4903325,1200,-1,-1,"RCP5-BA4-48-水平",0.5,0.5,1200,"○","○"]
[{"$f":"A1367+1","v":1365},4903325,1000,-1,-1,"RCP5-BA4-48-水平",1,0.5,1000,"○","○"]
[{"$f":"A1368+1","v":1366},4903325,1400,-1,-1,"RCP5-BA6-48-水平",0.5,0.5,1400,"○","○"]
[{"$f":"A1369+1","v":1367},4903325,800,-1,-1,"RCP5-BA6-48-水平",3,0.5,800,{"$f":"IF(G1370=0,IF(D1370<>A1369,\"ﾘﾝｸ不正\",\"○\"),\"○\")","v":"○"},{"$f":"IF(D1371<>-1,IF(E1370<>A1371,\"ﾘﾝｸ不正\",\"○\"),\"○\")","v":"○"}]
[1368,{"$f":"H1371*$A$1*1000*1000","v":4903325},{"$f":"I1371","v":1200},-1,-1,"RCP5-BA7-48-水平",1,0.5,1200,"○","○"]
[1369,4903325,1000,-1,-1,"RCP5-BA7-48-水平",3,0.5,1000,"○","○"]
[1370,4903325,800,-1,-1,"RCP5-BA7-48-水平",5,0.5,800,"○","○"]
[1371,4903325,600,-1,-1,"RCP5-BA7-48-水平",7.5,0.5,600,"○","○"]
[1372,4903325,400,-1,-1,"RCP5-BA7-48-水平",10,0.5,400,"○","○"]
[1373,4903325,200,-1,-1,"RCP5-BA7-48-水平",13,0.5,200,"○","○"]
[1374,4903325,100,-1,-1,"RCP5-BA7-48-水平",14,0.5,100,"○","○"]
[1375,{"$f":"H1378*$A$1*1000*1000","v":6864654.9999999991},{"$f":"I1378","v":130},-1,-1,"RCP5-SA4R-2.5-水平",8,0.7,130,"○","○"]
[1376,4903325,130,-1,{"$f":"A1380","v":1377},"RCP5-SA4R-2.5-水平",9,0.5,130,"○","○"]
[1377,6864654.9999999991,105,{"$f":"A1379","v":1376},-1,null,null,0.7,105,"○","○"]
[1378,2941995,130,-1,{"$f":"A1382","v":1379},"RCP5-SA4R-2.5-水平",10,0.3,130,"○","○"]
[1379,4903325,105,{"$f":"A1381","v":1378},{"$f":"A1383","v":1380},null,null,0.5,105,"○","○"]
[1380,6864654.9999999991,85,{"$f":"A1382","v":1379},-1,null,null,0.7,85,"○","○"]
[1381,2941995,85,-1,{"$f":"A1385","v":1382},"RCP5-SA4R-2.5-水平",11,0.3,85,"○","○"]
[1382,6864654.9999999991,65,{"$f":"A1384","v":1381},-1,null,null,0.7,65,"○","○"]
[1383,1961330,130,-1,{"$f":"A1387","v":1384},"RCP5-SA4R-2.5-水平",12,0.2,130,"○","○"]
[1384,2941995,65,{"$f":"A1386","v":1383},{"$f":"A1388","v":1385},null,null,0.3,65,"○","○"]
[1385,6864654.9999999991,40,{"$f":"A1387","v":1384},-1,null,null,0.7,40,"○","○"]
[1386,{"$f":"H1389*$A$1*1000*1000","v":2941995},{"$f":"I1389","v":130},-1,-1,"RCP5-SA4R-2.5-垂直",5,0.3,130,"○","○"]
[1387,{"$f":"H1390*$A$1*1000*1000","v":2941995},{"$f":"I1390","v":105},-1,-1,"RCP5-SA4R-2.5-垂直",8,0.3,105,"○","○"]
[1388,{"$f":"H1391*$A$1*1000*1000","v":2941995},{"$f":"I1391","v":40},-1,-1,"RCP5-SA4R-2.5-垂直",9,0.3,40,"○","○"]
[1389,{"$f":"H1392*$A$1*1000*1000","v":6864654.9999999991},{"$f":"I1392","v":260},-1,-1,"RCP5-SA4R-5-水平",6,0.7,260,"○","○"]
[1390,4903325,260,-1,{"$f":"A1394","v":1391},"RCP5-SA4R-5-水平",7,0.5,260,"○","○"]
[1391,6864654.9999999991,215,{"$f":"A1393","v":1390},-1,null,null,0.7,215,"○","○"]
[1392,2941995,260,-1,{"$f":"A1396","v":1393},"RCP5-SA4R-5-水平",8,0.3,260,"○","○"]
[1393,4903325,215,{"$f":"A1395","v":1392},{"$f":"A1397","v":1394},null,null,0.5,215,"○","○"]
[1394,6864654.9999999991,175,{"$f":"A1396","v":1393},-1,null,null,0.7,175,"○","○"]
[1395,1961330,260,-1,{"$f":"A1399","v":1396},"RCP5-SA4R-5-水平",9,0.2,260,"○","○"]
[1396,2941995,215,{"$f":"A1398","v":1395},{"$f":"A1400","v":1397},null,null,0.3,215,"○","○"]
[{"$f":"A1399+1","v":1397},4903325,175,{"$f":"A1399","v":1396},{"$f":"A1401","v":1398},null,null,0.5,175,"○","○"]
[1398,6864654.9999999991,130,{"$f":"A1400","v":1397},-1,null,null,0.7,130,"○","○"]
[1399,1961330,215,-1,{"$f":"A1403","v":1400},"RCP5-SA4R-5-水平",10,0.2,215,"○","○"]
[1400,2941995,175,{"$f":"A1402","v":1399},{"$f":"A1404","v":1401},null,null,0.3,175,"○","○"]
[1401,4903325,130,{"$f":"A1403","v":1400},{"$f":"A1405","v":1402},null,null,0.5,130,"○","○"]
[1402,6864654.9999999991,85,{"$f":"A1404","v":1401},-1,null,null,0.7,85,"○","○"]
[1403,{"$f":"H1406*$A$1*1000*1000","v":4903325},{"$f":"I1406","v":85},-1,-1,"RCP5-SA4R-5-水平",12,0.5,85,"○","○"]
[1404,2941995,260,-1,-1,"RCP5-SA4R-5-垂直",2.5,0.3,260,"○","○"]
[1405,1961330,260,-1,-1,"RCP5-SA4R-5-垂直",3,0.2,260,"○","○"]
[1406,980665,260,-1,-1,"RCP5-SA4R-5-垂直",3.5,0.1,260,"○","○"]
[1407,2941995,215,-1,-1,"RCP5-SA4R-5-垂直",4,0.3,215,"○","○"]
[1408,2941995,85,-1,-1,"RCP5-SA4R-5-垂直",4.5,0.3,85,"○","○"]
[1409,{"$f":"H1412*$A$1*1000*1000","v":6864654.9999999991},{"$f":"I1412","v":525},-1,-1,"RCP5-SA4R-10-水平",3,0.7,525,"○","○"]
[1410,4903325,525,-1,{"$f":"A1414","v":1411},"RCP5-SA4R-10-水平",4,0.5,525,"○","○"]
[1411,6864654.9999999991,435,{"$f":"A1413","v":1410},-1,null,null,0.7,435,"○","○"]
[1412,2941995,525,-1,{"$f":"A1416","v":1413},"RCP5-SA4R-10-水平",5,0.3,525,{"$f":"IF(G1415=0,IF(D1415<>A1414,\"ﾘﾝｸ不正\",\"○\"),\"○\")","v":"○"},{"$f":"IF(D1416<>-1,IF(E1415<>A1416,\"ﾘﾝｸ不正\",\"○\"),\"○\")","v":"○"}]
[1413,4903325,435,{"$f":"A1415","v":1412},{"$f":"A1417","v":1414},null,null,0.5,435,"○","○"]
[1414,6864654.9999999991,350,{"$f":"A1416","v":1413},-1,null,null,0.7,350,"○","○"]
[1415,1961330,525,-1,{"$f":"A1419","v":1416},"RCP5-SA4R-10-水平",6,0.2,525,"○","○"]
[1416,2941995,435,{"$f":"A1418","v":1415},{"$f":"A1420","v":1417},null,null,0.3,435,"○","○"]
[1417,4903325,350,{"$f":"A1419","v":1416},{"$f":"A1421","v":1418},null,null,0.5,350,"○","○"]
[1418,6864654.9999999991,260,{"$f":"A1420","v":1417},-1,null,null,0.7,260,"○","○"]
[1419,1961330,435,-1,{"$f":"A1423","v":1420},"RCP5-SA4R-10-水平",7,0.2,435,"○","○"]
[1420,2941995,350,{"$f":"A1422","v":1419},-1,null,null,0.3,350,"○","○"]
[1421,1961330,350,-1,{"$f":"A1425","v":1422},"RCP5-SA4R-10-水平",8,0.2,350,"○","○"]
[1422,4903325,260,{"$f":"A1424","v":1421},{"$f":"A1426","v":1423},null,null,0.5,260,"○","○"]
[1423,6864654.9999999991,175,{"$f":"A1425","v":1422},-1,null,null,0.7,175,"○","○"]
[1424,2941995,260,-1,{"$f":"A1428","v":1425},"RCP5-SA4R-10-水平",9,0.3,260,"○","○"]
[1425,4903325,175,{"$f":"A1427","v":1424},-1,null,null,0.5,175,"○","○"]
[1426,{"$f":"H1429*$A$1*1000*1000","v":2941995},{"$f":"I1429","v":175},-1,-1,"RCP5-SA4R-10-水平",10,0.3,175,"○","○"]
[1427,{"$f":"H1430*$A$1*1000*1000","v":2941995},{"$f":"I1430","v":525},-1,-1,"RCP5-SA4R-10-垂直",1,0.3,525,"○","○"]
[1428,980665,525,-1,{"$f":"A1432","v":1429},"RCP5-SA4R-10-垂直",1.5,0.1,525,"○","○"]
[1429,2941995,435,{"$f":"A1431","v":1428},-1,null,null,0.3,435,"○","○"]
[1430,980665,435,-1,{"$f":"A1434","v":1431},"RCP5-SA4R-10-垂直",2,0.1,435,"○","○"]
[1431,2941995,350,{"$f":"A1433","v":1430},-1,null,null,0.3,350,"○","○"]
[1432,2941995,175,-1,-1,"RCP5-SA4R-10-垂直",2.25,0.3,175,"○","○"]
[1433,{"$f":"H1436*$A$1*1000*1000","v":6864654.9999999991},{"$f":"I1436","v":840},-1,-1,"RCP5-SA4R-16-水平",1.5,0.7,840,"○","○"]
[1434,4903325,840,-1,{"$f":"A1438","v":1435},"RCP5-SA4R-16-水平",2,0.5,840,"○","○"]
[1435,6864654.9999999991,700,{"$f":"A1437","v":1434},-1,null,null,0.7,700,"○","○"]
[1436,2941995,840,-1,{"$f":"A1440","v":1437},"RCP5-SA4R-16-水平",2.5,0.3,840,"○","○"]
[1437,4903325,700,{"$f":"A1439","v":1436},{"$f":"A1441","v":1438},null,null,0.5,700,"○","○"]
[1438,6864654.9999999991,560,{"$f":"A1440","v":1437},-1,null,null,0.7,560,"○","○"]
[1439,2941995,700,-1,{"$f":"A1443","v":1440},"RCP5-SA4R-16-水平",3,0.3,700,"○","○"]
[1440,4903325,560,{"$f":"A1442","v":1439},{"$f":"A1444","v":1441},null,null,0.5,560,"○","○"]
[1441,6864654.9999999991,420,{"$f":"A1443","v":1440},-1,null,null,0.7,420,"○","○"]
[1442,1961330,700,-1,{"$f":"A1446","v":1443},"RCP5-SA4R-16-水平",3.5,0.2,700,"○","○"]
[1443,2941995,560,{"$f":"A1445","v":1442},{"$f":"A1447","v":1444},null,null,0.3,560,"○","○"]
[1444,4903325,420,{"$f":"A1446","v":1443},{"$f":"A1448","v":1445},null,null,0.5,420,"○","○"]
[1445,6864654.9999999991,280,{"$f":"A1447","v":1444},-1,null,null,0.7,280,"○","○"]
[1446,1961330,560,-1,{"$f":"A1450","v":1447},"RCP5-SA4R-16-水平",4,0.2,560,"○","○"]
[1447,2941995,420,{"$f":"A1449","v":1446},{"$f":"A1451","v":1448},null,null,0.3,420,"○","○"]
[1448,4903325,280,{"$f":"A1450","v":1447},-1,null,null,0.5,280,"○","○"]
[1449,{"$f":"H1452*$A$1*1000*1000","v":2941995},{"$f":"I1452","v":840},-1,-1,"RCP5-SA4R-16-垂直",0.5,0.3,840,"○","○"]
[1450,1961330,700,-1,{"$f":"A1454","v":1451},"RCP5-SA4R-16-垂直",0.75,0.2,700,"○","○"]
[1451,2941995,560,{"$f":"A1453","v":1450},-1,null,null,0.3,560,"○","○"]
[1452,980665,560,-1,{"$f":"A1456","v":1453},"RCP5-SA4R-16-垂直",1,0.1,560,"○","○"]
[1453,1961330,420,{"$f":"A1455","v":1452},{"$f":"A1457","v":1454},null,null,0.2,420,"○","○"]
[1454,2941995,280,{"$f":"A1456","v":1453},-1,null,null,0.3,280,"○","○"]
[1455,{"$f":"H1458*$A$1*1000*1000","v":6864654.9999999991},{"$f":"I1458","v":150},-1,-1,"RCP5-SA6R-3-水平",9,0.7,150,"○","○"]
[1456,4903325,150,-1,{"$f":"A1460","v":1457},"RCP5-SA6R-3-水平",10,0.5,150,"○","○"]
[1457,6864654.9999999991,125,{"$f":"A1459","v":1456},-1,null,null,0.7,125,"○","○"]
[1458,4903325,125,-1,-1,"RCP5-SA6R-3-水平",11,0.5,125,"○","○"]
[1459,6864654.9999999991,100,-1,-1,"RCP5-SA6R-3-水平",12,0.7,100,"○","○"]
[1460,2941995,150,-1,-1,"RCP5-SA6R-3-水平",13,0.3,150,"○","○"]
[{"$f":"A1463+1","v":1461},2941995,125,-1,{"$f":"A1465","v":1462},"RCP5-SA6R-3-水平",14,0.3,125,"○","○"]
[1462,4903325,100,{"$f":"A1464","v":1461},-1,null,null,0.5,100,"○","○"]
[1463,1961330,150,-1,{"$f":"A1467","v":1464},"RCP5-SA6R-3-水平",16,0.2,150,"○","○"]
[1464,2941995,100,{"$f":"A1466","v":1463},-1,null,null,0.3,100,"○","○"]
[1465,1961330,125,-1,-1,"RCP5-SA6R-3-水平",18,0.2,125,"○","○"]
[1466,1961330,100,-1,{"$f":"A1470","v":1467},"RCP5-SA6R-3-水平",19,0.2,100,"○","○"]
[1467,6864654.9999999991,75,{"$f":"A1469","v":1466},-1,null,null,0.7,75,"○","○"]
[1468,{"$f":"H1471*$A$1*1000*1000","v":2941995},{"$f":"I1471","v":150},-1,-1,"RCP5-SA6R-3-垂直",3,0.3,150,"○","○"]
[1469,1961330,150,-1,-1,"RCP5-SA6R-3-垂直",4.5,0.2,150,"○","○"]
[1470,980665,150,-1,-1,"RCP5-SA6R-3-垂直",5,0.1,150,"○","○"]
[1471,2941995,125,-1,-1,"RCP5-SA6R-3-垂直",6,0.3,125,"○","○"]
[1472,980665,125,-1,-1,"RCP5-SA6R-3-垂直",7,0.1,125,"○","○"]
[1473,2941995,100,-1,-1,"RCP5-SA6R-3-垂直",8,0.3,100,"○","○"]
[1474,1961330,100,-1,-1,"RCP5-SA6R-3-垂直",9,0.2,100,"○","○"]
[1475,980665,100,-1,{"$f":"A1479","v":1476},"RCP5-SA6R-3-垂直",10,0.1,100,"○","○"]
[1476,2941995,75,{"$f":"A1478","v":1475},-1,null,null,0.3,75,{"$f":"IF(G1479=0,IF(D1479<>A1478,\"ﾘﾝｸ不正\",\"○\"),\"○\")","v":"○"},{"$f":"IF(D1480<>-1,IF(E1479<>A1480,\"ﾘﾝｸ不正\",\"○\"),\"○\")","v":"○"}]
[1477,{"$f":"H1480*$A$1*1000*1000","v":6864654.9999999991},{"$f":"I1480","v":300},-1,-1,"RCP5-SA6R-6-水平",4,0.7,300,"○","○"]
[1478,4903325,300,-1,-1,"RCP5-SA6R-6-水平",6,0.5,300,"○","○"]
[1479,6864654.9999999991,250,-1,-1,"RCP5-SA6R-6-水平",7,0.7,250,"○","○"]
[1480,4903325,250,-1,-1,"RCP5-SA6R-6-水平",10,0.5,250,"○","○"]
[1481,2941995,300,-1,{"$f":"A1485","v":1482},"RCP5-SA6R-6-水平",12,0.3,300,"○","○"]
[1482,6864654.9999999991,200,{"$f":"A1484","v":1481},-1,null,null,0.7,200,"○","○"]
[1483,1961330,300,-1,{"$f":"A1487","v":1484},"RCP5-SA6R-6-水平",13,0.2,300,"○","○"]
[1484,4903325,200,{"$f":"A1486","v":1483},-1,null,null,0.5,200,"○","○"]
[1485,1961330,250,-1,{"$f":"A1489","v":1486},"RCP5-SA6R-6-水平",15,0.2,250,"○","○"]
[1486,2941995,200,{"$f":"A1488","v":1485},-1,null,null,0.3,200,"○","○"]
[1487,1961330,200,-1,-1,"RCP5-SA6R-6-水平",16,0.2,200,"○","○"]
[1488,{"$f":"H1491*$A$1*1000*1000","v":2941995},{"$f":"I1491","v":300},-1,-1,"RCP5-SA6R-6-垂直",1.5,0.3,300,"○","○"]
[1489,1961330,300,-1,-1,"RCP5-SA6R-6-垂直",2,0.2,300,"○","○"]
[1490,980665,300,-1,-1,"RCP5-SA6R-6-垂直",2.5,0.1,300,"○","○"]
[1491,2941995,250,-1,-1,"RCP5-SA6R-6-垂直",3,0.3,250,"○","○"]
[1492,1961330,250,-1,{"$f":"A1496","v":1493},"RCP5-SA6R-6-垂直",4,0.2,250,"○","○"]
[1493,2941995,200,{"$f":"A1495","v":1492},-1,null,null,0.3,200,"○","○"]
[1494,1961330,200,-1,-1,"RCP5-SA6R-6-垂直",4.5,0.2,200,"○","○"]
[1495,980665,200,-1,{"$f":"A1499","v":1496},"RCP5-SA6R-6-垂直",5,0.1,200,"○","○"]
[1496,2941995,150,{"$f":"A1498","v":1495},-1,null,null,0.3,150,"○","○"]
[1497,{"$f":"H1500*$A$1*1000*1000","v":6864654.9999999991},{"$f":"I1500","v":600},-1,-1,"RCP5-SA6R-12-水平",1.5,0.7,600,"○","○"]
[1498,4903325,600,-1,{"$f":"A1502","v":1499},"RCP5-SA6R-12-水平",2,0.5,600,"○","○"]
[1499,6864654.9999999991,500,{"$f":"A1501","v":1498},-1,null,null,0.7,500,"○","○"]
[1500,4903325,500,-1,-1,"RCP5-SA6R-12-水平",3,0.5,500,"○","○"]
[1501,6864654.9999999991,400,-1,-1,"RCP5-SA6R-12-水平",3.5,0.7,400,"○","○"]
[1502,4903325,400,-1,-1,"RCP5-SA6R-12-水平",4,0.5,400,"○","○"]
[1503,2941995,600,-1,{"$f":"A1507","v":1504},"RCP5-SA6R-12-水平",6,0.3,600,"○","○"]
[1504,6864654.9999999991,300,{"$f":"A1506","v":1503},-1,null,null,0.7,300,"○","○"]
[1505,1961330,500,-1,{"$f":"A1509","v":1506},"RCP5-SA6R-12-水平",7,0.2,500,"○","○"]
[1506,2941995,400,{"$f":"A1508","v":1505},{"$f":"A1510","v":1507},null,null,0.3,400,"○","○"]
[1507,4903325,300,{"$f":"A1509","v":1506},-1,null,null,0.5,300,"○","○"]
[1508,1961330,400,-1,-1,"RCP5-SA6R-12-水平",8,0.2,400,"○","○"]
[1509,2941995,300,-1,-1,"RCP5-SA6R-12-水平",8.5,0.3,300,"○","○"]
[1510,{"$f":"H1513*$A$1*1000*1000","v":2941995},{"$f":"I1513","v":600},-1,-1,"RCP5-SA6R-12-垂直",0.5,0.3,600,"○","○"]
[1511,980665,600,-1,{"$f":"A1515","v":1512},"RCP5-SA6R-12-垂直",1,0.1,600,"○","○"]
[1512,2941995,500,{"$f":"A1514","v":1511},-1,null,null,0.3,500,"○","○"]
[1513,1961330,500,-1,{"$f":"A1517","v":1514},"RCP5-SA6R-12-垂直",1.5,0.2,500,"○","○"]
[1514,2941995,400,{"$f":"A1516","v":1513},-1,null,null,0.3,400,"○","○"]
[1515,1961330,400,-1,{"$f":"A1519","v":1516},"RCP5-SA6R-12-垂直",2,0.2,400,"○","○"]
[1516,2941995,300,{"$f":"A1518","v":1515},-1,null,null,0.3,300,"○","○"]
[1517,{"$f":"H1520*$A$1*1000*1000","v":4903325},{"$f":"I1520","v":960},-1,-1,"RCP5-SA6R-20-水平",0.5,0.5,960,"○","○"]
[1518,6864654.9999999991,800,-1,-1,"RCP5-SA6R-20-水平",1,0.7,800,"○","○"]
[1519,2941995,960,-1,-1,"RCP5-SA6R-20-水平",1.5,0.3,960,"○","○"]
[1520,1961330,960,-1,{"$f":"A1524","v":1521},"RCP5-SA6R-20-水平",2,0.2,960,"○","○"]
[1521,6864654.9999999991,640,{"$f":"A1523","v":1520},-1,null,null,0.7,640,"○","○"]
[1522,2941995,800,-1,{"$f":"A1526","v":1523},"RCP5-SA6R-20-水平",3,0.3,800,"○","○"]
[1523,6864654.9999999991,480,{"$f":"A1525","v":1522},-1,null,null,0.7,480,"○","○"]
[1524,2941995,640,-1,{"$f":"A1528","v":1525},"RCP5-SA6R-20-水平",4,0.3,640,"○","○"]
[{"$f":"A1527+1","v":1525},6864654.9999999991,320,{"$f":"A1527","v":1524},-1,null,null,0.7,320,"○","○"]
[1526,2941995,480,-1,-1,"RCP5-SA6R-20-水平",5,0.3,480,"○","○"]
[1527,2941995,320,-1,-1,"RCP5-SA6R-20-水平",6,0.3,320,"○","○"]
[1528,{"$f":"H1531*$A$1*1000*1000","v":1961330},{"$f":"I1531","v":800},-1,-1,"RCP5-SA6R-20-垂直",0.5,0.2,800,"○","○"]
[1529,1961330,140,-1,-1,"RCP5-SA7R-4-水平",22,0.2,140,"○","○"]
[1530,1961330,105,-1,-1,"RCP5-SA7R-4-水平",40,0.2,105,"○","○"]
[1531,1961330,140,-1,-1,"RCP5-SA7R-4-垂直",3,0.2,140,"○","○"]
[1532,1961330,105,-1,-1,"RCP5-SA7R-4-垂直",10,0.2,105,"○","○"]
[1533,1961330,70,-1,-1,"RCP5-SA7R-4-垂直",15,0.2,70,"○","○"]
[1534,2941995,280,-1,-1,"RCP5-SA7R-8-水平",6,0.3,280,"○","○"]
[1535,2941995,210,-1,-1,"RCP5-SA7R-8-水平",25,0.3,210,"○","○"]
[1536,2941995,140,-1,-1,"RCP5-SA7R-8-水平",40,0.3,140,"○","○"]
[1537,1961330,280,-1,-1,"RCP5-SA7R-8-垂直",1,0.2,280,"○","○"]
[1538,1961330,210,-1,-1,"RCP5-SA7R-8-垂直",4,0.2,210,"○","○"]
[1539,1961330,140,-1,-1,"RCP5-SA7R-8-垂直",7,0.2,140,"○","○"]
[1540,1961330,70,-1,-1,"RCP5-SA7R-8-垂直",10,0.2,70,{"$f":"IF(G1543=0,IF(D1543<>A1542,\"ﾘﾝｸ不正\",\"○\"),\"○\")","v":"○"},{"$f":"IF(D1544<>-1,IF(E1543<>A1544,\"ﾘﾝｸ不正\",\"○\"),\"○\")","v":"○"}]
[1541,2941995,560,-1,-1,"RCP5-SA7R-16-水平",4,0.3,560,"○","○"]
[1542,2941995,420,-1,-1,"RCP5-SA7R-16-水平",15,0.3,420,"○","○"]
[1543,2941995,280,-1,-1,"RCP5-SA7R-16-水平",25,0.3,280,"○","○"]
[1544,2941995,140,-1,-1,"RCP5-SA7R-16-水平",35,0.3,140,"○","○"]
[1545,1961330,560,-1,-1,"RCP5-SA7R-16-垂直",0.5,0.2,560,"○","○"]
[1546,1961330,420,-1,-1,"RCP5-SA7R-16-垂直",1.5,0.2,420,"○","○"]
[1547,1961330,280,-1,-1,"RCP5-SA7R-16-垂直",3,0.2,280,"○","○"]
[1548,1961330,140,-1,-1,"RCP5-SA7R-16-垂直",5,0.2,140,"○","○"]
[1549,2941995,800,-1,-1,"RCP5-SA7R-24-水平",1,0.3,800,"○","○"]
[1550,2941995,600,-1,-1,"RCP5-SA7R-24-水平",9,0.3,600,"○","○"]
[1551,2941995,400,-1,-1,"RCP5-SA7R-24-水平",18,0.3,400,"○","○"]
[1552,1961330,600,-1,-1,"RCP5-SA7R-24-垂直",1.5,0.2,600,"○","○"]
[1553,1961330,400,-1,-1,"RCP5-SA7R-24-垂直",2,0.2,400,"○","○"]
[1554,{"$f":"H1557*$A$1*1000*1000","v":6864654.9999999991},{"$f":"I1557","v":130},-1,-1,"RCP5-RA4R-2.5-水平",10,0.7,130,"○","○"]
[1555,4903325,130,-1,{"$f":"A1559","v":1556},"RCP5-RA4R-2.5-水平",15,0.5,130,"○","○"]
[1556,6864654.9999999991,105,{"$f":"A1558","v":1555},-1,null,null,0.7,105,"○","○"]
[1557,2941995,130,-1,{"$f":"A1561","v":1558},"RCP5-RA4R-2.5-水平",20,0.3,130,"○","○"]
[1558,4903325,105,{"$f":"A1560","v":1557},{"$f":"A1562","v":1559},null,null,0.5,105,"○","○"]
[1559,6864654.9999999991,85,{"$f":"A1561","v":1558},-1,null,null,0.7,85,"○","○"]
[1560,980665,130,-1,{"$f":"A1564","v":1561},"RCP5-RA4R-2.5-水平",25,0.1,130,"○","○"]
[1561,2941995,105,{"$f":"A1563","v":1560},{"$f":"A1565","v":1562},null,null,0.3,105,"○","○"]
[1562,4903325,85,{"$f":"A1564","v":1561},{"$f":"A1566","v":1563},null,null,0.5,85,"○","○"]
[1563,6864654.9999999991,65,{"$f":"A1565","v":1562},-1,null,null,0.7,65,"○","○"]
[1564,980665,105,-1,{"$f":"A1568","v":1565},"RCP5-RA4R-2.5-水平",30,0.1,105,"○","○"]
[1565,2941995,85,{"$f":"A1567","v":1564},{"$f":"A1569","v":1566},null,null,0.3,85,"○","○"]
[1566,4903325,65,{"$f":"A1568","v":1565},{"$f":"A1570","v":1567},null,null,0.5,65,"○","○"]
[1567,6864654.9999999991,40,{"$f":"A1569","v":1566},-1,null,null,0.7,40,"○","○"]
[1568,4903325,40,-1,-1,"RCP5-RA4R-2.5-水平",32,0.5,40,"○","○"]
[1569,980665,85,-1,{"$f":"A1573","v":1570},"RCP5-RA4R-2.5-水平",35,0.1,85,"○","○"]
[1570,2941995,65,{"$f":"A1572","v":1569},-1,null,null,0.3,65,"○","○"]
[1571,{"$f":"H1574*$A$1*1000*1000","v":2941995},{"$f":"I1574","v":130},-1,-1,"RCP5-RA4R-2.5-垂直",4,0.3,130,"○","○"]
[1572,1961330,130,-1,{"$f":"A1576","v":1573},"RCP5-RA4R-2.5-垂直",5,0.2,130,"○","○"]
[1573,2941995,105,{"$f":"A1575","v":1572},-1,null,null,0.3,105,"○","○"]
[1574,980665,130,-1,-1,"RCP5-RA4R-2.5-垂直",6,0.1,130,"○","○"]
[1575,1961330,105,-1,{"$f":"A1579","v":1576},"RCP5-RA4R-2.5-垂直",7,0.2,105,"○","○"]
[1576,2941995,85,{"$f":"A1578","v":1575},-1,null,null,0.3,85,"○","○"]
[1577,980665,105,-1,{"$f":"A1581","v":1578},"RCP5-RA4R-2.5-垂直",8,0.1,105,"○","○"]
[1578,1961330,85,{"$f":"A1580","v":1577},-1,null,null,0.2,85,"○","○"]
[1579,980665,85,-1,{"$f":"A1583","v":1580},"RCP5-RA4R-2.5-垂直",10,0.1,85,"○","○"]
[1580,2941995,65,{"$f":"A1582","v":1579},-1,null,null,0.3,65,"○","○"]
[1581,{"$f":"H1584*$A$1*1000*1000","v":6864654.9999999991},{"$f":"I1584","v":260},-1,-1,"RCP5-RA4R-5-水平",6,0.7,260,"○","○"]
[1582,4903325,260,-1,-1,"RCP5-RA4R-5-水平",8,0.5,260,"○","○"]
[1583,6864654.9999999991,215,-1,-1,"RCP5-RA4R-5-水平",10,0.7,215,"○","○"]
[1584,2941995,260,-1,{"$f":"A1588","v":1585},"RCP5-RA4R-5-水平",12,0.3,260,"○","○"]
[1585,4903325,215,{"$f":"A1587","v":1584},-1,null,null,0.5,215,"○","○"]
[1586,6864654.9999999991,175,-1,-1,"RCP5-RA4R-5-水平",14,0.7,175,"○","○"]
[1587,980665,260,-1,{"$f":"A1591","v":1588},"RCP5-RA4R-5-水平",15,0.1,260,"○","○"]
[1588,2941995,215,{"$f":"A1590","v":1587},-1,null,null,0.3,215,"○","○"]
[{"$f":"A1591+1","v":1589},980665,215,-1,{"$f":"A1593","v":1590},"RCP5-RA4R-5-水平",18,0.1,215,"○","○"]
[1590,4903325,175,{"$f":"A1592","v":1589},{"$f":"A1594","v":1591},null,null,0.5,175,"○","○"]
[1591,6864654.9999999991,130,{"$f":"A1593","v":1590},-1,null,null,0.7,130,"○","○"]
[1592,2941995,175,-1,{"$f":"A1596","v":1593},"RCP5-RA4R-5-水平",20,0.3,175,"○","○"]
[1593,4903325,130,{"$f":"A1595","v":1592},{"$f":"A1597","v":1594},null,null,0.5,130,"○","○"]
[1594,6864654.9999999991,85,{"$f":"A1596","v":1593},-1,null,null,0.7,85,"○","○"]
[1595,2941995,130,-1,{"$f":"A1599","v":1596},"RCP5-RA4R-5-水平",22,0.3,130,"○","○"]
[1596,4903325,85,{"$f":"A1598","v":1595},-1,null,null,0.5,85,"○","○"]
[1597,{"$f":"H1600*$A$1*1000*1000","v":2941995},{"$f":"I1600","v":260},-1,-1,"RCP5-RA4R-5-垂直",2,0.3,260,"○","○"]
[1598,1961330,260,-1,{"$f":"A1602","v":1599},"RCP5-RA4R-5-垂直",3,0.2,260,"○","○"]
[1599,2941995,215,{"$f":"A1601","v":1598},-1,null,null,0.3,215,"○","○"]
[1600,980665,260,-1,{"$f":"A1604","v":1601},"RCP5-RA4R-5-垂直",4,0.1,260,"○","○"]
[1601,1961330,215,{"$f":"A1603","v":1600},{"$f":"A1605","v":1602},null,null,0.2,215,"○","○"]
[1602,2941995,175,{"$f":"A1604","v":1601},-1,null,null,0.3,175,"○","○"]
[1603,1961330,175,-1,{"$f":"A1607","v":1604},"RCP5-RA4R-5-垂直",5,0.2,175,"○","○"]
[1604,2941995,130,{"$f":"A1606","v":1603},-1,null,null,0.3,130,{"$f":"IF(G1607=0,IF(D1607<>A1606,\"ﾘﾝｸ不正\",\"○\"),\"○\")","v":"○"},{"$f":"IF(D1608<>-1,IF(E1607<>A1608,\"ﾘﾝｸ不正\",\"○\"),\"○\")","v":"○"}]
[1605,{"$f":"H1608*$A$1*1000*1000","v":2941995},{"$f":"I1608","v":525},-1,-1,"RCP5-RA4R-10-水平",1,0.3,525,"○","○"]
[1606,6864654.9999999991,435,-1,-1,"RCP5-RA4R-10-水平",3,0.7,435,"○","○"]
[1607,4903325,435,-1,-1,"RCP5-RA4R-10-水平",4,0.5,435,"○","○"]
[1608,6864654.9999999991,350,-1,-1,"RCP5-RA4R-10-水平",5,0.7,350,"○","○"]
[1609,2941995,435,-1,{"$f":"A1613","v":1610},"RCP5-RA4R-10-水平",6,0.3,435,"○","○"]
[1610,4903325,350,{"$f":"A1612","v":1609},-1,null,null,0.5,350,"○","○"]
[1611,980665,435,-1,{"$f":"A1615","v":1612},"RCP5-RA4R-10-水平",7,0.1,435,"○","○"]
[1612,2941995,350,{"$f":"A1614","v":1611},{"$f":"A1616","v":1613},null,null,0.3,350,"○","○"]
[1613,6864654.9999999991,260,{"$f":"A1615","v":1612},-1,null,null,0.7,260,"○","○"]
[1614,980665,350,-1,{"$f":"A1618","v":1615},"RCP5-RA4R-10-水平",8,0.1,350,"○","○"]
[1615,4903325,260,{"$f":"A1617","v":1614},{"$f":"A1619","v":1616},null,null,0.5,260,"○","○"]
[1616,6864654.9999999991,175,{"$f":"A1618","v":1615},-1,null,null,0.7,175,"○","○"]
[1617,2941995,260,-1,{"$f":"A1621","v":1618},"RCP5-RA4R-10-水平",9,0.3,260,"○","○"]
[1618,4903325,175,{"$f":"A1620","v":1617},-1,null,null,0.5,175,"○","○"]
[1619,980665,260,-1,{"$f":"A1623","v":1620},"RCP5-RA4R-10-水平",10,0.1,260,"○","○"]
[1620,2941995,175,{"$f":"A1622","v":1619},-1,null,null,0.3,175,"○","○"]
[1621,{"$f":"H1624*$A$1*1000*1000","v":2941995},{"$f":"I1624","v":525},-1,-1,"RCP5-RA4R-10-垂直",0.5,0.3,525,"○","○"]
[1622,{"$f":"H1625*$A$1*1000*1000","v":2941995},{"$f":"I1625","v":435},-1,-1,"RCP5-RA4R-10-垂直",1,0.3,435,"○","○"]
[1623,{"$f":"H1626*$A$1*1000*1000","v":2941995},{"$f":"I1626","v":350},-1,-1,"RCP5-RA4R-10-垂直",1.5,0.3,350,"○","○"]
[1624,{"$f":"H1627*$A$1*1000*1000","v":1961330},{"$f":"I1627","v":350},-1,{"$f":"A1628","v":1625},"RCP5-RA4R-10-垂直",2,0.2,350,"○","○"]
[1625,{"$f":"H1628*$A$1*1000*1000","v":2941995},{"$f":"I1628","v":260},{"$f":"A1627","v":1624},-1,null,null,0.3,260,"○","○"]
[1626,{"$f":"H1629*$A$1*1000*1000","v":6864654.9999999991},{"$f":"I1629","v":560},-1,-1,"RCP5-RA4R-16-水平",1.5,0.7,560,"○","○"]
[1627,4903325,560,-1,{"$f":"A1631","v":1628},"RCP5-RA4R-16-水平",2.5,0.5,560,"○","○"]
[1628,6864654.9999999991,420,{"$f":"A1630","v":1627},-1,null,null,0.7,420,"○","○"]
[1629,2941995,560,-1,{"$f":"A1633","v":1630},"RCP5-RA4R-16-水平",3,0.3,560,"○","○"]
[1630,6864654.9999999991,280,{"$f":"A1632","v":1629},-1,null,null,0.7,280,"○","○"]
[1631,4903325,420,-1,-1,"RCP5-RA4R-16-水平",3.5,0.5,420,"○","○"]
[1632,2941995,420,-1,{"$f":"A1636","v":1633},"RCP5-RA4R-16-水平",4,0.3,420,"○","○"]
[1633,4903325,280,{"$f":"A1635","v":1632},-1,null,null,0.5,280,"○","○"]
[1634,980665,420,-1,{"$f":"A1638","v":1635},"RCP5-RA4R-16-水平",5,0.1,420,"○","○"]
[1635,2941995,280,{"$f":"A1637","v":1634},-1,null,null,0.3,280,"○","○"]
[1636,{"$f":"H1639*$A$1*1000*1000","v":2941995},{"$f":"I1639","v":560},-1,-1,"RCP5-RA4R-16-垂直",0.5,0.3,560,"○","○"]
[1637,980665,420,-1,{"$f":"A1641","v":1638},"RCP5-RA4R-16-垂直",1,0.1,420,"○","○"]
[1638,2941995,280,{"$f":"A1640","v":1637},-1,null,null,0.3,280,"○","○"]
[1639,1961330,125,-1,-1,"RCP5-RA6R-3-水平",40,0.2,125,"○","○"]
[1640,1961330,125,-1,-1,"RCP5-RA6R-3-垂直",5,0.2,125,"○","○"]
[1641,1961330,100,-1,-1,"RCP5-RA6R-3-垂直",9,0.2,100,"○","○"]
[1642,1961330,75,-1,-1,"RCP5-RA6R-3-垂直",12,0.2,75,"○","○"]
[1643,1961330,50,-1,-1,"RCP5-RA6R-3-垂直",16,0.2,50,"○","○"]
[1644,1961330,25,-1,-1,"RCP5-RA6R-3-垂直",20,0.2,25,"○","○"]
[1645,1961330,250,-1,-1,"RCP5-RA6R-6-水平",10,0.2,250,"○","○"]
[1646,1961330,200,-1,-1,"RCP5-RA6R-6-水平",35,0.2,200,"○","○"]
[1647,1961330,150,-1,-1,"RCP5-RA6R-6-水平",40,0.2,150,"○","○"]
[1648,1961330,250,-1,-1,"RCP5-RA6R-6-垂直",3,0.2,250,"○","○"]
[1649,1961330,200,-1,-1,"RCP5-RA6R-6-垂直",5,0.2,200,"○","○"]
[1650,1961330,150,-1,-1,"RCP5-RA6R-6-垂直",8,0.2,150,"○","○"]
[1651,1961330,100,-1,-1,"RCP5-RA6R-6-垂直",10,0.2,100,"○","○"]
[1652,1961330,500,-1,-1,"RCP5-RA6R-12-水平",5,0.2,500,"○","○"]
[{"$f":"A1655+1","v":1653},1961330,400,-1,-1,"RCP5-RA6R-12-水平",10,0.2,400,"○","○"]
[1654,1961330,300,-1,-1,"RCP5-RA6R-12-水平",20,0.2,300,"○","○"]
[1655,1961330,200,-1,-1,"RCP5-RA6R-12-水平",25,0.2,200,"○","○"]
[1656,1961330,500,-1,-1,"RCP5-RA6R-12-垂直",1,0.2,500,"○","○"]
[1657,1961330,400,-1,-1,"RCP5-RA6R-12-垂直",2,0.2,400,"○","○"]
[1658,1961330,300,-1,-1,"RCP5-RA6R-12-垂直",3,0.2,300,"○","○"]
[1659,1961330,200,-1,-1,"RCP5-RA6R-12-垂直",4,0.2,200,"○","○"]
[1660,2941995,640,-1,-1,"RCP5-RA6R-20-水平",3,0.3,640,"○","○"]
[1661,2941995,480,-1,-1,"RCP5-RA6R-20-水平",4,0.3,480,"○","○"]
[1662,2941995,320,-1,-1,"RCP5-RA6R-20-水平",6,0.3,320,"○","○"]
[1663,1961330,640,-1,-1,"RCP5-RA6R-20-垂直",0.5,0.2,640,"○","○"]
[1664,1961330,480,-1,-1,"RCP5-RA6R-20-垂直",1,0.2,480,"○","○"]
[1665,1961330,320,-1,-1,"RCP5-RA6R-20-垂直",1.5,0.2,320,"○","○"]
[1666,1961330,140,-1,-1,"RCP5-RA7R-4-水平",5,0.2,140,"○","○"]
[1667,1961330,105,-1,-1,"RCP5-RA7R-4-水平",55,0.2,105,"○","○"]
[1668,{"$f":"H1671*$A$1*1000*1000","v":1961330},{"$f":"I1671","v":140},-1,-1,"RCP5-RA7R-4-垂直",0.5,0.2,140,{"$f":"IF(G1671=0,IF(D1671<>A1670,\"ﾘﾝｸ不正\",\"○\"),\"○\")","v":"○"},{"$f":"IF(D1672<>-1,IF(E1671<>A1672,\"ﾘﾝｸ不正\",\"○\"),\"○\")","v":"○"}]
[1669,1961330,105,-1,-1,"RCP5-RA7R-4-垂直",4,0.2,105,"○","○"]
[1670,1961330,70,-1,-1,"RCP5-RA7R-4-垂直",15,0.2,70,"○","○"]
[1671,1961330,35,-1,-1,"RCP5-RA7R-4-垂直",26,0.2,35,"○","○"]
[1672,1961330,210,-1,-1,"RCP5-RA7R-8-水平",30,0.2,210,"○","○"]
[1673,1961330,140,-1,-1,"RCP5-RA7R-8-水平",50,0.2,140,"○","○"]
[1674,1961330,210,-1,-1,"RCP5-RA7R-8-垂直",2,0.2,210,"○","○"]
[1675,1961330,140,-1,-1,"RCP5-RA7R-8-垂直",7,0.2,140,"○","○"]
[1676,1961330,70,-1,-1,"RCP5-RA7R-8-垂直",17.5,0.2,70,"○","○"]
[1677,1961330,420,-1,-1,"RCP5-RA7R-16-水平",6,0.2,420,"○","○"]
[1678,1961330,280,-1,-1,"RCP5-RA7R-16-水平",30,0.2,280,"○","○"]
[1679,1961330,140,-1,-1,"RCP5-RA7R-16-水平",40,0.2,140,"○","○"]
[1680,1961330,420,-1,-1,"RCP5-RA7R-16-垂直",0.5,0.2,420,"○","○"]
[1681,1961330,280,-1,-1,"RCP5-RA7R-16-垂直",3,0.2,280,"○","○"]
[1682,1961330,140,-1,-1,"RCP5-RA7R-16-垂直",5,0.2,140,"○","○"]
[1683,2941995,600,-1,-1,"RCP5-RA7R-24-水平",1,0.3,600,"○","○"]
[1684,2941995,400,-1,-1,"RCP5-RA7R-24-水平",10,0.3,400,"○","○"]
[1685,2941995,200,-1,-1,"RCP5-RA7R-24-水平",18,0.3,200,"○","○"]
[1686,1961330,400,-1,-1,"RCP5-RA7R-24-垂直",2,0.2,400,"○","○"]
[1687,1961330,200,-1,-1,"RCP5-RA7R-24-垂直",3,0.2,200,"○","○"]
[1688,{"$f":"H1691*$A$1*1000*1000","v":4903325},{"$f":"I1691","v":90},-1,-1,"RCP4-RA6C(高推力)-4-垂直",15,0.5,90,"○","○"]
[1689,4903325,80,-1,-1,"RCP4-RA6C(高推力)-4-垂直",25,0.5,80,"○","○"]
[1690,4903325,60,-1,-1,"RCP4-RA6C(高推力)-4-垂直",45,0.5,60,"○","○"]
[1691,4903325,45,-1,-1,"RCP4-RA6C(高推力)-4-垂直",55,0.5,45,"○","○"]
[1692,980665,120,-1,-1,"RCP5W-RA8C-5-水平",48,0.1,120,"○","○"]
[1693,980665,110,-1,-1,"RCP5W-RA8C-5-水平",60,0.1,110,"○","○"]
[1694,980665,100,-1,-1,"RCP5W-RA8C-5-水平",72,0.1,100,"○","○"]
[1695,980665,95,-1,-1,"RCP5W-RA8C-5-水平",80,0.1,95,"○","○"]
[1696,{"$f":"H1699*$A$1*1000*1000","v":980665},{"$f":"I1699","v":100},-1,-1,"RCP5W-RA8C-5-垂直",8,0.1,100,"○","○"]
[1697,980665,80,-1,-1,"RCP5W-RA8C-5-垂直",12,0.1,80,"○","○"]
[1698,980665,70,-1,-1,"RCP5W-RA8C-5-垂直",16,0.1,70,"○","○"]
[1699,980665,60,-1,-1,"RCP5W-RA8C-5-垂直",20,0.1,60,"○","○"]
[1700,980665,55,-1,-1,"RCP5W-RA8C-5-垂直",28,0.1,55,"○","○"]
[1701,980665,45,-1,-1,"RCP5W-RA8C-5-垂直",40,0.1,45,"○","○"]
[1702,980665,35,-1,-1,"RCP5W-RA8C-5-垂直",56,0.1,35,"○","○"]
[1703,{"$f":"H1706*$A$1*1000*1000","v":1961330},{"$f":"I1706","v":240},-1,-1,"RCP5W-RA8C-10-水平",8,0.2,240,"○","○"]
[1704,{"$f":"H1707*$A$1*1000*1000","v":1961330},{"$f":"I1707","v":190},-1,-1,"RCP5W-RA8C-10-水平",32,0.2,190,"○","○"]
[1705,{"$f":"H1708*$A$1*1000*1000","v":1961330},{"$f":"I1708","v":160},-1,-1,"RCP5W-RA8C-10-水平",36,0.2,160,"○","○"]
[1706,{"$f":"H1709*$A$1*1000*1000","v":1961330},{"$f":"I1709","v":120},-1,-1,"RCP5W-RA8C-10-水平",48,0.2,120,"○","○"]
[1707,{"$f":"H1710*$A$1*1000*1000","v":1961330},{"$f":"I1710","v":200},-1,-1,"RCP5W-RA8C-10-垂直",1.5,0.2,200,"○","○"]
[1708,1961330,175,-1,-1,"RCP5W-RA8C-10-垂直",2,0.2,175,"○","○"]
[1709,1961330,160,-1,-1,"RCP5W-RA8C-10-垂直",3,0.2,160,"○","○"]
[1710,1961330,150,-1,-1,"RCP5W-RA8C-10-垂直",4,0.2,150,"○","○"]
[1711,1961330,140,-1,-1,"RCP5W-RA8C-10-垂直",5.5,0.2,140,"○","○"]
[1712,1961330,135,-1,-1,"RCP5W-RA8C-10-垂直",6,0.2,135,"○","○"]
[1713,1961330,125,-1,-1,"RCP5W-RA8C-10-垂直",8,0.2,125,"○","○"]
[1714,1961330,120,-1,-1,"RCP5W-RA8C-10-垂直",8.5,0.2,120,"○","○"]
[1715,1961330,110,-1,-1,"RCP5W-RA8C-10-垂直",12,0.2,110,"○","○"]
[1716,1961330,100,-1,-1,"RCP5W-RA8C-10-垂直",14,0.2,100,"○","○"]
[{"$f":"A1719+1","v":1717},1961330,95,-1,-1,"RCP5W-RA8C-10-垂直",18,0.2,95,"○","○"]
[1718,1961330,85,-1,-1,"RCP5W-RA8C-10-垂直",22,0.2,85,"○","○"]
[1719,1961330,80,-1,-1,"RCP5W-RA8C-10-垂直",26,0.2,80,"○","○"]
[1720,1961330,70,-1,-1,"RCP5W-RA8C-10-垂直",32,0.2,70,"○","○"]
[1721,{"$f":"H1724*$A$1*1000*1000","v":1961330},{"$f":"I1724","v":480},-1,-1,"RCP5W-RA8C-20-水平",4,0.2,480,"○","○"]
[1722,1961330,430,-1,-1,"RCP5W-RA8C-20-水平",4.5,0.2,430,"○","○"]
[1723,1961330,405,-1,-1,"RCP5W-RA8C-20-水平",6,0.2,405,"○","○"]
[1724,1961330,380,-1,-1,"RCP5W-RA8C-20-水平",8,0.2,380,"○","○"]
[1725,1961330,360,-1,-1,"RCP5W-RA8C-20-水平",9.5,0.2,360,"○","○"]
[1726,1961330,335,-1,-1,"RCP5W-RA8C-20-水平",12.5,0.2,335,"○","○"]
[1727,1961330,285,-1,-1,"RCP5W-RA8C-20-水平",19,0.2,285,"○","○"]
[1728,1961330,240,-1,-1,"RCP5W-RA8C-20-水平",24,0.2,240,"○","○"]
[1729,1961330,360,-1,-1,"RCP5W-RA8C-20-垂直",1.5,0.2,360,"○","○"]
[1730,{"$f":"H1733*$A$1*1000*1000","v":1961330},{"$f":"I1733","v":335},-1,-1,"RCP5W-RA8C-20-垂直",2,0.2,335,"○","○"]
[1731,{"$f":"H1734*$A$1*1000*1000","v":1961330},{"$f":"I1734","v":285},-1,-1,"RCP5W-RA8C-20-垂直",4,0.2,285,"○","○"]
[1732,{"$f":"ROUND(H1735*$A$1*1000*1000,0)","v":98067},{"$f":"I1735","v":50},-1,-1,"RCP5W-RA10C-2.5-水平",240,0.01,50,{"$f":"IF(G1735=0,IF(D1735<>A1734,\"ﾘﾝｸ不正\",\"○\"),\"○\")","v":"○"},{"$f":"IF(D1736<>-1,IF(E1735<>A1736,\"ﾘﾝｸ不正\",\"○\"),\"○\")","v":"○"}]
[1733,98067,50,-1,-1,"RCP5W-RA10C-2.5-垂直",8,0.01,50,"○","○"]
[1734,98067,44,-1,-1,"RCP5W-RA10C-2.5-垂直",16,0.01,44,"○","○"]
[1735,98067,40,-1,-1,"RCP5W-RA10C-2.5-垂直",24,0.01,40,"○","○"]
[1736,98067,30,-1,-1,"RCP5W-RA10C-2.5-垂直",52,0.01,30,"○","○"]
[1737,98067,28,-1,-1,"RCP5W-RA10C-2.5-垂直",60,0.01,28,"○","○"]
[1738,98067,24,-1,-1,"RCP5W-RA10C-2.5-垂直",80,0.01,24,"○","○"]
[1739,98067,16,-1,-1,"RCP5W-RA10C-2.5-垂直",120,0.01,16,"○","○"]
[1740,{"$f":"H1743*$A$1*1000*1000","v":196133},{"$f":"I1743","v":100},-1,-1,"RCP5W-RA10C-5-水平",120,0.02,100,"○","○"]
[1741,{"$f":"H1744*$A$1*1000*1000","v":196133},{"$f":"I1744","v":100},-1,-1,"RCP5W-RA10C-5-垂直",2,0.02,100,"○","○"]
[1742,196133,84,-1,-1,"RCP5W-RA10C-5-垂直",5.5,0.02,84,"○","○"]
[1743,196133,80,-1,-1,"RCP5W-RA10C-5-垂直",7,0.02,80,"○","○"]
[1744,196133,72,-1,-1,"RCP5W-RA10C-5-垂直",10,0.02,72,"○","○"]
[1745,196133,61,-1,-1,"RCP5W-RA10C-5-垂直",16,0.02,61,"○","○"]
[1746,196133,56,-1,-1,"RCP5W-RA10C-5-垂直",20,0.02,56,"○","○"]
[1747,196133,54,-1,-1,"RCP5W-RA10C-5-垂直",21.5,0.02,54,"○","○"]
[1748,196133,52,-1,-1,"RCP5W-RA10C-5-垂直",23,0.02,52,"○","○"]
[1749,196133,48,-1,-1,"RCP5W-RA10C-5-垂直",28,0.02,48,"○","○"]
[1750,196133,46,-1,-1,"RCP5W-RA10C-5-垂直",29.5,0.02,46,"○","○"]
[1751,196133,44,-1,-1,"RCP5W-RA10C-5-垂直",32,0.02,44,"○","○"]
[1752,196133,36,-1,-1,"RCP5W-RA10C-5-垂直",44,0.02,36,"○","○"]
[1753,196133,32,-1,-1,"RCP5W-RA10C-5-垂直",52,0.02,32,"○","○"]
[1754,196133,20,-1,-1,"RCP5W-RA10C-5-垂直",72,0.02,20,"○","○"]
[1755,196133,16,-1,-1,"RCP5W-RA10C-5-垂直",80,0.02,16,"○","○"]
[1756,{"$f":"H1759*$A$1*1000*1000","v":392266},{"$f":"I1759","v":200},-1,-1,"RCP5W-RA10C-10-水平",12,0.04,200,"○","○"]
[1757,{"$f":"H1760*$A$1*1000*1000","v":392266},{"$f":"I1760","v":190},-1,-1,"RCP5W-RA10C-10-水平",16,0.04,190,"○","○"]
[1758,{"$f":"H1761*$A$1*1000*1000","v":392266},{"$f":"I1761","v":180},-1,-1,"RCP5W-RA10C-10-水平",30,0.04,180,"○","○"]
[1759,{"$f":"H1762*$A$1*1000*1000","v":392266},{"$f":"I1762","v":160},-1,-1,"RCP5W-RA10C-10-水平",64,0.04,160,"○","○"]
[1760,{"$f":"H1763*$A$1*1000*1000","v":392266},{"$f":"I1763","v":130},-1,-1,"RCP5W-RA10C-10-垂直",4.5,0.04,130,"○","○"]
[1761,392266,121,-1,-1,"RCP5W-RA10C-10-垂直",6,0.04,121,"○","○"]
[1762,392266,112,-1,-1,"RCP5W-RA10C-10-垂直",8,0.04,112,"○","○"]
[1763,392266,96,-1,-1,"RCP5W-RA10C-10-垂直",12,0.04,96,"○","○"]
[1764,392266,84,-1,-1,"RCP5W-RA10C-10-垂直",16,0.04,84,"○","○"]
[1765,392266,60,-1,-1,"RCP5W-RA10C-10-垂直",28,0.04,60,"○","○"]
[1766,392266,42,-1,-1,"RCP5W-RA10C-10-垂直",40,0.04,42,"○","○"]
[1767,392266,36,-1,-1,"RCP5W-RA10C-10-垂直",46,0.04,36,"○","○"]
[1768,392266,30,-1,-1,"RCP5W-RA10C-10-垂直",55,0.04,30,"○","○"]
[{"$f":"A1771+1","v":1769},{"$f":"H1772*$A$1*1000*1000","v":392266},{"$f":"I1772","v":27},-1,-1,"RCP5W-RA10C-10-垂直",64,0.04,27,"○","○"]
[1770,4903325,225,-1,{"$f":"A1774","v":1771},"RCP6-SA8C-5-水平",5,0.5,225,{"$f":"IF(G1773=0,IF(D1773<>A1772,\"ﾘﾝｸ不正\",\"○\"),\"○\")","v":"○"},{"$f":"IF(D1774<>-1,IF(E1773<>A1774,\"ﾘﾝｸ不正\",\"○\"),\"○\")","v":"○"}]
[1771,9806650,200,{"$f":"A1773","v":1770},-1,null,null,1,200,{"$f":"IF(G1774=0,IF(D1774<>A1773,\"ﾘﾝｸ不正\",\"○\"),\"○\")","v":"○"},{"$f":"IF(D1775<>-1,IF(E1774<>A1775,\"ﾘﾝｸ不正\",\"○\"),\"○\")","v":"○"}]
[1772,6864654.9999999991,200,-1,-1,"RCP6-SA8C-5-水平",10,0.7,200,"○","○"]
[1773,2941995,225,-1,{"$f":"A1777","v":1774},"RCP6-SA8C-5-水平",20,0.3,225,"○","○"]
[1774,4903325,200,{"$f":"A1776","v":1773},-1,null,null,0.5,200,"○","○"]
[1775,9806650,175,-1,-1,"RCP6-SA8C-5-水平",25,1,175,"○","○"]
[1776,6864654.9999999991,175,-1,-1,"RCP6-SA8C-5-水平",30,0.7,175,"○","○"]
[1777,4903325,175,-1,-1,"RCP6-SA8C-5-水平",40,0.5,175,"○","○"]
[1778,2941995,200,-1,-1,"RCP6-SA8C-5-水平",50,0.3,200,"○","○"]
[1779,2941995,175,-1,{"$f":"A1783","v":1780},"RCP6-SA8C-5-水平",70,0.3,175,"○","○"]
[1780,9806650,125,{"$f":"A1782","v":1779},-1,null,null,1,125,"○","○"]
[1781,980665,250,-1,{"$f":"A1785","v":1782},"RCP6-SA8C-5-水平",80,0.1,250,"○","○"]
[1782,4903325,125,{"$f":"A1784","v":1781},{"$f":"A1786","v":1783},null,null,0.5,125,"○","○"]
[{"$f":"A1785+1","v":1783},{"$f":"H1786*$A$1*1000*1000","v":9806650},{"$f":"I1786","v":100},{"$f":"A1785","v":1782},-1,null,null,1,100,"○","○"]
[1784,2941995,225,-1,-1,"RCP6-SA8C-5-垂直",1,0.3,225,"○","○"]
[1785,980665,250,-1,{"$f":"A1789","v":1786},"RCP6-SA8C-5-垂直",5,0.1,250,"○","○"]
[1786,4903325,200,{"$f":"A1788","v":1785},-1,null,null,0.5,200,"○","○"]
[1787,2941995,200,-1,-1,"RCP6-SA8C-5-垂直",6,0.3,200,"○","○"]
[1788,980665,225,-1,-1,"RCP6-SA8C-5-垂直",7,0.1,225,"○","○"]
[1789,980665,200,-1,{"$f":"A1793","v":1790},"RCP6-SA8C-5-垂直",10,0.1,200,"○","○"]
[1790,4903325,175,{"$f":"A1792","v":1789},-1,null,null,0.5,175,"○","○"]
[1791,2941995,175,-1,-1,"RCP6-SA8C-5-垂直",12,0.3,175,"○","○"]
[1792,980665,175,-1,-1,"RCP6-SA8C-5-垂直",14,0.1,175,"○","○"]
[1793,4903325,125,-1,-1,"RCP6-SA8C-5-垂直",18,0.5,125,"○","○"]
[1794,4903325,75,-1,-1,"RCP6-SA8C-5-垂直",30,0.5,75,"○","○"]
[{"$f":"A1797+1","v":1795},{"$f":"H1798*$A$1*1000*1000","v":4903325},{"$f":"I1798","v":50},-1,-1,"RCP6-SA8C-5-垂直",55,0.5,50,"○","○"]
[1796,4903325,500,-1,-1,"RCP6-SA8C-10-水平",2,0.5,500,"○","○"]
[1797,9806650,400,-1,-1,"RCP6-SA8C-10-水平",5,1,400,"○","○"]
[1798,6864654.9999999991,400,-1,-1,"RCP6-SA8C-10-水平",8,0.7,400,"○","○"]
[1799,2941995,500,-1,-1,"RCP6-SA8C-10-水平",10,0.3,500,"○","○"]
[1800,4903325,400,-1,-1,"RCP6-SA8C-10-水平",15,0.5,400,"○","○"]
[1801,9806650,300,-1,-1,"RCP6-SA8C-10-水平",20,1,300,"○","○"]
[1802,2941995,400,-1,{"$f":"A1806","v":1803},"RCP6-SA8C-10-水平",25,0.3,400,"○","○"]
[1803,6864654.9999999991,300,{"$f":"A1805","v":1802},-1,null,null,0.7,300,"○","○"]
[1804,4903325,300,-1,-1,"RCP6-SA8C-10-水平",30,0.5,300,"○","○"]
[1805,9806650,200,-1,-1,"RCP6-SA8C-10-水平",35,1,200,"○","○"]
[1806,6864654.9999999991,200,-1,-1,"RCP6-SA8C-10-水平",40,0.7,200,"○","○"]
[1807,4903325,200,-1,-1,"RCP6-SA8C-10-水平",50,0.5,200,"○","○"]
[1808,980665,500,-1,-1,"RCP6-SA8C-10-水平",55,0.1,500,"○","○"]
[1809,2941995,300,-1,-1,"RCP6-SA8C-10-水平",60,0.3,300,"○","○"]
[1810,2941995,200,-1,{"$f":"A1814","v":1811},"RCP6-SA8C-10-水平",65,0.3,200,"○","○"]
[1811,9806650,100,{"$f":"A1813","v":1810},-1,null,null,1,100,"○","○"]
[1812,980665,400,-1,{"$f":"A1816","v":1813},"RCP6-SA8C-10-水平",70,0.1,400,"○","○"]
[{"$f":"A1815+1","v":1813},{"$f":"H1816*$A$1*1000*1000","v":6864654.9999999991},{"$f":"I1816","v":100},{"$f":"A1815","v":1812},-1,null,null,0.7,100,"○","○"]
[1814,2941995,500,-1,-1,"RCP6-SA8C-10-垂直",1,0.3,500,"○","○"]
[1815,4903325,400,-1,-1,"RCP6-SA8C-10-垂直",2,0.5,400,"○","○"]
[1816,980665,500,-1,{"$f":"A1820","v":1817},"RCP6-SA8C-10-垂直",3,0.1,500,"○","○"]
[1817,2941995,400,{"$f":"A1819","v":1816},-1,null,null,0.3,400,"○","○"]
[1818,980665,400,-1,-1,"RCP6-SA8C-10-垂直",5,0.1,400,"○","○"]
[1819,4903325,300,-1,-1,"RCP6-SA8C-10-垂直",9,0.5,300,"○","○"]
[1820,980665,300,-1,-1,"RCP6-SA8C-10-垂直",10,0.1,300,"○","○"]
[1821,4903325,200,-1,-1,"RCP6-SA8C-10-垂直",20,0.5,200,"○","○"]
[{"$f":"A1824+1","v":1822},{"$f":"H1825*$A$1*1000*1000","v":4903325},{"$f":"I1825","v":100},-1,-1,"RCP6-SA8C-10-垂直",25,0.5,100,"○","○"]
[1823,6864654.9999999991,900,-1,-1,"RCP6-SA8C-20-水平",0.5,0.7,900,"○","○"]
[1824,4903325,1000,-1,{"$f":"A1828","v":1825},"RCP6-SA8C-20-水平",1,0.5,1000,"○","○"]
[1825,9806650,800,{"$f":"A1827","v":1824},-1,null,null,1,800,"○","○"]
[1826,6864654.9999999991,800,-1,-1,"RCP6-SA8C-20-水平",2,0.7,800,"○","○"]
[1827,4903325,900,-1,-1,"RCP6-SA8C-20-水平",3,0.5,900,"○","○"]
[1828,2941995,1000,-1,-1,"RCP6-SA8C-20-水平",4,0.3,1000,"○","○"]
[1829,4903325,800,-1,{"$f":"A1833","v":1830},"RCP6-SA8C-20-水平",6,0.5,800,"○","○"]
[1830,9806650,650,{"$f":"A1832","v":1829},-1,null,null,1,650,"○","○"]
[1831,2941995,900,-1,-1,"RCP6-SA8C-20-水平",7,0.3,900,"○","○"]
[1832,6864654.9999999991,650,-1,-1,"RCP6-SA8C-20-水平",8,0.7,650,"○","○"]
[1833,2941995,800,-1,-1,"RCP6-SA8C-20-水平",10,0.3,800,"○","○"]
[1834,4903325,650,-1,-1,"RCP6-SA8C-20-水平",15,0.5,650,"○","○"]
[1835,2941995,650,-1,{"$f":"A1839","v":1836},"RCP6-SA8C-20-水平",20,0.3,650,{"$f":"IF(G1838=0,IF(D1838<>A1837,\"ﾘﾝｸ不正\",\"○\"),\"○\")","v":"○"},{"$f":"IF(D1839<>-1,IF(E1838<>A1839,\"ﾘﾝｸ不正\",\"○\"),\"○\")","v":"○"}]
[1836,9806650,400,{"$f":"A1838","v":1835},-1,null,null,1,400,"○","○"]
[1837,6864654.9999999991,400,-1,{"$f":"A1841","v":1838},"RCP6-SA8C-20-水平",23,0.7,400,"○","○"]
[1838,9806650,300,{"$f":"A1840","v":1837},-1,null,null,1,300,"○","○"]
[1839,9806650,200,-1,-1,"RCP6-SA8C-20-水平",25,1,200,"○","○"]
[1840,4903325,400,-1,{"$f":"A1844","v":1841},"RCP6-SA8C-20-水平",30,0.5,400,"○","○"]
[1841,6864654.9999999991,300,{"$f":"A1843","v":1840},{"$f":"A1845","v":1842},null,null,0.7,300,"○","○"]
[1842,9806650,100,{"$f":"A1844","v":1841},-1,null,null,1,100,"○","○"]
[1843,9806650,50,-1,-1,"RCP6-SA8C-20-水平",32,1,50,"○","○"]
[1844,6864654.9999999991,200,-1,-1,"RCP6-SA8C-20-水平",33,0.7,200,"○","○"]
[{"$f":"A1847+1","v":1845},2941995,400,-1,-1,"RCP6-SA8C-20-水平",35,0.3,400,"○","○"]
[{"$f":"A1848+1","v":1846},4903325,300,-1,{"$f":"A1850","v":1847},"RCP6-SA8C-20-水平",40,0.5,300,"○","○"]
[1847,6864654.9999999991,50,{"$f":"A1849","v":1846},-1,null,null,0.7,50,"○","○"]
[1848,4903325,200,-1,-1,"RCP6-SA8C-20-水平",45,0.5,200,"○","○"]
[1849,980665,650,-1,-1,"RCP6-SA8C-20-水平",50,0.1,650,"○","○"]
[1850,2941995,300,-1,-1,"RCP6-SA8C-20-水平",51,0.3,300,"○","○"]
[{"$f":"A1853+1","v":1851},{"$f":"H1854*$A$1*1000*1000","v":980665},{"$f":"I1854","v":300},-1,-1,"RCP6-SA8C-20-水平",60,0.1,300,"○","○"]
[{"$f":"A1854+1","v":1852},{"$f":"H1855*$A$1*1000*1000","v":2941995},{"$f":"I1855","v":800},-1,-1,"RCP6-SA8C-20-垂直",0.5,0.3,800,"○","○"]
[{"$f":"A1855+1","v":1853},{"$f":"H1856*$A$1*1000*1000","v":980665},{"$f":"I1856","v":800},-1,-1,"RCP6-SA8C-20-垂直",1,0.1,800,"○","○"]
[{"$f":"A1856+1","v":1854},{"$f":"H1857*$A$1*1000*1000","v":4903325},{"$f":"I1857","v":650},-1,-1,"RCP6-SA8C-20-垂直",2,0.5,650,"○","○"]
[{"$f":"A1857+1","v":1855},{"$f":"H1858*$A$1*1000*1000","v":4903325},{"$f":"I1858","v":300},-1,-1,"RCP6-SA8C-20-垂直",4,0.5,300,"○","○"]
[1856,9806650,1200,-1,-1,"RCP6-SA8C-30-水平",0.5,1,1200,"○","○"]
[1857,6864654.9999999991,1200,-1,-1,"RCP6-SA8C-30-水平",1,0.7,1200,"○","○"]
[1858,4903325,1200,-1,{"$f":"A1862","v":1859},"RCP6-SA8C-30-水平",2,0.5,1200,"○","○"]
[1859,9806650,1000,{"$f":"A1861","v":1858},-1,null,null,1,1000,"○","○"]
[1860,6864654.9999999991,1000,-1,-1,"RCP6-SA8C-30-水平",3,0.7,1000,"○","○"]
[1861,2941995,1200,-1,-1,"RCP6-SA8C-30-水平",4,0.3,1200,"○","○"]
[1862,9806650,850,-1,-1,"RCP6-SA8C-30-水平",5,1,850,"○","○"]
[1863,4903325,1000,-1,-1,"RCP6-SA8C-30-水平",6,0.5,1000,"○","○"]
[1864,6864654.9999999991,850,-1,-1,"RCP6-SA8C-30-水平",7,0.7,850,"○","○"]
[1865,2941995,1000,-1,{"$f":"A1869","v":1866},"RCP6-SA8C-30-水平",8,0.3,1000,"○","○"]
[1866,9806650,650,{"$f":"A1868","v":1865},-1,null,null,1,650,"○","○"]
[1867,4903325,850,-1,-1,"RCP6-SA8C-30-水平",10,0.5,850,"○","○"]
[1868,9806650,400,-1,-1,"RCP6-SA8C-30-水平",11,1,400,"○","○"]
[1869,6864654.9999999991,650,-1,-1,"RCP6-SA8C-30-水平",12,0.7,650,"○","○"]
[1870,9806650,200,-1,-1,"RCP6-SA8C-30-水平",13,1,200,"○","○"]
[1871,2941995,850,-1,-1,"RCP6-SA8C-30-水平",14,0.3,850,"○","○"]
[1872,4903325,650,-1,{"$f":"A1876","v":1873},"RCP6-SA8C-30-水平",15,0.5,650,"○","○"]
[1873,6864654.9999999991,400,{"$f":"A1875","v":1872},-1,null,null,0.7,400,"○","○"]
[1874,6864654.9999999991,200,-1,-1,"RCP6-SA8C-30-水平",16,0.7,200,"○","○"]
[1875,2941995,650,-1,{"$f":"A1879","v":1876},"RCP6-SA8C-30-水平",18,0.3,650,"○","○"]
[1876,4903325,400,{"$f":"A1878","v":1875},-1,null,null,0.5,400,"○","○"]
[1877,4903325,200,-1,-1,"RCP6-SA8C-30-水平",20,0.5,200,"○","○"]
[1878,980665,650,-1,-1,"RCP6-SA8C-30-水平",21,0.1,650,"○","○"]
[1879,2941995,400,-1,-1,"RCP6-SA8C-30-水平",24,0.3,400,"○","○"]
[1880,2941995,200,-1,-1,"RCP6-SA8C-30-水平",26,0.3,200,"○","○"]
[{"$f":"A1883+1","v":1881},{"$f":"H1884*$A$1*1000*1000","v":980665},{"$f":"I1884","v":400},-1,-1,"RCP6-SA8C-30-水平",28,0.1,400,"○","○"]
[{"$f":"A1884+1","v":1882},{"$f":"H1885*$A$1*1000*1000","v":4903325},{"$f":"I1885","v":850},-1,-1,"RCP6-SA8C-30-垂直",1,0.5,850,"○","○"]
[{"$f":"A1885+1","v":1883},{"$f":"H1886*$A$1*1000*1000","v":2941995},{"$f":"I1886","v":400},-1,-1,"RCP6-SA8C-30-垂直",1.5,0.3,400,"○","○"]
[{"$f":"A1886+1","v":1884},{"$f":"H1887*$A$1*1000*1000","v":4903325},{"$f":"I1887","v":200},-1,-1,"RCP6-SA8C-30-垂直",2,0.5,200,"○","○"]
[{"$f":"A1887+1","v":1885},{"$f":"H1888*$A$1*1000*1000","v":4903325},{"$f":"I1888","v":100},-1,-1,"RCP6-SA8C-30-垂直",3,0.5,100,"○","○"]
[1886,9806650,200,-1,-1,"RCP6-SA8R-5-水平",2,1,200,"○","○"]
[1887,6864654.9999999991,200,-1,-1,"RCP6-SA8R-5-水平",4,0.7,200,"○","○"]
[1888,2941995,225,-1,-1,"RCP6-SA8R-5-水平",10,0.3,225,"○","○"]
[1889,4903325,200,-1,-1,"RCP6-SA8R-5-水平",14,0.5,200,"○","○"]
[1890,9806650,175,-1,-1,"RCP6-SA8R-5-水平",25,1,175,"○","○"]
[1891,6864654.9999999991,175,-1,-1,"RCP6-SA8R-5-水平",30,0.7,175,"○","○"]
[1892,4903325,175,-1,-1,"RCP6-SA8R-5-水平",35,0.5,175,"○","○"]
[1893,2941995,200,-1,-1,"RCP6-SA8R-5-水平",40,0.3,200,"○","○"]
[1894,980665,250,-1,-1,"RCP6-SA8R-5-水平",65,0.1,250,"○","○"]
[1895,2941995,175,-1,{"$f":"A1899","v":1896},"RCP6-SA8R-5-水平",70,0.3,175,"○","○"]
[1896,9806650,125,{"$f":"A1898","v":1895},-1,null,null,1,125,"○","○"]
[1897,980665,225,-1,{"$f":"A1901","v":1898},"RCP6-SA8R-5-水平",80,0.1,225,"○","○"]
[1898,4903325,125,{"$f":"A1900","v":1897},{"$f":"A1902","v":1899},null,null,0.5,125,"○","○"]
[{"$f":"A1901+1","v":1899},{"$f":"H1902*$A$1*1000*1000","v":9806650},{"$f":"I1902","v":100},{"$f":"A1901","v":1898},-1,null,null,1,100,{"$f":"IF(G1902=0,IF(D1902<>A1901,\"ﾘﾝｸ不正\",\"○\"),\"○\")","v":"○"},{"$f":"IF(D1903<>-1,IF(E1902<>A1903,\"ﾘﾝｸ不正\",\"○\"),\"○\")","v":"○"}]
[1900,2941995,225,-1,-1,"RCP6-SA8R-5-垂直",0.5,0.3,225,"○","○"]
[1901,980665,250,-1,{"$f":"A1905","v":1902},"RCP6-SA8R-5-垂直",2,0.1,250,"○","○"]
[1902,4903325,200,{"$f":"A1904","v":1901},-1,null,null,0.5,200,"○","○"]
[1903,2941995,200,-1,-1,"RCP6-SA8R-5-垂直",3,0.3,200,"○","○"]
[1904,980665,225,-1,-1,"RCP6-SA8R-5-垂直",5,0.1,225,"○","○"]
[1905,980665,200,-1,-1,"RCP6-SA8R-5-垂直",8,0.1,200,"○","○"]
[1906,4903325,175,-1,-1,"RCP6-SA8R-5-垂直",10,0.5,175,"○","○"]
[1907,2941995,175,-1,-1,"RCP6-SA8R-5-垂直",11,0.3,175,"○","○"]
[1908,980665,175,-1,-1,"RCP6-SA8R-5-垂直",14,0.1,175,"○","○"]
[1909,4903325,125,-1,-1,"RCP6-SA8R-5-垂直",18,0.5,125,"○","○"]
[1910,4903325,75,-1,-1,"RCP6-SA8R-5-垂直",30,0.5,75,"○","○"]
[{"$f":"A1913+1","v":1911},{"$f":"H1914*$A$1*1000*1000","v":4903325},{"$f":"I1914","v":50},-1,-1,"RCP6-SA8R-5-垂直",55,0.5,50,"○","○"]
[1912,9806650,400,-1,-1,"RCP6-SA8R-10-水平",1,1,400,"○","○"]
[1913,4903325,450,-1,-1,"RCP6-SA8R-10-水平",2,0.5,450,"○","○"]
[1914,2941995,500,-1,{"$f":"A1918","v":1915},"RCP6-SA8R-10-水平",4,0.3,500,"○","○"]
[1915,6864654.9999999991,400,{"$f":"A1917","v":1914},-1,null,null,0.7,400,"○","○"]
[1916,4903325,400,-1,-1,"RCP6-SA8R-10-水平",9,0.5,400,"○","○"]
[1917,2941995,450,-1,-1,"RCP6-SA8R-10-水平",11,0.3,450,"○","○"]
[1918,2941995,400,-1,-1,"RCP6-SA8R-10-水平",15,0.3,400,"○","○"]
[1919,9806650,300,-1,-1,"RCP6-SA8R-10-水平",20,1,300,"○","○"]
[1920,980665,500,-1,-1,"RCP6-SA8R-10-水平",25,0.1,500,"○","○"]
[1921,4903325,300,-1,-1,"RCP6-SA8R-10-水平",30,0.5,300,"○","○"]
[1922,9806650,200,-1,-1,"RCP6-SA8R-10-水平",35,1,200,"○","○"]
[1923,6864654.9999999991,200,-1,-1,"RCP6-SA8R-10-水平",40,0.7,200,"○","○"]
[1924,980665,450,-1,{"$f":"A1928","v":1925},"RCP6-SA8R-10-水平",45,0.1,450,"○","○"]
[1925,2941995,300,{"$f":"A1927","v":1924},-1,null,null,0.3,300,"○","○"]
[1926,4903325,200,-1,-1,"RCP6-SA8R-10-水平",50,0.5,200,"○","○"]
[1927,2941995,200,-1,-1,"RCP6-SA8R-10-水平",60,0.3,200,"○","○"]
[1928,980665,400,-1,{"$f":"A1932","v":1929},"RCP6-SA8R-10-水平",65,0.1,400,"○","○"]
[1929,9806650,100,{"$f":"A1931","v":1928},-1,null,null,1,100,"○","○"]
[1930,980665,300,-1,{"$f":"A1934","v":1931},"RCP6-SA8R-10-水平",70,0.1,300,"○","○"]
[{"$f":"A1933+1","v":1931},{"$f":"H1934*$A$1*1000*1000","v":6864654.9999999991},{"$f":"I1934","v":100},{"$f":"A1933","v":1930},-1,null,null,0.7,100,"○","○"]
[1932,2941995,450,-1,-1,"RCP6-SA8R-10-垂直",0.5,0.3,450,"○","○"]
[1933,980665,450,-1,{"$f":"A1937","v":1934},"RCP6-SA8R-10-垂直",1,0.1,450,"○","○"]
[1934,4903325,400,{"$f":"A1936","v":1933},-1,null,null,0.5,400,"○","○"]
[1935,2941995,400,-1,-1,"RCP6-SA8R-10-垂直",2,0.3,400,"○","○"]
[1936,980665,400,-1,-1,"RCP6-SA8R-10-垂直",3,0.1,400,"○","○"]
[1937,{"$f":"H1940*$A$1*1000*1000","v":4903325},300,-1,-1,"RCP6-SA8R-10-垂直",7,0.5,300,"○","○"]
[1938,4903325,200,-1,-1,"RCP6-SA8R-10-垂直",14,0.5,200,"○","○"]
[{"$f":"A1941+1","v":1939},4903325,{"$f":"I1942","v":100},-1,-1,"RCP6-SA8R-10-垂直",25,0.5,100,"○","○"]
[1940,9806650,800,-1,-1,"RCP6-SA8R-20-水平",0.5,1,800,"○","○"]
[1941,4903325,900,-1,{"$f":"A1945","v":1942},"RCP6-SA8R-20-水平",1,0.5,900,"○","○"]
[1942,6864654.9999999991,800,{"$f":"A1944","v":1941},-1,null,null,0.7,800,"○","○"]
[1943,4903325,800,-1,{"$f":"A1947","v":1944},"RCP6-SA8R-20-水平",3,0.5,800,"○","○"]
[1944,9806650,650,{"$f":"A1946","v":1943},-1,null,null,1,650,"○","○"]
[1945,2941995,1000,-1,{"$f":"A1949","v":1946},"RCP6-SA8R-20-水平",4,0.3,1000,"○","○"]
[1946,6864654.9999999991,650,{"$f":"A1948","v":1945},-1,null,null,0.7,650,"○","○"]
[1947,2941995,900,-1,-1,"RCP6-SA8R-20-水平",7,0.3,900,"○","○"]
[1948,4903325,650,-1,-1,"RCP6-SA8R-20-水平",9,0.5,650,"○","○"]
[1949,2941995,800,-1,-1,"RCP6-SA8R-20-水平",10,0.3,800,"○","○"]
[1950,9806650,400,-1,-1,"RCP6-SA8R-20-水平",12,1,400,"○","○"]
[1951,9806650,300,-1,-1,"RCP6-SA8R-20-水平",16,1,300,"○","○"]
[1952,6864654.9999999991,400,-1,-1,"RCP6-SA8R-20-水平",18,0.7,400,"○","○"]
[1953,2941995,650,-1,-1,"RCP6-SA8R-20-水平",20,0.3,650,"○","○"]
[1954,4903325,400,-1,-1,"RCP6-SA8R-20-水平",22,0.5,400,"○","○"]
[1955,6864654.9999999991,300,-1,-1,"RCP6-SA8R-20-水平",24,0.7,300,"○","○"]
[1956,9806650,200,-1,-1,"RCP6-SA8R-20-水平",25,1,200,"○","○"]
[1957,9806650,100,-1,-1,"RCP6-SA8R-20-水平",30,1,100,"○","○"]
[1958,6864654.9999999991,200,-1,-1,"RCP6-SA8R-20-水平",33,0.7,200,"○","○"]
[1959,2941995,400,-1,{"$f":"A1963","v":1960},"RCP6-SA8R-20-水平",35,0.3,400,"○","○"]
[1960,4903325,300,{"$f":"A1962","v":1959},-1,null,null,0.5,300,"○","○"]
[1961,980665,650,-1,-1,"RCP6-SA8R-20-水平",40,0.1,650,"○","○"]
[1962,980665,400,-1,-1,"RCP6-SA8R-20-水平",45,0.1,400,"○","○"]
[1963,2941995,300,-1,-1,"RCP6-SA8R-20-水平",51,0.3,300,{"$f":"IF(G1966=0,IF(D1966<>A1965,\"ﾘﾝｸ不正\",\"○\"),\"○\")","v":"○"},{"$f":"IF(D1967<>-1,IF(E1966<>A1967,\"ﾘﾝｸ不正\",\"○\"),\"○\")","v":"○"}]
[{"$f":"A1966+1","v":1964},{"$f":"H1967*$A$1*1000*1000","v":980665},{"$f":"I1967","v":300},-1,-1,"RCP6-SA8R-20-水平",55,0.1,300,"○","○"]
[{"$f":"A1967+1","v":1965},{"$f":"H1968*$A$1*1000*1000","v":2941995},{"$f":"I1968","v":800},-1,-1,"RCP6-SA8R-20-垂直",0.5,0.3,800,"○","○"]
[{"$f":"A1968+1","v":1966},{"$f":"H1969*$A$1*1000*1000","v":980665},{"$f":"I1969","v":800},-1,-1,"RCP6-SA8R-20-垂直",1,0.1,800,"○","○"]
[{"$f":"A1969+1","v":1967},{"$f":"H1970*$A$1*1000*1000","v":4903325},{"$f":"I1970","v":650},-1,-1,"RCP6-SA8R-20-垂直",2,0.5,650,"○","○"]
[{"$f":"A1970+1","v":1968},{"$f":"H1971*$A$1*1000*1000","v":4903325},{"$f":"I1971","v":300},-1,-1,"RCP6-SA8R-20-垂直",4,0.5,300,"○","○"]
[1969,2941995,1200,-1,{"$f":"A1973","v":1970},"RCP6-SA8R-30-水平",1,0.3,1200,"○","○"]
[1970,9806650,1000,{"$f":"A1972","v":1969},-1,null,null,1,1000,"○","○"]
[1971,6864654.9999999991,1000,-1,{"$f":"A1975","v":1972},"RCP6-SA8R-30-水平",2,0.7,1000,"○","○"]
[1972,9806650,850,{"$f":"A1974","v":1971},-1,null,null,1,850,"○","○"]
[1973,4903325,1000,-1,-1,"RCP6-SA8R-30-水平",3,0.5,1000,"○","○"]
[1974,6864654.9999999991,850,-1,-1,"RCP6-SA8R-30-水平",4,0.7,850,"○","○"]
[1975,2941995,1000,-1,-1,"RCP6-SA8R-30-水平",5,0.3,1000,"○","○"]
[1976,4903325,850,-1,-1,"RCP6-SA8R-30-水平",6,0.5,850,"○","○"]
[1977,9806650,650,-1,-1,"RCP6-SA8R-30-水平",8,1,650,"○","○"]
[1978,2941995,850,-1,{"$f":"A1982","v":1979},"RCP6-SA8R-30-水平",9,0.3,850,"○","○"]
[1979,6864654.9999999991,650,{"$f":"A1981","v":1978},-1,null,null,0.7,650,"○","○"]
[1980,4903325,650,-1,-1,"RCP6-SA8R-30-水平",10,0.5,650,"○","○"]
[1981,9806650,400,-1,-1,"RCP6-SA8R-30-水平",11,1,400,"○","○"]
[1982,6864654.9999999991,400,-1,-1,"RCP6-SA8R-30-水平",12,0.7,400,"○","○"]
[1983,4903325,400,-1,{"$f":"A1987","v":1984},"RCP6-SA8R-30-水平",13,0.5,400,"○","○"]
[1984,9806650,200,{"$f":"A1986","v":1983},-1,null,null,1,200,"○","○"]
[1985,2941995,650,-1,-1,"RCP6-SA8R-30-水平",14,0.3,650,"○","○"]
[1986,6864654.9999999991,200,-1,-1,"RCP6-SA8R-30-水平",15,0.7,200,"○","○"]
[1987,4903325,200,-1,-1,"RCP6-SA8R-30-水平",16,0.5,200,"○","○"]
[1988,4903325,100,-1,-1,"RCP6-SA8R-30-水平",18,0.5,100,"○","○"]
[1989,2941995,400,-1,-1,"RCP6-SA8R-30-水平",20,0.3,400,"○","○"]
[1990,980665,650,-1,-1,"RCP6-SA8R-30-水平",21,0.1,650,"○","○"]
[1991,980665,400,-1,{"$f":"A1995","v":1992},"RCP6-SA8R-30-水平",24,0.1,400,"○","○"]
[1992,2941995,200,{"$f":"A1994","v":1991},-1,null,null,0.3,200,"○","○"]
[{"$f":"A1995+1","v":1993},{"$f":"H1996*$A$1*1000*1000","v":980665},{"$f":"I1996","v":200},-1,-1,"RCP6-SA8R-30-水平",26,0.1,200,"○","○"]
[{"$f":"A1996+1","v":1994},{"$f":"H1997*$A$1*1000*1000","v":4903325},{"$f":"I1997","v":850},-1,-1,"RCP6-SA8R-30-垂直",1,0.5,850,"○","○"]
[{"$f":"A1997+1","v":1995},{"$f":"H1998*$A$1*1000*1000","v":2941995},{"$f":"I1998","v":400},-1,-1,"RCP6-SA8R-30-垂直",1.5,0.3,400,"○","○"]
[{"$f":"A1998+1","v":1996},{"$f":"H1999*$A$1*1000*1000","v":4903325},{"$f":"I1999","v":200},-1,-1,"RCP6-SA8R-30-垂直",2,0.5,200,"○","○"]
[{"$f":"A1999+1","v":1997},{"$f":"H2000*$A$1*1000*1000","v":4903325},{"$f":"I2000","v":100},-1,-1,"RCP6-SA8R-30-垂直",3,0.5,100,"○","○"]
[1998,2941995,170,-1,-1,"RCP6-WSA16C-5-水平",2,0.3,170,"○","○"]
[1999,9806650,160,-1,-1,"RCP6-WSA16C-5-水平",12,1,160,"○","○"]
[2000,6864654.9999999991,160,-1,-1,"RCP6-WSA16C-5-水平",16,0.7,160,"○","○"]
[2001,4903325,160,-1,-1,"RCP6-WSA16C-5-水平",18,0.5,160,"○","○"]
[2002,9806650,145,-1,-1,"RCP6-WSA16C-5-水平",30,1,145,"○","○"]
[2003,2941995,160,-1,{"$f":"A2007","v":2004},"RCP6-WSA16C-5-水平",35,0.3,160,"○","○"]
[2004,6864654.9999999991,145,{"$f":"A2006","v":2003},-1,null,null,0.7,145,"○","○"]
[2005,4903325,145,-1,-1,"RCP6-WSA16C-5-水平",45,0.5,145,"○","○"]
[2006,980665,195,-1,-1,"RCP6-WSA16C-5-水平",50,0.1,195,"○","○"]
[2007,2941995,145,-1,{"$f":"A2011","v":2008},"RCP6-WSA16C-5-水平",70,0.3,145,"○","○"]
[2008,9806650,120,{"$f":"A2010","v":2007},-1,null,null,1,120,"○","○"]
[2009,9806650,95,-1,-1,"RCP6-WSA16C-5-水平",80,1,95,"○","○"]
[2010,980665,170,-1,{"$f":"A2014","v":2011},"RCP6-WSA16C-5-水平",90,0.1,170,"○","○"]
[2011,2941995,120,{"$f":"A2013","v":2010},{"$f":"A2015","v":2012},null,null,0.3,120,"○","○"]
[2012,4903325,95,{"$f":"A2014","v":2011},{"$f":"A2016","v":2013},null,null,0.5,95,"○","○"]
[2013,9806650,60,{"$f":"A2015","v":2012},-1,null,null,1,60,"○","○"]
[{"$f":"A2016+1","v":2014},{"$f":"H2017*$A$1*1000*1000","v":980665},{"$f":"I2017","v":145},-1,-1,"RCP6-WSA16C-5-水平",100,0.1,145,"○","○"]
[2015,2941995,{"$f":"I2018","v":160},-1,-1,"RCP6-WSA16C-5-垂直",2,0.3,160,"○","○"]
[2016,980665,170,-1,-1,"RCP6-WSA16C-5-垂直",4,0.1,170,"○","○"]
[2017,980665,160,-1,{"$f":"A2021","v":2018},"RCP6-WSA16C-5-垂直",7,0.1,160,"○","○"]
[2018,4903325,145,{"$f":"A2020","v":2017},-1,null,null,0.5,145,"○","○"]
[2019,980665,145,-1,-1,"RCP6-WSA16C-5-垂直",11,0.1,145,"○","○"]
[2020,4903325,120,-1,-1,"RCP6-WSA16C-5-垂直",19,0.5,120,"○","○"]
[2021,4903325,95,-1,-1,"RCP6-WSA16C-5-垂直",30,0.5,95,"○","○"]
[{"$f":"A2024+1","v":2022},{"$f":"H2025*$A$1*1000*1000","v":4903325},{"$f":"I2025","v":60},-1,-1,"RCP6-WSA16C-5-垂直",50,0.5,60,"○","○"]
[2023,4903325,330,-1,-1,"RCP6-WSA16C-10-水平",2,0.5,330,"○","○"]
[2024,2941995,330,-1,-1,"RCP6-WSA16C-10-水平",14,0.3,330,"○","○"]
[2025,9806650,270,-1,-1,"RCP6-WSA16C-10-水平",20,1,270,"○","○"]
[2026,980665,450,-1,-1,"RCP6-WSA16C-10-水平",22,0.1,450,"○","○"]
[2027,6864654.9999999991,270,-1,-1,"RCP6-WSA16C-10-水平",24,0.7,270,{"$f":"IF(G2030=0,IF(D2030<>A2029,\"ﾘﾝｸ不正\",\"○\"),\"○\")","v":"○"},{"$f":"IF(D2031<>-1,IF(E2030<>A2031,\"ﾘﾝｸ不正\",\"○\"),\"○\")","v":"○"}]
[2028,4903325,270,-1,{"$f":"A2032","v":2029},"RCP6-WSA16C-10-水平",30,0.5,270,"○","○"]
[2029,9806650,240,{"$f":"A2031","v":2028},-1,null,null,1,240,"○","○"]
[2030,6864654.9999999991,240,-1,-1,"RCP6-WSA16C-10-水平",35,0.7,240,"○","○"]
[2031,980665,405,-1,{"$f":"A2035","v":2032},"RCP6-WSA16C-10-水平",40,0.1,405,"○","○"]
[2032,2941995,270,{"$f":"A2034","v":2031},{"$f":"A2036","v":2033},null,null,0.3,270,"○","○"]
[2033,9806650,210,{"$f":"A2035","v":2032},-1,null,null,1,210,"○","○"]
[2034,9806650,160,-1,-1,"RCP6-WSA16C-10-水平",45,1,160,"○","○"]
[2035,4903325,240,-1,{"$f":"A2039","v":2036},"RCP6-WSA16C-10-水平",50,0.5,240,"○","○"]
[2036,6864654.9999999991,210,{"$f":"A2038","v":2035},-1,null,null,0.7,210,"○","○"]
[2037,2941995,240,-1,{"$f":"A2041","v":2038},"RCP6-WSA16C-10-水平",55,0.3,240,"○","○"]
[2038,4903325,210,{"$f":"A2040","v":2037},-1,null,null,0.5,210,"○","○"]
[2039,9806650,80,-1,-1,"RCP6-WSA16C-10-水平",60,1,80,"○","○"]
[2040,980665,365,-1,{"$f":"A2044","v":2041},"RCP6-WSA16C-10-水平",70,0.1,365,"○","○"]
[{"$f":"A2043+1","v":2041},{"$f":"H2044*$A$1*1000*1000","v":2941995},{"$f":"I2044","v":210},{"$f":"A2043","v":2040},-1,null,null,0.3,210,"○","○"]
[{"$f":"A2044+1","v":2042},{"$f":"H2045*$A$1*1000*1000","v":980665},{"$f":"I2045","v":240},-1,-1,"RCP6-WSA16C-10-垂直",2,0.1,240,"○","○"]
[{"$f":"A2045+1","v":2043},{"$f":"H2046*$A$1*1000*1000","v":4903325},{"$f":"I2046","v":210},-1,-1,"RCP6-WSA16C-10-垂直",4,0.5,210,"○","○"]
[{"$f":"A2046+1","v":2044},{"$f":"H2047*$A$1*1000*1000","v":980665},{"$f":"I2047","v":210},-1,-1,"RCP6-WSA16C-10-垂直",5,0.1,210,"○","○"]
[{"$f":"A2047+1","v":2045},{"$f":"H2048*$A$1*1000*1000","v":4903325},{"$f":"I2048","v":160},-1,-1,"RCP6-WSA16C-10-垂直",15,0.5,160,"○","○"]
[2046,6864654.9999999991,480,-1,-1,"RCP6-WSA16C-20-水平",2,0.7,480,"○","○"]
[2047,2941995,550,-1,{"$f":"A2051","v":2048},"RCP6-WSA16C-20-水平",4,0.3,550,"○","○"]
[2048,4903325,480,{"$f":"A2050","v":2047},-1,null,null,0.5,480,"○","○"]
[2049,9806650,365,-1,-1,"RCP6-WSA16C-20-水平",12,1,365,"○","○"]
[2050,2941995,480,-1,-1,"RCP6-WSA16C-20-水平",14,0.3,480,"○","○"]
[2051,9806650,240,-1,-1,"RCP6-WSA16C-20-水平",16,1,240,"○","○"]
[2052,980665,720,-1,-1,"RCP6-WSA16C-20-水平",18,0.1,720,"○","○"]
[2053,6864654.9999999991,365,-1,{"$f":"A2057","v":2054},"RCP6-WSA16C-20-水平",20,0.7,365,"○","○"]
[2054,9806650,120,{"$f":"A2056","v":2053},-1,null,null,1,120,"○","○"]
[2055,6864654.9999999991,240,-1,-1,"RCP6-WSA16C-20-水平",24,0.7,240,"○","○"]
[2056,4903325,365,-1,-1,"RCP6-WSA16C-20-水平",28,0.5,365,"○","○"]
[2057,980665,600,-1,-1,"RCP6-WSA16C-20-水平",30,0.1,600,"○","○"]
[2058,2941995,365,-1,-1,"RCP6-WSA16C-20-水平",35,0.3,365,"○","○"]
[2059,980665,550,-1,-1,"RCP6-WSA16C-20-水平",40,0.1,550,"○","○"]
[{"$f":"A2062+1","v":2060},{"$f":"H2063*$A$1*1000*1000","v":980665},{"$f":"I2063","v":365},-1,-1,"RCP6-WSA16C-20-水平",50,0.1,365,"○","○"]
[2061,980665,170,-1,-1,"RCP6-WSA16R-5-水平",8,0.1,170,"○","○"]
[2062,980665,160,-1,-1,"RCP6-WSA16R-5-水平",35,0.1,160,"○","○"]
[2063,9806650,120,-1,-1,"RCP6-WSA16R-5-水平",45,1,120,"○","○"]
[2064,6864654.9999999991,120,-1,-1,"RCP6-WSA16R-5-水平",50,0.7,120,"○","○"]
[2065,4903325,120,-1,-1,"RCP6-WSA16R-5-水平",65,0.5,120,"○","○"]
[2066,980665,145,-1,{"$f":"A2070","v":2067},"RCP6-WSA16R-5-水平",80,0.1,145,"○","○"]
[2067,9806650,95,{"$f":"A2069","v":2066},-1,null,null,1,95,"○","○"]
[2068,2941995,120,-1,{"$f":"A2072","v":2069},"RCP6-WSA16R-5-水平",90,0.3,120,"○","○"]
[2069,4903325,95,{"$f":"A2071","v":2068},{"$f":"A2073","v":2070},null,null,0.5,95,"○","○"]
[2070,9806650,60,{"$f":"A2072","v":2069},-1,null,null,1,60,"○","○"]
[{"$f":"A2073+1","v":2071},{"$f":"H2074*$A$1*1000*1000","v":980665},{"$f":"I2074","v":120},-1,-1,"RCP6-WSA16R-5-水平",100,0.1,120,"○","○"]
[{"$f":"A2074+1","v":2072},{"$f":"H2075*$A$1*1000*1000","v":980665},{"$f":"I2075","v":145},-1,-1,"RCP6-WSA16R-5-垂直",1,0.1,145,"○","○"]
[{"$f":"A2075+1","v":2073},{"$f":"H2076*$A$1*1000*1000","v":4903325},{"$f":"I2076","v":120},-1,-1,"RCP6-WSA16R-5-垂直",7,0.5,120,"○","○"]
[{"$f":"A2076+1","v":2074},{"$f":"H2077*$A$1*1000*1000","v":4903325},{"$f":"I2077","v":95},-1,-1,"RCP6-WSA16R-5-垂直",27,0.5,95,"○","○"]
[{"$f":"A2077+1","v":2075},{"$f":"H2078*$A$1*1000*1000","v":4903325},{"$f":"I2078","v":60},-1,-1,"RCP6-WSA16R-5-垂直",45,0.5,60,"○","○"]
[2076,6864654.9999999991,270,-1,-1,"RCP6-WSA16R-10-水平",4,0.7,270,"○","○"]
[2077,4903325,270,-1,-1,"RCP6-WSA16R-10-水平",6,0.5,270,"○","○"]
[2078,9806650,240,-1,-1,"RCP6-WSA16R-10-水平",10,1,240,"○","○"]
[2079,980665,365,-1,{"$f":"A2083","v":2080},"RCP6-WSA16R-10-水平",12,0.1,365,"○","○"]
[2080,2941995,270,{"$f":"A2082","v":2079},-1,null,null,0.3,270,"○","○"]
[2081,6864654.9999999991,240,-1,-1,"RCP6-WSA16R-10-水平",14,0.7,240,"○","○"]
[2082,4903325,240,-1,-1,"RCP6-WSA16R-10-水平",22,0.5,240,"○","○"]
[2083,9806650,210,-1,-1,"RCP6-WSA16R-10-水平",28,1,210,"○","○"]
[2084,2941995,240,-1,{"$f":"A2088","v":2085},"RCP6-WSA16R-10-水平",30,0.3,240,"○","○"]
[2085,6864654.9999999991,210,{"$f":"A2087","v":2084},-1,null,null,0.7,210,"○","○"]
[2086,980665,330,-1,-1,"RCP6-WSA16R-10-水平",35,0.1,330,"○","○"]
[2087,4903325,210,-1,{"$f":"A2091","v":2088},"RCP6-WSA16R-10-水平",45,0.5,210,"○","○"]
[2088,9806650,160,{"$f":"A2090","v":2087},-1,null,null,1,160,"○","○"]
[2089,4903325,160,-1,-1,"RCP6-WSA16R-10-水平",55,0.5,160,"○","○"]
[2090,9806650,80,-1,-1,"RCP6-WSA16R-10-水平",60,1,80,"○","○"]
[2091,2941995,210,-1,-1,"RCP6-WSA16R-10-水平",65,0.3,210,{"$f":"IF(G2094=0,IF(D2094<>A2093,\"ﾘﾝｸ不正\",\"○\"),\"○\")","v":"○"},{"$f":"IF(D2095<>-1,IF(E2094<>A2095,\"ﾘﾝｸ不正\",\"○\"),\"○\")","v":"○"}]
[2092,980665,270,-1,{"$f":"A2096","v":2093},"RCP6-WSA16R-10-水平",70,0.1,270,"○","○"]
[{"$f":"A2095+1","v":2093},{"$f":"H2096*$A$1*1000*1000","v":2941995},{"$f":"I2096","v":160},{"$f":"A2095","v":2092},-1,null,null,0.3,160,"○","○"]
[{"$f":"A2096+1","v":2094},{"$f":"H2097*$A$1*1000*1000","v":4903325},{"$f":"I2097","v":210},-1,-1,"RCP6-WSA16R-10-垂直",1,0.5,210,"○","○"]
[{"$f":"A2097+1","v":2095},{"$f":"H2098*$A$1*1000*1000","v":2941995},{"$f":"I2098","v":210},-1,-1,"RCP6-WSA16R-10-垂直",2,0.3,210,"○","○"]
[{"$f":"A2098+1","v":2096},{"$f":"H2099*$A$1*1000*1000","v":4903325},{"$f":"I2099","v":160},-1,-1,"RCP6-WSA16R-10-垂直",10,0.5,160,"○","○"]
[{"$f":"A2099+1","v":2097},{"$f":"H2100*$A$1*1000*1000","v":4903325},{"$f":"I2100","v":80},-1,-1,"RCP6-WSA16R-10-垂直",15,0.5,80,"○","○"]
[2098,980665,600,-1,-1,"RCP6-WSA16R-20-水平",2,0.1,600,"○","○"]
[2099,2941995,480,-1,{"$f":"A2103","v":2100},"RCP6-WSA16R-20-水平",6,0.3,480,"○","○"]
[2100,9806650,365,{"$f":"A2102","v":2099},-1,null,null,1,365,"○","○"]
[2101,6864654.9999999991,365,-1,-1,"RCP6-WSA16R-20-水平",12,0.7,365,"○","○"]
[2102,980665,550,-1,-1,"RCP6-WSA16R-20-水平",14,0.1,550,"○","○"]
[2103,9806650,240,-1,-1,"RCP6-WSA16R-20-水平",16,1,240,"○","○"]
[2104,4903325,365,-1,-1,"RCP6-WSA16R-20-水平",18,0.5,365,"○","○"]
[2105,6864654.9999999991,240,-1,{"$f":"A2109","v":2106},"RCP6-WSA16R-20-水平",20,0.7,240,"○","○"]
[2106,9806650,120,{"$f":"A2108","v":2105},-1,null,null,1,120,"○","○"]
[2107,6864654.9999999991,120,-1,-1,"RCP6-WSA16R-20-水平",24,0.7,120,"○","○"]
[2108,2941995,365,-1,{"$f":"A2112","v":2109},"RCP6-WSA16R-20-水平",28,0.3,365,"○","○"]
[2109,4903325,240,{"$f":"A2111","v":2108},-1,null,null,0.5,240,"○","○"]
[2110,980665,480,-1,{"$f":"A2114","v":2111},"RCP6-WSA16R-20-水平",30,0.1,480,"○","○"]
[{"$f":"A2113+1","v":2111},{"$f":"H2114*$A$1*1000*1000","v":2941995},{"$f":"I2114","v":240},{"$f":"A2113","v":2110},-1,null,null,0.3,240,"○","○"]
[{"$f":"A2114+1","v":2112},{"$f":"H2115*$A$1*1000*1000","v":980665},{"$f":"I2115","v":150},-1,-1,"RCP6-RA8C-5-水平",60,0.1,150,"○","○"]
[{"$f":"A2115+1","v":2113},{"$f":"H2116*$A$1*1000*1000","v":980665},{"$f":"I2116","v":140},-1,-1,"RCP6-RA8C-5-水平",75,0.1,140,"○","○"]
[{"$f":"A2116+1","v":2114},{"$f":"H2117*$A$1*1000*1000","v":980665},{"$f":"I2117","v":130},-1,-1,"RCP6-RA8C-5-水平",90,0.1,130,"○","○"]
[{"$f":"A2117+1","v":2115},{"$f":"H2118*$A$1*1000*1000","v":980665},{"$f":"I2118","v":120},-1,-1,"RCP6-RA8C-5-水平",100,0.1,120,"○","○"]
[2116,980665,150,-1,-1,"RCP6-RA8C-5-垂直",2,0.1,150,"○","○"]
[2117,980665,120,-1,-1,"RCP6-RA8C-5-垂直",10,0.1,120,"○","○"]
[2118,980665,100,-1,-1,"RCP6-RA8C-5-垂直",15,0.1,100,"○","○"]
[2119,980665,90,-1,-1,"RCP6-RA8C-5-垂直",20,0.1,90,"○","○"]
[2120,980665,80,-1,-1,"RCP6-RA8C-5-垂直",25,0.1,80,"○","○"]
[2121,980665,70,-1,-1,"RCP6-RA8C-5-垂直",35,0.1,70,"○","○"]
[2122,980665,60,-1,-1,"RCP6-RA8C-5-垂直",50,0.1,60,"○","○"]
[{"$f":"A2125+1","v":2123},{"$f":"H2126*$A$1*1000*1000","v":980665},{"$f":"I2126","v":48},-1,-1,"RCP6-RA8C-5-垂直",70,0.1,48,"○","○"]
[{"$f":"A2126+1","v":2124},{"$f":"H2127*$A$1*1000*1000","v":1961330},{"$f":"I2127","v":300},-1,-1,"RCP6-RA8C-10-水平",10,0.2,300,"○","○"]
[{"$f":"A2127+1","v":2125},{"$f":"H2128*$A$1*1000*1000","v":1961330},{"$f":"I2128","v":240},-1,-1,"RCP6-RA8C-10-水平",40,0.2,240,"○","○"]
[{"$f":"A2128+1","v":2126},{"$f":"H2129*$A$1*1000*1000","v":1961330},{"$f":"I2129","v":200},-1,-1,"RCP6-RA8C-10-水平",45,0.2,200,"○","○"]
[{"$f":"A2129+1","v":2127},{"$f":"H2130*$A$1*1000*1000","v":1961330},{"$f":"I2130","v":150},-1,-1,"RCP6-RA8C-10-水平",60,0.2,150,"○","○"]
[2128,1961330,250,-1,-1,"RCP6-RA8C-10-垂直",2,0.2,250,"○","○"]
[2129,1961330,220,-1,-1,"RCP6-RA8C-10-垂直",3,0.2,220,"○","○"]
[2130,1961330,200,-1,-1,"RCP6-RA8C-10-垂直",4,0.2,200,"○","○"]
[2131,1961330,190,-1,-1,"RCP6-RA8C-10-垂直",5,0.2,190,"○","○"]
[2132,1961330,180,-1,-1,"RCP6-RA8C-10-垂直",7,0.2,180,"○","○"]
[2133,1961330,170,-1,-1,"RCP6-RA8C-10-垂直",8,0.2,170,"○","○"]
[2134,1961330,160,-1,-1,"RCP6-RA8C-10-垂直",10,0.2,160,"○","○"]
[2135,1961330,150,-1,-1,"RCP6-RA8C-10-垂直",11,0.2,150,"○","○"]
[2136,1961330,140,-1,-1,"RCP6-RA8C-10-垂直",15,0.2,140,"○","○"]
[2137,1961330,130,-1,-1,"RCP6-RA8C-10-垂直",18,0.2,130,"○","○"]
[2138,1961330,120,-1,-1,"RCP6-RA8C-10-垂直",23,0.2,120,"○","○"]
[2139,1961330,110,-1,-1,"RCP6-RA8C-10-垂直",28,0.2,110,"○","○"]
[2140,1961330,100,-1,-1,"RCP6-RA8C-10-垂直",33,0.2,100,"○","○"]
[{"$f":"A2143+1","v":2141},{"$f":"H2144*$A$1*1000*1000","v":1961330},{"$f":"I2144","v":88},-1,-1,"RCP6-RA8C-10-垂直",40,0.2,88,"○","○"]
[2142,1961330,600,-1,-1,"RCP6-RA8C-20-水平",5,0.2,600,"○","○"]
[2143,1961330,540,-1,-1,"RCP6-RA8C-20-水平",6,0.2,540,"○","○"]
[2144,1961330,510,-1,-1,"RCP6-RA8C-20-水平",8,0.2,510,"○","○"]
[2145,1961330,480,-1,-1,"RCP6-RA8C-20-水平",10,0.2,480,"○","○"]
[2146,1961330,450,-1,-1,"RCP6-RA8C-20-水平",12,0.2,450,"○","○"]
[2147,1961330,420,-1,-1,"RCP6-RA8C-20-水平",16,0.2,420,"○","○"]
[2148,1961330,360,-1,-1,"RCP6-RA8C-20-水平",24,0.2,360,"○","○"]
[{"$f":"A2151+1","v":2149},{"$f":"H2152*$A$1*1000*1000","v":1961330},{"$f":"I2152","v":300},-1,-1,"RCP6-RA8C-20-水平",30,0.2,300,"○","○"]
[2150,1961330,450,-1,-1,"RCP6-RA8C-20-垂直",2,0.2,450,"○","○"]
[2151,1961330,420,-1,-1,"RCP6-RA8C-20-垂直",2.5,0.2,420,"○","○"]
[2152,1961330,400,-1,-1,"RCP6-RA8C-20-垂直",3,0.2,400,"○","○"]
[2153,1961330,360,-1,-1,"RCP6-RA8C-20-垂直",5,0.2,360,"○","○"]
[2154,980665,100,-1,-1,"RCP6-RA8R-5-水平",75,0.1,100,"○","○"]
[{"$f":"A2157+1","v":2155},{"$f":"H2158*$A$1*1000*1000","v":980665},{"$f":"I2158","v":90},-1,-1,"RCP6-RA8R-5-水平",100,0.1,90,{"$f":"IF(G2158=0,IF(D2158<>A2157,\"ﾘﾝｸ不正\",\"○\"),\"○\")","v":"○"},{"$f":"IF(D2159<>-1,IF(E2158<>A2159,\"ﾘﾝｸ不正\",\"○\"),\"○\")","v":"○"}]
[2156,980665,100,-1,-1,"RCP6-RA8R-5-垂直",10,0.1,100,"○","○"]
[2157,980665,90,-1,-1,"RCP6-RA8R-5-垂直",16,0.1,90,"○","○"]
[2158,980665,80,-1,-1,"RCP6-RA8R-5-垂直",25,0.1,80,"○","○"]
[2159,980665,70,-1,-1,"RCP6-RA8R-5-垂直",35,0.1,70,"○","○"]
[2160,980665,60,-1,-1,"RCP6-RA8R-5-垂直",45,0.1,60,"○","○"]
[{"$f":"A2163+1","v":2161},{"$f":"H2164*$A$1*1000*1000","v":980665},{"$f":"I2164","v":45},-1,-1,"RCP6-RA8R-5-垂直",70,0.1,45,"○","○"]
[{"$f":"A2164+1","v":2162},{"$f":"H2165*$A$1*1000*1000","v":1961330},{"$f":"I2165","v":200},-1,-1,"RCP6-RA8R-10-水平",12,0.2,200,"○","○"]
[{"$f":"A2165+1","v":2163},{"$f":"H2166*$A$1*1000*1000","v":1961330},{"$f":"I2166","v":190},-1,-1,"RCP6-RA8R-10-水平",15,0.2,190,"○","○"]
[{"$f":"A2166+1","v":2164},{"$f":"H2167*$A$1*1000*1000","v":1961330},{"$f":"I2167","v":180},-1,-1,"RCP6-RA8R-10-水平",25,0.2,180,"○","○"]
[{"$f":"A2167+1","v":2165},{"$f":"H2168*$A$1*1000*1000","v":1961330},{"$f":"I2168","v":170},-1,-1,"RCP6-RA8R-10-水平",40,0.2,170,"○","○"]
[{"$f":"A2168+1","v":2166},{"$f":"H2169*$A$1*1000*1000","v":1961330},{"$f":"I2169","v":160},-1,-1,"RCP6-RA8R-10-水平",60,0.2,160,"○","○"]
[2167,1961330,200,-1,-1,"RCP6-RA8R-10-垂直",2,0.2,200,"○","○"]
[2168,1961330,190,-1,-1,"RCP6-RA8R-10-垂直",3,0.2,190,"○","○"]
[2169,1961330,180,-1,-1,"RCP6-RA8R-10-垂直",4,0.2,180,"○","○"]
[2170,1961330,170,-1,-1,"RCP6-RA8R-10-垂直",6,0.2,170,"○","○"]
[2171,1961330,160,-1,-1,"RCP6-RA8R-10-垂直",8,0.2,160,"○","○"]
[2172,1961330,150,-1,-1,"RCP6-RA8R-10-垂直",10,0.2,150,"○","○"]
[2173,1961330,140,-1,-1,"RCP6-RA8R-10-垂直",12,0.2,140,"○","○"]
[2174,1961330,130,-1,-1,"RCP6-RA8R-10-垂直",15,0.2,130,"○","○"]
[2175,1961330,120,-1,-1,"RCP6-RA8R-10-垂直",18,0.2,120,"○","○"]
[2176,1961330,110,-1,-1,"RCP6-RA8R-10-垂直",23,0.2,110,"○","○"]
[2177,1961330,100,-1,-1,"RCP6-RA8R-10-垂直",28,0.2,100,"○","○"]
[2178,1961330,90,-1,-1,"RCP6-RA8R-10-垂直",34,0.2,90,"○","○"]
[{"$f":"A2181+1","v":2179},{"$f":"H2182*$A$1*1000*1000","v":1961330},{"$f":"I2182","v":80},-1,-1,"RCP6-RA8R-10-垂直",40,0.2,80,"○","○"]
[2180,1961330,400,-1,-1,"RCP6-RA8R-20-水平",6,0.2,400,"○","○"]
[2181,1961330,350,-1,-1,"RCP6-RA8R-20-水平",14,0.2,350,"○","○"]
[2182,1961330,300,-1,-1,"RCP6-RA8R-20-水平",30,0.2,300,"○","○"]
[2183,1961330,400,-1,-1,"RCP6-RA8R-20-垂直",0.5,0.2,400,"○","○"]
[2184,1961330,360,-1,-1,"RCP6-RA8R-20-垂直",2,0.2,360,"○","○"]
[2185,1961330,330,-1,-1,"RCP6-RA8R-20-垂直",3.5,0.2,330,"○","○"]
[2186,1961330,300,-1,-1,"RCP6-RA8R-20-垂直",5,0.2,300,"○","○"]
[2187,980665,150,-1,-1,"RCP6-RRA8C-5-水平",60,0.1,150,"○","○"]
[2188,980665,140,-1,-1,"RCP6-RRA8C-5-水平",75,0.1,140,"○","○"]
[2189,980665,130,-1,-1,"RCP6-RRA8C-5-水平",90,0.1,130,"○","○"]
[{"$f":"A2192+1","v":2190},{"$f":"H2193*$A$1*1000*1000","v":980665},{"$f":"I2193","v":120},-1,-1,"RCP6-RRA8C-5-水平",100,0.1,120,"○","○"]
[2191,980665,150,-1,-1,"RCP6-RRA8C-5-垂直",2,0.1,150,"○","○"]
[2192,980665,120,-1,-1,"RCP6-RRA8C-5-垂直",10,0.1,120,"○","○"]
[2193,980665,100,-1,-1,"RCP6-RRA8C-5-垂直",15,0.1,100,"○","○"]
[2194,980665,90,-1,-1,"RCP6-RRA8C-5-垂直",20,0.1,90,"○","○"]
[2195,980665,80,-1,-1,"RCP6-RRA8C-5-垂直",25,0.1,80,"○","○"]
[2196,980665,70,-1,-1,"RCP6-RRA8C-5-垂直",35,0.1,70,"○","○"]
[2197,980665,60,-1,-1,"RCP6-RRA8C-5-垂直",50,0.1,60,"○","○"]
[{"$f":"A2200+1","v":2198},{"$f":"H2201*$A$1*1000*1000","v":980665},{"$f":"I2201","v":48},-1,-1,"RCP6-RRA8C-5-垂直",70,0.1,48,"○","○"]
[{"$f":"A2201+1","v":2199},{"$f":"H2202*$A$1*1000*1000","v":1961330},{"$f":"I2202","v":300},-1,-1,"RCP6-RRA8C-10-水平",10,0.2,300,"○","○"]
[{"$f":"A2202+1","v":2200},{"$f":"H2203*$A$1*1000*1000","v":1961330},{"$f":"I2203","v":240},-1,-1,"RCP6-RRA8C-10-水平",40,0.2,240,"○","○"]
[{"$f":"A2203+1","v":2201},{"$f":"H2204*$A$1*1000*1000","v":1961330},{"$f":"I2204","v":200},-1,-1,"RCP6-RRA8C-10-水平",45,0.2,200,"○","○"]
[{"$f":"A2204+1","v":2202},{"$f":"H2205*$A$1*1000*1000","v":1961330},{"$f":"I2205","v":150},-1,-1,"RCP6-RRA8C-10-水平",60,0.2,150,"○","○"]
[2203,1961330,250,-1,-1,"RCP6-RRA8C-10-垂直",2,0.2,250,"○","○"]
[2204,1961330,220,-1,-1,"RCP6-RRA8C-10-垂直",3,0.2,220,"○","○"]
[2205,1961330,200,-1,-1,"RCP6-RRA8C-10-垂直",4,0.2,200,"○","○"]
[2206,1961330,190,-1,-1,"RCP6-RRA8C-10-垂直",5,0.2,190,"○","○"]
[2207,1961330,180,-1,-1,"RCP6-RRA8C-10-垂直",7,0.2,180,"○","○"]
[2208,1961330,170,-1,-1,"RCP6-RRA8C-10-垂直",8,0.2,170,"○","○"]
[2209,1961330,160,-1,-1,"RCP6-RRA8C-10-垂直",10,0.2,160,"○","○"]
[2210,1961330,150,-1,-1,"RCP6-RRA8C-10-垂直",11,0.2,150,"○","○"]
[2211,1961330,140,-1,-1,"RCP6-RRA8C-10-垂直",15,0.2,140,"○","○"]
[2212,1961330,130,-1,-1,"RCP6-RRA8C-10-垂直",18,0.2,130,"○","○"]
[2213,1961330,120,-1,-1,"RCP6-RRA8C-10-垂直",23,0.2,120,"○","○"]
[2214,1961330,110,-1,-1,"RCP6-RRA8C-10-垂直",28,0.2,110,"○","○"]
[2215,1961330,100,-1,-1,"RCP6-RRA8C-10-垂直",33,0.2,100,"○","○"]
[{"$f":"A2218+1","v":2216},{"$f":"H2219*$A$1*1000*1000","v":1961330},{"$f":"I2219","v":88},-1,-1,"RCP6-RRA8C-10-垂直",40,0.2,88,"○","○"]
[2217,1961330,600,-1,-1,"RCP6-RRA8C-20-水平",5,0.2,600,"○","○"]
[2218,1961330,540,-1,-1,"RCP6-RRA8C-20-水平",6,0.2,540,"○","○"]
[2219,1961330,510,-1,-1,"RCP6-RRA8C-20-水平",8,0.2,510,{"$f":"IF(G2222=0,IF(D2222<>A2221,\"ﾘﾝｸ不正\",\"○\"),\"○\")","v":"○"},{"$f":"IF(D2223<>-1,IF(E2222<>A2223,\"ﾘﾝｸ不正\",\"○\"),\"○\")","v":"○"}]
[2220,1961330,480,-1,-1,"RCP6-RRA8C-20-水平",10,0.2,480,"○","○"]
[2221,1961330,450,-1,-1,"RCP6-RRA8C-20-水平",12,0.2,450,"○","○"]
[2222,1961330,420,-1,-1,"RCP6-RRA8C-20-水平",16,0.2,420,"○","○"]
[2223,1961330,360,-1,-1,"RCP6-RRA8C-20-水平",24,0.2,360,"○","○"]
[{"$f":"A2226+1","v":2224},{"$f":"H2227*$A$1*1000*1000","v":1961330},{"$f":"I2227","v":300},-1,-1,"RCP6-RRA8C-20-水平",30,0.2,300,"○","○"]
[2225,1961330,450,-1,-1,"RCP6-RRA8C-20-垂直",2,0.2,450,"○","○"]
[2226,1961330,420,-1,-1,"RCP6-RRA8C-20-垂直",2.5,0.2,420,"○","○"]
[2227,1961330,400,-1,-1,"RCP6-RRA8C-20-垂直",3,0.2,400,"○","○"]
[2228,1961330,360,-1,-1,"RCP6-RRA8C-20-垂直",5,0.2,360,"○","○"]
[2229,980665,100,-1,-1,"RCP6-RRA8R-5-水平",75,0.1,100,"○","○"]
[{"$f":"A2232+1","v":2230},{"$f":"H2233*$A$1*1000*1000","v":980665},{"$f":"I2233","v":90},-1,-1,"RCP6-RRA8R-5-水平",100,0.1,90,"○","○"]
[2231,980665,100,-1,-1,"RCP6-RRA8R-5-垂直",10,0.1,100,"○","○"]
[2232,980665,90,-1,-1,"RCP6-RRA8R-5-垂直",16,0.1,90,"○","○"]
[2233,980665,80,-1,-1,"RCP6-RRA8R-5-垂直",25,0.1,80,"○","○"]
[2234,980665,70,-1,-1,"RCP6-RRA8R-5-垂直",35,0.1,70,"○","○"]
[2235,980665,60,-1,-1,"RCP6-RRA8R-5-垂直",45,0.1,60,"○","○"]
[{"$f":"A2238+1","v":2236},{"$f":"H2239*$A$1*1000*1000","v":980665},{"$f":"I2239","v":45},-1,-1,"RCP6-RRA8R-5-垂直",70,0.1,45,"○","○"]
[{"$f":"A2239+1","v":2237},{"$f":"H2240*$A$1*1000*1000","v":1961330},{"$f":"I2240","v":200},-1,-1,"RCP6-RRA8R-10-水平",12,0.2,200,"○","○"]
[{"$f":"A2240+1","v":2238},{"$f":"H2241*$A$1*1000*1000","v":1961330},{"$f":"I2241","v":190},-1,-1,"RCP6-RRA8R-10-水平",15,0.2,190,"○","○"]
[{"$f":"A2241+1","v":2239},{"$f":"H2242*$A$1*1000*1000","v":1961330},{"$f":"I2242","v":180},-1,-1,"RCP6-RRA8R-10-水平",25,0.2,180,"○","○"]
[{"$f":"A2242+1","v":2240},{"$f":"H2243*$A$1*1000*1000","v":1961330},{"$f":"I2243","v":170},-1,-1,"RCP6-RRA8R-10-水平",40,0.2,170,"○","○"]
[{"$f":"A2243+1","v":2241},{"$f":"H2244*$A$1*1000*1000","v":1961330},{"$f":"I2244","v":160},-1,-1,"RCP6-RRA8R-10-水平",60,0.2,160,"○","○"]
[2242,1961330,200,-1,-1,"RCP6-RRA8R-10-垂直",2,0.2,200,"○","○"]
[2243,1961330,190,-1,-1,"RCP6-RRA8R-10-垂直",3,0.2,190,"○","○"]
[2244,1961330,180,-1,-1,"RCP6-RRA8R-10-垂直",4,0.2,180,"○","○"]
[2245,1961330,170,-1,-1,"RCP6-RRA8R-10-垂直",6,0.2,170,"○","○"]
[2246,1961330,160,-1,-1,"RCP6-RRA8R-10-垂直",8,0.2,160,"○","○"]
[2247,1961330,150,-1,-1,"RCP6-RRA8R-10-垂直",10,0.2,150,"○","○"]
[2248,1961330,140,-1,-1,"RCP6-RRA8R-10-垂直",12,0.2,140,"○","○"]
[2249,1961330,130,-1,-1,"RCP6-RRA8R-10-垂直",15,0.2,130,"○","○"]
[2250,1961330,120,-1,-1,"RCP6-RRA8R-10-垂直",18,0.2,120,"○","○"]
[2251,1961330,110,-1,-1,"RCP6-RRA8R-10-垂直",23,0.2,110,"○","○"]
[2252,1961330,100,-1,-1,"RCP6-RRA8R-10-垂直",28,0.2,100,"○","○"]
[2253,1961330,90,-1,-1,"RCP6-RRA8R-10-垂直",34,0.2,90,"○","○"]
[{"$f":"A2256+1","v":2254},{"$f":"H2257*$A$1*1000*1000","v":1961330},{"$f":"I2257","v":80},-1,-1,"RCP6-RRA8R-10-垂直",40,0.2,80,"○","○"]
[2255,1961330,400,-1,-1,"RCP6-RRA8R-20-水平",6,0.2,400,"○","○"]
[2256,1961330,350,-1,-1,"RCP6-RRA8R-20-水平",14,0.2,350,"○","○"]
[2257,1961330,300,-1,-1,"RCP6-RRA8R-20-水平",30,0.2,300,"○","○"]
[2258,1961330,400,-1,-1,"RCP6-RRA8R-20-垂直",0.5,0.2,400,"○","○"]
[2259,1961330,360,-1,-1,"RCP6-RRA8R-20-垂直",2,0.2,360,"○","○"]
[2260,1961330,330,-1,-1,"RCP6-RRA8R-20-垂直",3.5,0.2,330,"○","○"]
[2261,1961330,300,-1,-1,"RCP6-RRA8R-20-垂直",5,0.2,300,"○","○"]
[2262,980665,130,-1,-1,"RCP6-WRA16C-5-水平",24,0.1,130,"○","○"]
[2263,980665,120,-1,-1,"RCP6-WRA16C-5-水平",58,0.1,120,"○","○"]
[{"$f":"A2266+1","v":2264},{"$f":"H2267*$A$1*1000*1000","v":980665},{"$f":"I2267","v":90},-1,-1,"RCP6-WRA16C-5-水平",100,0.1,90,"○","○"]
[2265,980665,100,-1,-1,"RCP6-WRA16C-5-垂直",13,0.1,100,"○","○"]
[2266,980665,90,-1,-1,"RCP6-WRA16C-5-垂直",20,0.1,90,"○","○"]
[2267,980665,80,-1,-1,"RCP6-WRA16C-5-垂直",25,0.1,80,"○","○"]
[2268,980665,70,-1,-1,"RCP6-WRA16C-5-垂直",35,0.1,70,"○","○"]
[2269,980665,60,-1,-1,"RCP6-WRA16C-5-垂直",50,0.1,60,"○","○"]
[{"$f":"A2272+1","v":2270},{"$f":"H2273*$A$1*1000*1000","v":980665},{"$f":"I2273","v":48},-1,-1,"RCP6-WRA16C-5-垂直",70,0.1,48,"○","○"]
[{"$f":"A2273+1","v":2271},{"$f":"H2274*$A$1*1000*1000","v":1961330},{"$f":"I2274","v":240},-1,-1,"RCP6-WRA16C-10-水平",36,0.2,240,"○","○"]
[{"$f":"A2274+1","v":2272},{"$f":"H2275*$A$1*1000*1000","v":1961330},{"$f":"I2275","v":200},-1,-1,"RCP6-WRA16C-10-水平",45,0.2,200,"○","○"]
[{"$f":"A2275+1","v":2273},{"$f":"H2276*$A$1*1000*1000","v":1961330},{"$f":"I2276","v":150},-1,-1,"RCP6-WRA16C-10-水平",60,0.2,150,"○","○"]
[2274,1961330,200,-1,-1,"RCP6-WRA16C-10-垂直",0.5,0.2,200,"○","○"]
[2275,1961330,190,-1,-1,"RCP6-WRA16C-10-垂直",2.5,0.2,190,"○","○"]
[2276,1961330,180,-1,-1,"RCP6-WRA16C-10-垂直",4.5,0.2,180,"○","○"]
[2277,1961330,170,-1,-1,"RCP6-WRA16C-10-垂直",5.5,0.2,170,"○","○"]
[2278,1961330,160,-1,-1,"RCP6-WRA16C-10-垂直",9.5,0.2,160,"○","○"]
[2279,1961330,150,-1,-1,"RCP6-WRA16C-10-垂直",11,0.2,150,"○","○"]
[2280,1961330,140,-1,-1,"RCP6-WRA16C-10-垂直",14.5,0.2,140,"○","○"]
[2281,1961330,130,-1,-1,"RCP6-WRA16C-10-垂直",16.5,0.2,130,"○","○"]
[2282,1961330,120,-1,-1,"RCP6-WRA16C-10-垂直",19.5,0.2,120,"○","○"]
[2283,1961330,110,-1,-1,"RCP6-WRA16C-10-垂直",24.5,0.2,110,{"$f":"IF(G2286=0,IF(D2286<>A2285,\"ﾘﾝｸ不正\",\"○\"),\"○\")","v":"○"},{"$f":"IF(D2287<>-1,IF(E2286<>A2287,\"ﾘﾝｸ不正\",\"○\"),\"○\")","v":"○"}]
[2284,1961330,100,-1,-1,"RCP6-WRA16C-10-垂直",29.5,0.2,100,"○","○"]
[{"$f":"A2287+1","v":2285},{"$f":"H2288*$A$1*1000*1000","v":1961330},{"$f":"I2288","v":88},-1,-1,"RCP6-WRA16C-10-垂直",36.5,0.2,88,"○","○"]
[2286,1961330,450,-1,-1,"RCP6-WRA16C-20-水平",5,0.2,450,"○","○"]
[2287,1961330,420,-1,-1,"RCP6-WRA16C-20-水平",14,0.2,420,"○","○"]
[2288,1961330,360,-1,-1,"RCP6-WRA16C-20-水平",24,0.2,360,"○","○"]
[2289,1961330,300,-1,-1,"RCP6-WRA16C-20-水平",30,0.2,300,"○","○"]
[2290,980665,120,-1,-1,"RCP6-WRA16R-5-水平",58,0.1,120,"○","○"]
[{"$f":"A2293+1","v":2291},{"$f":"H2294*$A$1*1000*1000","v":980665},{"$f":"I2294","v":90},-1,-1,"RCP6-WRA16R-5-水平",100,0.1,90,"○","○"]
[2292,980665,100,-1,-1,"RCP6-WRA16R-5-垂直",2,0.1,100,"○","○"]
[2293,980665,90,-1,-1,"RCP6-WRA16R-5-垂直",9,0.1,90,"○","○"]
[2294,980665,80,-1,-1,"RCP6-WRA16R-5-垂直",18,0.1,80,"○","○"]
[2295,980665,70,-1,-1,"RCP6-WRA16R-5-垂直",28,0.1,70,"○","○"]
[2296,980665,60,-1,-1,"RCP6-WRA16R-5-垂直",33,0.1,60,"○","○"]
[{"$f":"A2299+1","v":2297},{"$f":"H2300*$A$1*1000*1000","v":980665},{"$f":"I2300","v":48},-1,-1,"RCP6-WRA16R-5-垂直",63,0.1,48,"○","○"]
[{"$f":"A2300+1","v":2298},{"$f":"H2301*$A$1*1000*1000","v":1961330},{"$f":"I2301","v":240},-1,-1,"RCP6-WRA16R-10-水平",18,0.2,240,"○","○"]
[{"$f":"A2301+1","v":2299},{"$f":"H2302*$A$1*1000*1000","v":1961330},{"$f":"I2302","v":200},-1,-1,"RCP6-WRA16R-10-水平",45,0.2,200,"○","○"]
[{"$f":"A2302+1","v":2300},{"$f":"H2303*$A$1*1000*1000","v":1961330},{"$f":"I2303","v":150},-1,-1,"RCP6-WRA16R-10-水平",60,0.2,150,"○","○"]
[2301,1961330,180,-1,-1,"RCP6-WRA16R-10-垂直",2.5,0.2,180,"○","○"]
[2302,1961330,170,-1,-1,"RCP6-WRA16R-10-垂直",4.5,0.2,170,"○","○"]
[2303,1961330,160,-1,-1,"RCP6-WRA16R-10-垂直",5.5,0.2,160,"○","○"]
[2304,1961330,150,-1,-1,"RCP6-WRA16R-10-垂直",7.5,0.2,150,"○","○"]
[2305,1961330,140,-1,-1,"RCP6-WRA16R-10-垂直",11.5,0.2,140,"○","○"]
[2306,1961330,130,-1,-1,"RCP6-WRA16R-10-垂直",14.5,0.2,130,"○","○"]
[2307,1961330,120,-1,-1,"RCP6-WRA16R-10-垂直",16.5,0.2,120,"○","○"]
[2308,1961330,110,-1,-1,"RCP6-WRA16R-10-垂直",19.5,0.2,110,"○","○"]
[2309,1961330,100,-1,-1,"RCP6-WRA16R-10-垂直",24.5,0.2,100,"○","○"]
[{"$f":"A2312+1","v":2310},{"$f":"H2313*$A$1*1000*1000","v":1961330},{"$f":"I2313","v":88},-1,-1,"RCP6-WRA16R-10-垂直",34.5,0.2,88,"○","○"]
[{"$f":"A2313+1","v":2311},{"$f":"H2314*$A$1*1000*1000","v":1961330},{"$f":"I2314","v":420},-1,-1,"RCP6-WRA16R-20-水平",10.5,0.2,420,"○","○"]
[{"$f":"A2314+1","v":2312},{"$f":"H2315*$A$1*1000*1000","v":1961330},{"$f":"I2315","v":360},-1,-1,"RCP6-WRA16R-20-水平",19,0.2,360,"○","○"]
[{"$f":"A2315+1","v":2313},{"$f":"H2316*$A$1*1000*1000","v":1961330},{"$f":"I2316","v":300},-1,-1,"RCP6-WRA16R-20-水平",30,0.2,300,{"$f":"IF(G2316=0,IF(D2316<>A2315,\"ﾘﾝｸ不正\",\"○\"),\"○\")","v":"○"},{"$f":"IF(D2317<>-1,IF(E2316<>A2317,\"ﾘﾝｸ不正\",\"○\"),\"○\")","v":"○"}]
[{"$f":"A2316+1","v":2314},{"$f":"H2317*$A$1*1000*1000","v":6864654.9999999991},{"$f":"I2317","v":130},-1,-1,"RCP6-SA4C-2.5-水平",8,0.7,130,{"$f":"IF(G2317=0,IF(D2317<>A2316,\"ﾘﾝｸ不正\",\"○\"),\"○\")","v":"○"},{"$f":"IF(D2318<>-1,IF(E2317<>A2318,\"ﾘﾝｸ不正\",\"○\"),\"○\")","v":"○"}]
[2315,6864654.9999999991,105,-1,-1,"RCP6-SA4C-2.5-水平",9,0.7,105,"○","○"]
[2316,2941995,130,-1,{"$f":"A2320","v":2317},"RCP6-SA4C-2.5-水平",10,0.3,130,"○","○"]
[2317,6864654.9999999991,85,{"$f":"A2319","v":2316},-1,null,null,0.7,85,"○","○"]
[2318,2941995,85,-1,{"$f":"A2322","v":2319},"RCP6-SA4C-2.5-水平",11,0.3,85,"○","○"]
[2319,6864654.9999999991,65,{"$f":"A2321","v":2318},-1,null,null,0.7,65,"○","○"]
[2320,2941995,65,-1,{"$f":"A2324","v":2321},"RCP6-SA4C-2.5-水平",12,0.3,65,"○","○"]
[2321,6864654.9999999991,40,{"$f":"A2323","v":2320},-1,null,null,0.7,40,"○","○"]
[2322,2941995,130,-1,-1,"RCP6-SA4C-2.5-垂直",5,0.3,130,"○","○"]
[2323,2941995,105,-1,-1,"RCP6-SA4C-2.5-垂直",8,0.3,105,"○","○"]
[2324,2941995,40,-1,-1,"RCP6-SA4C-2.5-垂直",9,0.3,40,"○","○"]
[2325,6864654.9999999991,260,-1,-1,"RCP6-SA4C-5-水平",6,0.7,260,"○","○"]
[2326,6864654.9999999991,215,-1,-1,"RCP6-SA4C-5-水平",7,0.7,215,"○","○"]
[2327,2941995,260,-1,{"$f":"A2331","v":2328},"RCP6-SA4C-5-水平",8,0.3,260,"○","○"]
[2328,6864654.9999999991,175,{"$f":"A2330","v":2327},-1,null,null,0.7,175,"○","○"]
[2329,2941995,215,-1,{"$f":"A2333","v":2330},"RCP6-SA4C-5-水平",9,0.3,215,"○","○"]
[2330,6864654.9999999991,130,{"$f":"A2332","v":2329},-1,null,null,0.7,130,"○","○"]
[2331,2941995,175,-1,{"$f":"A2335","v":2332},"RCP6-SA4C-5-水平",10,0.3,175,"○","○"]
[2332,6864654.9999999991,85,{"$f":"A2334","v":2331},-1,null,null,0.7,85,"○","○"]
[2333,2941995,85,-1,-1,"RCP6-SA4C-5-水平",12,0.3,85,"○","○"]
[2334,2941995,260,-1,-1,"RCP6-SA4C-5-垂直",2.5,0.3,260,"○","○"]
[2335,2941995,215,-1,-1,"RCP6-SA4C-5-垂直",4,0.3,215,"○","○"]
[2336,2941995,85,-1,-1,"RCP6-SA4C-5-垂直",4.5,0.3,85,"○","○"]
[2337,6864654.9999999991,525,-1,-1,"RCP6-SA4C-10-水平",3,0.7,525,"○","○"]
[2338,6864654.9999999991,435,-1,-1,"RCP6-SA4C-10-水平",4,0.7,435,"○","○"]
[2339,2941995,525,-1,{"$f":"A2343","v":2340},"RCP6-SA4C-10-水平",5,0.3,525,"○","○"]
[2340,6864654.9999999991,350,{"$f":"A2342","v":2339},-1,null,null,0.7,350,"○","○"]
[2341,2941995,435,-1,{"$f":"A2345","v":2342},"RCP6-SA4C-10-水平",6,0.3,435,"○","○"]
[2342,6864654.9999999991,260,{"$f":"A2344","v":2341},-1,null,null,0.7,260,"○","○"]
[2343,2941995,350,-1,-1,"RCP6-SA4C-10-水平",7,0.3,350,"○","○"]
[2344,6864654.9999999991,175,-1,-1,"RCP6-SA4C-10-水平",8,0.7,175,"○","○"]
[2345,2941995,260,-1,-1,"RCP6-SA4C-10-水平",9,0.3,260,"○","○"]
[2346,2941995,175,-1,-1,"RCP6-SA4C-10-水平",10,0.3,175,"○","○"]
[2347,2941995,525,-1,-1,"RCP6-SA4C-10-垂直",1,0.3,525,"○","○"]
[2348,2941995,435,-1,-1,"RCP6-SA4C-10-垂直",1.5,0.3,435,"○","○"]
[2349,2941995,350,-1,-1,"RCP6-SA4C-10-垂直",2,0.3,350,"○","○"]
[2350,2941995,175,-1,-1,"RCP6-SA4C-10-垂直",2.25,0.3,175,"○","○"]
[2351,6864654.9999999991,840,-1,-1,"RCP6-SA4C-16-水平",1.5,0.7,840,"○","○"]
[2352,6864654.9999999991,700,-1,-1,"RCP6-SA4C-16-水平",2,0.7,700,"○","○"]
[2353,2941995,840,-1,{"$f":"A2357","v":2354},"RCP6-SA4C-16-水平",2.5,0.3,840,"○","○"]
[2354,6864654.9999999991,560,{"$f":"A2356","v":2353},-1,null,null,0.7,560,"○","○"]
[2355,2941995,700,-1,{"$f":"A2359","v":2356},"RCP6-SA4C-16-水平",3,0.3,700,"○","○"]
[2356,6864654.9999999991,420,{"$f":"A2358","v":2355},-1,null,null,0.7,420,"○","○"]
[2357,2941995,560,-1,{"$f":"A2361","v":2358},"RCP6-SA4C-16-水平",3.5,0.3,560,"○","○"]
[2358,6864654.9999999991,280,{"$f":"A2360","v":2357},-1,null,null,0.7,280,"○","○"]
[2359,2941995,420,-1,-1,"RCP6-SA4C-16-水平",4,0.3,420,"○","○"]
[2360,2941995,840,-1,-1,"RCP6-SA4C-16-垂直",0.5,0.3,840,"○","○"]
[2361,2941995,560,-1,-1,"RCP6-SA4C-16-垂直",0.75,0.3,560,"○","○"]
[2362,2941995,280,-1,-1,"RCP6-SA4C-16-垂直",1,0.3,280,"○","○"]
[2363,6864654.9999999991,170,-1,-1,"RCP6-SA6C-3-水平",9,0.7,170,"○","○"]
[2364,2941995,170,-1,{"$f":"A2368","v":2365},"RCP6-SA6C-3-水平",11,0.3,170,"○","○"]
[2365,6864654.9999999991,140,{"$f":"A2367","v":2364},-1,null,null,0.7,140,"○","○"]
[2366,6864654.9999999991,110,-1,-1,"RCP6-SA6C-3-水平",14,0.7,110,"○","○"]
[2367,2941995,140,-1,-1,"RCP6-SA6C-3-水平",15,0.3,140,"○","○"]
[2368,2941995,110,-1,-1,"RCP6-SA6C-3-水平",20,0.3,110,"○","○"]
[2369,6864654.9999999991,80,-1,-1,"RCP6-SA6C-3-水平",22,0.7,80,"○","○"]
[2370,2941995,80,-1,-1,"RCP6-SA6C-3-水平",25,0.3,80,"○","○"]
[2371,2941995,170,-1,-1,"RCP6-SA6C-3-垂直",2,0.3,170,"○","○"]
[2372,2941995,140,-1,-1,"RCP6-SA6C-3-垂直",5,0.3,140,"○","○"]
[2373,2941995,110,-1,-1,"RCP6-SA6C-3-垂直",8,0.3,110,"○","○"]
[2374,2941995,80,-1,-1,"RCP6-SA6C-3-垂直",10,0.3,80,"○","○"]
[2375,6864654.9999999991,340,-1,-1,"RCP6-SA6C-6-水平",1,0.7,340,"○","○"]
[2376,6864654.9999999991,280,-1,-1,"RCP6-SA6C-6-水平",7,0.7,280,"○","○"]
[2377,2941995,340,-1,-1,"RCP6-SA6C-6-水平",10,0.3,340,"○","○"]
[{"$f":"A2380+1","v":2378},{"$f":"H2381*$A$1*1000*1000","v":2941995},{"$f":"I2381","v":280},-1,-1,"RCP6-SA6C-6-水平",13,0.3,280,{"$f":"IF(G2381=0,IF(D2381<>A2380,\"ﾘﾝｸ不正\",\"○\"),\"○\")","v":"○"},{"$f":"IF(D2382<>-1,IF(E2381<>A2382,\"ﾘﾝｸ不正\",\"○\"),\"○\")","v":"○"}]
[2379,6864654.9999999991,220,-1,-1,"RCP6-SA6C-6-水平",14,0.7,220,"○","○"]
[2380,2941995,220,-1,-1,"RCP6-SA6C-6-水平",16,0.3,220,"○","○"]
[2381,2941995,160,-1,-1,"RCP6-SA6C-6-水平",20,0.3,160,"○","○"]
[2382,2941995,340,-1,-1,"RCP6-SA6C-6-垂直",1,0.3,340,"○","○"]
[2383,2941995,280,-1,-1,"RCP6-SA6C-6-垂直",2.5,0.3,280,"○","○"]
[2384,2941995,220,-1,-1,"RCP6-SA6C-6-垂直",4,0.3,220,"○","○"]
[2385,2941995,160,-1,-1,"RCP6-SA6C-6-垂直",5,0.3,160,"○","○"]
[2386,6864654.9999999991,680,-1,-1,"RCP6-SA6C-12-水平",1,0.7,680,"○","○"]
[2387,6864654.9999999991,560,-1,-1,"RCP6-SA6C-12-水平",2.5,0.7,560,"○","○"]
[2388,2941995,680,-1,-1,"RCP6-SA6C-12-水平",4,0.3,680,"○","○"]
[2389,2941995,560,-1,{"$f":"A2393","v":2390},"RCP6-SA6C-12-水平",7,0.3,560,"○","○"]
[2390,6864654.9999999991,440,{"$f":"A2392","v":2389},-1,null,null,0.7,440,"○","○"]
[2391,6864654.9999999991,320,-1,-1,"RCP6-SA6C-12-水平",10,0.7,320,"○","○"]
[2392,2941995,440,-1,-1,"RCP6-SA6C-12-水平",11,0.3,440,"○","○"]
[2393,2941995,320,-1,-1,"RCP6-SA6C-12-水平",14,0.3,320,"○","○"]
[2394,2941995,680,-1,-1,"RCP6-SA6C-12-垂直",0.5,0.3,680,"○","○"]
[2395,2941995,560,-1,-1,"RCP6-SA6C-12-垂直",1,0.3,560,"○","○"]
[2396,2941995,440,-1,-1,"RCP6-SA6C-12-垂直",1.5,0.3,440,"○","○"]
[2397,2941995,320,-1,-1,"RCP6-SA6C-12-垂直",2,0.3,320,"○","○"]
[2398,6864654.9999999991,960,-1,-1,"RCP6-SA6C-20-水平",0.5,0.7,960,"○","○"]
[2399,6864654.9999999991,800,-1,-1,"RCP6-SA6C-20-水平",1.5,0.7,800,"○","○"]
[2400,2941995,960,-1,-1,"RCP6-SA6C-20-水平",2,0.3,960,"○","○"]
[2401,6864654.9999999991,640,-1,-1,"RCP6-SA6C-20-水平",3,0.7,640,"○","○"]
[2402,2941995,800,-1,{"$f":"A2406","v":2403},"RCP6-SA6C-20-水平",4,0.3,800,"○","○"]
[2403,6864654.9999999991,480,{"$f":"A2405","v":2402},-1,null,null,0.7,480,"○","○"]
[2404,6864654.9999999991,320,-1,-1,"RCP6-SA6C-20-水平",5,0.7,320,"○","○"]
[2405,2941995,640,-1,-1,"RCP6-SA6C-20-水平",6,0.3,640,"○","○"]
[2406,2941995,480,-1,-1,"RCP6-SA6C-20-水平",8,0.3,480,"○","○"]
[2407,2941995,960,-1,-1,"RCP6-SA6C-20-垂直",0.5,0.3,960,"○","○"]
[2408,2941995,800,-1,-1,"RCP6-SA6C-20-垂直",0.75,0.3,800,"○","○"]
[2409,6864654.9999999991,140,-1,-1,"RCP6-SA7C-4 -水平",6,0.7,140,"○","○"]
[2410,2941995,140,-1,-1,"RCP6-SA7C-4 -水平",15,0.3,140,"○","○"]
[2411,6864654.9999999991,105,-1,-1,"RCP6-SA7C-4 -水平",30,0.7,105,"○","○"]
[2412,2941995,105,-1,-1,"RCP6-SA7C-4 -水平",40,0.3,105,"○","○"]
[2413,2941995,140,-1,-1,"RCP6-SA7C-4 -垂直",2,0.3,140,"○","○"]
[2414,2941995,105,-1,-1,"RCP6-SA7C-4 -垂直",8,0.3,105,"○","○"]
[2415,2941995,70,-1,-1,"RCP6-SA7C-4 -垂直",15,0.3,70,"○","○"]
[2416,6864654.9999999991,280,-1,-1,"RCP6-SA7C-8-水平",1,0.7,280,"○","○"]
[2417,2941995,280,-1,-1,"RCP6-SA7C-8-水平",10,0.3,280,"○","○"]
[2418,6864654.9999999991,210,-1,-1,"RCP6-SA7C-8-水平",14,0.7,210,"○","○"]
[2419,2941995,210,-1,{"$f":"A2423","v":2420},"RCP6-SA7C-8-水平",25,0.3,210,"○","○"]
[2420,6864654.9999999991,140,{"$f":"A2422","v":2419},-1,null,null,0.7,140,"○","○"]
[2421,2941995,140,-1,-1,"RCP6-SA7C-8-水平",40,0.3,140,"○","○"]
[2422,2941995,280,-1,-1,"RCP6-SA7C-8-垂直",1.5,0.3,280,"○","○"]
[2423,2941995,210,-1,-1,"RCP6-SA7C-8-垂直",4,0.3,210,"○","○"]
[2424,2941995,140,-1,-1,"RCP6-SA7C-8-垂直",7,0.3,140,"○","○"]
[2425,2941995,70,-1,-1,"RCP6-SA7C-8-垂直",10,0.3,70,"○","○"]
[2426,6864654.9999999991,560,-1,-1,"RCP6-SA7C-16-水平",0.5,0.7,560,"○","○"]
[2427,6864654.9999999991,420,-1,-1,"RCP6-SA7C-16-水平",6,0.7,420,"○","○"]
[2428,2941995,560,-1,-1,"RCP6-SA7C-16-水平",7,0.3,560,"○","○"]
[2429,6864654.9999999991,280,-1,-1,"RCP6-SA7C-16-水平",12,0.7,280,"○","○"]
[2430,2941995,420,-1,-1,"RCP6-SA7C-16-水平",15,0.3,420,"○","○"]
[2431,6864654.9999999991,140,-1,-1,"RCP6-SA7C-16-水平",20,0.7,140,"○","○"]
[2432,2941995,280,-1,-1,"RCP6-SA7C-16-水平",25,0.3,280,"○","○"]
[2433,2941995,140,-1,-1,"RCP6-SA7C-16-水平",35,0.3,140,"○","○"]
[2434,2941995,560,-1,-1,"RCP6-SA7C-16-垂直",0.5,0.3,560,"○","○"]
[2435,2941995,420,-1,-1,"RCP6-SA7C-16-垂直",1.5,0.3,420,"○","○"]
[2436,2941995,280,-1,-1,"RCP6-SA7C-16-垂直",3,0.3,280,"○","○"]
[2437,2941995,140,-1,-1,"RCP6-SA7C-16-垂直",5,0.3,140,"○","○"]
[2438,6864654.9999999991,800,-1,-1,"RCP6-SA7C-24-水平",0.5,0.7,800,"○","○"]
[2439,6864654.9999999991,640,-1,-1,"RCP6-SA7C-24-水平",2,0.7,640,"○","○"]
[2440,2941995,800,-1,-1,"RCP6-SA7C-24-水平",5,0.3,800,"○","○"]
[2441,2941995,640,-1,{"$f":"A2445","v":2442},"RCP6-SA7C-24-水平",10,0.3,640,"○","○"]
[{"$f":"A2444+1","v":2442},{"$f":"H2445*$A$1*1000*1000","v":6864654.9999999991},{"$f":"I2445","v":420},{"$f":"A2444","v":2441},-1,null,null,0.7,420,{"$f":"IF(G2445=0,IF(D2445<>A2444,\"ﾘﾝｸ不正\",\"○\"),\"○\")","v":"○"},{"$f":"IF(D2446<>-1,IF(E2445<>A2446,\"ﾘﾝｸ不正\",\"○\"),\"○\")","v":"○"}]
[2443,2941995,420,-1,-1,"RCP6-SA7C-24-水平",18,0.3,420,"○","○"]
[2444,2941995,800,-1,-1,"RCP6-SA7C-24-垂直",0.5,0.3,800,"○","○"]
[2445,2941995,640,-1,-1,"RCP6-SA7C-24-垂直",1,0.3,640,"○","○"]
[2446,2941995,420,-1,-1,"RCP6-SA7C-24-垂直",2,0.3,420,"○","○"]
[2447,6864654.9999999991,130,-1,-1,"RCP6-SA4R-2.5-水平",8,0.7,130,"○","○"]
[2448,6864654.9999999991,105,-1,-1,"RCP6-SA4R-2.5-水平",9,0.7,105,"○","○"]
[2449,2941995,130,-1,{"$f":"A2453","v":2450},"RCP6-SA4R-2.5-水平",10,0.3,130,"○","○"]
[2450,6864654.9999999991,85,{"$f":"A2452","v":2449},-1,null,null,0.7,85,"○","○"]
[2451,2941995,85,-1,{"$f":"A2455","v":2452},"RCP6-SA4R-2.5-水平",11,0.3,85,"○","○"]
[2452,6864654.9999999991,65,{"$f":"A2454","v":2451},-1,null,null,0.7,65,"○","○"]
[2453,2941995,65,-1,{"$f":"A2457","v":2454},"RCP6-SA4R-2.5-水平",12,0.3,65,"○","○"]
[2454,6864654.9999999991,40,{"$f":"A2456","v":2453},-1,null,null,0.7,40,"○","○"]
[2455,2941995,130,-1,-1,"RCP6-SA4R-2.5-垂直",5,0.3,130,"○","○"]
[2456,2941995,105,-1,-1,"RCP6-SA4R-2.5-垂直",8,0.3,105,"○","○"]
[2457,2941995,40,-1,-1,"RCP6-SA4R-2.5-垂直",9,0.3,40,"○","○"]
[2458,6864654.9999999991,260,-1,-1,"RCP6-SA4R-5-水平",6,0.7,260,"○","○"]
[2459,6864654.9999999991,215,-1,-1,"RCP6-SA4R-5-水平",7,0.7,215,"○","○"]
[2460,2941995,260,-1,{"$f":"A2464","v":2461},"RCP6-SA4R-5-水平",8,0.3,260,"○","○"]
[2461,6864654.9999999991,175,{"$f":"A2463","v":2460},-1,null,null,0.7,175,"○","○"]
[2462,2941995,215,-1,{"$f":"A2466","v":2463},"RCP6-SA4R-5-水平",9,0.3,215,"○","○"]
[2463,6864654.9999999991,130,{"$f":"A2465","v":2462},-1,null,null,0.7,130,"○","○"]
[2464,2941995,175,-1,{"$f":"A2468","v":2465},"RCP6-SA4R-5-水平",10,0.3,175,"○","○"]
[2465,6864654.9999999991,85,{"$f":"A2467","v":2464},-1,null,null,0.7,85,"○","○"]
[2466,2941995,85,-1,-1,"RCP6-SA4R-5-水平",12,0.3,85,"○","○"]
[2467,2941995,260,-1,-1,"RCP6-SA4R-5-垂直",2.5,0.3,260,"○","○"]
[2468,2941995,215,-1,-1,"RCP6-SA4R-5-垂直",4,0.3,215,"○","○"]
[2469,2941995,85,-1,-1,"RCP6-SA4R-5-垂直",4.5,0.3,85,"○","○"]
[2470,6864654.9999999991,525,-1,-1,"RCP6-SA4R-10-水平",3,0.7,525,"○","○"]
[2471,6864654.9999999991,435,-1,-1,"RCP6-SA4R-10-水平",4,0.7,435,"○","○"]
[2472,2941995,525,-1,{"$f":"A2476","v":2473},"RCP6-SA4R-10-水平",5,0.3,525,"○","○"]
[2473,6864654.9999999991,350,{"$f":"A2475","v":2472},-1,null,null,0.7,350,"○","○"]
[2474,2941995,435,-1,{"$f":"A2478","v":2475},"RCP6-SA4R-10-水平",6,0.3,435,"○","○"]
[2475,6864654.9999999991,260,{"$f":"A2477","v":2474},-1,null,null,0.7,260,"○","○"]
[2476,2941995,350,-1,-1,"RCP6-SA4R-10-水平",7,0.3,350,"○","○"]
[2477,6864654.9999999991,175,-1,-1,"RCP6-SA4R-10-水平",8,0.7,175,"○","○"]
[2478,2941995,260,-1,-1,"RCP6-SA4R-10-水平",9,0.3,260,"○","○"]
[2479,2941995,175,-1,-1,"RCP6-SA4R-10-水平",10,0.3,175,"○","○"]
[2480,2941995,525,-1,-1,"RCP6-SA4R-10-垂直",1,0.3,525,"○","○"]
[2481,2941995,435,-1,-1,"RCP6-SA4R-10-垂直",1.5,0.3,435,"○","○"]
[2482,2941995,350,-1,-1,"RCP6-SA4R-10-垂直",2,0.3,350,"○","○"]
[2483,2941995,175,-1,-1,"RCP6-SA4R-10-垂直",2.25,0.3,175,"○","○"]
[2484,6864654.9999999991,840,-1,-1,"RCP6-SA4R-16-水平",1.5,0.7,840,"○","○"]
[2485,6864654.9999999991,700,-1,-1,"RCP6-SA4R-16-水平",2,0.7,700,"○","○"]
[2486,2941995,840,-1,{"$f":"A2490","v":2487},"RCP6-SA4R-16-水平",2.5,0.3,840,"○","○"]
[2487,6864654.9999999991,560,{"$f":"A2489","v":2486},-1,null,null,0.7,560,"○","○"]
[2488,2941995,700,-1,{"$f":"A2492","v":2489},"RCP6-SA4R-16-水平",3,0.3,700,"○","○"]
[2489,6864654.9999999991,420,{"$f":"A2491","v":2488},-1,null,null,0.7,420,"○","○"]
[2490,2941995,560,-1,{"$f":"A2494","v":2491},"RCP6-SA4R-16-水平",3.5,0.3,560,"○","○"]
[2491,6864654.9999999991,280,{"$f":"A2493","v":2490},-1,null,null,0.7,280,"○","○"]
[2492,2941995,420,-1,-1,"RCP6-SA4R-16-水平",4,0.3,420,"○","○"]
[2493,2941995,840,-1,-1,"RCP6-SA4R-16-垂直",0.5,0.3,840,"○","○"]
[2494,2941995,560,-1,-1,"RCP6-SA4R-16-垂直",0.75,0.3,560,"○","○"]
[2495,2941995,280,-1,-1,"RCP6-SA4R-16-垂直",1,0.3,280,"○","○"]
[2496,6864654.9999999991,170,-1,-1,"RCP6-SA6R-3-水平",9,0.7,170,"○","○"]
[2497,2941995,170,-1,{"$f":"A2501","v":2498},"RCP6-SA6R-3-水平",11,0.3,170,"○","○"]
[2498,6864654.9999999991,140,{"$f":"A2500","v":2497},-1,null,null,0.7,140,"○","○"]
[2499,6864654.9999999991,110,-1,-1,"RCP6-SA6R-3-水平",14,0.7,110,"○","○"]
[2500,2941995,140,-1,-1,"RCP6-SA6R-3-水平",15,0.3,140,"○","○"]
[2501,2941995,110,-1,-1,"RCP6-SA6R-3-水平",20,0.3,110,"○","○"]
[2502,6864654.9999999991,80,-1,-1,"RCP6-SA6R-3-水平",22,0.7,80,"○","○"]
[2503,2941995,80,-1,-1,"RCP6-SA6R-3-水平",25,0.3,80,"○","○"]
[2504,2941995,170,-1,-1,"RCP6-SA6R-3-垂直",2,0.3,170,"○","○"]
[2505,2941995,140,-1,-1,"RCP6-SA6R-3-垂直",5,0.3,140,"○","○"]
[{"$f":"A2508+1","v":2506},{"$f":"H2509*$A$1*1000*1000","v":2941995},{"$f":"I2509","v":110},-1,-1,"RCP6-SA6R-3-垂直",8,0.3,110,{"$f":"IF(G2509=0,IF(D2509<>A2508,\"ﾘﾝｸ不正\",\"○\"),\"○\")","v":"○"},{"$f":"IF(D2510<>-1,IF(E2509<>A2510,\"ﾘﾝｸ不正\",\"○\"),\"○\")","v":"○"}]
[2507,2941995,80,-1,-1,"RCP6-SA6R-3-垂直",10,0.3,80,"○","○"]
[2508,6864654.9999999991,340,-1,-1,"RCP6-SA6R-6-水平",1,0.7,340,"○","○"]
[2509,6864654.9999999991,280,-1,-1,"RCP6-SA6R-6-水平",7,0.7,280,"○","○"]
[2510,2941995,340,-1,-1,"RCP6-SA6R-6-水平",10,0.3,340,"○","○"]
[2511,2941995,280,-1,-1,"RCP6-SA6R-6-水平",13,0.3,280,"○","○"]
[2512,6864654.9999999991,220,-1,-1,"RCP6-SA6R-6-水平",14,0.7,220,"○","○"]
[2513,2941995,220,-1,-1,"RCP6-SA6R-6-水平",16,0.3,220,"○","○"]
[2514,2941995,160,-1,-1,"RCP6-SA6R-6-水平",20,0.3,160,"○","○"]
[2515,2941995,340,-1,-1,"RCP6-SA6R-6-垂直",1,0.3,340,"○","○"]
[2516,2941995,280,-1,-1,"RCP6-SA6R-6-垂直",2.5,0.3,280,"○","○"]
[2517,2941995,220,-1,-1,"RCP6-SA6R-6-垂直",4,0.3,220,"○","○"]
[2518,2941995,160,-1,-1,"RCP6-SA6R-6-垂直",5,0.3,160,"○","○"]
[2519,6864654.9999999991,680,-1,-1,"RCP6-SA6R-12-水平",1,0.7,680,"○","○"]
[2520,6864654.9999999991,560,-1,-1,"RCP6-SA6R-12-水平",2.5,0.7,560,"○","○"]
[2521,2941995,680,-1,-1,"RCP6-SA6R-12-水平",4,0.3,680,"○","○"]
[2522,2941995,560,-1,{"$f":"A2526","v":2523},"RCP6-SA6R-12-水平",7,0.3,560,"○","○"]
[2523,6864654.9999999991,440,{"$f":"A2525","v":2522},-1,null,null,0.7,440,"○","○"]
[2524,6864654.9999999991,320,-1,-1,"RCP6-SA6R-12-水平",10,0.7,320,"○","○"]
[2525,2941995,440,-1,-1,"RCP6-SA6R-12-水平",11,0.3,440,"○","○"]
[2526,2941995,320,-1,-1,"RCP6-SA6R-12-水平",14,0.3,320,"○","○"]
[2527,2941995,680,-1,-1,"RCP6-SA6R-12-垂直",0.5,0.3,680,"○","○"]
[2528,2941995,560,-1,-1,"RCP6-SA6R-12-垂直",1,0.3,560,"○","○"]
[2529,2941995,440,-1,-1,"RCP6-SA6R-12-垂直",1.5,0.3,440,"○","○"]
[2530,2941995,320,-1,-1,"RCP6-SA6R-12-垂直",2,0.3,320,"○","○"]
[2531,6864654.9999999991,960,-1,-1,"RCP6-SA6R-20-水平",0.5,0.7,960,"○","○"]
[2532,6864654.9999999991,800,-1,-1,"RCP6-SA6R-20-水平",1.5,0.7,800,"○","○"]
[2533,2941995,960,-1,-1,"RCP6-SA6R-20-水平",2,0.3,960,"○","○"]
[2534,6864654.9999999991,640,-1,-1,"RCP6-SA6R-20-水平",3,0.7,640,"○","○"]
[2535,2941995,800,-1,{"$f":"A2539","v":2536},"RCP6-SA6R-20-水平",4,0.3,800,"○","○"]
[2536,6864654.9999999991,480,{"$f":"A2538","v":2535},-1,null,null,0.7,480,"○","○"]
[2537,6864654.9999999991,320,-1,-1,"RCP6-SA6R-20-水平",5,0.7,320,"○","○"]
[2538,2941995,640,-1,-1,"RCP6-SA6R-20-水平",6,0.3,640,"○","○"]
[2539,2941995,480,-1,-1,"RCP6-SA6R-20-水平",8,0.3,480,"○","○"]
[2540,2941995,960,-1,-1,"RCP6-SA6R-20-垂直",0.5,0.3,960,"○","○"]
[2541,2941995,800,-1,-1,"RCP6-SA6R-20-垂直",0.75,0.3,800,"○","○"]
[2542,6864654.9999999991,140,-1,-1,"RCP6-SA7R-4-水平",6,0.7,140,"○","○"]
[2543,2941995,140,-1,-1,"RCP6-SA7R-4-水平",15,0.3,140,"○","○"]
[2544,6864654.9999999991,105,-1,-1,"RCP6-SA7R-4-水平",30,0.7,105,"○","○"]
[2545,2941995,105,-1,-1,"RCP6-SA7R-4-水平",40,0.3,105,"○","○"]
[2546,2941995,140,-1,-1,"RCP6-SA7R-4-垂直",2,0.3,140,"○","○"]
[2547,2941995,105,-1,-1,"RCP6-SA7R-4-垂直",8,0.3,105,"○","○"]
[2548,2941995,70,-1,-1,"RCP6-SA7R-4-垂直",15,0.3,70,"○","○"]
[2549,6864654.9999999991,280,-1,-1,"RCP6-SA7R-8-水平",1,0.7,280,"○","○"]
[2550,2941995,280,-1,-1,"RCP6-SA7R-8-水平",10,0.3,280,"○","○"]
[2551,6864654.9999999991,210,-1,-1,"RCP6-SA7R-8-水平",14,0.7,210,"○","○"]
[2552,2941995,210,-1,{"$f":"A2556","v":2553},"RCP6-SA7R-8-水平",25,0.3,210,"○","○"]
[2553,6864654.9999999991,140,{"$f":"A2555","v":2552},-1,null,null,0.7,140,"○","○"]
[2554,2941995,140,-1,-1,"RCP6-SA7R-8-水平",40,0.3,140,"○","○"]
[2555,2941995,280,-1,-1,"RCP6-SA7R-8-垂直",1.5,0.3,280,"○","○"]
[2556,2941995,210,-1,-1,"RCP6-SA7R-8-垂直",4,0.3,210,"○","○"]
[2557,2941995,140,-1,-1,"RCP6-SA7R-8-垂直",7,0.3,140,"○","○"]
[2558,2941995,70,-1,-1,"RCP6-SA7R-8-垂直",10,0.3,70,"○","○"]
[2559,6864654.9999999991,560,-1,-1,"RCP6-SA7R-16-水平",0.5,0.7,560,"○","○"]
[2560,6864654.9999999991,420,-1,-1,"RCP6-SA7R-16-水平",6,0.7,420,"○","○"]
[2561,2941995,560,-1,-1,"RCP6-SA7R-16-水平",7,0.3,560,"○","○"]
[2562,6864654.9999999991,280,-1,-1,"RCP6-SA7R-16-水平",12,0.7,280,"○","○"]
[2563,2941995,420,-1,-1,"RCP6-SA7R-16-水平",15,0.3,420,"○","○"]
[2564,6864654.9999999991,140,-1,-1,"RCP6-SA7R-16-水平",20,0.7,140,"○","○"]
[2565,2941995,280,-1,-1,"RCP6-SA7R-16-水平",25,0.3,280,"○","○"]
[2566,2941995,140,-1,-1,"RCP6-SA7R-16-水平",35,0.3,140,"○","○"]
[2567,2941995,560,-1,-1,"RCP6-SA7R-16-垂直",0.5,0.3,560,"○","○"]
[2568,2941995,420,-1,-1,"RCP6-SA7R-16-垂直",1.5,0.3,420,"○","○"]
[2569,2941995,280,-1,-1,"RCP6-SA7R-16-垂直",3,0.3,280,"○","○"]
[{"$f":"A2572+1","v":2570},{"$f":"H2573*$A$1*1000*1000","v":2941995},{"$f":"I2573","v":140},-1,-1,"RCP6-SA7R-16-垂直",5,0.3,140,{"$f":"IF(G2573=0,IF(D2573<>A2572,\"ﾘﾝｸ不正\",\"○\"),\"○\")","v":"○"},{"$f":"IF(D2574<>-1,IF(E2573<>A2574,\"ﾘﾝｸ不正\",\"○\"),\"○\")","v":"○"}]
[2571,6864654.9999999991,800,-1,-1,"RCP6-SA7R-24-水平",0.5,0.7,800,"○","○"]
[2572,6864654.9999999991,640,-1,-1,"RCP6-SA7R-24-水平",2,0.7,640,"○","○"]
[2573,2941995,800,-1,-1,"RCP6-SA7R-24-水平",5,0.3,800,"○","○"]
[2574,2941995,640,-1,{"$f":"A2578","v":2575},"RCP6-SA7R-24-水平",10,0.3,640,"○","○"]
[2575,6864654.9999999991,420,{"$f":"A2577","v":2574},-1,null,null,0.7,420,"○","○"]
[2576,2941995,420,-1,-1,"RCP6-SA7R-24-水平",18,0.3,420,"○","○"]
[2577,2941995,800,-1,-1,"RCP6-SA7R-24-垂直",0.5,0.3,800,"○","○"]
[2578,2941995,640,-1,-1,"RCP6-SA7R-24-垂直",1,0.3,640,"○","○"]
[2579,2941995,420,-1,-1,"RCP6-SA7R-24-垂直",2,0.3,420,"○","○"]
[2580,6864654.9999999991,130,-1,-1,"RCP6-WSA10C-2.5-水平",20,0.7,130,"○","○"]
[2581,6864654.9999999991,105,-1,-1,"RCP6-WSA10C-2.5-水平",27,0.7,105,"○","○"]
[2582,2941995,130,-1,-1,"RCP6-WSA10C-2.5-水平",33,0.3,130,"○","○"]
[2583,2941995,105,-1,-1,"RCP6-WSA10C-2.5-水平",36,0.3,105,"○","○"]
[2584,2941995,130,-1,-1,"RCP6-WSA10C-2.5-垂直",4.5,0.3,130,"○","○"]
[2585,2941995,105,-1,-1,"RCP6-WSA10C-2.5-垂直",7,0.3,105,"○","○"]
[2586,2941995,85,-1,-1,"RCP6-WSA10C-2.5-垂直",9,0.3,85,"○","○"]
[2587,2941995,65,-1,-1,"RCP6-WSA10C-2.5-垂直",10,0.3,65,"○","○"]
[2588,6864654.9999999991,260,-1,-1,"RCP6-WSA10C-5-水平",7.5,0.7,260,"○","○"]
[2589,2941995,260,-1,-1,"RCP6-WSA10C-5-水平",10.5,0.3,260,"○","○"]
[2590,6864654.9999999991,215,-1,-1,"RCP6-WSA10C-5-水平",13,0.7,215,"○","○"]
[2591,2941995,215,-1,{"$f":"A2595","v":2592},"RCP6-WSA10C-5-水平",19,0.3,215,"○","○"]
[2592,6864654.9999999991,175,{"$f":"A2594","v":2591},-1,null,null,0.7,175,"○","○"]
[2593,6864654.9999999991,130,-1,-1,"RCP6-WSA10C-5-水平",20,0.7,130,"○","○"]
[2594,2941995,175,-1,-1,"RCP6-WSA10C-5-水平",25,0.3,175,"○","○"]
[2595,2941995,260,-1,-1,"RCP6-WSA10C-5-垂直",2,0.3,260,"○","○"]
[2596,2941995,215,-1,-1,"RCP6-WSA10C-5-垂直",3,0.3,215,"○","○"]
[2597,6864654.9999999991,525,-1,-1,"RCP6-WSA10C-10-水平",1.5,0.7,525,"○","○"]
[2598,2941995,525,-1,-1,"RCP6-WSA10C-10-水平",3,0.3,525,"○","○"]
[2599,6864654.9999999991,435,-1,-1,"RCP6-WSA10C-10-水平",3.5,0.7,435,"○","○"]
[2600,2941995,435,-1,-1,"RCP6-WSA10C-10-水平",6,0.3,435,"○","○"]
[2601,6864654.9999999991,350,-1,-1,"RCP6-WSA10C-10-水平",6.5,0.7,350,"○","○"]
[2602,6864654.9999999991,260,-1,-1,"RCP6-WSA10C-10-水平",9,0.7,260,"○","○"]
[2603,6864654.9999999991,85,-1,-1,"RCP6-WSA10C-10-水平",9.5,0.7,85,"○","○"]
[2604,2941995,350,-1,-1,"RCP6-WSA10C-10-水平",10.5,0.3,350,"○","○"]
[2605,2941995,260,-1,-1,"RCP6-WSA10C-10-水平",12,0.3,260,"○","○"]
[2606,6864654.9999999991,560,-1,-1,"RCP6-WSA10C-16-水平",1,0.7,560,"○","○"]
[2607,6864654.9999999991,420,-1,-1,"RCP6-WSA10C-16-水平",3,0.7,420,"○","○"]
[2608,2941995,560,-1,-1,"RCP6-WSA10C-16-水平",3.5,0.3,560,"○","○"]
[2609,2941995,420,-1,-1,"RCP6-WSA10C-16-水平",4,0.3,420,"○","○"]
[2610,6864654.9999999991,150,-1,-1,"RCP6-WSA12C-3-水平",24,0.7,150,"○","○"]
[2611,2941995,150,-1,{"$f":"A2615","v":2612},"RCP6-WSA12C-3-水平",30,0.3,150,"○","○"]
[2612,6864654.9999999991,125,{"$f":"A2614","v":2611},-1,null,null,0.7,125,"○","○"]
[2613,6864654.9999999991,100,-1,-1,"RCP6-WSA12C-3-水平",33,0.7,100,"○","○"]
[2614,2941995,125,-1,-1,"RCP6-WSA12C-3-水平",42,0.3,125,"○","○"]
[2615,2941995,150,-1,-1,"RCP6-WSA12C-3-垂直",4.5,0.3,150,"○","○"]
[2616,2941995,125,-1,-1,"RCP6-WSA12C-3-垂直",8,0.3,125,"○","○"]
[2617,2941995,100,-1,-1,"RCP6-WSA12C-3-垂直",12,0.3,100,"○","○"]
[2618,2941995,65,-1,-1,"RCP6-WSA12C-3-垂直",13,0.3,65,"○","○"]
[2619,2941995,50,-1,-1,"RCP6-WSA12C-3-垂直",15,0.3,50,"○","○"]
[2620,6864654.9999999991,290,-1,-1,"RCP6-WSA12C-6-水平",9,0.7,290,"○","○"]
[2621,2941995,290,-1,-1,"RCP6-WSA12C-6-水平",14,0.3,290,"○","○"]
[2622,6864654.9999999991,250,-1,-1,"RCP6-WSA12C-6-水平",16.5,0.7,250,"○","○"]
[2623,2941995,250,-1,{"$f":"A2627","v":2624},"RCP6-WSA12C-6-水平",19,0.3,250,"○","○"]
[2624,6864654.9999999991,200,{"$f":"A2626","v":2623},-1,null,null,0.7,200,"○","○"]
[2625,2941995,200,-1,{"$f":"A2629","v":2626},"RCP6-WSA12C-6-水平",30,0.3,200,"○","○"]
[2626,6864654.9999999991,140,{"$f":"A2628","v":2625},-1,null,null,0.7,140,"○","○"]
[2627,2941995,290,-1,-1,"RCP6-WSA12C-6-垂直",2,0.3,290,"○","○"]
[2628,2941995,250,-1,-1,"RCP6-WSA12C-6-垂直",3,0.3,250,"○","○"]
[2629,2941995,200,-1,-1,"RCP6-WSA12C-6-垂直",5.5,0.3,200,"○","○"]
[2630,2941995,140,-1,-1,"RCP6-WSA12C-6-垂直",8,0.3,140,"○","○"]
[2631,6864654.9999999991,500,-1,-1,"RCP6-WSA12C-12-水平",4,0.7,500,"○","○"]
[2632,2941995,500,-1,-1,"RCP6-WSA12C-12-水平",6,0.3,500,"○","○"]
[2633,6864654.9999999991,400,-1,-1,"RCP6-WSA12C-12-水平",7.5,0.7,400,"○","○"]
[{"$f":"A2636+1","v":2634},{"$f":"H2637*$A$1*1000*1000","v":6864654.9999999991},{"$f":"I2637","v":285},-1,-1,"RCP6-WSA12C-12-水平",11,0.7,285,{"$f":"IF(G2637=0,IF(D2637<>A2636,\"ﾘﾝｸ不正\",\"○\"),\"○\")","v":"○"},{"$f":"IF(D2638<>-1,IF(E2637<>A2638,\"ﾘﾝｸ不正\",\"○\"),\"○\")","v":"○"}]
[2635,2941995,400,-1,-1,"RCP6-WSA12C-12-水平",12,0.3,400,"○","○"]
[2636,6864654.9999999991,200,-1,-1,"RCP6-WSA12C-12-水平",14,0.7,200,"○","○"]
[2637,6864654.9999999991,100,-1,-1,"RCP6-WSA12C-12-水平",15.5,0.7,100,"○","○"]
[2638,2941995,285,-1,-1,"RCP6-WSA12C-12-水平",18,0.3,285,"○","○"]
[2639,6864654.9999999991,640,-1,-1,"RCP6-WSA12C-20-水平",3,0.7,640,"○","○"]
[2640,6864654.9999999991,480,-1,-1,"RCP6-WSA12C-20-水平",4,0.7,480,"○","○"]
[2641,2941995,640,-1,-1,"RCP6-WSA12C-20-水平",5,0.3,640,"○","○"]
[2642,2941995,480,-1,-1,"RCP6-WSA12C-20-水平",8,0.3,480,"○","○"]
[2643,6864654.9999999991,105,-1,-1,"RCP6-WSA14C-4-水平",24,0.7,105,"○","○"]
[2644,2941995,105,-1,-1,"RCP6-WSA14C-4-水平",36,0.3,105,"○","○"]
[2645,6864654.9999999991,70,-1,-1,"RCP6-WSA14C-4-水平",48,0.7,70,"○","○"]
[2646,2941995,70,-1,-1,"RCP6-WSA14C-4-水平",54,0.3,70,"○","○"]
[2647,2941995,105,-1,-1,"RCP6-WSA14C-4-垂直",6,0.3,105,"○","○"]
[2648,2941995,70,-1,-1,"RCP6-WSA14C-4-垂直",18,0.3,70,"○","○"]
[2649,6864654.9999999991,210,-1,-1,"RCP6-WSA14C-8-水平",9,0.7,210,"○","○"]
[2650,2941995,210,-1,-1,"RCP6-WSA14C-8-水平",13.5,0.3,210,"○","○"]
[2651,6864654.9999999991,140,-1,-1,"RCP6-WSA14C-8-水平",27.5,0.7,140,"○","○"]
[2652,6864654.9999999991,70,-1,-1,"RCP6-WSA14C-8-水平",33,0.7,70,"○","○"]
[2653,2941995,140,-1,-1,"RCP6-WSA14C-8-水平",45,0.3,140,"○","○"]
[2654,2941995,210,-1,-1,"RCP6-WSA14C-8-垂直",3,0.3,210,"○","○"]
[2655,2941995,140,-1,-1,"RCP6-WSA14C-8-垂直",10.5,0.3,140,"○","○"]
[2656,2941995,70,-1,-1,"RCP6-WSA14C-8-垂直",11,0.3,70,"○","○"]
[2657,6864654.9999999991,420,-1,-1,"RCP6-WSA14C-16-水平",3.5,0.7,420,"○","○"]
[2658,2941995,420,-1,-1,"RCP6-WSA14C-16-水平",9.5,0.3,420,"○","○"]
[2659,6864654.9999999991,280,-1,-1,"RCP6-WSA14C-16-水平",12.5,0.7,280,"○","○"]
[2660,2941995,280,-1,-1,"RCP6-WSA14C-16-水平",22.5,0.3,280,"○","○"]
[2661,6864654.9999999991,140,-1,-1,"RCP6-WSA14C-16-水平",24.5,0.7,140,"○","○"]
[2662,2941995,140,-1,-1,"RCP6-WSA14C-16-水平",33,0.3,140,"○","○"]
[2663,6864654.9999999991,560,-1,-1,"RCP6-WSA14C-24-水平",3,0.7,560,"○","○"]
[2664,2941995,560,-1,-1,"RCP6-WSA14C-24-水平",7.5,0.3,560,"○","○"]
[2665,6864654.9999999991,420,-1,-1,"RCP6-WSA14C-24-水平",8,0.7,420,"○","○"]
[2666,6864654.9999999991,140,-1,-1,"RCP6-WSA14C-24-水平",12,0.7,140,"○","○"]
[2667,2941995,420,-1,-1,"RCP6-WSA14C-24-水平",13,0.3,420,"○","○"]
[2668,2941995,140,-1,-1,"RCP6-WSA14C-24-水平",15.5,0.3,140,"○","○"]
[2669,6864654.9999999991,130,-1,-1,"RCP6-WSA10R-2.5-水平",20,0.7,130,"○","○"]
[2670,6864654.9999999991,105,-1,-1,"RCP6-WSA10R-2.5-水平",27,0.7,105,"○","○"]
[2671,2941995,130,-1,-1,"RCP6-WSA10R-2.5-水平",33,0.3,130,"○","○"]
[2672,2941995,105,-1,-1,"RCP6-WSA10R-2.5-水平",36,0.3,105,"○","○"]
[2673,2941995,130,-1,-1,"RCP6-WSA10R-2.5-垂直",4.5,0.3,130,"○","○"]
[2674,2941995,105,-1,-1,"RCP6-WSA10R-2.5-垂直",7,0.3,105,"○","○"]
[2675,2941995,85,-1,-1,"RCP6-WSA10R-2.5-垂直",9,0.3,85,"○","○"]
[2676,2941995,65,-1,-1,"RCP6-WSA10R-2.5-垂直",10,0.3,65,"○","○"]
[2677,6864654.9999999991,260,-1,-1,"RCP6-WSA10R-5-水平",7.5,0.7,260,"○","○"]
[2678,2941995,260,-1,-1,"RCP6-WSA10R-5-水平",10.5,0.3,260,"○","○"]
[2679,6864654.9999999991,215,-1,-1,"RCP6-WSA10R-5-水平",13,0.7,215,"○","○"]
[2680,2941995,215,-1,{"$f":"A2684","v":2681},"RCP6-WSA10R-5-水平",19,0.3,215,"○","○"]
[2681,6864654.9999999991,175,{"$f":"A2683","v":2680},-1,null,null,0.7,175,"○","○"]
[2682,6864654.9999999991,130,-1,-1,"RCP6-WSA10R-5-水平",20,0.7,130,"○","○"]
[2683,2941995,175,-1,-1,"RCP6-WSA10R-5-水平",25,0.3,175,"○","○"]
[2684,2941995,260,-1,-1,"RCP6-WSA10R-5-垂直",2,0.3,260,"○","○"]
[2685,2941995,215,-1,-1,"RCP6-WSA10R-5-垂直",3,0.3,215,"○","○"]
[2686,6864654.9999999991,525,-1,-1,"RCP6-WSA10R-10-水平",1.5,0.7,525,"○","○"]
[2687,2941995,525,-1,-1,"RCP6-WSA10R-10-水平",3,0.3,525,"○","○"]
[2688,6864654.9999999991,435,-1,-1,"RCP6-WSA10R-10-水平",3.5,0.7,435,"○","○"]
[2689,2941995,435,-1,-1,"RCP6-WSA10R-10-水平",6,0.3,435,"○","○"]
[2690,6864654.9999999991,350,-1,-1,"RCP6-WSA10R-10-水平",6.5,0.7,350,"○","○"]
[2691,6864654.9999999991,260,-1,-1,"RCP6-WSA10R-10-水平",9,0.7,260,"○","○"]
[2692,6864654.9999999991,85,-1,-1,"RCP6-WSA10R-10-水平",9.5,0.7,85,"○","○"]
[2693,2941995,350,-1,-1,"RCP6-WSA10R-10-水平",10.5,0.3,350,"○","○"]
[2694,2941995,260,-1,-1,"RCP6-WSA10R-10-水平",12,0.3,260,"○","○"]
[2695,6864654.9999999991,560,-1,-1,"RCP6-WSA10R-16-水平",1,0.7,560,"○","○"]
[2696,6864654.9999999991,420,-1,-1,"RCP6-WSA10R-16-水平",3,0.7,420,"○","○"]
[2697,2941995,560,-1,-1,"RCP6-WSA10R-16-水平",3.5,0.3,560,"○","○"]
[{"$f":"A2700+1","v":2698},{"$f":"H2701*$A$1*1000*1000","v":2941995},{"$f":"I2701","v":420},-1,-1,"RCP6-WSA10R-16-水平",4,0.3,420,{"$f":"IF(G2701=0,IF(D2701<>A2700,\"ﾘﾝｸ不正\",\"○\"),\"○\")","v":"○"},{"$f":"IF(D2702<>-1,IF(E2701<>A2702,\"ﾘﾝｸ不正\",\"○\"),\"○\")","v":"○"}]
[2699,6864654.9999999991,150,-1,-1,"RCP6-WSA12R-3-水平",24,0.7,150,"○","○"]
[2700,2941995,150,-1,{"$f":"A2704","v":2701},"RCP6-WSA12R-3-水平",30,0.3,150,"○","○"]
[2701,6864654.9999999991,125,{"$f":"A2703","v":2700},-1,null,null,0.7,125,"○","○"]
[2702,6864654.9999999991,100,-1,-1,"RCP6-WSA12R-3-水平",33,0.7,100,"○","○"]
[2703,2941995,125,-1,-1,"RCP6-WSA12R-3-水平",42,0.3,125,"○","○"]
[2704,2941995,150,-1,-1,"RCP6-WSA12R-3-垂直",4.5,0.3,150,"○","○"]
[2705,2941995,125,-1,-1,"RCP6-WSA12R-3-垂直",8,0.3,125,"○","○"]
[2706,2941995,100,-1,-1,"RCP6-WSA12R-3-垂直",12,0.3,100,"○","○"]
[2707,2941995,65,-1,-1,"RCP6-WSA12R-3-垂直",13,0.3,65,"○","○"]
[2708,2941995,50,-1,-1,"RCP6-WSA12R-3-垂直",15,0.3,50,"○","○"]
[2709,6864654.9999999991,290,-1,-1,"RCP6-WSA12R-6-水平",9,0.7,290,"○","○"]
[2710,2941995,290,-1,-1,"RCP6-WSA12R-6-水平",14,0.3,290,"○","○"]
[2711,6864654.9999999991,250,-1,-1,"RCP6-WSA12R-6-水平",16.5,0.7,250,"○","○"]
[2712,2941995,250,-1,{"$f":"A2716","v":2713},"RCP6-WSA12R-6-水平",19,0.3,250,"○","○"]
[2713,6864654.9999999991,200,{"$f":"A2715","v":2712},-1,null,null,0.7,200,"○","○"]
[2714,2941995,200,-1,{"$f":"A2718","v":2715},"RCP6-WSA12R-6-水平",30,0.3,200,"○","○"]
[2715,6864654.9999999991,140,{"$f":"A2717","v":2714},-1,null,null,0.7,140,"○","○"]
[2716,2941995,290,-1,-1,"RCP6-WSA12R-6-垂直",2,0.3,290,"○","○"]
[2717,2941995,250,-1,-1,"RCP6-WSA12R-6-垂直",3,0.3,250,"○","○"]
[2718,2941995,200,-1,-1,"RCP6-WSA12R-6-垂直",5.5,0.3,200,"○","○"]
[2719,2941995,140,-1,-1,"RCP6-WSA12R-6-垂直",8,0.3,140,"○","○"]
[2720,6864654.9999999991,500,-1,-1,"RCP6-WSA12R-12-水平",4,0.7,500,"○","○"]
[2721,2941995,500,-1,-1,"RCP6-WSA12R-12-水平",6,0.3,500,"○","○"]
[2722,6864654.9999999991,400,-1,-1,"RCP6-WSA12R-12-水平",7.5,0.7,400,"○","○"]
[2723,6864654.9999999991,285,-1,-1,"RCP6-WSA12R-12-水平",11,0.7,285,"○","○"]
[2724,2941995,400,-1,-1,"RCP6-WSA12R-12-水平",12,0.3,400,"○","○"]
[2725,6864654.9999999991,200,-1,-1,"RCP6-WSA12R-12-水平",14,0.7,200,"○","○"]
[2726,6864654.9999999991,100,-1,-1,"RCP6-WSA12R-12-水平",15.5,0.7,100,"○","○"]
[2727,2941995,285,-1,-1,"RCP6-WSA12R-12-水平",18,0.3,285,"○","○"]
[2728,6864654.9999999991,640,-1,-1,"RCP6-WSA12R-20-水平",3,0.7,640,"○","○"]
[2729,6864654.9999999991,480,-1,-1,"RCP6-WSA12R-20-水平",4,0.7,480,"○","○"]
[2730,2941995,640,-1,-1,"RCP6-WSA12R-20-水平",5,0.3,640,"○","○"]
[2731,2941995,480,-1,-1,"RCP6-WSA12R-20-水平",8,0.3,480,"○","○"]
[2732,6864654.9999999991,105,-1,-1,"RCP6-WSA14R-4-水平",24,0.7,105,"○","○"]
[2733,2941995,105,-1,-1,"RCP6-WSA14R-4-水平",36,0.3,105,"○","○"]
[2734,6864654.9999999991,70,-1,-1,"RCP6-WSA14R-4-水平",48,0.7,70,"○","○"]
[2735,2941995,70,-1,-1,"RCP6-WSA14R-4-水平",54,0.3,70,"○","○"]
[2736,2941995,105,-1,-1,"RCP6-WSA14R-4-垂直",6,0.3,105,"○","○"]
[2737,2941995,70,-1,-1,"RCP6-WSA14R-4-垂直",18,0.3,70,"○","○"]
[2738,6864654.9999999991,210,-1,-1,"RCP6-WSA14R-8-水平",9,0.7,210,"○","○"]
[2739,2941995,210,-1,-1,"RCP6-WSA14R-8-水平",13.5,0.3,210,"○","○"]
[2740,6864654.9999999991,140,-1,-1,"RCP6-WSA14R-8-水平",27.5,0.7,140,"○","○"]
[2741,6864654.9999999991,70,-1,-1,"RCP6-WSA14R-8-水平",33,0.7,70,"○","○"]
[2742,2941995,140,-1,-1,"RCP6-WSA14R-8-水平",45,0.3,140,"○","○"]
[2743,2941995,210,-1,-1,"RCP6-WSA14R-8-垂直",3,0.3,210,"○","○"]
[2744,2941995,140,-1,-1,"RCP6-WSA14R-8-垂直",10.5,0.3,140,"○","○"]
[2745,2941995,70,-1,-1,"RCP6-WSA14R-8-垂直",11,0.3,70,"○","○"]
[2746,6864654.9999999991,420,-1,-1,"RCP6-WSA14R-16-水平",3.5,0.7,420,"○","○"]
[2747,2941995,420,-1,-1,"RCP6-WSA14R-16-水平",9.5,0.3,420,"○","○"]
[2748,6864654.9999999991,280,-1,-1,"RCP6-WSA14R-16-水平",12.5,0.7,280,"○","○"]
[2749,2941995,280,-1,-1,"RCP6-WSA14R-16-水平",22.5,0.3,280,"○","○"]
[2750,6864654.9999999991,140,-1,-1,"RCP6-WSA14R-16-水平",24.5,0.7,140,"○","○"]
[2751,2941995,140,-1,-1,"RCP6-WSA14R-16-水平",33,0.3,140,"○","○"]
[2752,6864654.9999999991,560,-1,-1,"RCP6-WSA14R-24-水平",3,0.7,560,"○","○"]
[2753,2941995,560,-1,-1,"RCP6-WSA14R-24-水平",7.5,0.3,560,"○","○"]
[2754,6864654.9999999991,420,-1,-1,"RCP6-WSA14R-24-水平",8,0.7,420,"○","○"]
[2755,6864654.9999999991,140,-1,-1,"RCP6-WSA14R-24-水平",12,0.7,140,"○","○"]
[2756,2941995,420,-1,-1,"RCP6-WSA14R-24-水平",13,0.3,420,"○","○"]
[2757,2941995,140,-1,-1,"RCP6-WSA14R-24-水平",15.5,0.3,140,"○","○"]
[2758,6864654.9999999991,130,-1,-1,"RCP6-RA4C-2.5-水平",10,0.7,130,"○","○"]
[2759,6864654.9999999991,105,-1,-1,"RCP6-RA4C-2.5-水平",15,0.7,105,"○","○"]
[2760,2941995,130,-1,{"$f":"A2764","v":2761},"RCP6-RA4C-2.5-水平",20,0.3,130,"○","○"]
[2761,6864654.9999999991,85,{"$f":"A2763","v":2760},-1,null,null,0.7,85,"○","○"]
[{"$f":"A2764+1","v":2762},{"$f":"H2765*$A$1*1000*1000","v":2941995},{"$f":"I2765","v":105},-1,{"$f":"A2766","v":2763},"RCP6-RA4C-2.5-水平",25,0.3,105,{"$f":"IF(G2765=0,IF(D2765<>A2764,\"ﾘﾝｸ不正\",\"○\"),\"○\")","v":"○"},{"$f":"IF(D2766<>-1,IF(E2765<>A2766,\"ﾘﾝｸ不正\",\"○\"),\"○\")","v":"○"}]
[2763,6864654.9999999991,65,{"$f":"A2765","v":2762},-1,null,null,0.7,65,"○","○"]
[2764,2941995,85,-1,{"$f":"A2768","v":2765},"RCP6-RA4C-2.5-水平",30,0.3,85,"○","○"]
[2765,6864654.9999999991,40,{"$f":"A2767","v":2764},-1,null,null,0.7,40,"○","○"]
[2766,2941995,65,-1,-1,"RCP6-RA4C-2.5-水平",35,0.3,65,"○","○"]
[2767,2941995,130,-1,-1,"RCP6-RA4C-2.5-垂直",4,0.3,130,"○","○"]
[2768,2941995,105,-1,-1,"RCP6-RA4C-2.5-垂直",5,0.3,105,"○","○"]
[2769,2941995,85,-1,-1,"RCP6-RA4C-2.5-垂直",7,0.3,85,"○","○"]
[2770,2941995,65,-1,-1,"RCP6-RA4C-2.5-垂直",10,0.3,65,"○","○"]
[2771,6864654.9999999991,260,-1,-1,"RCP6-RA4C-5-水平",6,0.7,260,"○","○"]
[2772,6864654.9999999991,215,-1,-1,"RCP6-RA4C-5-水平",10,0.7,215,"○","○"]
[2773,2941995,260,-1,-1,"RCP6-RA4C-5-水平",12,0.3,260,"○","○"]
[2774,6864654.9999999991,175,-1,-1,"RCP6-RA4C-5-水平",14,0.7,175,"○","○"]
[2775,2941995,215,-1,-1,"RCP6-RA4C-5-水平",15,0.3,215,"○","○"]
[2776,6864654.9999999991,130,-1,-1,"RCP6-RA4C-5-水平",18,0.7,130,"○","○"]
[2777,2941995,175,-1,{"$f":"A2781","v":2778},"RCP6-RA4C-5-水平",20,0.3,175,"○","○"]
[2778,6864654.9999999991,85,{"$f":"A2780","v":2777},-1,null,null,0.7,85,"○","○"]
[2779,2941995,130,-1,-1,"RCP6-RA4C-5-水平",22,0.3,130,"○","○"]
[2780,2941995,260,-1,-1,"RCP6-RA4C-5-垂直",2,0.3,260,"○","○"]
[2781,2941995,215,-1,-1,"RCP6-RA4C-5-垂直",3,0.3,215,"○","○"]
[2782,2941995,175,-1,-1,"RCP6-RA4C-5-垂直",4,0.3,175,"○","○"]
[2783,2941995,130,-1,-1,"RCP6-RA4C-5-垂直",5,0.3,130,"○","○"]
[2784,2941995,525,-1,-1,"RCP6-RA4C-10-水平",1,0.3,525,"○","○"]
[2785,6864654.9999999991,435,-1,-1,"RCP6-RA4C-10-水平",3,0.7,435,"○","○"]
[2786,6864654.9999999991,350,-1,-1,"RCP6-RA4C-10-水平",5,0.7,350,"○","○"]
[2787,2941995,435,-1,-1,"RCP6-RA4C-10-水平",6,0.3,435,"○","○"]
[2788,2941995,350,-1,{"$f":"A2792","v":2789},"RCP6-RA4C-10-水平",7,0.3,350,"○","○"]
[2789,6864654.9999999991,260,{"$f":"A2791","v":2788},-1,null,null,0.7,260,"○","○"]
[2790,6864654.9999999991,175,-1,-1,"RCP6-RA4C-10-水平",8,0.7,175,"○","○"]
[2791,2941995,260,-1,-1,"RCP6-RA4C-10-水平",9,0.3,260,"○","○"]
[2792,2941995,175,-1,-1,"RCP6-RA4C-10-水平",10,0.3,175,"○","○"]
[2793,2941995,525,-1,-1,"RCP6-RA4C-10-垂直",0.5,0.3,525,"○","○"]
[2794,2941995,435,-1,-1,"RCP6-RA4C-10-垂直",1,0.3,435,"○","○"]
[2795,2941995,350,-1,-1,"RCP6-RA4C-10-垂直",1.5,0.3,350,"○","○"]
[2796,2941995,260,-1,-1,"RCP6-RA4C-10-垂直",2,0.3,260,"○","○"]
[2797,6864654.9999999991,560,-1,-1,"RCP6-RA4C-16-水平",1.5,0.7,560,"○","○"]
[2798,6864654.9999999991,420,-1,-1,"RCP6-RA4C-16-水平",2.5,0.7,420,"○","○"]
[2799,2941995,560,-1,{"$f":"A2803","v":2800},"RCP6-RA4C-16-水平",3,0.3,560,"○","○"]
[2800,6864654.9999999991,280,{"$f":"A2802","v":2799},-1,null,null,0.7,280,"○","○"]
[2801,2941995,420,-1,-1,"RCP6-RA4C-16-水平",4,0.3,420,"○","○"]
[2802,2941995,280,-1,-1,"RCP6-RA4C-16-水平",5,0.3,280,"○","○"]
[2803,2941995,560,-1,-1,"RCP6-RA4C-16-垂直",0.5,0.3,560,"○","○"]
[2804,2941995,280,-1,-1,"RCP6-RA4C-16-垂直",1,0.3,280,"○","○"]
[2805,6864654.9999999991,125,-1,-1,"RCP6-RA6C-3-水平",25,0.7,125,"○","○"]
[2806,2941995,125,-1,-1,"RCP6-RA6C-3-水平",40,0.3,125,"○","○"]
[2807,2941995,125,-1,-1,"RCP6-RA6C-3-垂直",5,0.3,125,"○","○"]
[2808,2941995,100,-1,-1,"RCP6-RA6C-3-垂直",9,0.3,100,"○","○"]
[2809,2941995,75,-1,-1,"RCP6-RA6C-3-垂直",12,0.3,75,"○","○"]
[2810,2941995,50,-1,-1,"RCP6-RA6C-3-垂直",20,0.3,50,"○","○"]
[2811,6864654.9999999991,250,-1,-1,"RCP6-RA6C-6-水平",6,0.7,250,"○","○"]
[2812,2941995,250,-1,-1,"RCP6-RA6C-6-水平",10,0.3,250,"○","○"]
[2813,6864654.9999999991,200,-1,-1,"RCP6-RA6C-6-水平",18,0.7,200,"○","○"]
[2814,6864654.9999999991,150,-1,-1,"RCP6-RA6C-6-水平",20,0.7,150,"○","○"]
[2815,2941995,200,-1,-1,"RCP6-RA6C-6-水平",35,0.3,200,"○","○"]
[2816,2941995,150,-1,-1,"RCP6-RA6C-6-水平",40,0.3,150,"○","○"]
[2817,2941995,250,-1,-1,"RCP6-RA6C-6-垂直",3,0.3,250,"○","○"]
[2818,2941995,200,-1,-1,"RCP6-RA6C-6-垂直",5,0.3,200,"○","○"]
[2819,2941995,150,-1,-1,"RCP6-RA6C-6-垂直",8,0.3,150,"○","○"]
[2820,2941995,100,-1,-1,"RCP6-RA6C-6-垂直",10,0.3,100,"○","○"]
[2821,6864654.9999999991,500,-1,-1,"RCP6-RA6C-12-水平",2,0.7,500,"○","○"]
[2822,2941995,500,-1,{"$f":"A2826","v":2823},"RCP6-RA6C-12-水平",5,0.3,500,"○","○"]
[2823,6864654.9999999991,400,{"$f":"A2825","v":2822},-1,null,null,0.7,400,"○","○"]
[2824,6864654.9999999991,300,-1,-1,"RCP6-RA6C-12-水平",8,0.7,300,"○","○"]
[2825,2941995,400,-1,{"$f":"A2829","v":2826},"RCP6-RA6C-12-水平",10,0.3,400,"○","○"]
[{"$f":"A2828+1","v":2826},{"$f":"H2829*$A$1*1000*1000","v":6864654.9999999991},{"$f":"I2829","v":200},{"$f":"A2828","v":2825},-1,null,null,0.7,200,{"$f":"IF(G2829=0,IF(D2829<>A2828,\"ﾘﾝｸ不正\",\"○\"),\"○\")","v":"○"},{"$f":"IF(D2830<>-1,IF(E2829<>A2830,\"ﾘﾝｸ不正\",\"○\"),\"○\")","v":"○"}]
[2827,2941995,300,-1,-1,"RCP6-RA6C-12-水平",20,0.3,300,"○","○"]
[2828,2941995,200,-1,-1,"RCP6-RA6C-12-水平",25,0.3,200,"○","○"]
[2829,2941995,500,-1,-1,"RCP6-RA6C-12-垂直",1,0.3,500,"○","○"]
[2830,2941995,400,-1,-1,"RCP6-RA6C-12-垂直",2,0.3,400,"○","○"]
[2831,2941995,300,-1,-1,"RCP6-RA6C-12-垂直",3,0.3,300,"○","○"]
[2832,2941995,200,-1,-1,"RCP6-RA6C-12-垂直",4,0.3,200,"○","○"]
[2833,6864654.9999999991,640,-1,-1,"RCP6-RA6C-20-水平",1,0.7,640,"○","○"]
[2834,2941995,640,-1,{"$f":"A2838","v":2835},"RCP6-RA6C-20-水平",3,0.3,640,"○","○"]
[2835,6864654.9999999991,480,{"$f":"A2837","v":2834},-1,null,null,0.7,480,"○","○"]
[2836,2941995,480,-1,{"$f":"A2840","v":2837},"RCP6-RA6C-20-水平",4,0.3,480,"○","○"]
[2837,6864654.9999999991,320,{"$f":"A2839","v":2836},-1,null,null,0.7,320,"○","○"]
[2838,6864654.9999999991,160,-1,-1,"RCP6-RA6C-20-水平",5,0.7,160,"○","○"]
[2839,2941995,320,-1,-1,"RCP6-RA6C-20-水平",6,0.3,320,"○","○"]
[2840,2941995,640,-1,-1,"RCP6-RA6C-20-垂直",0.5,0.3,640,"○","○"]
[2841,2941995,480,-1,-1,"RCP6-RA6C-20-垂直",1,0.3,480,"○","○"]
[2842,6864654.9999999991,105,-1,-1,"RCP6-RA7C-4-水平",15,0.7,105,"○","○"]
[2843,2941995,105,-1,-1,"RCP6-RA7C-4-水平",30,0.3,105,"○","○"]
[2844,6864654.9999999991,70,-1,-1,"RCP6-RA7C-4-水平",50,0.7,70,"○","○"]
[2845,2941995,70,-1,-1,"RCP6-RA7C-4-水平",55,0.3,70,"○","○"]
[2846,2941995,105,-1,-1,"RCP6-RA7C-4-垂直",2,0.3,105,"○","○"]
[2847,2941995,70,-1,-1,"RCP6-RA7C-4-垂直",13,0.3,70,"○","○"]
[2848,2941995,35,-1,-1,"RCP6-RA7C-4-垂直",26,0.3,35,"○","○"]
[2849,6864654.9999999991,210,-1,-1,"RCP6-RA7C-8-水平",7,0.7,210,"○","○"]
[2850,2941995,210,-1,-1,"RCP6-RA7C-8-水平",14,0.3,210,"○","○"]
[2851,6864654.9999999991,140,-1,-1,"RCP6-RA7C-8-水平",30,0.7,140,"○","○"]
[2852,2941995,140,-1,-1,"RCP6-RA7C-8-水平",50,0.3,140,"○","○"]
[2853,2941995,210,-1,-1,"RCP6-RA7C-8-垂直",2,0.3,210,"○","○"]
[2854,2941995,140,-1,-1,"RCP6-RA7C-8-垂直",7,0.3,140,"○","○"]
[2855,2941995,70,-1,-1,"RCP6-RA7C-8-垂直",17.5,0.3,70,"○","○"]
[2856,6864654.9999999991,420,-1,-1,"RCP6-RA7C-16-水平",1,0.7,420,"○","○"]
[2857,2941995,420,-1,-1,"RCP6-RA7C-16-水平",1.5,0.3,420,"○","○"]
[2858,6864654.9999999991,280,-1,-1,"RCP6-RA7C-16-水平",12,0.7,280,"○","○"]
[2859,2941995,280,-1,-1,"RCP6-RA7C-16-水平",18,0.3,280,"○","○"]
[2860,6864654.9999999991,140,-1,-1,"RCP6-RA7C-16-水平",25,0.7,140,"○","○"]
[2861,2941995,140,-1,-1,"RCP6-RA7C-16-水平",40,0.3,140,"○","○"]
[2862,2941995,280,-1,-1,"RCP6-RA7C-16-垂直",2,0.3,280,"○","○"]
[2863,2941995,140,-1,-1,"RCP6-RA7C-16-垂直",5,0.3,140,"○","○"]
[2864,2941995,600,-1,-1,"RCP6-RA7C-24-水平",1,0.3,600,"○","○"]
[2865,6864654.9999999991,420,-1,-1,"RCP6-RA7C-24-水平",5,0.7,420,"○","○"]
[2866,6864654.9999999991,400,-1,-1,"RCP6-RA7C-24-水平",6,0.7,400,"○","○"]
[2867,6864654.9999999991,200,-1,-1,"RCP6-RA7C-24-水平",9.5,0.7,200,"○","○"]
[2868,2941995,420,-1,-1,"RCP6-RA7C-24-水平",10,0.3,420,"○","○"]
[2869,2941995,400,-1,-1,"RCP6-RA7C-24-水平",11,0.3,400,"○","○"]
[2870,2941995,200,-1,-1,"RCP6-RA7C-24-水平",18,0.3,200,"○","○"]
[2871,2941995,400,-1,-1,"RCP6-RA7C-24-垂直",1.5,0.3,400,"○","○"]
[2872,2941995,200,-1,-1,"RCP6-RA7C-24-垂直",3,0.3,200,"○","○"]
[2873,6864654.9999999991,130,-1,-1,"RCP6-RA4R-2.5-水平",10,0.7,130,"○","○"]
[2874,6864654.9999999991,105,-1,-1,"RCP6-RA4R-2.5-水平",15,0.7,105,"○","○"]
[2875,2941995,130,-1,{"$f":"A2879","v":2876},"RCP6-RA4R-2.5-水平",20,0.3,130,"○","○"]
[2876,6864654.9999999991,85,{"$f":"A2878","v":2875},-1,null,null,0.7,85,"○","○"]
[2877,2941995,105,-1,{"$f":"A2881","v":2878},"RCP6-RA4R-2.5-水平",25,0.3,105,"○","○"]
[2878,6864654.9999999991,65,{"$f":"A2880","v":2877},-1,null,null,0.7,65,"○","○"]
[2879,2941995,85,-1,{"$f":"A2883","v":2880},"RCP6-RA4R-2.5-水平",30,0.3,85,"○","○"]
[2880,6864654.9999999991,40,{"$f":"A2882","v":2879},-1,null,null,0.7,40,"○","○"]
[2881,2941995,65,-1,-1,"RCP6-RA4R-2.5-水平",35,0.3,65,"○","○"]
[2882,2941995,130,-1,-1,"RCP6-RA4R-2.5-垂直",4,0.3,130,"○","○"]
[2883,2941995,105,-1,-1,"RCP6-RA4R-2.5-垂直",5,0.3,105,"○","○"]
[2884,2941995,85,-1,-1,"RCP6-RA4R-2.5-垂直",7,0.3,85,"○","○"]
[2885,2941995,65,-1,-1,"RCP6-RA4R-2.5-垂直",10,0.3,65,"○","○"]
[2886,6864654.9999999991,260,-1,-1,"RCP6-RA4R-5-水平",6,0.7,260,"○","○"]
[2887,6864654.9999999991,215,-1,-1,"RCP6-RA4R-5-水平",10,0.7,215,"○","○"]
[2888,2941995,260,-1,-1,"RCP6-RA4R-5-水平",12,0.3,260,"○","○"]
[2889,6864654.9999999991,175,-1,-1,"RCP6-RA4R-5-水平",14,0.7,175,"○","○"]
[{"$f":"A2892+1","v":2890},{"$f":"H2893*$A$1*1000*1000","v":2941995},{"$f":"I2893","v":215},-1,-1,"RCP6-RA4R-5-水平",15,0.3,215,{"$f":"IF(G2893=0,IF(D2893<>A2892,\"ﾘﾝｸ不正\",\"○\"),\"○\")","v":"○"},{"$f":"IF(D2894<>-1,IF(E2893<>A2894,\"ﾘﾝｸ不正\",\"○\"),\"○\")","v":"○"}]
[2891,6864654.9999999991,130,-1,-1,"RCP6-RA4R-5-水平",18,0.7,130,"○","○"]
[2892,2941995,175,-1,{"$f":"A2896","v":2893},"RCP6-RA4R-5-水平",20,0.3,175,"○","○"]
[2893,6864654.9999999991,85,{"$f":"A2895","v":2892},-1,null,null,0.7,85,"○","○"]
[2894,2941995,130,-1,-1,"RCP6-RA4R-5-水平",22,0.3,130,"○","○"]
[2895,2941995,260,-1,-1,"RCP6-RA4R-5-垂直",2,0.3,260,"○","○"]
[2896,2941995,215,-1,-1,"RCP6-RA4R-5-垂直",3,0.3,215,"○","○"]
[2897,2941995,175,-1,-1,"RCP6-RA4R-5-垂直",4,0.3,175,"○","○"]
[2898,2941995,130,-1,-1,"RCP6-RA4R-5-垂直",5,0.3,130,"○","○"]
[2899,2941995,525,-1,-1,"RCP6-RA4R-10-水平",1,0.3,525,"○","○"]
[2900,6864654.9999999991,435,-1,-1,"RCP6-RA4R-10-水平",3,0.7,435,"○","○"]
[2901,6864654.9999999991,350,-1,-1,"RCP6-RA4R-10-水平",5,0.7,350,"○","○"]
[2902,2941995,435,-1,-1,"RCP6-RA4R-10-水平",6,0.3,435,"○","○"]
[2903,2941995,350,-1,{"$f":"A2907","v":2904},"RCP6-RA4R-10-水平",7,0.3,350,"○","○"]
[2904,6864654.9999999991,260,{"$f":"A2906","v":2903},-1,null,null,0.7,260,"○","○"]
[2905,6864654.9999999991,175,-1,-1,"RCP6-RA4R-10-水平",8,0.7,175,"○","○"]
[2906,2941995,260,-1,-1,"RCP6-RA4R-10-水平",9,0.3,260,"○","○"]
[2907,2941995,175,-1,-1,"RCP6-RA4R-10-水平",10,0.3,175,"○","○"]
[2908,2941995,525,-1,-1,"RCP6-RA4R-10-垂直",0.5,0.3,525,"○","○"]
[2909,2941995,435,-1,-1,"RCP6-RA4R-10-垂直",1,0.3,435,"○","○"]
[2910,2941995,350,-1,-1,"RCP6-RA4R-10-垂直",1.5,0.3,350,"○","○"]
[2911,2941995,260,-1,-1,"RCP6-RA4R-10-垂直",2,0.3,260,"○","○"]
[2912,6864654.9999999991,560,-1,-1,"RCP6-RA4R-16-水平",1.5,0.7,560,"○","○"]
[2913,6864654.9999999991,420,-1,-1,"RCP6-RA4R-16-水平",2.5,0.7,420,"○","○"]
[2914,2941995,560,-1,{"$f":"A2918","v":2915},"RCP6-RA4R-16-水平",3,0.3,560,"○","○"]
[2915,6864654.9999999991,280,{"$f":"A2917","v":2914},-1,null,null,0.7,280,"○","○"]
[2916,2941995,420,-1,-1,"RCP6-RA4R-16-水平",4,0.3,420,"○","○"]
[2917,2941995,280,-1,-1,"RCP6-RA4R-16-水平",5,0.3,280,"○","○"]
[2918,2941995,560,-1,-1,"RCP6-RA4R-16-垂直",0.5,0.3,560,"○","○"]
[2919,2941995,280,-1,-1,"RCP6-RA4R-16-垂直",1,0.3,280,"○","○"]
[2920,6864654.9999999991,125,-1,-1,"RCP6-RA6R-3-水平",25,0.7,125,"○","○"]
[2921,2941995,125,-1,-1,"RCP6-RA6R-3-水平",40,0.3,125,"○","○"]
[2922,2941995,125,-1,-1,"RCP6-RA6R-3-垂直",5,0.3,125,"○","○"]
[2923,2941995,100,-1,-1,"RCP6-RA6R-3-垂直",9,0.3,100,"○","○"]
[2924,2941995,75,-1,-1,"RCP6-RA6R-3-垂直",12,0.3,75,"○","○"]
[2925,2941995,50,-1,-1,"RCP6-RA6R-3-垂直",20,0.3,50,"○","○"]
[2926,6864654.9999999991,250,-1,-1,"RCP6-RA6R-6-水平",6,0.7,250,"○","○"]
[2927,2941995,250,-1,-1,"RCP6-RA6R-6-水平",10,0.3,250,"○","○"]
[2928,6864654.9999999991,200,-1,-1,"RCP6-RA6R-6-水平",18,0.7,200,"○","○"]
[2929,6864654.9999999991,150,-1,-1,"RCP6-RA6R-6-水平",20,0.7,150,"○","○"]
[2930,2941995,200,-1,-1,"RCP6-RA6R-6-水平",35,0.3,200,"○","○"]
[2931,2941995,150,-1,-1,"RCP6-RA6R-6-水平",40,0.3,150,"○","○"]
[2932,2941995,250,-1,-1,"RCP6-RA6R-6-垂直",3,0.3,250,"○","○"]
[2933,2941995,200,-1,-1,"RCP6-RA6R-6-垂直",5,0.3,200,"○","○"]
[2934,2941995,150,-1,-1,"RCP6-RA6R-6-垂直",8,0.3,150,"○","○"]
[2935,2941995,100,-1,-1,"RCP6-RA6R-6-垂直",10,0.3,100,"○","○"]
[2936,6864654.9999999991,500,-1,-1,"RCP6-RA6R-12-水平",2,0.7,500,"○","○"]
[2937,2941995,500,-1,{"$f":"A2941","v":2938},"RCP6-RA6R-12-水平",5,0.3,500,"○","○"]
[2938,6864654.9999999991,400,{"$f":"A2940","v":2937},-1,null,null,0.7,400,"○","○"]
[2939,6864654.9999999991,300,-1,-1,"RCP6-RA6R-12-水平",8,0.7,300,"○","○"]
[2940,2941995,400,-1,{"$f":"A2944","v":2941},"RCP6-RA6R-12-水平",10,0.3,400,"○","○"]
[2941,6864654.9999999991,200,{"$f":"A2943","v":2940},-1,null,null,0.7,200,"○","○"]
[2942,2941995,300,-1,-1,"RCP6-RA6R-12-水平",20,0.3,300,"○","○"]
[2943,2941995,200,-1,-1,"RCP6-RA6R-12-水平",25,0.3,200,"○","○"]
[2944,2941995,500,-1,-1,"RCP6-RA6R-12-垂直",1,0.3,500,"○","○"]
[2945,2941995,400,-1,-1,"RCP6-RA6R-12-垂直",2,0.3,400,"○","○"]
[2946,2941995,300,-1,-1,"RCP6-RA6R-12-垂直",3,0.3,300,"○","○"]
[2947,2941995,200,-1,-1,"RCP6-RA6R-12-垂直",4,0.3,200,"○","○"]
[2948,6864654.9999999991,640,-1,-1,"RCP6-RA6R-20-水平",1,0.7,640,"○","○"]
[2949,2941995,640,-1,{"$f":"A2953","v":2950},"RCP6-RA6R-20-水平",3,0.3,640,"○","○"]
[2950,6864654.9999999991,480,{"$f":"A2952","v":2949},-1,null,null,0.7,480,"○","○"]
[2951,2941995,480,-1,{"$f":"A2955","v":2952},"RCP6-RA6R-20-水平",4,0.3,480,"○","○"]
[2952,6864654.9999999991,320,{"$f":"A2954","v":2951},-1,null,null,0.7,320,"○","○"]
[2953,6864654.9999999991,160,-1,-1,"RCP6-RA6R-20-水平",5,0.7,160,"○","○"]
[{"$f":"A2956+1","v":2954},{"$f":"H2957*$A$1*1000*1000","v":2941995},{"$f":"I2957","v":320},-1,-1,"RCP6-RA6R-20-水平",6,0.3,320,{"$f":"IF(G2957=0,IF(D2957<>A2956,\"ﾘﾝｸ不正\",\"○\"),\"○\")","v":"○"},{"$f":"IF(D2958<>-1,IF(E2957<>A2958,\"ﾘﾝｸ不正\",\"○\"),\"○\")","v":"○"}]
[2955,2941995,640,-1,-1,"RCP6-RA6R-20-垂直",0.5,0.3,640,"○","○"]
[2956,2941995,480,-1,-1,"RCP6-RA6R-20-垂直",1,0.3,480,"○","○"]
[2957,6864654.9999999991,105,-1,-1,"RCP6-RA7R-4-水平",15,0.7,105,"○","○"]
[2958,2941995,105,-1,-1,"RCP6-RA7R-4-水平",30,0.3,105,"○","○"]
[2959,6864654.9999999991,70,-1,-1,"RCP6-RA7R-4-水平",50,0.7,70,"○","○"]
[2960,2941995,70,-1,-1,"RCP6-RA7R-4-水平",55,0.3,70,"○","○"]
[2961,2941995,105,-1,-1,"RCP6-RA7R-4-垂直",2,0.3,105,"○","○"]
[2962,2941995,70,-1,-1,"RCP6-RA7R-4-垂直",13,0.3,70,"○","○"]
[2963,2941995,35,-1,-1,"RCP6-RA7R-4-垂直",26,0.3,35,"○","○"]
[2964,6864654.9999999991,210,-1,-1,"RCP6-RA7R-8-水平",7,0.7,210,"○","○"]
[2965,2941995,210,-1,-1,"RCP6-RA7R-8-水平",14,0.3,210,"○","○"]
[2966,6864654.9999999991,140,-1,-1,"RCP6-RA7R-8-水平",30,0.7,140,"○","○"]
[2967,2941995,140,-1,-1,"RCP6-RA7R-8-水平",50,0.3,140,"○","○"]
[2968,2941995,210,-1,-1,"RCP6-RA7R-8-垂直",2,0.3,210,"○","○"]
[2969,2941995,140,-1,-1,"RCP6-RA7R-8-垂直",7,0.3,140,"○","○"]
[2970,2941995,70,-1,-1,"RCP6-RA7R-8-垂直",17.5,0.3,70,"○","○"]
[2971,6864654.9999999991,420,-1,-1,"RCP6-RA7R-16-水平",1,0.7,420,"○","○"]
[2972,2941995,420,-1,-1,"RCP6-RA7R-16-水平",1.5,0.3,420,"○","○"]
[2973,6864654.9999999991,280,-1,-1,"RCP6-RA7R-16-水平",12,0.7,280,"○","○"]
[2974,2941995,280,-1,-1,"RCP6-RA7R-16-水平",18,0.3,280,"○","○"]
[2975,6864654.9999999991,140,-1,-1,"RCP6-RA7R-16-水平",25,0.7,140,"○","○"]
[2976,2941995,140,-1,-1,"RCP6-RA7R-16-水平",40,0.3,140,"○","○"]
[2977,2941995,280,-1,-1,"RCP6-RA7R-16-垂直",2,0.3,280,"○","○"]
[2978,2941995,140,-1,-1,"RCP6-RA7R-16-垂直",5,0.3,140,"○","○"]
[2979,2941995,600,-1,-1,"RCP6-RA7R-24-水平",1,0.3,600,"○","○"]
[2980,6864654.9999999991,420,-1,-1,"RCP6-RA7R-24-水平",5,0.7,420,"○","○"]
[2981,6864654.9999999991,400,-1,-1,"RCP6-RA7R-24-水平",6,0.7,400,"○","○"]
[2982,6864654.9999999991,200,-1,-1,"RCP6-RA7R-24-水平",9.5,0.7,200,"○","○"]
[2983,2941995,420,-1,-1,"RCP6-RA7R-24-水平",10,0.3,420,"○","○"]
[2984,2941995,400,-1,-1,"RCP6-RA7R-24-水平",11,0.3,400,"○","○"]
[2985,2941995,200,-1,-1,"RCP6-RA7R-24-水平",18,0.3,200,"○","○"]
[2986,2941995,400,-1,-1,"RCP6-RA7R-24-垂直",1.5,0.3,400,"○","○"]
[2987,2941995,200,-1,-1,"RCP6-RA7R-24-垂直",3,0.3,200,"○","○"]
[2988,6864654.9999999991,130,-1,-1,"RCP6-RRA4C-2.5-水平",10,0.7,130,"○","○"]
[2989,6864654.9999999991,105,-1,-1,"RCP6-RRA4C-2.5-水平",15,0.7,105,"○","○"]
[2990,2941995,130,-1,{"$f":"A2994","v":2991},"RCP6-RRA4C-2.5-水平",20,0.3,130,"○","○"]
[2991,6864654.9999999991,85,{"$f":"A2993","v":2990},-1,null,null,0.7,85,"○","○"]
[2992,2941995,105,-1,{"$f":"A2996","v":2993},"RCP6-RRA4C-2.5-水平",25,0.3,105,"○","○"]
[2993,6864654.9999999991,65,{"$f":"A2995","v":2992},-1,null,null,0.7,65,"○","○"]
[2994,2941995,85,-1,{"$f":"A2998","v":2995},"RCP6-RRA4C-2.5-水平",30,0.3,85,"○","○"]
[2995,6864654.9999999991,40,{"$f":"A2997","v":2994},-1,null,null,0.7,40,"○","○"]
[2996,2941995,65,-1,-1,"RCP6-RRA4C-2.5-水平",35,0.3,65,"○","○"]
[2997,2941995,130,-1,-1,"RCP6-RRA4C-2.5-垂直",4,0.3,130,"○","○"]
[2998,2941995,105,-1,-1,"RCP6-RRA4C-2.5-垂直",5,0.3,105,"○","○"]
[2999,2941995,85,-1,-1,"RCP6-RRA4C-2.5-垂直",7,0.3,85,"○","○"]
[3000,2941995,65,-1,-1,"RCP6-RRA4C-2.5-垂直",10,0.3,65,"○","○"]
[3001,6864654.9999999991,260,-1,-1,"RCP6-RRA4C-5-水平",6,0.7,260,"○","○"]
[3002,6864654.9999999991,215,-1,-1,"RCP6-RRA4C-5-水平",10,0.7,215,"○","○"]
[3003,2941995,260,-1,-1,"RCP6-RRA4C-5-水平",12,0.3,260,"○","○"]
[3004,6864654.9999999991,175,-1,-1,"RCP6-RRA4C-5-水平",14,0.7,175,"○","○"]
[3005,2941995,215,-1,-1,"RCP6-RRA4C-5-水平",15,0.3,215,"○","○"]
[3006,6864654.9999999991,130,-1,-1,"RCP6-RRA4C-5-水平",18,0.7,130,"○","○"]
[3007,2941995,175,-1,{"$f":"A3011","v":3008},"RCP6-RRA4C-5-水平",20,0.3,175,"○","○"]
[3008,6864654.9999999991,85,{"$f":"A3010","v":3007},-1,null,null,0.7,85,"○","○"]
[3009,2941995,130,-1,-1,"RCP6-RRA4C-5-水平",22,0.3,130,"○","○"]
[3010,2941995,260,-1,-1,"RCP6-RRA4C-5-垂直",2,0.3,260,"○","○"]
[3011,2941995,215,-1,-1,"RCP6-RRA4C-5-垂直",3,0.3,215,"○","○"]
[3012,2941995,175,-1,-1,"RCP6-RRA4C-5-垂直",4,0.3,175,"○","○"]
[3013,2941995,130,-1,-1,"RCP6-RRA4C-5-垂直",5,0.3,130,"○","○"]
[3014,2941995,525,-1,-1,"RCP6-RRA4C-10-水平",1,0.3,525,"○","○"]
[3015,6864654.9999999991,435,-1,-1,"RCP6-RRA4C-10-水平",3,0.7,435,"○","○"]
[3016,6864654.9999999991,350,-1,-1,"RCP6-RRA4C-10-水平",5,0.7,350,"○","○"]
[3017,2941995,435,-1,-1,"RCP6-RRA4C-10-水平",6,0.3,435,"○","○"]
[{"$f":"A3020+1","v":3018},{"$f":"H3021*$A$1*1000*1000","v":2941995},{"$f":"I3021","v":350},-1,{"$f":"A3022","v":3019},"RCP6-RRA4C-10-水平",7,0.3,350,{"$f":"IF(G3021=0,IF(D3021<>A3020,\"ﾘﾝｸ不正\",\"○\"),\"○\")","v":"○"},{"$f":"IF(D3022<>-1,IF(E3021<>A3022,\"ﾘﾝｸ不正\",\"○\"),\"○\")","v":"○"}]
[3019,6864654.9999999991,260,{"$f":"A3021","v":3018},-1,null,null,0.7,260,"○","○"]
[3020,6864654.9999999991,175,-1,-1,"RCP6-RRA4C-10-水平",8,0.7,175,"○","○"]
[3021,2941995,260,-1,-1,"RCP6-RRA4C-10-水平",9,0.3,260,"○","○"]
[3022,2941995,175,-1,-1,"RCP6-RRA4C-10-水平",10,0.3,175,"○","○"]
[3023,2941995,525,-1,-1,"RCP6-RRA4C-10-垂直",0.5,0.3,525,"○","○"]
[3024,2941995,435,-1,-1,"RCP6-RRA4C-10-垂直",1,0.3,435,"○","○"]
[3025,2941995,350,-1,-1,"RCP6-RRA4C-10-垂直",1.5,0.3,350,"○","○"]
[3026,2941995,260,-1,-1,"RCP6-RRA4C-10-垂直",2,0.3,260,"○","○"]
[3027,6864654.9999999991,560,-1,-1,"RCP6-RRA4C-16-水平",1.5,0.7,560,"○","○"]
[3028,6864654.9999999991,420,-1,-1,"RCP6-RRA4C-16-水平",2.5,0.7,420,"○","○"]
[3029,2941995,560,-1,{"$f":"A3033","v":3030},"RCP6-RRA4C-16-水平",3,0.3,560,"○","○"]
[3030,6864654.9999999991,280,{"$f":"A3032","v":3029},-1,null,null,0.7,280,"○","○"]
[3031,2941995,420,-1,-1,"RCP6-RRA4C-16-水平",4,0.3,420,"○","○"]
[3032,2941995,280,-1,-1,"RCP6-RRA4C-16-水平",5,0.3,280,"○","○"]
[3033,2941995,560,-1,-1,"RCP6-RRA4C-16-垂直",0.5,0.3,560,"○","○"]
[3034,2941995,280,-1,-1,"RCP6-RRA4C-16-垂直",1,0.3,280,"○","○"]
[3035,6864654.9999999991,125,-1,-1,"RCP6-RRA6C-3-水平",25,0.7,125,"○","○"]
[3036,2941995,125,-1,-1,"RCP6-RRA6C-3-水平",40,0.3,125,"○","○"]
[3037,2941995,125,-1,-1,"RCP6-RRA6C-3-垂直",5,0.3,125,"○","○"]
[3038,2941995,100,-1,-1,"RCP6-RRA6C-3-垂直",9,0.3,100,"○","○"]
[3039,2941995,75,-1,-1,"RCP6-RRA6C-3-垂直",12,0.3,75,"○","○"]
[3040,2941995,50,-1,-1,"RCP6-RRA6C-3-垂直",20,0.3,50,"○","○"]
[3041,6864654.9999999991,250,-1,-1,"RCP6-RRA6C-6-水平",6,0.7,250,"○","○"]
[3042,2941995,250,-1,-1,"RCP6-RRA6C-6-水平",10,0.3,250,"○","○"]
[3043,6864654.9999999991,200,-1,-1,"RCP6-RRA6C-6-水平",18,0.7,200,"○","○"]
[3044,6864654.9999999991,150,-1,-1,"RCP6-RRA6C-6-水平",20,0.7,150,"○","○"]
[3045,2941995,200,-1,-1,"RCP6-RRA6C-6-水平",35,0.3,200,"○","○"]
[3046,2941995,150,-1,-1,"RCP6-RRA6C-6-水平",40,0.3,150,"○","○"]
[3047,2941995,250,-1,-1,"RCP6-RRA6C-6-垂直",3,0.3,250,"○","○"]
[3048,2941995,200,-1,-1,"RCP6-RRA6C-6-垂直",5,0.3,200,"○","○"]
[3049,2941995,150,-1,-1,"RCP6-RRA6C-6-垂直",8,0.3,150,"○","○"]
[3050,2941995,100,-1,-1,"RCP6-RRA6C-6-垂直",10,0.3,100,"○","○"]
[3051,6864654.9999999991,500,-1,-1,"RCP6-RRA6C-12-水平",2,0.7,500,"○","○"]
[3052,2941995,500,-1,{"$f":"A3056","v":3053},"RCP6-RRA6C-12-水平",5,0.3,500,"○","○"]
[3053,6864654.9999999991,400,{"$f":"A3055","v":3052},-1,null,null,0.7,400,"○","○"]
[3054,6864654.9999999991,300,-1,-1,"RCP6-RRA6C-12-水平",8,0.7,300,"○","○"]
[3055,2941995,400,-1,{"$f":"A3059","v":3056},"RCP6-RRA6C-12-水平",10,0.3,400,"○","○"]
[3056,6864654.9999999991,200,{"$f":"A3058","v":3055},-1,null,null,0.7,200,"○","○"]
[3057,2941995,300,-1,-1,"RCP6-RRA6C-12-水平",20,0.3,300,"○","○"]
[3058,2941995,200,-1,-1,"RCP6-RRA6C-12-水平",25,0.3,200,"○","○"]
[3059,2941995,500,-1,-1,"RCP6-RRA6C-12-垂直",1,0.3,500,"○","○"]
[3060,2941995,400,-1,-1,"RCP6-RRA6C-12-垂直",2,0.3,400,"○","○"]
[3061,2941995,300,-1,-1,"RCP6-RRA6C-12-垂直",3,0.3,300,"○","○"]
[3062,2941995,200,-1,-1,"RCP6-RRA6C-12-垂直",4,0.3,200,"○","○"]
[3063,6864654.9999999991,640,-1,-1,"RCP6-RRA6C-20-水平",1,0.7,640,"○","○"]
[3064,2941995,640,-1,{"$f":"A3068","v":3065},"RCP6-RRA6C-20-水平",3,0.3,640,"○","○"]
[3065,6864654.9999999991,480,{"$f":"A3067","v":3064},-1,null,null,0.7,480,"○","○"]
[3066,2941995,480,-1,-1,"RCP6-RRA6C-20-水平",4,0.3,480,"○","○"]
[3067,6864654.9999999991,320,-1,-1,"RCP6-RRA6C-20-水平",5,0.7,320,"○","○"]
[3068,2941995,320,-1,-1,"RCP6-RRA6C-20-水平",6,0.3,320,"○","○"]
[3069,2941995,640,-1,-1,"RCP6-RRA6C-20-垂直",0.5,0.3,640,"○","○"]
[3070,2941995,480,-1,-1,"RCP6-RRA6C-20-垂直",1,0.3,480,"○","○"]
[3071,6864654.9999999991,105,-1,-1,"RCP6-RRA7C-4-水平",15,0.7,105,"○","○"]
[3072,2941995,105,-1,-1,"RCP6-RRA7C-4-水平",30,0.3,105,"○","○"]
[3073,6864654.9999999991,70,-1,-1,"RCP6-RRA7C-4-水平",50,0.7,70,"○","○"]
[3074,2941995,70,-1,-1,"RCP6-RRA7C-4-水平",55,0.3,70,"○","○"]
[3075,2941995,105,-1,-1,"RCP6-RRA7C-4-垂直",2,0.3,105,"○","○"]
[3076,2941995,70,-1,-1,"RCP6-RRA7C-4-垂直",13,0.3,70,"○","○"]
[3077,2941995,35,-1,-1,"RCP6-RRA7C-4-垂直",26,0.3,35,"○","○"]
[3078,6864654.9999999991,210,-1,-1,"RCP6-RRA7C-8-水平",7,0.7,210,"○","○"]
[3079,2941995,210,-1,-1,"RCP6-RRA7C-8-水平",14,0.3,210,"○","○"]
[3080,6864654.9999999991,140,-1,-1,"RCP6-RRA7C-8-水平",30,0.7,140,"○","○"]
[3081,2941995,140,-1,-1,"RCP6-RRA7C-8-水平",50,0.3,140,"○","○"]
[{"$f":"A3084+1","v":3082},{"$f":"H3085*$A$1*1000*1000","v":2941995},{"$f":"I3085","v":210},-1,-1,"RCP6-RRA7C-8-垂直",2,0.3,210,{"$f":"IF(G3085=0,IF(D3085<>A3084,\"ﾘﾝｸ不正\",\"○\"),\"○\")","v":"○"},{"$f":"IF(D3086<>-1,IF(E3085<>A3086,\"ﾘﾝｸ不正\",\"○\"),\"○\")","v":"○"}]
[3083,2941995,140,-1,-1,"RCP6-RRA7C-8-垂直",7,0.3,140,"○","○"]
[3084,2941995,70,-1,-1,"RCP6-RRA7C-8-垂直",17.5,0.3,70,"○","○"]
[3085,6864654.9999999991,420,-1,-1,"RCP6-RRA7C-16-水平",1,0.7,420,"○","○"]
[3086,2941995,420,-1,-1,"RCP6-RRA7C-16-水平",1.5,0.3,420,"○","○"]
[3087,6864654.9999999991,280,-1,-1,"RCP6-RRA7C-16-水平",12,0.7,280,"○","○"]
[3088,2941995,280,-1,-1,"RCP6-RRA7C-16-水平",18,0.3,280,"○","○"]
[3089,6864654.9999999991,140,-1,-1,"RCP6-RRA7C-16-水平",25,0.7,140,"○","○"]
[3090,2941995,140,-1,-1,"RCP6-RRA7C-16-水平",40,0.3,140,"○","○"]
[3091,2941995,280,-1,-1,"RCP6-RRA7C-16-垂直",2,0.3,280,"○","○"]
[3092,2941995,140,-1,-1,"RCP6-RRA7C-16-垂直",5,0.3,140,"○","○"]
[3093,2941995,600,-1,-1,"RCP6-RRA7C-24-水平",1,0.3,600,"○","○"]
[3094,6864654.9999999991,420,-1,-1,"RCP6-RRA7C-24-水平",5,0.7,420,"○","○"]
[3095,6864654.9999999991,200,-1,-1,"RCP6-RRA7C-24-水平",9.5,0.7,200,"○","○"]
[3096,2941995,420,-1,-1,"RCP6-RRA7C-24-水平",10,0.3,420,"○","○"]
[3097,2941995,200,-1,-1,"RCP6-RRA7C-24-水平",18,0.3,200,"○","○"]
[3098,2941995,420,-1,-1,"RCP6-RRA7C-24-垂直",1.5,0.3,420,"○","○"]
[3099,2941995,200,-1,-1,"RCP6-RRA7C-24-垂直",3,0.3,200,"○","○"]
[3100,6864654.9999999991,130,-1,-1,"RCP6-RRA4R-2.5-水平",10,0.7,130,"○","○"]
[3101,6864654.9999999991,105,-1,-1,"RCP6-RRA4R-2.5-水平",15,0.7,105,"○","○"]
[3102,2941995,130,-1,{"$f":"A3106","v":3103},"RCP6-RRA4R-2.5-水平",20,0.3,130,"○","○"]
[3103,6864654.9999999991,85,{"$f":"A3105","v":3102},-1,null,null,0.7,85,"○","○"]
[3104,2941995,105,-1,{"$f":"A3108","v":3105},"RCP6-RRA4R-2.5-水平",25,0.3,105,"○","○"]
[3105,6864654.9999999991,65,{"$f":"A3107","v":3104},-1,null,null,0.7,65,"○","○"]
[3106,2941995,85,-1,{"$f":"A3110","v":3107},"RCP6-RRA4R-2.5-水平",30,0.3,85,"○","○"]
[3107,6864654.9999999991,40,{"$f":"A3109","v":3106},-1,null,null,0.7,40,"○","○"]
[3108,2941995,65,-1,-1,"RCP6-RRA4R-2.5-水平",35,0.3,65,"○","○"]
[3109,2941995,130,-1,-1,"RCP6-RRA4R-2.5-垂直",4,0.3,130,"○","○"]
[3110,2941995,105,-1,-1,"RCP6-RRA4R-2.5-垂直",5,0.3,105,"○","○"]
[3111,2941995,85,-1,-1,"RCP6-RRA4R-2.5-垂直",7,0.3,85,"○","○"]
[3112,2941995,65,-1,-1,"RCP6-RRA4R-2.5-垂直",10,0.3,65,"○","○"]
[3113,6864654.9999999991,260,-1,-1,"RCP6-RRA4R-5-水平",6,0.7,260,"○","○"]
[3114,6864654.9999999991,215,-1,-1,"RCP6-RRA4R-5-水平",10,0.7,215,"○","○"]
[3115,2941995,260,-1,-1,"RCP6-RRA4R-5-水平",12,0.3,260,"○","○"]
[3116,6864654.9999999991,175,-1,-1,"RCP6-RRA4R-5-水平",14,0.7,175,"○","○"]
[3117,2941995,215,-1,-1,"RCP6-RRA4R-5-水平",15,0.3,215,"○","○"]
[3118,6864654.9999999991,130,-1,-1,"RCP6-RRA4R-5-水平",18,0.7,130,"○","○"]
[3119,2941995,175,-1,{"$f":"A3123","v":3120},"RCP6-RRA4R-5-水平",20,0.3,175,"○","○"]
[3120,6864654.9999999991,85,{"$f":"A3122","v":3119},-1,null,null,0.7,85,"○","○"]
[3121,2941995,130,-1,-1,"RCP6-RRA4R-5-水平",22,0.3,130,"○","○"]
[3122,2941995,260,-1,-1,"RCP6-RRA4R-5-垂直",2,0.3,260,"○","○"]
[3123,2941995,215,-1,-1,"RCP6-RRA4R-5-垂直",3,0.3,215,"○","○"]
[3124,2941995,175,-1,-1,"RCP6-RRA4R-5-垂直",4,0.3,175,"○","○"]
[3125,2941995,130,-1,-1,"RCP6-RRA4R-5-垂直",5,0.3,130,"○","○"]
[3126,2941995,525,-1,-1,"RCP6-RRA4R-10-水平",1,0.3,525,"○","○"]
[3127,6864654.9999999991,435,-1,-1,"RCP6-RRA4R-10-水平",3,0.7,435,"○","○"]
[3128,6864654.9999999991,350,-1,-1,"RCP6-RRA4R-10-水平",5,0.7,350,"○","○"]
[3129,2941995,435,-1,-1,"RCP6-RRA4R-10-水平",6,0.3,435,"○","○"]
[3130,2941995,350,-1,{"$f":"A3134","v":3131},"RCP6-RRA4R-10-水平",7,0.3,350,"○","○"]
[3131,6864654.9999999991,260,{"$f":"A3133","v":3130},-1,null,null,0.7,260,"○","○"]
[3132,6864654.9999999991,175,-1,-1,"RCP6-RRA4R-10-水平",8,0.7,175,"○","○"]
[3133,2941995,260,-1,-1,"RCP6-RRA4R-10-水平",9,0.3,260,"○","○"]
[3134,2941995,175,-1,-1,"RCP6-RRA4R-10-水平",10,0.3,175,"○","○"]
[3135,2941995,525,-1,-1,"RCP6-RRA4R-10-垂直",0.5,0.3,525,"○","○"]
[3136,2941995,435,-1,-1,"RCP6-RRA4R-10-垂直",1,0.3,435,"○","○"]
[3137,2941995,350,-1,-1,"RCP6-RRA4R-10-垂直",1.5,0.3,350,"○","○"]
[3138,2941995,260,-1,-1,"RCP6-RRA4R-10-垂直",2,0.3,260,"○","○"]
[3139,6864654.9999999991,560,-1,-1,"RCP6-RRA4R-16-水平",1.5,0.7,560,"○","○"]
[3140,6864654.9999999991,420,-1,-1,"RCP6-RRA4R-16-水平",2.5,0.7,420,"○","○"]
[3141,2941995,560,-1,{"$f":"A3145","v":3142},"RCP6-RRA4R-16-水平",3,0.3,560,"○","○"]
[3142,6864654.9999999991,280,{"$f":"A3144","v":3141},-1,null,null,0.7,280,"○","○"]
[3143,2941995,420,-1,-1,"RCP6-RRA4R-16-水平",4,0.3,420,"○","○"]
[3144,2941995,280,-1,-1,"RCP6-RRA4R-16-水平",5,0.3,280,"○","○"]
[3145,2941995,560,-1,-1,"RCP6-RRA4R-16-垂直",0.5,0.3,560,"○","○"]
[{"$f":"A3148+1","v":3146},{"$f":"H3149*$A$1*1000*1000","v":2941995},{"$f":"I3149","v":280},-1,-1,"RCP6-RRA4R-16-垂直",1,0.3,280,{"$f":"IF(G3149=0,IF(D3149<>A3148,\"ﾘﾝｸ不正\",\"○\"),\"○\")","v":"○"},{"$f":"IF(D3150<>-1,IF(E3149<>A3150,\"ﾘﾝｸ不正\",\"○\"),\"○\")","v":"○"}]
[3147,6864654.9999999991,125,-1,-1,"RCP6-RRA6R-3-水平",25,0.7,125,"○","○"]
[3148,2941995,125,-1,-1,"RCP6-RRA6R-3-水平",40,0.3,125,"○","○"]
[3149,2941995,125,-1,-1,"RCP6-RRA6R-3-垂直",5,0.3,125,"○","○"]
[3150,2941995,100,-1,-1,"RCP6-RRA6R-3-垂直",9,0.3,100,"○","○"]
[3151,2941995,75,-1,-1,"RCP6-RRA6R-3-垂直",12,0.3,75,"○","○"]
[3152,2941995,50,-1,-1,"RCP6-RRA6R-3-垂直",20,0.3,50,"○","○"]
[3153,6864654.9999999991,250,-1,-1,"RCP6-RRA6R-6-水平",6,0.7,250,"○","○"]
[3154,2941995,250,-1,-1,"RCP6-RRA6R-6-水平",10,0.3,250,"○","○"]
[3155,6864654.9999999991,200,-1,-1,"RCP6-RRA6R-6-水平",18,0.7,200,"○","○"]
[3156,6864654.9999999991,150,-1,-1,"RCP6-RRA6R-6-水平",20,0.7,150,"○","○"]
[3157,2941995,200,-1,-1,"RCP6-RRA6R-6-水平",35,0.3,200,"○","○"]
[3158,2941995,150,-1,-1,"RCP6-RRA6R-6-水平",40,0.3,150,"○","○"]
[3159,2941995,250,-1,-1,"RCP6-RRA6R-6-垂直",3,0.3,250,"○","○"]
[3160,2941995,200,-1,-1,"RCP6-RRA6R-6-垂直",5,0.3,200,"○","○"]
[3161,2941995,150,-1,-1,"RCP6-RRA6R-6-垂直",8,0.3,150,"○","○"]
[3162,2941995,100,-1,-1,"RCP6-RRA6R-6-垂直",10,0.3,100,"○","○"]
[3163,6864654.9999999991,500,-1,-1,"RCP6-RRA6R-12-水平",2,0.7,500,"○","○"]
[3164,2941995,500,-1,{"$f":"A3168","v":3165},"RCP6-RRA6R-12-水平",5,0.3,500,"○","○"]
[3165,6864654.9999999991,400,{"$f":"A3167","v":3164},-1,null,null,0.7,400,"○","○"]
[3166,6864654.9999999991,300,-1,-1,"RCP6-RRA6R-12-水平",8,0.7,300,"○","○"]
[3167,2941995,400,-1,{"$f":"A3171","v":3168},"RCP6-RRA6R-12-水平",10,0.3,400,"○","○"]
[3168,6864654.9999999991,200,{"$f":"A3170","v":3167},-1,null,null,0.7,200,"○","○"]
[3169,2941995,300,-1,-1,"RCP6-RRA6R-12-水平",20,0.3,300,"○","○"]
[3170,2941995,200,-1,-1,"RCP6-RRA6R-12-水平",25,0.3,200,"○","○"]
[3171,2941995,500,-1,-1,"RCP6-RRA6R-12-垂直",1,0.3,500,"○","○"]
[3172,2941995,400,-1,-1,"RCP6-RRA6R-12-垂直",2,0.3,400,"○","○"]
[3173,2941995,300,-1,-1,"RCP6-RRA6R-12-垂直",3,0.3,300,"○","○"]
[3174,2941995,200,-1,-1,"RCP6-RRA6R-12-垂直",4,0.3,200,"○","○"]
[3175,6864654.9999999991,640,-1,-1,"RCP6-RRA6R-20-水平",1,0.7,640,"○","○"]
[3176,2941995,640,-1,{"$f":"A3180","v":3177},"RCP6-RRA6R-20-水平",3,0.3,640,"○","○"]
[3177,6864654.9999999991,480,{"$f":"A3179","v":3176},-1,null,null,0.7,480,"○","○"]
[3178,2941995,480,-1,-1,"RCP6-RRA6R-20-水平",4,0.3,480,"○","○"]
[3179,6864654.9999999991,320,-1,-1,"RCP6-RRA6R-20-水平",5,0.7,320,"○","○"]
[3180,2941995,320,-1,-1,"RCP6-RRA6R-20-水平",6,0.3,320,"○","○"]
[3181,2941995,640,-1,-1,"RCP6-RRA6R-20-垂直",0.5,0.3,640,"○","○"]
[3182,2941995,480,-1,-1,"RCP6-RRA6R-20-垂直",1,0.3,480,"○","○"]
[3183,6864654.9999999991,105,-1,-1,"RCP6-RRA7R-4-水平",15,0.7,105,"○","○"]
[3184,2941995,105,-1,-1,"RCP6-RRA7R-4-水平",30,0.3,105,"○","○"]
[3185,6864654.9999999991,70,-1,-1,"RCP6-RRA7R-4-水平",50,0.7,70,"○","○"]
[3186,2941995,70,-1,-1,"RCP6-RRA7R-4-水平",55,0.3,70,"○","○"]
[3187,2941995,105,-1,-1,"RCP6-RRA7R-4-垂直",2,0.3,105,"○","○"]
[3188,2941995,70,-1,-1,"RCP6-RRA7R-4-垂直",13,0.3,70,"○","○"]
[3189,2941995,35,-1,-1,"RCP6-RRA7R-4-垂直",26,0.3,35,"○","○"]
[3190,6864654.9999999991,210,-1,-1,"RCP6-RRA7R-8-水平",7,0.7,210,"○","○"]
[3191,2941995,210,-1,-1,"RCP6-RRA7R-8-水平",14,0.3,210,"○","○"]
[3192,6864654.9999999991,140,-1,-1,"RCP6-RRA7R-8-水平",30,0.7,140,"○","○"]
[3193,2941995,140,-1,-1,"RCP6-RRA7R-8-水平",50,0.3,140,"○","○"]
[3194,2941995,210,-1,-1,"RCP6-RRA7R-8-垂直",2,0.3,210,"○","○"]
[3195,2941995,140,-1,-1,"RCP6-RRA7R-8-垂直",7,0.3,140,"○","○"]
[3196,2941995,70,-1,-1,"RCP6-RRA7R-8-垂直",17.5,0.3,70,"○","○"]
[3197,6864654.9999999991,420,-1,-1,"RCP6-RRA7R-16-水平",1,0.7,420,"○","○"]
[3198,2941995,420,-1,-1,"RCP6-RRA7R-16-水平",1.5,0.3,420,"○","○"]
[3199,6864654.9999999991,280,-1,-1,"RCP6-RRA7R-16-水平",12,0.7,280,"○","○"]
[3200,2941995,280,-1,-1,"RCP6-RRA7R-16-水平",18,0.3,280,"○","○"]
[3201,6864654.9999999991,140,-1,-1,"RCP6-RRA7R-16-水平",25,0.7,140,"○","○"]
[3202,2941995,140,-1,-1,"RCP6-RRA7R-16-水平",40,0.3,140,"○","○"]
[3203,2941995,280,-1,-1,"RCP6-RRA7R-16-垂直",2,0.3,280,"○","○"]
[3204,2941995,140,-1,-1,"RCP6-RRA7R-16-垂直",5,0.3,140,"○","○"]
[3205,2941995,600,-1,-1,"RCP6-RRA7R-24-水平",1,0.3,600,"○","○"]
[3206,6864654.9999999991,420,-1,-1,"RCP6-RRA7R-24-水平",5,0.7,420,"○","○"]
[3207,6864654.9999999991,200,-1,-1,"RCP6-RRA7R-24-水平",9.5,0.7,200,"○","○"]
[3208,2941995,420,-1,-1,"RCP6-RRA7R-24-水平",10,0.3,420,"○","○"]
[3209,2941995,200,-1,-1,"RCP6-RRA7R-24-水平",18,0.3,200,"○","○"]
[{"$f":"A3212+1","v":3210},{"$f":"H3213*$A$1*1000*1000","v":2941995},{"$f":"I3213","v":420},-1,-1,"RCP6-RRA7R-24-垂直",1.5,0.3,420,{"$f":"IF(G3213=0,IF(D3213<>A3212,\"ﾘﾝｸ不正\",\"○\"),\"○\")","v":"○"},{"$f":"IF(D3214<>-1,IF(E3213<>A3214,\"ﾘﾝｸ不正\",\"○\"),\"○\")","v":"○"}]
[3211,2941995,200,-1,-1,"RCP6-RRA7R-24-垂直",3,0.3,200,"○","○"]
[3212,6864654.9999999991,130,-1,-1,"RCP6-WRA10C-2.5-水平",22.5,0.7,130,"○","○"]
[3213,6864654.9999999991,105,-1,-1,"RCP6-WRA10C-2.5-水平",27,0.7,105,"○","○"]
[3214,2941995,130,-1,-1,"RCP6-WRA10C-2.5-水平",33,0.3,130,"○","○"]
[3215,2941995,105,-1,-1,"RCP6-WRA10C-2.5-水平",36,0.3,105,"○","○"]
[3216,2941995,20,-1,-1,"RCP6-WRA10C-2.5-水平",40,0.3,20,"○","○"]
[3217,2941995,130,-1,-1,"RCP6-WRA10C-2.5-垂直",3.5,0.3,130,"○","○"]
[3218,2941995,105,-1,-1,"RCP6-WRA10C-2.5-垂直",6,0.3,105,"○","○"]
[3219,2941995,85,-1,-1,"RCP6-WRA10C-2.5-垂直",8.5,0.3,85,"○","○"]
[3220,2941995,65,-1,-1,"RCP6-WRA10C-2.5-垂直",10,0.3,65,"○","○"]
[3221,6864654.9999999991,260,-1,-1,"RCP6-WRA10C-5-水平",6.5,0.7,260,"○","○"]
[3222,2941995,260,-1,-1,"RCP6-WRA10C-5-水平",10.5,0.3,260,"○","○"]
[3223,6864654.9999999991,215,-1,-1,"RCP6-WRA10C-5-水平",12,0.7,215,"○","○"]
[3224,6864654.9999999991,175,-1,-1,"RCP6-WRA10C-5-水平",15.5,0.7,175,"○","○"]
[3225,2941995,215,-1,-1,"RCP6-WRA10C-5-水平",18,0.3,215,"○","○"]
[3226,6864654.9999999991,130,-1,-1,"RCP6-WRA10C-5-水平",19,0.7,130,"○","○"]
[3227,2941995,175,-1,-1,"RCP6-WRA10C-5-水平",25,0.3,175,"○","○"]
[3228,2941995,215,-1,-1,"RCP6-WRA10C-5-垂直",2.5,0.3,215,"○","○"]
[3229,2941995,175,-1,-1,"RCP6-WRA10C-5-垂直",4,0.3,175,"○","○"]
[3230,2941995,130,-1,-1,"RCP6-WRA10C-5-垂直",5,0.3,130,"○","○"]
[3231,6864654.9999999991,435,-1,-1,"RCP6-WRA10C-10-水平",2.5,0.7,435,"○","○"]
[3232,2941995,435,-1,-1,"RCP6-WRA10C-10-水平",5,0.3,435,"○","○"]
[3233,6864654.9999999991,350,-1,-1,"RCP6-WRA10C-10-水平",6,0.7,350,"○","○"]
[3234,6864654.9999999991,260,-1,-1,"RCP6-WRA10C-10-水平",6.5,0.7,260,"○","○"]
[3235,2941995,350,-1,-1,"RCP6-WRA10C-10-水平",7.5,0.3,350,"○","○"]
[3236,6864654.9999999991,175,-1,-1,"RCP6-WRA10C-10-水平",8,0.7,175,"○","○"]
[3237,2941995,260,-1,-1,"RCP6-WRA10C-10-水平",9.5,0.3,260,"○","○"]
[3238,6864654.9999999991,420,-1,-1,"RCP6-WRA10C-16-水平",0.5,0.7,420,"○","○"]
[3239,2941995,560,-1,-1,"RCP6-WRA10C-16-水平",2.5,0.3,560,"○","○"]
[3240,2941995,420,-1,-1,"RCP6-WRA10C-16-水平",3.5,0.3,420,"○","○"]
[3241,6864654.9999999991,110,-1,-1,"RCP6-WRA12C-3-水平",45,0.7,110,"○","○"]
[3242,2941995,110,-1,-1,"RCP6-WRA12C-3-水平",60,0.3,110,"○","○"]
[3243,2941995,110,-1,-1,"RCP6-WRA12C-3-垂直",6,0.3,110,"○","○"]
[3244,2941995,80,-1,-1,"RCP6-WRA12C-3-垂直",12,0.3,80,"○","○"]
[3245,2941995,50,-1,-1,"RCP6-WRA12C-3-垂直",13,0.3,50,"○","○"]
[3246,6864654.9999999991,220,-1,-1,"RCP6-WRA12C-6-水平",15,0.7,220,"○","○"]
[3247,2941995,220,-1,{"$f":"A3251","v":3248},"RCP6-WRA12C-6-水平",24,0.3,220,"○","○"]
[3248,6864654.9999999991,160,{"$f":"A3250","v":3247},-1,null,null,0.7,160,"○","○"]
[3249,6864654.9999999991,100,-1,-1,"RCP6-WRA12C-6-水平",30,0.7,100,"○","○"]
[3250,2941995,160,-1,-1,"RCP6-WRA12C-6-水平",39,0.3,160,"○","○"]
[3251,2941995,220,-1,-1,"RCP6-WRA12C-6-垂直",2,0.3,220,"○","○"]
[3252,2941995,160,-1,-1,"RCP6-WRA12C-6-垂直",5,0.3,160,"○","○"]
[3253,2941995,100,-1,-1,"RCP6-WRA12C-6-垂直",6,0.3,100,"○","○"]
[3254,6864654.9999999991,440,-1,-1,"RCP6-WRA12C-12-水平",1.5,0.7,440,"○","○"]
[3255,2941995,440,-1,-1,"RCP6-WRA12C-12-水平",3,0.3,440,"○","○"]
[3256,6864654.9999999991,320,-1,-1,"RCP6-WRA12C-12-水平",7,0.7,320,"○","○"]
[3257,6864654.9999999991,200,-1,-1,"RCP6-WRA12C-12-水平",9.5,0.7,200,"○","○"]
[3258,6864654.9999999991,80,-1,-1,"RCP6-WRA12C-12-水平",10.5,0.7,80,"○","○"]
[3259,2941995,320,-1,-1,"RCP6-WRA12C-12-水平",15,0.3,320,"○","○"]
[3260,2941995,200,-1,-1,"RCP6-WRA12C-12-水平",18.5,0.3,200,"○","○"]
[3261,6864654.9999999991,480,-1,-1,"RCP6-WRA12C-20-水平",0.5,0.7,480,"○","○"]
[3262,6864654.9999999991,320,-1,-1,"RCP6-WRA12C-20-水平",2.5,0.7,320,"○","○"]
[3263,2941995,480,-1,-1,"RCP6-WRA12C-20-水平",3,0.3,480,"○","○"]
[3264,6864654.9999999991,160,-1,-1,"RCP6-WRA12C-20-水平",5.5,0.7,160,"○","○"]
[3265,2941995,320,-1,-1,"RCP6-WRA12C-20-水平",7.5,0.3,320,"○","○"]
[3266,6864654.9999999991,105,-1,-1,"RCP6-WRA14C-4-水平",7.5,0.7,105,"○","○"]
[3267,2941995,105,-1,-1,"RCP6-WRA14C-4-水平",12,0.3,105,"○","○"]
[3268,6864654.9999999991,70,-1,-1,"RCP6-WRA14C-4-水平",48,0.7,70,"○","○"]
[3269,2941995,70,-1,-1,"RCP6-WRA14C-4-水平",57,0.3,70,"○","○"]
[3270,2941995,105,-1,-1,"RCP6-WRA14C-4-垂直",1,0.3,105,"○","○"]
[3271,2941995,70,-1,-1,"RCP6-WRA14C-4-垂直",13.5,0.3,70,"○","○"]
[3272,2941995,35,-1,-1,"RCP6-WRA14C-4-垂直",18,0.3,35,"○","○"]
[3273,6864654.9999999991,210,-1,-1,"RCP6-WRA14C-8-水平",4.5,0.7,210,"○","○"]
[{"$f":"A3276+1","v":3274},{"$f":"H3277*$A$1*1000*1000","v":2941995},{"$f":"I3277","v":210},-1,-1,"RCP6-WRA14C-8-水平",12,0.3,210,{"$f":"IF(G3277=0,IF(D3277<>A3276,\"ﾘﾝｸ不正\",\"○\"),\"○\")","v":"○"},{"$f":"IF(D3278<>-1,IF(E3277<>A3278,\"ﾘﾝｸ不正\",\"○\"),\"○\")","v":"○"}]
[3275,6864654.9999999991,140,-1,-1,"RCP6-WRA14C-8-水平",27,0.7,140,"○","○"]
[3276,6864654.9999999991,70,-1,-1,"RCP6-WRA14C-8-水平",33,0.7,70,"○","○"]
[3277,2941995,140,-1,-1,"RCP6-WRA14C-8-水平",45,0.3,140,"○","○"]
[3278,2941995,140,-1,-1,"RCP6-WRA14C-8-垂直",6,0.3,140,"○","○"]
[3279,2941995,70,-1,-1,"RCP6-WRA14C-8-垂直",12,0.3,70,"○","○"]
[3280,2941995,420,-1,-1,"RCP6-WRA14C-16-水平",3.5,0.3,420,"○","○"]
[3281,6864654.9999999991,280,-1,-1,"RCP6-WRA14C-16-水平",13,0.7,280,"○","○"]
[3282,2941995,280,-1,-1,"RCP6-WRA14C-16-水平",18,0.3,280,"○","○"]
[3283,6864654.9999999991,140,-1,-1,"RCP6-WRA14C-16-水平",27,0.7,140,"○","○"]
[3284,2941995,140,-1,-1,"RCP6-WRA14C-16-水平",37,0.3,140,"○","○"]
[3285,6864654.9999999991,420,-1,-1,"RCP6-WRA14C-24-水平",3,0.7,420,"○","○"]
[3286,2941995,420,-1,-1,"RCP6-WRA14C-24-水平",8,0.3,420,"○","○"]
[3287,6864654.9999999991,210,-1,-1,"RCP6-WRA14C-24-水平",9.5,0.7,210,"○","○"]
[3288,2941995,210,-1,-1,"RCP6-WRA14C-24-水平",18,0.3,210,"○","○"]
[3289,6864654.9999999991,130,-1,-1,"RCP6-WRA10R-2.5-水平",22.5,0.7,130,"○","○"]
[3290,6864654.9999999991,105,-1,-1,"RCP6-WRA10R-2.5-水平",27,0.7,105,"○","○"]
[3291,2941995,130,-1,-1,"RCP6-WRA10R-2.5-水平",33,0.3,130,"○","○"]
[3292,2941995,105,-1,-1,"RCP6-WRA10R-2.5-水平",36,0.3,105,"○","○"]
[3293,2941995,20,-1,-1,"RCP6-WRA10R-2.5-水平",40,0.3,20,"○","○"]
[3294,2941995,130,-1,-1,"RCP6-WRA10R-2.5-垂直",3.5,0.3,130,"○","○"]
[3295,2941995,105,-1,-1,"RCP6-WRA10R-2.5-垂直",6,0.3,105,"○","○"]
[3296,2941995,85,-1,-1,"RCP6-WRA10R-2.5-垂直",8.5,0.3,85,"○","○"]
[3297,2941995,65,-1,-1,"RCP6-WRA10R-2.5-垂直",10,0.3,65,"○","○"]
[3298,6864654.9999999991,260,-1,-1,"RCP6-WRA10R-5-水平",6.5,0.7,260,"○","○"]
[3299,2941995,260,-1,-1,"RCP6-WRA10R-5-水平",10.5,0.3,260,"○","○"]
[3300,6864654.9999999991,215,-1,-1,"RCP6-WRA10R-5-水平",12,0.7,215,"○","○"]
[3301,6864654.9999999991,175,-1,-1,"RCP6-WRA10R-5-水平",15.5,0.7,175,"○","○"]
[3302,2941995,215,-1,-1,"RCP6-WRA10R-5-水平",18,0.3,215,"○","○"]
[3303,6864654.9999999991,130,-1,-1,"RCP6-WRA10R-5-水平",19,0.7,130,"○","○"]
[3304,2941995,175,-1,-1,"RCP6-WRA10R-5-水平",25,0.3,175,"○","○"]
[3305,2941995,215,-1,-1,"RCP6-WRA10R-5-垂直",2.5,0.3,215,"○","○"]
[3306,2941995,175,-1,-1,"RCP6-WRA10R-5-垂直",4,0.3,175,"○","○"]
[3307,2941995,130,-1,-1,"RCP6-WRA10R-5-垂直",5,0.3,130,"○","○"]
[3308,6864654.9999999991,435,-1,-1,"RCP6-WRA10R-10-水平",2.5,0.7,435,"○","○"]
[3309,2941995,435,-1,-1,"RCP6-WRA10R-10-水平",5,0.3,435,"○","○"]
[3310,6864654.9999999991,350,-1,-1,"RCP6-WRA10R-10-水平",6,0.7,350,"○","○"]
[3311,6864654.9999999991,260,-1,-1,"RCP6-WRA10R-10-水平",6.5,0.7,260,"○","○"]
[3312,2941995,350,-1,-1,"RCP6-WRA10R-10-水平",7.5,0.3,350,"○","○"]
[3313,6864654.9999999991,175,-1,-1,"RCP6-WRA10R-10-水平",8,0.7,175,"○","○"]
[3314,2941995,260,-1,-1,"RCP6-WRA10R-10-水平",9.5,0.3,260,"○","○"]
[3315,6864654.9999999991,420,-1,-1,"RCP6-WRA10R-16-水平",0.5,0.7,420,"○","○"]
[3316,2941995,560,-1,-1,"RCP6-WRA10R-16-水平",2.5,0.3,560,"○","○"]
[3317,2941995,420,-1,-1,"RCP6-WRA10R-16-水平",3.5,0.3,420,"○","○"]
[3318,6864654.9999999991,110,-1,-1,"RCP6-WRA12R-3-水平",45,0.7,110,"○","○"]
[3319,2941995,110,-1,-1,"RCP6-WRA12R-3-水平",60,0.3,110,"○","○"]
[3320,2941995,110,-1,-1,"RCP6-WRA12R-3-垂直",6,0.3,110,"○","○"]
[3321,2941995,80,-1,-1,"RCP6-WRA12R-3-垂直",12,0.3,80,"○","○"]
[3322,2941995,50,-1,-1,"RCP6-WRA12R-3-垂直",13,0.3,50,"○","○"]
[3323,6864654.9999999991,220,-1,-1,"RCP6-WRA12R-6-水平",15,0.7,220,"○","○"]
[3324,2941995,220,-1,{"$f":"A3328","v":3325},"RCP6-WRA12R-6-水平",24,0.3,220,"○","○"]
[3325,6864654.9999999991,160,{"$f":"A3327","v":3324},-1,null,null,0.7,160,"○","○"]
[3326,6864654.9999999991,100,-1,-1,"RCP6-WRA12R-6-水平",30,0.7,100,"○","○"]
[3327,2941995,160,-1,-1,"RCP6-WRA12R-6-水平",39,0.3,160,"○","○"]
[3328,2941995,220,-1,-1,"RCP6-WRA12R-6-垂直",2,0.3,220,"○","○"]
[3329,2941995,160,-1,-1,"RCP6-WRA12R-6-垂直",5,0.3,160,"○","○"]
[3330,2941995,100,-1,-1,"RCP6-WRA12R-6-垂直",6,0.3,100,"○","○"]
[3331,6864654.9999999991,440,-1,-1,"RCP6-WRA12R-12-水平",1.5,0.7,440,"○","○"]
[3332,2941995,440,-1,-1,"RCP6-WRA12R-12-水平",3,0.3,440,"○","○"]
[3333,6864654.9999999991,320,-1,-1,"RCP6-WRA12R-12-水平",7,0.7,320,"○","○"]
[3334,6864654.9999999991,200,-1,-1,"RCP6-WRA12R-12-水平",9.5,0.7,200,"○","○"]
[3335,6864654.9999999991,80,-1,-1,"RCP6-WRA12R-12-水平",10.5,0.7,80,"○","○"]
[3336,2941995,320,-1,-1,"RCP6-WRA12R-12-水平",15,0.3,320,"○","○"]
[3337,2941995,200,-1,-1,"RCP6-WRA12R-12-水平",18.5,0.3,200,"○","○"]
[{"$f":"A3340+1","v":3338},{"$f":"H3341*$A$1*1000*1000","v":6864654.9999999991},{"$f":"I3341","v":480},-1,-1,"RCP6-WRA12R-20-水平",0.5,0.7,480,{"$f":"IF(G3341=0,IF(D3341<>A3340,\"ﾘﾝｸ不正\",\"○\"),\"○\")","v":"○"},{"$f":"IF(D3342<>-1,IF(E3341<>A3342,\"ﾘﾝｸ不正\",\"○\"),\"○\")","v":"○"}]
[3339,6864654.9999999991,320,-1,-1,"RCP6-WRA12R-20-水平",2.5,0.7,320,"○","○"]
[3340,2941995,480,-1,-1,"RCP6-WRA12R-20-水平",3,0.3,480,"○","○"]
[3341,6864654.9999999991,160,-1,-1,"RCP6-WRA12R-20-水平",5.5,0.7,160,"○","○"]
[3342,2941995,320,-1,-1,"RCP6-WRA12R-20-水平",7.5,0.3,320,"○","○"]
[3343,6864654.9999999991,105,-1,-1,"RCP6-WRA14R-4-水平",7.5,0.7,105,"○","○"]
[3344,2941995,105,-1,-1,"RCP6-WRA14R-4-水平",12,0.3,105,"○","○"]
[3345,6864654.9999999991,70,-1,-1,"RCP6-WRA14R-4-水平",48,0.7,70,"○","○"]
[3346,2941995,70,-1,-1,"RCP6-WRA14R-4-水平",57,0.3,70,"○","○"]
[3347,2941995,105,-1,-1,"RCP6-WRA14R-4-垂直",1,0.3,105,"○","○"]
[3348,2941995,70,-1,-1,"RCP6-WRA14R-4-垂直",13.5,0.3,70,"○","○"]
[3349,2941995,35,-1,-1,"RCP6-WRA14R-4-垂直",18,0.3,35,"○","○"]
[3350,6864654.9999999991,210,-1,-1,"RCP6-WRA14R-8-水平",4.5,0.7,210,"○","○"]
[3351,2941995,210,-1,-1,"RCP6-WRA14R-8-水平",12,0.3,210,"○","○"]
[3352,6864654.9999999991,140,-1,-1,"RCP6-WRA14R-8-水平",27,0.7,140,"○","○"]
[3353,6864654.9999999991,70,-1,-1,"RCP6-WRA14R-8-水平",33,0.7,70,"○","○"]
[3354,2941995,140,-1,-1,"RCP6-WRA14R-8-水平",45,0.3,140,"○","○"]
[3355,2941995,140,-1,-1,"RCP6-WRA14R-8-垂直",6,0.3,140,"○","○"]
[3356,2941995,70,-1,-1,"RCP6-WRA14R-8-垂直",12,0.3,70,"○","○"]
[3357,2941995,420,-1,-1,"RCP6-WRA14R-16-水平",3.5,0.3,420,"○","○"]
[3358,6864654.9999999991,280,-1,-1,"RCP6-WRA14R-16-水平",13,0.7,280,"○","○"]
[3359,2941995,280,-1,-1,"RCP6-WRA14R-16-水平",18,0.3,280,"○","○"]
[3360,6864654.9999999991,140,-1,-1,"RCP6-WRA14R-16-水平",27,0.7,140,"○","○"]
[3361,2941995,140,-1,-1,"RCP6-WRA14R-16-水平",37,0.3,140,"○","○"]
[3362,6864654.9999999991,420,-1,-1,"RCP6-WRA14R-24-水平",3,0.7,420,"○","○"]
[3363,2941995,420,-1,-1,"RCP6-WRA14R-24-水平",8,0.3,420,"○","○"]
[3364,6864654.9999999991,210,-1,-1,"RCP6-WRA14R-24-水平",9.5,0.7,210,"○","○"]
[3365,2941995,210,-1,-1,"RCP6-WRA14R-24-水平",18,0.3,210,"○","○"]
[3366,6864654.9999999991,130,-1,-1,"RCP6-TA4C(SB)-2.5-水平",5,0.7,130,"○","○"]
[3367,2941995,130,-1,-1,"RCP6-TA4C(SB)-2.5-垂直",4,0.3,130,"○","○"]
[3368,2941995,105,-1,-1,"RCP6-TA4C(SB)-2.5-垂直",6,0.3,105,"○","○"]
[3369,2941995,85,-1,-1,"RCP6-TA4C(SB)-2.5-垂直",7.5,0.3,85,"○","○"]
[3370,2941995,65,-1,-1,"RCP6-TA4C(SB)-2.5-垂直",9,0.3,65,"○","○"]
[3371,6864654.9999999991,260,-1,-1,"RCP6-TA4C(SB)-5-水平",5,0.7,260,"○","○"]
[3372,2941995,260,-1,-1,"RCP6-TA4C(SB)-5-垂直",2.5,0.3,260,"○","○"]
[3373,2941995,215,-1,-1,"RCP6-TA4C(SB)-5-垂直",4,0.3,215,"○","○"]
[3374,2941995,175,-1,-1,"RCP6-TA4C(SB)-5-垂直",4.5,0.3,175,"○","○"]
[3375,2941995,130,-1,-1,"RCP6-TA4C(SB)-5-垂直",5,0.3,130,"○","○"]
[3376,6864654.9999999991,525,-1,-1,"RCP6-TA4C(SB)-10-水平",2,0.7,525,"○","○"]
[3377,6864654.9999999991,435,-1,-1,"RCP6-TA4C(SB)-10-水平",3.5,0.7,435,"○","○"]
[3378,2941995,435,-1,{"$f":"A3382","v":3379},"RCP6-TA4C(SB)-10-水平",4,0.3,435,"○","○"]
[3379,6864654.9999999991,350,{"$f":"A3381","v":3378},-1,null,null,0.7,350,"○","○"]
[3380,2941995,435,-1,-1,"RCP6-TA4C(SB)-10-垂直",1,0.3,435,"○","○"]
[3381,2941995,350,-1,-1,"RCP6-TA4C(SB)-10-垂直",1.5,0.3,350,"○","○"]
[3382,2941995,260,-1,-1,"RCP6-TA4C(SB)-10-垂直",2.25,0.3,260,"○","○"]
[3383,2941995,175,-1,-1,"RCP6-TA4C(SB)-10-垂直",2.5,0.3,175,"○","○"]
[3384,6864654.9999999991,840,-1,-1,"RCP6-TA4C(SB)-16-水平",1,0.7,840,"○","○"]
[3385,6864654.9999999991,700,-1,-1,"RCP6-TA4C(SB)-16-水平",1.5,0.7,700,"○","○"]
[3386,6864654.9999999991,560,-1,-1,"RCP6-TA4C(SB)-16-水平",2,0.7,560,"○","○"]
[3387,2941995,560,-1,-1,"RCP6-TA4C(SB)-16-水平",2.5,0.3,560,"○","○"]
[3388,6864654.9999999991,420,-1,-1,"RCP6-TA4C(SB)-16-水平",3,0.7,420,"○","○"]
[3389,2941995,560,-1,-1,"RCP6-TA4C(SB)-16-垂直",0.75,0.3,560,"○","○"]
[3390,2941995,420,-1,-1,"RCP6-TA4C(SB)-16-垂直",1,0.3,420,"○","○"]
[3391,6864654.9999999991,170,-1,-1,"RCP6-TA6C(SB)-3-水平",6,0.7,170,"○","○"]
[3392,2941995,170,-1,-1,"RCP6-TA6C(SB)-3-水平",7,0.3,170,"○","○"]
[3393,6864654.9999999991,140,-1,-1,"RCP6-TA6C(SB)-3-水平",8,0.7,140,"○","○"]
[3394,2941995,125,-1,-1,"RCP6-TA6C(SB)-3-水平",9,0.3,125,"○","○"]
[3395,2941995,110,-1,-1,"RCP6-TA6C(SB)-3-水平",10,0.3,110,"○","○"]
[3396,2941995,140,-1,-1,"RCP6-TA6C(SB)-3-垂直",5,0.3,140,"○","○"]
[3397,2941995,125,-1,-1,"RCP6-TA6C(SB)-3-垂直",7,0.3,125,"○","○"]
[3398,2941995,110,-1,-1,"RCP6-TA6C(SB)-3-垂直",9,0.3,110,"○","○"]
[3399,2941995,80,-1,-1,"RCP6-TA6C(SB)-3-垂直",12,0.3,80,"○","○"]
[3400,6864654.9999999991,340,-1,-1,"RCP6-TA6C(SB)-6-水平",3,0.7,340,"○","○"]
[3401,2941995,340,-1,-1,"RCP6-TA6C(SB)-6-水平",6,0.3,340,"○","○"]
[{"$f":"A3404+1","v":3402},{"$f":"H3405*$A$1*1000*1000","v":6864654.9999999991},{"$f":"I3405","v":280},-1,-1,"RCP6-TA6C(SB)-6-水平",8,0.7,280,{"$f":"IF(G3405=0,IF(D3405<>A3404,\"ﾘﾝｸ不正\",\"○\"),\"○\")","v":"○"},{"$f":"IF(D3406<>-1,IF(E3405<>A3406,\"ﾘﾝｸ不正\",\"○\"),\"○\")","v":"○"}]
[3403,2941995,250,-1,-1,"RCP6-TA6C(SB)-6-水平",9,0.3,250,"○","○"]
[3404,2941995,220,-1,-1,"RCP6-TA6C(SB)-6-水平",10,0.3,220,"○","○"]
[3405,2941995,280,-1,-1,"RCP6-TA6C(SB)-6-垂直",2,0.3,280,"○","○"]
[3406,2941995,250,-1,-1,"RCP6-TA6C(SB)-6-垂直",3,0.3,250,"○","○"]
[3407,2941995,220,-1,-1,"RCP6-TA6C(SB)-6-垂直",4,0.3,220,"○","○"]
[3408,2941995,160,-1,-1,"RCP6-TA6C(SB)-6-垂直",6,0.3,160,"○","○"]
[3409,6864654.9999999991,680,-1,-1,"RCP6-TA6C(SB)-12-水平",1,0.7,680,"○","○"]
[3410,2941995,680,-1,{"$f":"A3414","v":3411},"RCP6-TA6C(SB)-12-水平",3,0.3,680,"○","○"]
[3411,6864654.9999999991,560,{"$f":"A3413","v":3410},-1,null,null,0.7,560,"○","○"]
[3412,6864654.9999999991,500,-1,-1,"RCP6-TA6C(SB)-12-水平",4.5,0.7,500,"○","○"]
[3413,2941995,560,-1,{"$f":"A3417","v":3414},"RCP6-TA6C(SB)-12-水平",6,0.3,560,"○","○"]
[3414,6864654.9999999991,440,{"$f":"A3416","v":3413},-1,null,null,0.7,440,"○","○"]
[3415,2941995,500,-1,-1,"RCP6-TA6C(SB)-12-水平",6.5,0.3,500,"○","○"]
[3416,2941995,440,-1,{"$f":"A3420","v":3417},"RCP6-TA6C(SB)-12-水平",7,0.3,440,"○","○"]
[3417,6864654.9999999991,320,{"$f":"A3419","v":3416},-1,null,null,0.7,320,"○","○"]
[3418,2941995,320,-1,-1,"RCP6-TA6C(SB)-12-水平",8,0.3,320,"○","○"]
[3419,2941995,560,-1,-1,"RCP6-TA6C(SB)-12-垂直",1,0.3,560,"○","○"]
[3420,2941995,500,-1,-1,"RCP6-TA6C(SB)-12-垂直",1.5,0.3,500,"○","○"]
[3421,2941995,440,-1,-1,"RCP6-TA6C(SB)-12-垂直",2,0.3,440,"○","○"]
[3422,2941995,320,-1,-1,"RCP6-TA6C(SB)-12-垂直",3,0.3,320,"○","○"]
[3423,6864654.9999999991,800,-1,-1,"RCP6-TA6C(SB)-20-水平",2,0.7,800,"○","○"]
[3424,6864654.9999999991,640,-1,-1,"RCP6-TA6C(SB)-20-水平",3,0.7,640,"○","○"]
[3425,6864654.9999999991,480,-1,-1,"RCP6-TA6C(SB)-20-水平",4,0.7,480,"○","○"]
[3426,6864654.9999999991,320,-1,-1,"RCP6-TA6C(SB)-20-水平",4.5,0.7,320,"○","○"]
[3427,6864654.9999999991,160,-1,-1,"RCP6-TA6C(SB)-20-水平",5,0.7,160,"○","○"]
[3428,2941995,640,-1,-1,"RCP6-TA6C(SB)-20-垂直",0.75,0.3,640,"○","○"]
[3429,2941995,480,-1,-1,"RCP6-TA6C(SB)-20-垂直",1,0.3,480,"○","○"]
[3430,2941995,140,-1,-1,"RCP6-TA7C(SB)-4-水平",6,0.3,140,"○","○"]
[3431,6864654.9999999991,105,-1,-1,"RCP6-TA7C(SB)-4-水平",13,0.7,105,"○","○"]
[3432,2941995,105,-1,{"$f":"A3436","v":3433},"RCP6-TA7C(SB)-4-水平",15,0.3,105,"○","○"]
[3433,6864654.9999999991,70,{"$f":"A3435","v":3432},-1,null,null,0.7,70,"○","○"]
[3434,2941995,105,-1,-1,"RCP6-TA7C(SB)-4-垂直",10,0.3,105,"○","○"]
[3435,2941995,70,-1,-1,"RCP6-TA7C(SB)-4-垂直",18,0.3,70,"○","○"]
[3436,2941995,35,-1,-1,"RCP6-TA7C(SB)-4-垂直",20,0.3,35,"○","○"]
[3437,2941995,280,-1,-1,"RCP6-TA7C(SB)-8-水平",10,0.3,280,"○","○"]
[3438,6864654.9999999991,210,-1,-1,"RCP6-TA7C(SB)-8-水平",12,0.7,210,"○","○"]
[3439,2941995,210,-1,{"$f":"A3443","v":3440},"RCP6-TA7C(SB)-8-水平",15,0.3,210,"○","○"]
[3440,6864654.9999999991,140,{"$f":"A3442","v":3439},-1,null,null,0.7,140,"○","○"]
[3441,2941995,210,-1,-1,"RCP6-TA7C(SB)-8-垂直",3.5,0.3,210,"○","○"]
[3442,2941995,140,-1,-1,"RCP6-TA7C(SB)-8-垂直",12,0.3,140,"○","○"]
[3443,6864654.9999999991,420,-1,-1,"RCP6-TA7C(SB)-16-水平",4,0.7,420,"○","○"]
[3444,2941995,560,-1,-1,"RCP6-TA7C(SB)-16-水平",5,0.3,560,"○","○"]
[3445,6864654.9999999991,280,-1,-1,"RCP6-TA7C(SB)-16-水平",10,0.7,280,"○","○"]
[3446,2941995,420,-1,-1,"RCP6-TA7C(SB)-16-水平",12,0.3,420,"○","○"]
[3447,2941995,280,-1,-1,"RCP6-TA7C(SB)-16-垂直",5,0.3,280,"○","○"]
[3448,2941995,860,-1,{"$f":"A3452","v":3449},"RCP6-TA7C(SB)-24-水平",1,0.3,860,"○","○"]
[3449,6864654.9999999991,640,{"$f":"A3451","v":3448},-1,null,null,0.7,640,"○","○"]
[3450,2941995,640,-1,-1,"RCP6-TA7C(SB)-24-水平",5,0.3,640,"○","○"]
[3451,6864654.9999999991,420,-1,-1,"RCP6-TA7C(SB)-24-水平",8,0.7,420,"○","○"]
[3452,2941995,420,-1,-1,"RCP6-TA7C(SB)-24-水平",10,0.3,420,"○","○"]
[3453,2941995,420,-1,-1,"RCP6-TA7C(SB)-24-垂直",3,0.3,420,"○","○"]
[3454,6864654.9999999991,130,-1,-1,"RCP6-TA4R(SB)-2.5-水平",5,0.7,130,"○","○"]
[3455,2941995,130,-1,-1,"RCP6-TA4R(SB)-2.5-垂直",4,0.3,130,"○","○"]
[3456,2941995,105,-1,-1,"RCP6-TA4R(SB)-2.5-垂直",6,0.3,105,"○","○"]
[3457,2941995,85,-1,-1,"RCP6-TA4R(SB)-2.5-垂直",7.5,0.3,85,"○","○"]
[3458,2941995,65,-1,-1,"RCP6-TA4R(SB)-2.5-垂直",9,0.3,65,"○","○"]
[3459,6864654.9999999991,260,-1,-1,"RCP6-TA4R(SB)-5-水平",5,0.7,260,"○","○"]
[3460,2941995,260,-1,-1,"RCP6-TA4R(SB)-5-垂直",2.5,0.3,260,"○","○"]
[3461,2941995,215,-1,-1,"RCP6-TA4R(SB)-5-垂直",4,0.3,215,"○","○"]
[3462,2941995,175,-1,-1,"RCP6-TA4R(SB)-5-垂直",4.5,0.3,175,"○","○"]
[3463,2941995,130,-1,-1,"RCP6-TA4R(SB)-5-垂直",5,0.3,130,"○","○"]
[3464,6864654.9999999991,525,-1,-1,"RCP6-TA4R(SB)-10-水平",2,0.7,525,"○","○"]
[3465,6864654.9999999991,435,-1,-1,"RCP6-TA4R(SB)-10-水平",3.5,0.7,435,"○","○"]
[{"$f":"A3468+1","v":3466},{"$f":"H3469*$A$1*1000*1000","v":2941995},{"$f":"I3469","v":435},-1,{"$f":"A3470","v":3467},"RCP6-TA4R(SB)-10-水平",4,0.3,435,{"$f":"IF(G3469=0,IF(D3469<>A3468,\"ﾘﾝｸ不正\",\"○\"),\"○\")","v":"○"},{"$f":"IF(D3470<>-1,IF(E3469<>A3470,\"ﾘﾝｸ不正\",\"○\"),\"○\")","v":"○"}]
[3467,6864654.9999999991,350,{"$f":"A3469","v":3466},-1,null,null,0.7,350,"○","○"]
[3468,2941995,435,-1,-1,"RCP6-TA4R(SB)-10-垂直",1,0.3,435,"○","○"]
[3469,2941995,350,-1,-1,"RCP6-TA4R(SB)-10-垂直",1.5,0.3,350,"○","○"]
[3470,2941995,260,-1,-1,"RCP6-TA4R(SB)-10-垂直",2.25,0.3,260,"○","○"]
[3471,2941995,175,-1,-1,"RCP6-TA4R(SB)-10-垂直",2.5,0.3,175,"○","○"]
[3472,6864654.9999999991,840,-1,-1,"RCP6-TA4R(SB)-16-水平",1,0.7,840,"○","○"]
[3473,6864654.9999999991,700,-1,-1,"RCP6-TA4R(SB)-16-水平",1.5,0.7,700,"○","○"]
[3474,6864654.9999999991,560,-1,-1,"RCP6-TA4R(SB)-16-水平",2,0.7,560,"○","○"]
[3475,2941995,560,-1,-1,"RCP6-TA4R(SB)-16-水平",2.5,0.3,560,"○","○"]
[3476,6864654.9999999991,420,-1,-1,"RCP6-TA4R(SB)-16-水平",3,0.7,420,"○","○"]
[3477,2941995,560,-1,-1,"RCP6-TA4R(SB)-16-垂直",0.75,0.3,560,"○","○"]
[3478,2941995,420,-1,-1,"RCP6-TA4R(SB)-16-垂直",1,0.3,420,"○","○"]
[3479,6864654.9999999991,170,-1,-1,"RCP6-TA6R(SB)-3-水平",6,0.7,170,"○","○"]
[3480,2941995,170,-1,-1,"RCP6-TA6R(SB)-3-水平",7,0.3,170,"○","○"]
[3481,6864654.9999999991,140,-1,-1,"RCP6-TA6R(SB)-3-水平",8,0.7,140,"○","○"]
[3482,2941995,125,-1,-1,"RCP6-TA6R(SB)-3-水平",9,0.3,125,"○","○"]
[3483,2941995,110,-1,-1,"RCP6-TA6R(SB)-3-水平",10,0.3,110,"○","○"]
[3484,2941995,140,-1,-1,"RCP6-TA6R(SB)-3-垂直",5,0.3,140,"○","○"]
[3485,2941995,125,-1,-1,"RCP6-TA6R(SB)-3-垂直",7,0.3,125,"○","○"]
[3486,2941995,110,-1,-1,"RCP6-TA6R(SB)-3-垂直",9,0.3,110,"○","○"]
[3487,2941995,80,-1,-1,"RCP6-TA6R(SB)-3-垂直",12,0.3,80,"○","○"]
[3488,6864654.9999999991,340,-1,-1,"RCP6-TA6R(SB)-6-水平",3,0.7,340,"○","○"]
[3489,2941995,340,-1,-1,"RCP6-TA6R(SB)-6-水平",6,0.3,340,"○","○"]
[3490,6864654.9999999991,280,-1,-1,"RCP6-TA6R(SB)-6-水平",8,0.7,280,"○","○"]
[3491,2941995,250,-1,-1,"RCP6-TA6R(SB)-6-水平",9,0.3,250,"○","○"]
[3492,2941995,220,-1,-1,"RCP6-TA6R(SB)-6-水平",10,0.3,220,"○","○"]
[3493,2941995,280,-1,-1,"RCP6-TA6R(SB)-6-垂直",2,0.3,280,"○","○"]
[3494,2941995,250,-1,-1,"RCP6-TA6R(SB)-6-垂直",3,0.3,250,"○","○"]
[3495,2941995,220,-1,-1,"RCP6-TA6R(SB)-6-垂直",4,0.3,220,"○","○"]
[3496,2941995,160,-1,-1,"RCP6-TA6R(SB)-6-垂直",6,0.3,160,"○","○"]
[3497,6864654.9999999991,680,-1,-1,"RCP6-TA6R(SB)-12-水平",1,0.7,680,"○","○"]
[3498,2941995,680,-1,{"$f":"A3502","v":3499},"RCP6-TA6R(SB)-12-水平",3,0.3,680,"○","○"]
[3499,6864654.9999999991,560,{"$f":"A3501","v":3498},-1,null,null,0.7,560,"○","○"]
[3500,6864654.9999999991,500,-1,-1,"RCP6-TA6R(SB)-12-水平",4.5,0.7,500,"○","○"]
[3501,2941995,560,-1,{"$f":"A3505","v":3502},"RCP6-TA6R(SB)-12-水平",6,0.3,560,"○","○"]
[3502,6864654.9999999991,440,{"$f":"A3504","v":3501},-1,null,null,0.7,440,"○","○"]
[3503,2941995,500,-1,-1,"RCP6-TA6R(SB)-12-水平",6.5,0.3,500,"○","○"]
[3504,2941995,440,-1,{"$f":"A3508","v":3505},"RCP6-TA6R(SB)-12-水平",7,0.3,440,"○","○"]
[3505,6864654.9999999991,320,{"$f":"A3507","v":3504},-1,null,null,0.7,320,"○","○"]
[3506,2941995,320,-1,-1,"RCP6-TA6R(SB)-12-水平",8,0.3,320,"○","○"]
[3507,2941995,560,-1,-1,"RCP6-TA6R(SB)-12-垂直",1,0.3,560,"○","○"]
[3508,2941995,500,-1,-1,"RCP6-TA6R(SB)-12-垂直",1.5,0.3,500,"○","○"]
[3509,2941995,440,-1,-1,"RCP6-TA6R(SB)-12-垂直",2,0.3,440,"○","○"]
[3510,2941995,320,-1,-1,"RCP6-TA6R(SB)-12-垂直",3,0.3,320,"○","○"]
[3511,6864654.9999999991,800,-1,-1,"RCP6-TA6R(SB)-20-水平",2,0.7,800,"○","○"]
[3512,6864654.9999999991,640,-1,-1,"RCP6-TA6R(SB)-20-水平",3,0.7,640,"○","○"]
[3513,6864654.9999999991,480,-1,-1,"RCP6-TA6R(SB)-20-水平",4,0.7,480,"○","○"]
[3514,6864654.9999999991,320,-1,-1,"RCP6-TA6R(SB)-20-水平",4.5,0.7,320,"○","○"]
[3515,6864654.9999999991,160,-1,-1,"RCP6-TA6R(SB)-20-水平",5,0.7,160,"○","○"]
[3516,2941995,640,-1,-1,"RCP6-TA6R(SB)-20-垂直",0.75,0.3,640,"○","○"]
[3517,2941995,480,-1,-1,"RCP6-TA6R(SB)-20-垂直",1,0.3,480,"○","○"]
[3518,2941995,140,-1,-1,"RCP6-TA7R(SB)-4-水平",6,0.3,140,"○","○"]
[3519,6864654.9999999991,105,-1,-1,"RCP6-TA7R(SB)-4-水平",13,0.7,105,"○","○"]
[3520,2941995,105,-1,{"$f":"A3524","v":3521},"RCP6-TA7R(SB)-4-水平",15,0.3,105,"○","○"]
[3521,6864654.9999999991,70,{"$f":"A3523","v":3520},-1,null,null,0.7,70,"○","○"]
[3522,2941995,105,-1,-1,"RCP6-TA7R(SB)-4-垂直",10,0.3,105,"○","○"]
[3523,2941995,70,-1,-1,"RCP6-TA7R(SB)-4-垂直",18,0.3,70,"○","○"]
[3524,2941995,35,-1,-1,"RCP6-TA7R(SB)-4-垂直",20,0.3,35,"○","○"]
[3525,2941995,280,-1,-1,"RCP6-TA7R(SB)-8-水平",10,0.3,280,"○","○"]
[3526,6864654.9999999991,210,-1,-1,"RCP6-TA7R(SB)-8-水平",12,0.7,210,"○","○"]
[3527,2941995,210,-1,{"$f":"A3531","v":3528},"RCP6-TA7R(SB)-8-水平",15,0.3,210,"○","○"]
[3528,6864654.9999999991,140,{"$f":"A3530","v":3527},-1,null,null,0.7,140,"○","○"]
[3529,2941995,210,-1,-1,"RCP6-TA7R(SB)-8-垂直",3.5,0.3,210,"○","○"]
[{"$f":"A3532+1","v":3530},{"$f":"H3533*$A$1*1000*1000","v":2941995},{"$f":"I3533","v":140},-1,-1,"RCP6-TA7R(SB)-8-垂直",12,0.3,140,{"$f":"IF(G3533=0,IF(D3533<>A3532,\"ﾘﾝｸ不正\",\"○\"),\"○\")","v":"○"},{"$f":"IF(D3534<>-1,IF(E3533<>A3534,\"ﾘﾝｸ不正\",\"○\"),\"○\")","v":"○"}]
[3531,6864654.9999999991,420,-1,-1,"RCP6-TA7R(SB)-16-水平",4,0.7,420,"○","○"]
[3532,2941995,560,-1,-1,"RCP6-TA7R(SB)-16-水平",5,0.3,560,"○","○"]
[3533,6864654.9999999991,280,-1,-1,"RCP6-TA7R(SB)-16-水平",10,0.7,280,"○","○"]
[3534,2941995,420,-1,-1,"RCP6-TA7R(SB)-16-水平",12,0.3,420,"○","○"]
[3535,2941995,280,-1,-1,"RCP6-TA7R(SB)-16-垂直",5,0.3,280,"○","○"]
[3536,2941995,860,-1,{"$f":"A3540","v":3537},"RCP6-TA7R(SB)-24-水平",1,0.3,860,"○","○"]
[3537,6864654.9999999991,640,{"$f":"A3539","v":3536},-1,null,null,0.7,640,"○","○"]
[3538,2941995,640,-1,-1,"RCP6-TA7R(SB)-24-水平",5,0.3,640,"○","○"]
[3539,6864654.9999999991,420,-1,-1,"RCP6-TA7R(SB)-24-水平",8,0.7,420,"○","○"]
[3540,2941995,420,-1,-1,"RCP6-TA7R(SB)-24-水平",10,0.3,420,"○","○"]
[3541,2941995,420,-1,-1,"RCP6-TA7R(SB)-24-垂直",3,0.3,420,"○","○"]
[3542,6864654.9999999991,130,-1,-1,"RCP6-TA4C(DB)-2.5-水平",5,0.7,130,"○","○"]
[3543,6864654.9999999991,105,-1,-1,"RCP6-TA4C(DB)-2.5-水平",6,0.7,105,"○","○"]
[3544,2941995,130,-1,{"$f":"A3548","v":3545},"RCP6-TA4C(DB)-2.5-水平",8,0.3,130,"○","○"]
[3545,6864654.9999999991,65,{"$f":"A3547","v":3544},-1,null,null,0.7,65,"○","○"]
[3546,2941995,105,-1,-1,"RCP6-TA4C(DB)-2.5-水平",9,0.3,105,"○","○"]
[3547,2941995,40,-1,-1,"RCP6-TA4C(DB)-2.5-水平",10,0.3,40,"○","○"]
[3548,2941995,130,-1,-1,"RCP6-TA4C(DB)-2.5-垂直",4,0.3,130,"○","○"]
[3549,2941995,105,-1,-1,"RCP6-TA4C(DB)-2.5-垂直",6,0.3,105,"○","○"]
[3550,2941995,85,-1,-1,"RCP6-TA4C(DB)-2.5-垂直",7.5,0.3,85,"○","○"]
[3551,2941995,65,-1,-1,"RCP6-TA4C(DB)-2.5-垂直",9,0.3,65,"○","○"]
[3552,6864654.9999999991,260,-1,-1,"RCP6-TA4C(DB)-5-水平",5,0.7,260,"○","○"]
[3553,6864654.9999999991,215,-1,-1,"RCP6-TA4C(DB)-5-水平",6,0.7,215,"○","○"]
[3554,2941995,260,-1,{"$f":"A3558","v":3555},"RCP6-TA4C(DB)-5-水平",8,0.3,260,"○","○"]
[3555,6864654.9999999991,130,{"$f":"A3557","v":3554},-1,null,null,0.7,130,"○","○"]
[3556,2941995,215,-1,-1,"RCP6-TA4C(DB)-5-水平",9,0.3,215,"○","○"]
[3557,2941995,85,-1,-1,"RCP6-TA4C(DB)-5-水平",10,0.3,85,"○","○"]
[3558,2941995,260,-1,-1,"RCP6-TA4C(DB)-5-垂直",2.5,0.3,260,"○","○"]
[3559,2941995,215,-1,-1,"RCP6-TA4C(DB)-5-垂直",4,0.3,215,"○","○"]
[3560,2941995,175,-1,-1,"RCP6-TA4C(DB)-5-垂直",4.5,0.3,175,"○","○"]
[3561,2941995,130,-1,-1,"RCP6-TA4C(DB)-5-垂直",5,0.3,130,"○","○"]
[3562,6864654.9999999991,525,-1,-1,"RCP6-TA4C(DB)-10-水平",1.5,0.7,525,"○","○"]
[3563,6864654.9999999991,435,-1,-1,"RCP6-TA4C(DB)-10-水平",3.5,0.7,435,"○","○"]
[3564,2941995,435,-1,{"$f":"A3568","v":3565},"RCP6-TA4C(DB)-10-水平",5,0.3,435,"○","○"]
[3565,6864654.9999999991,350,{"$f":"A3567","v":3564},-1,null,null,0.7,350,"○","○"]
[3566,6864654.9999999991,260,-1,-1,"RCP6-TA4C(DB)-10-水平",6,0.7,260,"○","○"]
[3567,2941995,350,-1,-1,"RCP6-TA4C(DB)-10-水平",7,0.3,350,"○","○"]
[3568,2941995,260,-1,-1,"RCP6-TA4C(DB)-10-水平",8,0.3,260,"○","○"]
[3569,2941995,435,-1,-1,"RCP6-TA4C(DB)-10-垂直",1,0.3,435,"○","○"]
[3570,2941995,350,-1,-1,"RCP6-TA4C(DB)-10-垂直",1.5,0.3,350,"○","○"]
[3571,2941995,260,-1,-1,"RCP6-TA4C(DB)-10-垂直",2.25,0.3,260,"○","○"]
[3572,2941995,175,-1,-1,"RCP6-TA4C(DB)-10-垂直",2.5,0.3,175,"○","○"]
[3573,6864654.9999999991,170,-1,-1,"RCP6-TA6C(DB)-3-水平",7,0.7,170,"○","○"]
[3574,2941995,170,-1,-1,"RCP6-TA6C(DB)-3-水平",10,0.3,170,"○","○"]
[3575,6864654.9999999991,140,-1,-1,"RCP6-TA6C(DB)-3-水平",14,0.7,140,"○","○"]
[3576,2941995,140,-1,{"$f":"A3580","v":3577},"RCP6-TA6C(DB)-3-水平",15,0.3,140,"○","○"]
[3577,6864654.9999999991,125,{"$f":"A3579","v":3576},-1,null,null,0.7,125,"○","○"]
[3578,6864654.9999999991,110,-1,-1,"RCP6-TA6C(DB)-3-水平",16,0.7,110,"○","○"]
[3579,2941995,125,-1,-1,"RCP6-TA6C(DB)-3-水平",18,0.3,125,"○","○"]
[3580,2941995,110,-1,-1,"RCP6-TA6C(DB)-3-水平",20,0.3,110,"○","○"]
[3581,2941995,140,-1,-1,"RCP6-TA6C(DB)-3-垂直",5,0.3,140,"○","○"]
[3582,2941995,125,-1,-1,"RCP6-TA6C(DB)-3-垂直",7,0.3,125,"○","○"]
[3583,2941995,110,-1,-1,"RCP6-TA6C(DB)-3-垂直",9,0.3,110,"○","○"]
[3584,2941995,80,-1,-1,"RCP6-TA6C(DB)-3-垂直",12,0.3,80,"○","○"]
[3585,6864654.9999999991,340,-1,-1,"RCP6-TA6C(DB)-6-水平",3,0.7,340,"○","○"]
[3586,2941995,340,-1,-1,"RCP6-TA6C(DB)-6-水平",5,0.3,340,"○","○"]
[3587,6864654.9999999991,280,-1,-1,"RCP6-TA6C(DB)-6-水平",8,0.7,280,"○","○"]
[3588,6864654.9999999991,250,-1,-1,"RCP6-TA6C(DB)-6-水平",12,0.7,250,"○","○"]
[3589,2941995,280,-1,-1,"RCP6-TA6C(DB)-6-水平",14,0.3,280,"○","○"]
[3590,6864654.9999999991,220,-1,-1,"RCP6-TA6C(DB)-6-水平",16,0.7,220,"○","○"]
[3591,2941995,250,-1,-1,"RCP6-TA6C(DB)-6-水平",17,0.3,250,"○","○"]
[3592,2941995,220,-1,-1,"RCP6-TA6C(DB)-6-水平",20,0.3,220,"○","○"]
[3593,2941995,280,-1,-1,"RCP6-TA6C(DB)-6-垂直",2,0.3,280,"○","○"]
[{"$f":"A3596+1","v":3594},{"$f":"H3597*$A$1*1000*1000","v":2941995},{"$f":"I3597","v":250},-1,-1,"RCP6-TA6C(DB)-6-垂直",3,0.3,250,{"$f":"IF(G3597=0,IF(D3597<>A3596,\"ﾘﾝｸ不正\",\"○\"),\"○\")","v":"○"},{"$f":"IF(D3598<>-1,IF(E3597<>A3598,\"ﾘﾝｸ不正\",\"○\"),\"○\")","v":"○"}]
[3595,2941995,220,-1,-1,"RCP6-TA6C(DB)-6-垂直",4,0.3,220,"○","○"]
[3596,2941995,160,-1,-1,"RCP6-TA6C(DB)-6-垂直",6,0.3,160,"○","○"]
[3597,6864654.9999999991,560,-1,-1,"RCP6-TA6C(DB)-12-水平",1.5,0.7,560,"○","○"]
[3598,6864654.9999999991,500,-1,-1,"RCP6-TA6C(DB)-12-水平",3,0.7,500,"○","○"]
[3599,2941995,560,-1,-1,"RCP6-TA6C(DB)-12-水平",4,0.3,560,"○","○"]
[3600,6864654.9999999991,440,-1,-1,"RCP6-TA6C(DB)-12-水平",5,0.7,440,"○","○"]
[3601,2941995,500,-1,-1,"RCP6-TA6C(DB)-12-水平",6,0.3,500,"○","○"]
[3602,2941995,440,-1,-1,"RCP6-TA6C(DB)-12-水平",9,0.3,440,"○","○"]
[3603,6864654.9999999991,320,-1,-1,"RCP6-TA6C(DB)-12-水平",10,0.7,320,"○","○"]
[3604,6864654.9999999991,200,-1,-1,"RCP6-TA6C(DB)-12-水平",11,0.7,200,"○","○"]
[3605,2941995,320,-1,-1,"RCP6-TA6C(DB)-12-水平",15,0.3,320,"○","○"]
[3606,2941995,440,-1,-1,"RCP6-TA6C(DB)-12-垂直",1,0.3,440,"○","○"]
[3607,2941995,320,-1,-1,"RCP6-TA6C(DB)-12-垂直",2.5,0.3,320,"○","○"]
[3608,2941995,200,-1,-1,"RCP6-TA6C(DB)-12-垂直",3,0.3,200,"○","○"]
[3609,6864654.9999999991,105,-1,-1,"RCP6-TA7C(DB)-4-水平",12,0.7,105,"○","○"]
[3610,6864654.9999999991,70,-1,-1,"RCP6-TA7C(DB)-4-水平",18,0.7,70,"○","○"]
[3611,2941995,105,-1,-1,"RCP6-TA7C(DB)-4-水平",20,0.3,105,"○","○"]
[3612,2941995,70,-1,-1,"RCP6-TA7C(DB)-4-水平",25,0.3,70,"○","○"]
[3613,6864654.9999999991,35,-1,-1,"RCP6-TA7C(DB)-4-水平",26,0.7,35,"○","○"]
[3614,2941995,35,-1,-1,"RCP6-TA7C(DB)-4-水平",30,0.3,35,"○","○"]
[3615,2941995,105,-1,-1,"RCP6-TA7C(DB)-4-垂直",10,0.3,105,"○","○"]
[3616,2941995,70,-1,-1,"RCP6-TA7C(DB)-4-垂直",20,0.3,70,"○","○"]
[3617,2941995,280,-1,-1,"RCP6-TA7C(DB)-8-水平",4,0.3,280,"○","○"]
[3618,6864654.9999999991,210,-1,-1,"RCP6-TA7C(DB)-8-水平",10,0.7,210,"○","○"]
[3619,2941995,210,-1,{"$f":"A3623","v":3620},"RCP6-TA7C(DB)-8-水平",18,0.3,210,"○","○"]
[3620,6864654.9999999991,140,{"$f":"A3622","v":3619},-1,null,null,0.7,140,"○","○"]
[3621,2941995,140,-1,-1,"RCP6-TA7C(DB)-8-水平",25,0.3,140,"○","○"]
[3622,6864654.9999999991,70,-1,-1,"RCP6-TA7C(DB)-8-水平",26,0.7,70,"○","○"]
[3623,2941995,70,-1,-1,"RCP6-TA7C(DB)-8-水平",30,0.3,70,"○","○"]
[3624,2941995,210,-1,-1,"RCP6-TA7C(DB)-8-垂直",3.5,0.3,210,"○","○"]
[3625,2941995,140,-1,-1,"RCP6-TA7C(DB)-8-垂直",12,0.3,140,"○","○"]
[3626,2941995,560,-1,-1,"RCP6-TA7C(DB)-16-水平",2,0.3,560,"○","○"]
[3627,6864654.9999999991,420,-1,-1,"RCP6-TA7C(DB)-16-水平",4,0.7,420,"○","○"]
[3628,2941995,420,-1,-1,"RCP6-TA7C(DB)-16-水平",10,0.3,420,"○","○"]
[3629,6864654.9999999991,280,-1,-1,"RCP6-TA7C(DB)-16-水平",14,0.7,280,"○","○"]
[3630,2941995,280,-1,-1,"RCP6-TA7C(DB)-16-水平",16,0.3,280,"○","○"]
[3631,6864654.9999999991,140,-1,-1,"RCP6-TA7C(DB)-16-水平",18,0.7,140,"○","○"]
[3632,2941995,140,-1,-1,"RCP6-TA7C(DB)-16-水平",22,0.3,140,"○","○"]
[3633,2941995,280,-1,-1,"RCP6-TA7C(DB)-16-垂直",5,0.3,280,"○","○"]
[3634,6864654.9999999991,130,-1,-1,"RCP6-TA4R(DB)-2.5-水平",5,0.7,130,"○","○"]
[3635,6864654.9999999991,105,-1,-1,"RCP6-TA4R(DB)-2.5-水平",6,0.7,105,"○","○"]
[3636,2941995,130,-1,{"$f":"A3640","v":3637},"RCP6-TA4R(DB)-2.5-水平",8,0.3,130,"○","○"]
[3637,6864654.9999999991,65,{"$f":"A3639","v":3636},-1,null,null,0.7,65,"○","○"]
[3638,2941995,105,-1,-1,"RCP6-TA4R(DB)-2.5-水平",9,0.3,105,"○","○"]
[3639,2941995,40,-1,-1,"RCP6-TA4R(DB)-2.5-水平",10,0.3,40,"○","○"]
[3640,2941995,130,-1,-1,"RCP6-TA4R(DB)-2.5-垂直",4,0.3,130,"○","○"]
[3641,2941995,105,-1,-1,"RCP6-TA4R(DB)-2.5-垂直",6,0.3,105,"○","○"]
[3642,2941995,85,-1,-1,"RCP6-TA4R(DB)-2.5-垂直",7.5,0.3,85,"○","○"]
[3643,2941995,65,-1,-1,"RCP6-TA4R(DB)-2.5-垂直",9,0.3,65,"○","○"]
[3644,6864654.9999999991,260,-1,-1,"RCP6-TA4R(DB)-5-水平",5,0.7,260,"○","○"]
[3645,6864654.9999999991,215,-1,-1,"RCP6-TA4R(DB)-5-水平",6,0.7,215,"○","○"]
[3646,2941995,260,-1,{"$f":"A3650","v":3647},"RCP6-TA4R(DB)-5-水平",8,0.3,260,"○","○"]
[3647,6864654.9999999991,130,{"$f":"A3649","v":3646},-1,null,null,0.7,130,"○","○"]
[3648,2941995,215,-1,-1,"RCP6-TA4R(DB)-5-水平",9,0.3,215,"○","○"]
[3649,2941995,85,-1,-1,"RCP6-TA4R(DB)-5-水平",10,0.3,85,"○","○"]
[3650,2941995,260,-1,-1,"RCP6-TA4R(DB)-5-垂直",2.5,0.3,260,"○","○"]
[3651,2941995,215,-1,-1,"RCP6-TA4R(DB)-5-垂直",4,0.3,215,"○","○"]
[3652,2941995,175,-1,-1,"RCP6-TA4R(DB)-5-垂直",4.5,0.3,175,"○","○"]
[3653,2941995,130,-1,-1,"RCP6-TA4R(DB)-5-垂直",5,0.3,130,"○","○"]
[3654,6864654.9999999991,525,-1,-1,"RCP6-TA4R(DB)-10-水平",1.5,0.7,525,"○","○"]
[3655,6864654.9999999991,435,-1,-1,"RCP6-TA4R(DB)-10-水平",3.5,0.7,435,"○","○"]
[3656,2941995,435,-1,{"$f":"A3660","v":3657},"RCP6-TA4R(DB)-10-水平",5,0.3,435,"○","○"]
[3657,6864654.9999999991,350,{"$f":"A3659","v":3656},-1,null,null,0.7,350,"○","○"]
[{"$f":"A3660+1","v":3658},{"$f":"H3661*$A$1*1000*1000","v":6864654.9999999991},{"$f":"I3661","v":260},-1,-1,"RCP6-TA4R(DB)-10-水平",6,0.7,260,{"$f":"IF(G3661=0,IF(D3661<>A3660,\"ﾘﾝｸ不正\",\"○\"),\"○\")","v":"○"},{"$f":"IF(D3662<>-1,IF(E3661<>A3662,\"ﾘﾝｸ不正\",\"○\"),\"○\")","v":"○"}]
[3659,2941995,350,-1,-1,"RCP6-TA4R(DB)-10-水平",7,0.3,350,"○","○"]
[3660,2941995,260,-1,-1,"RCP6-TA4R(DB)-10-水平",8,0.3,260,"○","○"]
[3661,2941995,435,-1,-1,"RCP6-TA4R(DB)-10-垂直",1,0.3,435,"○","○"]
[3662,2941995,350,-1,-1,"RCP6-TA4R(DB)-10-垂直",1.5,0.3,350,"○","○"]
[3663,2941995,260,-1,-1,"RCP6-TA4R(DB)-10-垂直",2.25,0.3,260,"○","○"]
[3664,2941995,175,-1,-1,"RCP6-TA4R(DB)-10-垂直",2.5,0.3,175,"○","○"]
[3665,6864654.9999999991,170,-1,-1,"RCP6-TA6R(DB)-3-水平",7,0.7,170,"○","○"]
[3666,2941995,170,-1,-1,"RCP6-TA6R(DB)-3-水平",10,0.3,170,"○","○"]
[3667,6864654.9999999991,140,-1,-1,"RCP6-TA6R(DB)-3-水平",14,0.7,140,"○","○"]
[3668,2941995,140,-1,{"$f":"A3672","v":3669},"RCP6-TA6R(DB)-3-水平",15,0.3,140,"○","○"]
[3669,6864654.9999999991,125,{"$f":"A3671","v":3668},-1,null,null,0.7,125,"○","○"]
[3670,6864654.9999999991,110,-1,-1,"RCP6-TA6R(DB)-3-水平",16,0.7,110,"○","○"]
[3671,2941995,125,-1,-1,"RCP6-TA6R(DB)-3-水平",18,0.3,125,"○","○"]
[3672,2941995,110,-1,-1,"RCP6-TA6R(DB)-3-水平",20,0.3,110,"○","○"]
[3673,2941995,140,-1,-1,"RCP6-TA6R(DB)-3-垂直",5,0.3,140,"○","○"]
[3674,2941995,125,-1,-1,"RCP6-TA6R(DB)-3-垂直",7,0.3,125,"○","○"]
[3675,2941995,110,-1,-1,"RCP6-TA6R(DB)-3-垂直",9,0.3,110,"○","○"]
[3676,2941995,80,-1,-1,"RCP6-TA6R(DB)-3-垂直",12,0.3,80,"○","○"]
[3677,6864654.9999999991,340,-1,-1,"RCP6-TA6R(DB)-6-水平",3,0.7,340,"○","○"]
[3678,2941995,340,-1,-1,"RCP6-TA6R(DB)-6-水平",5,0.3,340,"○","○"]
[3679,6864654.9999999991,280,-1,-1,"RCP6-TA6R(DB)-6-水平",8,0.7,280,"○","○"]
[3680,6864654.9999999991,250,-1,-1,"RCP6-TA6R(DB)-6-水平",12,0.7,250,"○","○"]
[3681,2941995,280,-1,-1,"RCP6-TA6R(DB)-6-水平",14,0.3,280,"○","○"]
[3682,6864654.9999999991,220,-1,-1,"RCP6-TA6R(DB)-6-水平",16,0.7,220,"○","○"]
[3683,2941995,250,-1,-1,"RCP6-TA6R(DB)-6-水平",17,0.3,250,"○","○"]
[3684,2941995,220,-1,-1,"RCP6-TA6R(DB)-6-水平",20,0.3,220,"○","○"]
[3685,2941995,280,-1,-1,"RCP6-TA6R(DB)-6-垂直",2,0.3,280,"○","○"]
[3686,2941995,250,-1,-1,"RCP6-TA6R(DB)-6-垂直",3,0.3,250,"○","○"]
[3687,2941995,220,-1,-1,"RCP6-TA6R(DB)-6-垂直",4,0.3,220,"○","○"]
[3688,2941995,160,-1,-1,"RCP6-TA6R(DB)-6-垂直",6,0.3,160,"○","○"]
[3689,6864654.9999999991,560,-1,-1,"RCP6-TA6R(DB)-12-水平",1.5,0.7,560,"○","○"]
[3690,6864654.9999999991,500,-1,-1,"RCP6-TA6R(DB)-12-水平",3,0.7,500,"○","○"]
[3691,2941995,560,-1,-1,"RCP6-TA6R(DB)-12-水平",4,0.3,560,"○","○"]
[3692,6864654.9999999991,440,-1,-1,"RCP6-TA6R(DB)-12-水平",5,0.7,440,"○","○"]
[3693,2941995,500,-1,-1,"RCP6-TA6R(DB)-12-水平",6,0.3,500,"○","○"]
[3694,2941995,440,-1,-1,"RCP6-TA6R(DB)-12-水平",9,0.3,440,"○","○"]
[3695,6864654.9999999991,320,-1,-1,"RCP6-TA6R(DB)-12-水平",10,0.7,320,"○","○"]
[3696,6864654.9999999991,200,-1,-1,"RCP6-TA6R(DB)-12-水平",11,0.7,200,"○","○"]
[3697,2941995,320,-1,-1,"RCP6-TA6R(DB)-12-水平",15,0.3,320,"○","○"]
[3698,2941995,440,-1,-1,"RCP6-TA6R(DB)-12-垂直",1,0.3,440,"○","○"]
[3699,2941995,320,-1,-1,"RCP6-TA6R(DB)-12-垂直",2.5,0.3,320,"○","○"]
[3700,2941995,200,-1,-1,"RCP6-TA6R(DB)-12-垂直",3,0.3,200,"○","○"]
[3701,6864654.9999999991,105,-1,-1,"RCP6-TA7R(DB)-4-水平",12,0.7,105,"○","○"]
[3702,6864654.9999999991,70,-1,-1,"RCP6-TA7R(DB)-4-水平",18,0.7,70,"○","○"]
[3703,2941995,105,-1,-1,"RCP6-TA7R(DB)-4-水平",20,0.3,105,"○","○"]
[3704,2941995,70,-1,-1,"RCP6-TA7R(DB)-4-水平",25,0.3,70,"○","○"]
[3705,6864654.9999999991,35,-1,-1,"RCP6-TA7R(DB)-4-水平",26,0.7,35,"○","○"]
[3706,2941995,35,-1,-1,"RCP6-TA7R(DB)-4-水平",30,0.3,35,"○","○"]
[3707,2941995,105,-1,-1,"RCP6-TA7R(DB)-4-垂直",10,0.3,105,"○","○"]
[3708,2941995,70,-1,-1,"RCP6-TA7R(DB)-4-垂直",20,0.3,70,"○","○"]
[3709,2941995,280,-1,-1,"RCP6-TA7R(DB)-8-水平",4,0.3,280,"○","○"]
[3710,6864654.9999999991,210,-1,-1,"RCP6-TA7R(DB)-8-水平",10,0.7,210,"○","○"]
[3711,2941995,210,-1,{"$f":"A3715","v":3712},"RCP6-TA7R(DB)-8-水平",18,0.3,210,"○","○"]
[3712,6864654.9999999991,140,{"$f":"A3714","v":3711},-1,null,null,0.7,140,"○","○"]
[3713,2941995,140,-1,-1,"RCP6-TA7R(DB)-8-水平",25,0.3,140,"○","○"]
[3714,6864654.9999999991,70,-1,-1,"RCP6-TA7R(DB)-8-水平",26,0.7,70,"○","○"]
[3715,2941995,70,-1,-1,"RCP6-TA7R(DB)-8-水平",30,0.3,70,"○","○"]
[3716,2941995,210,-1,-1,"RCP6-TA7R(DB)-8-垂直",3.5,0.3,210,"○","○"]
[3717,2941995,140,-1,-1,"RCP6-TA7R(DB)-8-垂直",12,0.3,140,"○","○"]
[3718,2941995,560,-1,-1,"RCP6-TA7R(DB)-16-水平",2,0.3,560,"○","○"]
[3719,6864654.9999999991,420,-1,-1,"RCP6-TA7R(DB)-16-水平",4,0.7,420,"○","○"]
[3720,2941995,420,-1,-1,"RCP6-TA7R(DB)-16-水平",10,0.3,420,"○","○"]
[3721,6864654.9999999991,280,-1,-1,"RCP6-TA7R(DB)-16-水平",14,0.7,280,"○","○"]
[3722,2941995,280,-1,-1,"RCP6-TA7R(DB)-16-水平",16,0.3,280,{"$f":"IF(G3725=0,IF(D3725<>A3724,\"ﾘﾝｸ不正\",\"○\"),\"○\")","v":"○"},{"$f":"IF(D3726<>-1,IF(E3725<>A3726,\"ﾘﾝｸ不正\",\"○\"),\"○\")","v":"○"}]
[3723,6864654.9999999991,140,-1,-1,"RCP6-TA7R(DB)-16-水平",18,0.7,140,{"$f":"IF(G3726=0,IF(D3726<>A3725,\"ﾘﾝｸ不正\",\"○\"),\"○\")","v":"○"},{"$f":"IF(D3727<>-1,IF(E3726<>A3727,\"ﾘﾝｸ不正\",\"○\"),\"○\")","v":"○"}]
[3724,2941995,140,-1,-1,"RCP6-TA7R(DB)-16-水平",22,0.3,140,{"$f":"IF(G3727=0,IF(D3727<>A3726,\"ﾘﾝｸ不正\",\"○\"),\"○\")","v":"○"},{"$f":"IF(D3728<>-1,IF(E3727<>A3728,\"ﾘﾝｸ不正\",\"○\"),\"○\")","v":"○"}]
[3725,2941995,280,-1,-1,"RCP6-TA7R(DB)-16-垂直",5,0.3,280,{"$f":"IF(G3728=0,IF(D3728<>A3727,\"ﾘﾝｸ不正\",\"○\"),\"○\")","v":"○"},{"$f":"IF(D3729<>-1,IF(E3728<>A3729,\"ﾘﾝｸ不正\",\"○\"),\"○\")","v":"○"}]
[3726,2941995,170,-1,-1,"RCP6-HSA6C-3-水平",5,0.3,170,"↓ Ver.3.80 追加"]
[3727,2941995,167,-1,-1,"RCP6-HSA6C-3-水平",6,0.3,167]
[3728,2941995,164,-1,-1,"RCP6-HSA6C-3-水平",7,0.3,164]
[3729,2941995,161,-1,-1,"RCP6-HSA6C-3-水平",8,0.3,161]
[3730,2941995,158,-1,-1,"RCP6-HSA6C-3-水平",9,0.3,158]
[3731,2941995,155,-1,-1,"RCP6-HSA6C-3-水平",10,0.3,155]
[3732,2941995,152,-1,3733,"RCP6-HSA6C-3-水平",11,0.3,152]
[3733,6864655,140,3732,-1,"RCP6-HSA6C-3-水平",11,0.7,140]
[3734,2941995,149,-1,3735,"RCP6-HSA6C-3-水平",12,0.3,149]
[3735,6864655,130,3734,-1,"RCP6-HSA6C-3-水平",12,0.7,130]
[3736,2941995,146,-1,3737,"RCP6-HSA6C-3-水平",13,0.3,146]
[3737,6864655,120,3736,-1,"RCP6-HSA6C-3-水平",13,0.7,120]
[3738,2941995,143,-1,3739,"RCP6-HSA6C-3-水平",14,0.3,143]
[3739,6864655,110,3738,-1,"RCP6-HSA6C-3-水平",14,0.7,110]
[3740,2941995,140,-1,3741,"RCP6-HSA6C-3-水平",15,0.3,140]
[3741,6864655,106,3740,-1,"RCP6-HSA6C-3-水平",15,0.7,106]
[3742,2941995,134,-1,3743,"RCP6-HSA6C-3-水平",16,0.3,134]
[3743,6864655,102,3742,-1,"RCP6-HSA6C-3-水平",16,0.7,102]
[3744,2941995,128,-1,3745,"RCP6-HSA6C-3-水平",17,0.3,128]
[3745,6864655,98,3744,-1,"RCP6-HSA6C-3-水平",17,0.7,98]
[3746,2941995,122,-1,3747,"RCP6-HSA6C-3-水平",18,0.3,122]
[3747,6864655,95,3746,-1,"RCP6-HSA6C-3-水平",18,0.7,95]
[3748,2941995,116,-1,3749,"RCP6-HSA6C-3-水平",19,0.3,116]
[3749,6864655,91,3748,-1,"RCP6-HSA6C-3-水平",19,0.7,91]
[3750,2941995,110,-1,3751,"RCP6-HSA6C-3-水平",20,0.3,110]
[3751,6864655,87,3750,-1,"RCP6-HSA6C-3-水平",20,0.7,87]
[3752,2941995,104,-1,3753,"RCP6-HSA6C-3-水平",21,0.3,104]
[3753,6864655,83,3752,-1,"RCP6-HSA6C-3-水平",21,0.7,83]
[3754,2941995,98,-1,3755,"RCP6-HSA6C-3-水平",22,0.3,98]
[3755,6864655,80,3754,-1,"RCP6-HSA6C-3-水平",22,0.7,80]
[3756,2941995,92,-1,-1,"RCP6-HSA6C-3-水平",23,0.3,92]
[3757,2941995,86,-1,-1,"RCP6-HSA6C-3-水平",24,0.3,86]
[3758,2941995,80,-1,-1,"RCP6-HSA6C-3-水平",25,0.3,80]
[3759,2941995,170,-1,-1,"RCP6-HSA6C-3-垂直",1.5,0.3,170]
[3760,2941995,165,-1,-1,"RCP6-HSA6C-3-垂直",2,0.3,165]
[3761,2941995,157,-1,-1,"RCP6-HSA6C-3-垂直",3,0.3,157]
[3762,2941995,148,-1,-1,"RCP6-HSA6C-3-垂直",4,0.3,148]
[3763,2941995,140,-1,-1,"RCP6-HSA6C-3-垂直",5,0.3,140]
[3764,2941995,130,-1,-1,"RCP6-HSA6C-3-垂直",6,0.3,130]
[3765,2941995,120,-1,-1,"RCP6-HSA6C-3-垂直",7,0.3,120]
[3766,2941995,110,-1,-1,"RCP6-HSA6C-3-垂直",8,0.3,110]
[3767,2941995,95,-1,-1,"RCP6-HSA6C-3-垂直",9,0.3,95]
[3768,2941995,80,-1,-1,"RCP6-HSA6C-3-垂直",10,0.3,80]
[3769,6864655,340,-1,-1,"RCP6-HSA6C-6-水平",1,0.7,340]
[3770,6864655,330,-1,-1,"RCP6-HSA6C-6-水平",2,0.7,330]
[3771,6864655,320,-1,-1,"RCP6-HSA6C-6-水平",3,0.7,320]
[3772,6864655,310,-1,-1,"RCP6-HSA6C-6-水平",4,0.7,310]
[3773,6864655,300,-1,-1,"RCP6-HSA6C-6-水平",5,0.7,300]
[3774,6864655,290,-1,-1,"RCP6-HSA6C-6-水平",6,0.7,290]
[3775,6864655,280,-1,-1,"RCP6-HSA6C-6-水平",7,0.7,280]
[3776,2941995,340,-1,3777,"RCP6-HSA6C-6-水平",8,0.3,340]
[3777,6864655,271,3776,-1,"RCP6-HSA6C-6-水平",8,0.7,271]
[3778,2941995,328,-1,3779,"RCP6-HSA6C-6-水平",9,0.3,328]
[3779,6864655,262,3778,-1,"RCP6-HSA6C-6-水平",9,0.7,262]
[3780,2941995,316,-1,3781,"RCP6-HSA6C-6-水平",10,0.3,316]
[3781,6864655,254,3780,-1,"RCP6-HSA6C-6-水平",10,0.7,254]
[3782,2941995,304,-1,3783,"RCP6-HSA6C-6-水平",11,0.3,304]
[3783,6864655,245,3782,-1,"RCP6-HSA6C-6-水平",11,0.7,245]
[3784,2941995,292,-1,3785,"RCP6-HSA6C-6-水平",12,0.3,292]
[3785,6864655,237,3784,-1,"RCP6-HSA6C-6-水平",12,0.7,237]
[3786,2941995,280,-1,3787,"RCP6-HSA6C-6-水平",13,0.3,280]
[3787,6864655,228,3786,-1,"RCP6-HSA6C-6-水平",13,0.7,228]
[3788,2941995,260,-1,3789,"RCP6-HSA6C-6-水平",14,0.3,260]
[3789,6864655,220,3788,-1,"RCP6-HSA6C-6-水平",14,0.7,220]
[3790,2941995,240,-1,-1,"RCP6-HSA6C-6-水平",15,0.3,240]
[3791,2941995,220,-1,-1,"RCP6-HSA6C-6-水平",16,0.3,220]
[3792,2941995,205,-1,-1,"RCP6-HSA6C-6-水平",17,0.3,205]
[3793,2941995,190,-1,-1,"RCP6-HSA6C-6-水平",18,0.3,190]
[3794,2941995,175,-1,-1,"RCP6-HSA6C-6-水平",19,0.3,175]
[3795,2941995,160,-1,-1,"RCP6-HSA6C-6-水平",20,0.3,160]
[3796,2941995,340,-1,-1,"RCP6-HSA6C-6-垂直",1,0.3,340]
[3797,2941995,300,-1,-1,"RCP6-HSA6C-6-垂直",2,0.3,300]
[3798,2941995,280,-1,-1,"RCP6-HSA6C-6-垂直",2.5,0.3,280]
[3799,2941995,260,-1,-1,"RCP6-HSA6C-6-垂直",3,0.3,260]
[3800,2941995,220,-1,-1,"RCP6-HSA6C-6-垂直",4,0.3,220]
[3801,2941995,160,-1,-1,"RCP6-HSA6C-6-垂直",5,0.3,160]
[3802,6864655,560,-1,-1,"RCP6-HSA6C-12-水平",2.5,0.7,560]
[3803,6864655,546,-1,-1,"RCP6-HSA6C-12-水平",3,0.7,546]
[3804,2941995,680,-1,3805,"RCP6-HSA6C-12-水平",4,0.3,680]
[3805,6864655,520,3804,-1,"RCP6-HSA6C-12-水平",4,0.7,520]
[3806,2941995,640,-1,3807,"RCP6-HSA6C-12-水平",5,0.3,640]
[3807,6864655,493,3806,-1,"RCP6-HSA6C-12-水平",5,0.7,493]
[3808,2941995,600,-1,3809,"RCP6-HSA6C-12-水平",6,0.3,600]
[3809,6864655,466,3808,-1,"RCP6-HSA6C-12-水平",6,0.7,466]
[3810,2941995,560,-1,3811,"RCP6-HSA6C-12-水平",7,0.3,560]
[3811,6864655,440,3810,-1,"RCP6-HSA6C-12-水平",7,0.7,440]
[3812,2941995,530,-1,3813,"RCP6-HSA6C-12-水平",8,0.3,530]
[3813,6864655,400,3812,-1,"RCP6-HSA6C-12-水平",8,0.7,400]
[3814,2941995,500,-1,3815,"RCP6-HSA6C-12-水平",9,0.3,500]
[3815,6864655,360,3814,-1,"RCP6-HSA6C-12-水平",9,0.7,360]
[3816,2941995,470,-1,3817,"RCP6-HSA6C-12-水平",10,0.3,470]
[3817,6864655,320,3816,-1,"RCP6-HSA6C-12-水平",10,0.7,320]
[3818,2941995,440,-1,-1,"RCP6-HSA6C-12-水平",11,0.3,440]
[3819,2941995,400,-1,-1,"RCP6-HSA6C-12-水平",12,0.3,400]
[3820,2941995,360,-1,-1,"RCP6-HSA6C-12-水平",13,0.3,360]
[3821,2941995,320,-1,-1,"RCP6-HSA6C-12-水平",14,0.3,320]
[3822,2941995,560,-1,-1,"RCP6-HSA6C-12-垂直",1,0.3,560]
[3823,2941995,440,-1,-1,"RCP6-HSA6C-12-垂直",1.5,0.3,440]
[3824,2941995,320,-1,-1,"RCP6-HSA6C-12-垂直",2,0.3,320]
[3825,6864655,800,-1,-1,"RCP6-HSA6C-20-水平",1.5,0.7,800]
[3826,6864655,746,-1,-1,"RCP6-HSA6C-20-水平",2,0.7,746]
[3827,6864655,640,-1,-1,"RCP6-HSA6C-20-水平",3,0.7,640]
[3828,2941995,800,-1,3829,"RCP6-HSA6C-20-水平",4,0.3,800]
[3829,6864655,480,3828,-1,"RCP6-HSA6C-20-水平",4,0.7,480]
[3830,2941995,720,-1,3831,"RCP6-HSA6C-20-水平",5,0.3,720]
[3831,6864655,320,3830,-1,"RCP6-HSA6C-20-水平",5,0.7,320]
[3832,2941995,640,-1,-1,"RCP6-HSA6C-20-水平",6,0.3,640]
[3833,2941995,560,-1,-1,"RCP6-HSA6C-20-水平",7,0.3,560]
[3834,2941995,480,-1,-1,"RCP6-HSA6C-20-水平",8,0.3,480]
[3835,2941995,800,-1,-1,"RCP6-HSA6C-20-垂直",0.5,0.3,800]
[3836,2941995,640,-1,-1,"RCP6-HSA6C-20-垂直",0.75,0.3,640]
[3837,2941995,140,-1,-1,"RCP6-HSA7C-4-水平",3,0.3,140]
[3838,2941995,139,-1,-1,"RCP6-HSA7C-4-水平",4,0.3,139]
[3839,2941995,138,-1,-1,"RCP6-HSA7C-4-水平",5,0.3,138]
[3840,2941995,137,-1,-1,"RCP6-HSA7C-4-水平",6,0.3,137]
[3841,2941995,136,-1,-1,"RCP6-HSA7C-4-水平",7,0.3,136]
[3842,2941995,135,-1,-1,"RCP6-HSA7C-4-水平",8,0.3,135]
[3843,2941995,134,-1,-1,"RCP6-HSA7C-4-水平",9,0.3,134]
[3844,2941995,133,-1,-1,"RCP6-HSA7C-4-水平",10,0.3,133]
[3845,2941995,132,-1,-1,"RCP6-HSA7C-4-水平",11,0.3,132]
[3846,2941995,131,-1,-1,"RCP6-HSA7C-4-水平",12,0.3,131]
[3847,2941995,130,-1,-1,"RCP6-HSA7C-4-水平",13,0.3,130]
[3848,2941995,129,-1,-1,"RCP6-HSA7C-4-水平",14,0.3,129]
[3849,2941995,128,-1,-1,"RCP6-HSA7C-4-水平",15,0.3,128]
[3850,2941995,127,-1,-1,"RCP6-HSA7C-4-水平",16,0.3,127]
[3851,2941995,126,-1,-1,"RCP6-HSA7C-4-水平",17,0.3,126]
[3852,2941995,125,-1,-1,"RCP6-HSA7C-4-水平",18,0.3,125]
[3853,2941995,124,-1,-1,"RCP6-HSA7C-4-水平",19,0.3,124]
[3854,2941995,123,-1,-1,"RCP6-HSA7C-4-水平",20,0.3,123]
[3855,2941995,122,-1,-1,"RCP6-HSA7C-4-水平",21,0.3,122]
[3856,2941995,122,-1,-1,"RCP6-HSA7C-4-水平",22,0.3,122]
[3857,2941995,121,-1,-1,"RCP6-HSA7C-4-水平",23,0.3,121]
[3858,2941995,120,-1,-1,"RCP6-HSA7C-4-水平",24,0.3,120]
[3859,2941995,119,-1,-1,"RCP6-HSA7C-4-水平",25,0.3,119]
[3860,2941995,118,-1,-1,"RCP6-HSA7C-4-水平",26,0.3,118]
[3861,2941995,117,-1,-1,"RCP6-HSA7C-4-水平",27,0.3,117]
[3862,2941995,116,-1,-1,"RCP6-HSA7C-4-水平",28,0.3,116]
[3863,2941995,115,-1,-1,"RCP6-HSA7C-4-水平",29,0.3,115]
[3864,2941995,114,-1,3865,"RCP6-HSA7C-4-水平",30,0.3,114]
[3865,6864655,105,3864,-1,"RCP6-HSA7C-4-水平",30,0.7,105]
[3866,2941995,113,-1,-1,"RCP6-HSA7C-4-水平",31,0.3,113]
[3867,2941995,112,-1,-1,"RCP6-HSA7C-4-水平",32,0.3,112]
[3868,2941995,111,-1,-1,"RCP6-HSA7C-4-水平",33,0.3,111]
[3869,2941995,110,-1,-1,"RCP6-HSA7C-4-水平",34,0.3,110]
[3870,2941995,109,-1,-1,"RCP6-HSA7C-4-水平",35,0.3,109]
[3871,2941995,108,-1,-1,"RCP6-HSA7C-4-水平",36,0.3,108]
[3872,2941995,107,-1,-1,"RCP6-HSA7C-4-水平",37,0.3,107]
[3873,2941995,106,-1,-1,"RCP6-HSA7C-4-水平",38,0.3,106]
[3874,2941995,105,-1,-1,"RCP6-HSA7C-4-水平",39,0.3,105]
[3875,2941995,105,-1,-1,"RCP6-HSA7C-4-水平",40,0.3,105]
[3876,2941995,105,-1,-1,"RCP6-HSA7C-4-垂直",8,0.3,105]
[3877,2941995,100,-1,-1,"RCP6-HSA7C-4-垂直",9,0.3,100]
[3878,2941995,95,-1,-1,"RCP6-HSA7C-4-垂直",10,0.3,95]
[3879,2941995,90,-1,-1,"RCP6-HSA7C-4-垂直",11,0.3,90]
[3880,2941995,85,-1,-1,"RCP6-HSA7C-4-垂直",12,0.3,85]
[3881,2941995,80,-1,-1,"RCP6-HSA7C-4-垂直",13,0.3,80]
[3882,2941995,75,-1,-1,"RCP6-HSA7C-4-垂直",14,0.3,75]
[3883,2941995,70,-1,-1,"RCP6-HSA7C-4-垂直",15,0.3,70]
[3884,2941995,280,-1,-1,"RCP6-HSA7C-8-水平",10,0.3,280]
[3885,2941995,275,-1,-1,"RCP6-HSA7C-8-水平",11,0.3,275]
[3886,2941995,270,-1,-1,"RCP6-HSA7C-8-水平",12,0.3,270]
[3887,2941995,266,-1,-1,"RCP6-HSA7C-8-水平",13,0.3,266]
[3888,2941995,261,-1,3889,"RCP6-HSA7C-8-水平",14,0.3,261]
[3889,6864655,210,3888,-1,"RCP6-HSA7C-8-水平",14,0.7,210]
[3890,2941995,256,-1,3891,"RCP6-HSA7C-8-水平",15,0.3,256]
[3891,6864655,203,3890,-1,"RCP6-HSA7C-8-水平",15,0.7,203]
[3892,2941995,252,-1,3893,"RCP6-HSA7C-8-水平",16,0.3,252]
[3893,6864655,197,3892,-1,"RCP6-HSA7C-8-水平",16,0.7,197]
[3894,2941995,247,-1,3895,"RCP6-HSA7C-8-水平",17,0.3,247]
[3895,6864655,190,3894,-1,"RCP6-HSA7C-8-水平",17,0.7,190]
[3896,2941995,242,-1,3897,"RCP6-HSA7C-8-水平",18,0.3,242]
[3897,6864655,184,3896,-1,"RCP6-HSA7C-8-水平",18,0.7,184]
[3898,2941995,238,-1,3899,"RCP6-HSA7C-8-水平",19,0.3,238]
[3899,6864655,178,3898,-1,"RCP6-HSA7C-8-水平",19,0.7,178]
[3900,2941995,233,-1,3901,"RCP6-HSA7C-8-水平",20,0.3,233]
[3901,6864655,171,3900,-1,"RCP6-HSA7C-8-水平",20,0.7,171]
[3902,2941995,228,-1,3903,"RCP6-HSA7C-8-水平",21,0.3,228]
[3903,6864655,165,3902,-1,"RCP6-HSA7C-8-水平",21,0.7,165]
[3904,2941995,224,-1,3905,"RCP6-HSA7C-8-水平",22,0.3,224]
[3905,6864655,159,3904,-1,"RCP6-HSA7C-8-水平",22,0.7,159]
[3906,2941995,219,-1,3907,"RCP6-HSA7C-8-水平",23,0.3,219]
[3907,6864655,152,3906,-1,"RCP6-HSA7C-8-水平",23,0.7,152]
[3908,2941995,214,-1,3909,"RCP6-HSA7C-8-水平",24,0.3,214]
[3909,6864655,146,3908,-1,"RCP6-HSA7C-8-水平",24,0.7,146]
[3910,2941995,210,-1,3911,"RCP6-HSA7C-8-水平",25,0.3,210]
[3911,6864655,140,3910,-1,"RCP6-HSA7C-8-水平",25,0.7,140]
[3912,2941995,205,-1,-1,"RCP6-HSA7C-8-水平",26,0.3,205]
[3913,2941995,200,-1,-1,"RCP6-HSA7C-8-水平",27,0.3,200]
[3914,2941995,196,-1,-1,"RCP6-HSA7C-8-水平",28,0.3,196]
[3915,2941995,191,-1,-1,"RCP6-HSA7C-8-水平",29,0.3,191]
[3916,2941995,186,-1,-1,"RCP6-HSA7C-8-水平",30,0.3,186]
[3917,2941995,182,-1,-1,"RCP6-HSA7C-8-水平",31,0.3,182]
[3918,2941995,177,-1,-1,"RCP6-HSA7C-8-水平",32,0.3,177]
[3919,2941995,172,-1,-1,"RCP6-HSA7C-8-水平",33,0.3,172]
[3920,2941995,168,-1,-1,"RCP6-HSA7C-8-水平",34,0.3,168]
[3921,2941995,163,-1,-1,"RCP6-HSA7C-8-水平",35,0.3,163]
[3922,2941995,158,-1,-1,"RCP6-HSA7C-8-水平",36,0.3,158]
[3923,2941995,154,-1,-1,"RCP6-HSA7C-8-水平",37,0.3,154]
[3924,2941995,149,-1,-1,"RCP6-HSA7C-8-水平",38,0.3,149]
[3925,2941995,144,-1,-1,"RCP6-HSA7C-8-水平",39,0.3,144]
[3926,2941995,140,-1,-1,"RCP6-HSA7C-8-水平",40,0.3,140]
[3927,2941995,280,-1,-1,"RCP6-HSA7C-8-垂直",1.5,0.3,280]
[3928,2941995,266,-1,-1,"RCP6-HSA7C-8-垂直",2,0.3,266]
[3929,2941995,238,-1,-1,"RCP6-HSA7C-8-垂直",3,0.3,238]
[3930,2941995,210,-1,-1,"RCP6-HSA7C-8-垂直",4,0.3,210]
[3931,2941995,186,-1,-1,"RCP6-HSA7C-8-垂直",5,0.3,186]
[3932,2941995,163,-1,-1,"RCP6-HSA7C-8-垂直",6,0.3,163]
[3933,2941995,140,-1,-1,"RCP6-HSA7C-8-垂直",7,0.3,140]
[3934,2941995,116,-1,-1,"RCP6-HSA7C-8-垂直",8,0.3,116]
[3935,2941995,93,-1,-1,"RCP6-HSA7C-8-垂直",9,0.3,93]
[3936,2941995,70,-1,-1,"RCP6-HSA7C-8-垂直",10,0.3,70]
[3937,6864655,560,-1,-1,"RCP6-HSA7C-16-水平",0.5,0.7,560]
[3938,6864655,547,-1,-1,"RCP6-HSA7C-16-水平",1,0.7,547]
[3939,6864655,521,-1,-1,"RCP6-HSA7C-16-水平",2,0.7,521]
[3940,6864655,496,-1,-1,"RCP6-HSA7C-16-水平",3,0.7,496]
[3941,6864655,470,-1,-1,"RCP6-HSA7C-16-水平",4,0.7,470]
[3942,6864655,445,-1,-1,"RCP6-HSA7C-16-水平",5,0.7,445]
[3943,6864655,420,-1,-1,"RCP6-HSA7C-16-水平",6,0.7,420]
[3944,2941995,560,-1,3945,"RCP6-HSA7C-16-水平",7,0.3,560]
[3945,6864655,396,3944,-1,"RCP6-HSA7C-16-水平",7,0.7,396]
[3946,2941995,542,-1,3947,"RCP6-HSA7C-16-水平",8,0.3,542]
[3947,6864655,373,3946,-1,"RCP6-HSA7C-16-水平",8,0.7,373]
[3948,2941995,525,-1,3949,"RCP6-HSA7C-16-水平",9,0.3,525]
[3949,6864655,350,3948,-1,"RCP6-HSA7C-16-水平",9,0.7,350]
[3950,2941995,507,-1,3951,"RCP6-HSA7C-16-水平",10,0.3,507]
[3951,6864655,326,3950,-1,"RCP6-HSA7C-16-水平",10,0.7,326]
[3952,2941995,490,-1,3953,"RCP6-HSA7C-16-水平",11,0.3,490]
[3953,6864655,303,3952,-1,"RCP6-HSA7C-16-水平",11,0.7,303]
[3954,2941995,472,-1,3955,"RCP6-HSA7C-16-水平",12,0.3,472]
[3955,6864655,280,3954,-1,"RCP6-HSA7C-16-水平",12,0.7,280]
[3956,2941995,455,-1,3957,"RCP6-HSA7C-16-水平",13,0.3,455]
[3957,6864655,262,3956,-1,"RCP6-HSA7C-16-水平",13,0.7,262]
[3958,2941995,437,-1,3959,"RCP6-HSA7C-16-水平",14,0.3,437]
[3959,6864655,245,3958,-1,"RCP6-HSA7C-16-水平",14,0.7,245]
[3960,2941995,420,-1,3961,"RCP6-HSA7C-16-水平",15,0.3,420]
[3961,6864655,227,3960,-1,"RCP6-HSA7C-16-水平",15,0.7,227]
[3962,2941995,406,-1,3963,"RCP6-HSA7C-16-水平",16,0.3,406]
[3963,6864655,210,3962,-1,"RCP6-HSA7C-16-水平",16,0.7,210]
[3964,2941995,392,-1,3965,"RCP6-HSA7C-16-水平",17,0.3,392]
[3965,6864655,192,3964,-1,"RCP6-HSA7C-16-水平",17,0.7,192]
[3966,2941995,378,-1,3967,"RCP6-HSA7C-16-水平",18,0.3,378]
[3967,6864655,175,3966,-1,"RCP6-HSA7C-16-水平",18,0.7,175]
[3968,2941995,364,-1,3969,"RCP6-HSA7C-16-水平",19,0.3,364]
[3969,6864655,157,3968,-1,"RCP6-HSA7C-16-水平",19,0.7,157]
[3970,2941995,350,-1,3971,"RCP6-HSA7C-16-水平",20,0.3,350]
[3971,6864655,140,3970,-1,"RCP6-HSA7C-16-水平",20,0.7,140]
[3972,2941995,336,-1,-1,"RCP6-HSA7C-16-水平",21,0.3,336]
[3973,2941995,322,-1,-1,"RCP6-HSA7C-16-水平",22,0.3,322]
[3974,2941995,308,-1,-1,"RCP6-HSA7C-16-水平",23,0.3,308]
[3975,2941995,294,-1,-1,"RCP6-HSA7C-16-水平",24,0.3,294]
[3976,2941995,280,-1,-1,"RCP6-HSA7C-16-水平",25,0.3,280]
[3977,2941995,266,-1,-1,"RCP6-HSA7C-16-水平",26,0.3,266]
[3978,2941995,252,-1,-1,"RCP6-HSA7C-16-水平",27,0.3,252]
[3979,2941995,238,-1,-1,"RCP6-HSA7C-16-水平",28,0.3,238]
[3980,2941995,224,-1,-1,"RCP6-HSA7C-16-水平",29,0.3,224]
[3981,2941995,210,-1,-1,"RCP6-HSA7C-16-水平",30,0.3,210]
[3982,2941995,196,-1,-1,"RCP6-HSA7C-16-水平",31,0.3,196]
[3983,2941995,182,-1,-1,"RCP6-HSA7C-16-水平",32,0.3,182]
[3984,2941995,168,-1,-1,"RCP6-HSA7C-16-水平",33,0.3,168]
[3985,2941995,154,-1,-1,"RCP6-HSA7C-16-水平",34,0.3,154]
[3986,2941995,140,-1,-1,"RCP6-HSA7C-16-水平",35,0.3,140]
[3987,2941995,560,-1,-1,"RCP6-HSA7C-16-垂直",0.5,0.3,560]
[3988,2941995,490,-1,-1,"RCP6-HSA7C-16-垂直",1,0.3,490]
[3989,2941995,420,-1,-1,"RCP6-HSA7C-16-垂直",1.5,0.3,420]
[3990,2941995,373,-1,-1,"RCP6-HSA7C-16-垂直",2,0.3,373]
[3991,2941995,280,-1,-1,"RCP6-HSA7C-16-垂直",3,0.3,280]
[3992,2941995,210,-1,-1,"RCP6-HSA7C-16-垂直",4,0.3,210]
[3993,2941995,140,-1,-1,"RCP6-HSA7C-16-垂直",5,0.3,140]
[3994,6864655,800,-1,-1,"RCP6-HSA7C-24-水平",0.5,0.7,800]
[3995,6864655,746,-1,-1,"RCP6-HSA7C-24-水平",1,0.7,746]
[3996,6864655,640,-1,-1,"RCP6-HSA7C-24-水平",2,0.7,640]
[3997,6864655,612,-1,-1,"RCP6-HSA7C-24-水平",3,0.7,612]
[3998,2941995,800,-1,3999,"RCP6-HSA7C-24-水平",4,0.3,800]
[3999,6864655,585,3998,-1,"RCP6-HSA7C-24-水平",4,0.7,585]
[4000,2941995,773,-1,4001,"RCP6-HSA7C-24-水平",5,0.3,773]
[4001,6864655,557,4000,-1,"RCP6-HSA7C-24-水平",5,0.7,557]
[4002,2941995,746,-1,4003,"RCP6-HSA7C-24-水平",6,0.3,746]
[4003,6864655,530,4002,-1,"RCP6-HSA7C-24-水平",6,0.7,530]
[4004,2941995,720,-1,4005,"RCP6-HSA7C-24-水平",7,0.3,720]
[4005,6864655,502,4004,-1,"RCP6-HSA7C-24-水平",7,0.7,502]
[4006,2941995,693,-1,4007,"RCP6-HSA7C-24-水平",8,0.3,693]
[4007,6864655,475,4006,-1,"RCP6-HSA7C-24-水平",8,0.7,475]
[4008,2941995,666,-1,4009,"RCP6-HSA7C-24-水平",9,0.3,666]
[4009,6864655,447,4008,-1,"RCP6-HSA7C-24-水平",9,0.7,447]
[4010,2941995,640,-1,4011,"RCP6-HSA7C-24-水平",10,0.3,640]
[4011,6864655,420,4010,-1,"RCP6-HSA7C-24-水平",10,0.7,420]
[4012,2941995,612,-1,-1,"RCP6-HSA7C-24-水平",11,0.3,612]
[4013,2941995,585,-1,-1,"RCP6-HSA7C-24-水平",12,0.3,585]
[4014,2941995,557,-1,-1,"RCP6-HSA7C-24-水平",13,0.3,557]
[4015,2941995,530,-1,-1,"RCP6-HSA7C-24-水平",14,0.3,530]
[4016,2941995,502,-1,-1,"RCP6-HSA7C-24-水平",15,0.3,502]
[4017,2941995,475,-1,-1,"RCP6-HSA7C-24-水平",16,0.3,475]
[4018,2941995,447,-1,-1,"RCP6-HSA7C-24-水平",17,0.3,447]
[4019,2941995,420,-1,-1,"RCP6-HSA7C-24-水平",18,0.3,420]
[4020,2941995,800,-1,-1,"RCP6-HSA7C-24-垂直",0.5,0.3,800]
[4021,2941995,640,-1,-1,"RCP6-HSA7C-24-垂直",1,0.3,640]
[4022,2941995,420,-1,-1,"RCP6-HSA7C-24-垂直",2,0.3,420]
[4023,6864655,170,-1,-1,"RCP6-HSA6C-W-3-水平",4,0.7,170]
[4024,6864655,162,-1,-1,"RCP6-HSA6C-W-3-水平",5,0.7,162]
[4025,6864655,155,-1,-1,"RCP6-HSA6C-W-3-水平",6,0.7,155]
[4026,6864655,147,-1,-1,"RCP6-HSA6C-W-3-水平",7,0.7,147]
[4027,2941995,170,-1,4028,"RCP6-HSA6C-W-3-水平",8,0.3,170]
[4028,6864655,140,4027,-1,"RCP6-HSA6C-W-3-水平",8,0.7,140]
[4029,2941995,162,-1,4030,"RCP6-HSA6C-W-3-水平",9,0.3,162]
[4030,6864655,132,4029,-1,"RCP6-HSA6C-W-3-水平",9,0.7,132]
[4031,2941995,155,-1,4032,"RCP6-HSA6C-W-3-水平",10,0.3,155]
[4032,6864655,125,4031,-1,"RCP6-HSA6C-W-3-水平",10,0.7,125]
[4033,2941995,147,-1,4034,"RCP6-HSA6C-W-3-水平",11,0.3,147]
[4034,6864655,117,4033,-1,"RCP6-HSA6C-W-3-水平",11,0.7,117]
[4035,2941995,140,-1,4036,"RCP6-HSA6C-W-3-水平",12,0.3,140]
[4036,6864655,110,4035,-1,"RCP6-HSA6C-W-3-水平",12,0.7,110]
[4037,2941995,135,-1,4038,"RCP6-HSA6C-W-3-水平",13,0.3,135]
[4038,6864655,106,4037,-1,"RCP6-HSA6C-W-3-水平",13,0.7,106]
[4039,2941995,130,-1,4040,"RCP6-HSA6C-W-3-水平",14,0.3,130]
[4040,6864655,102,4039,-1,"RCP6-HSA6C-W-3-水平",14,0.7,102]
[4041,2941995,125,-1,4042,"RCP6-HSA6C-W-3-水平",15,0.3,125]
[4042,6864655,98,4041,-1,"RCP6-HSA6C-W-3-水平",15,0.7,98]
[4043,2941995,120,-1,4044,"RCP6-HSA6C-W-3-水平",16,0.3,120]
[4044,6864655,95,4043,-1,"RCP6-HSA6C-W-3-水平",16,0.7,95]
[4045,2941995,115,-1,4046,"RCP6-HSA6C-W-3-水平",17,0.3,115]
[4046,6864655,91,4045,-1,"RCP6-HSA6C-W-3-水平",17,0.7,91]
[4047,2941995,110,-1,4048,"RCP6-HSA6C-W-3-水平",18,0.3,110]
[4048,6864655,87,4047,-1,"RCP6-HSA6C-W-3-水平",18,0.7,87]
[4049,2941995,104,-1,4050,"RCP6-HSA6C-W-3-水平",19,0.3,104]
[4050,6864655,83,4049,-1,"RCP6-HSA6C-W-3-水平",19,0.7,83]
[4051,2941995,98,-1,4052,"RCP6-HSA6C-W-3-水平",20,0.3,98]
[4052,6864655,80,4051,-1,"RCP6-HSA6C-W-3-水平",20,0.7,80]
[4053,2941995,92,-1,-1,"RCP6-HSA6C-W-3-水平",21,0.3,92]
[4054,2941995,86,-1,-1,"RCP6-HSA6C-W-3-水平",22,0.3,86]
[4055,2941995,80,-1,-1,"RCP6-HSA6C-W-3-水平",23,0.3,80]
[4056,2941995,170,-1,-1,"RCP6-HSA6C-W-3-垂直",1,0.3,170]
[4057,2941995,155,-1,-1,"RCP6-HSA6C-W-3-垂直",2,0.3,155]
[4058,2941995,140,-1,-1,"RCP6-HSA6C-W-3-垂直",3,0.3,140]
[4059,2941995,130,-1,-1,"RCP6-HSA6C-W-3-垂直",4,0.3,130]
[4060,2941995,120,-1,-1,"RCP6-HSA6C-W-3-垂直",5,0.3,120]
[4061,2941995,110,-1,-1,"RCP6-HSA6C-W-3-垂直",6,0.3,110]
[4062,2941995,95,-1,-1,"RCP6-HSA6C-W-3-垂直",7,0.3,95]
[4063,2941995,80,-1,-1,"RCP6-HSA6C-W-3-垂直",8,0.3,80]
[4064,2941995,340,-1,-1,"RCP6-HSA6C-W-6-水平",1,0.3,340]
[4065,2941995,331,-1,-1,"RCP6-HSA6C-W-6-水平",2,0.3,331]
[4066,2941995,322,-1,-1,"RCP6-HSA6C-W-6-水平",3,0.3,322]
[4067,2941995,314,-1,4068,"RCP6-HSA6C-W-6-水平",4,0.3,314]
[4068,6864655,280,4067,-1,"RCP6-HSA6C-W-6-水平",4,0.7,280]
[4069,2941995,305,-1,4070,"RCP6-HSA6C-W-6-水平",5,0.3,305]
[4070,6864655,272,4069,-1,"RCP6-HSA6C-W-6-水平",5,0.7,272]
[4071,2941995,297,-1,4072,"RCP6-HSA6C-W-6-水平",6,0.3,297]
[4072,6864655,265,4071,-1,"RCP6-HSA6C-W-6-水平",6,0.7,265]
[4073,2941995,288,-1,4074,"RCP6-HSA6C-W-6-水平",7,0.3,288]
[4074,6864655,257,4073,-1,"RCP6-HSA6C-W-6-水平",7,0.7,257]
[4075,2941995,280,-1,4076,"RCP6-HSA6C-W-6-水平",8,0.3,280]
[4076,6864655,250,4075,-1,"RCP6-HSA6C-W-6-水平",8,0.7,250]
[4077,2941995,270,-1,4078,"RCP6-HSA6C-W-6-水平",9,0.3,270]
[4078,6864655,242,4077,-1,"RCP6-HSA6C-W-6-水平",9,0.7,242]
[4079,2941995,260,-1,4080,"RCP6-HSA6C-W-6-水平",10,0.3,260]
[4080,6864655,235,4079,-1,"RCP6-HSA6C-W-6-水平",10,0.7,235]
[4081,2941995,250,-1,4082,"RCP6-HSA6C-W-6-水平",11,0.3,250]
[4082,6864655,227,4081,-1,"RCP6-HSA6C-W-6-水平",11,0.7,227]
[4083,2941995,240,-1,4084,"RCP6-HSA6C-W-6-水平",12,0.3,240]
[4084,6864655,220,4083,-1,"RCP6-HSA6C-W-6-水平",12,0.7,220]
[4085,2941995,230,-1,-1,"RCP6-HSA6C-W-6-水平",13,0.3,230]
[4086,2941995,220,-1,-1,"RCP6-HSA6C-W-6-水平",14,0.3,220]
[4087,2941995,205,-1,-1,"RCP6-HSA6C-W-6-水平",15,0.3,205]
[4088,2941995,190,-1,-1,"RCP6-HSA6C-W-6-水平",16,0.3,190]
[4089,2941995,175,-1,-1,"RCP6-HSA6C-W-6-水平",17,0.3,175]
[4090,2941995,160,-1,-1,"RCP6-HSA6C-W-6-水平",18,0.3,160]
[4091,2941995,220,-1,-1,"RCP6-HSA6C-W-6-垂直",2,0.3,220]
[4092,2941995,160,-1,-1,"RCP6-HSA6C-W-6-垂直",3,0.3,160]
[4093,2941995,560,-1,-1,"RCP6-HSA6C-W-12-水平",2,0.3,560]
[4094,2941995,542,-1,4095,"RCP6-HSA6C-W-12-水平",3,0.3,542]
[4095,6864655,440,4094,-1,"RCP6-HSA6C-W-12-水平",3,0.7,440]
[4096,2941995,525,-1,4097,"RCP6-HSA6C-W-12-水平",4,0.3,525]
[4097,6864655,416,4096,-1,"RCP6-HSA6C-W-12-水平",4,0.7,416]
[4098,2941995,508,-1,4099,"RCP6-HSA6C-W-12-水平",5,0.3,508]
[4099,6864655,392,4098,-1,"RCP6-HSA6C-W-12-水平",5,0.7,392]
[4100,2941995,491,-1,4101,"RCP6-HSA6C-W-12-水平",6,0.3,491]
[4101,6864655,368,4100,-1,"RCP6-HSA6C-W-12-水平",6,0.7,368]
[4102,2941995,474,-1,4103,"RCP6-HSA6C-W-12-水平",7,0.3,474]
[4103,6864655,344,4102,-1,"RCP6-HSA6C-W-12-水平",7,0.7,344]
[4104,2941995,457,-1,4105,"RCP6-HSA6C-W-12-水平",8,0.3,457]
[4105,6864655,320,4104,-1,"RCP6-HSA6C-W-12-水平",8,0.7,320]
[4106,2941995,440,-1,-1,"RCP6-HSA6C-W-12-水平",9,0.3,440]
[4107,2941995,400,-1,-1,"RCP6-HSA6C-W-12-水平",10,0.3,400]
[4108,2941995,360,-1,-1,"RCP6-HSA6C-W-12-水平",11,0.3,360]
[4109,2941995,320,-1,-1,"RCP6-HSA6C-W-12-水平",12,0.3,320]
[4110,2941995,140,-1,-1,"RCP6-HSA7C-W-4-水平",6,0.3,140]
[4111,2941995,138,-1,-1,"RCP6-HSA7C-W-4-水平",7,0.3,138]
[4112,2941995,137,-1,-1,"RCP6-HSA7C-W-4-水平",8,0.3,137]
[4113,2941995,136,-1,-1,"RCP6-HSA7C-W-4-水平",9,0.3,136]
[4114,2941995,135,-1,-1,"RCP6-HSA7C-W-4-水平",10,0.3,135]
[4115,2941995,134,-1,-1,"RCP6-HSA7C-W-4-水平",11,0.3,134]
[4116,2941995,133,-1,-1,"RCP6-HSA7C-W-4-水平",12,0.3,133]
[4117,2941995,131,-1,-1,"RCP6-HSA7C-W-4-水平",13,0.3,131]
[4118,2941995,130,-1,-1,"RCP6-HSA7C-W-4-水平",14,0.3,130]
[4119,2941995,129,-1,-1,"RCP6-HSA7C-W-4-水平",15,0.3,129]
[4120,2941995,128,-1,-1,"RCP6-HSA7C-W-4-水平",16,0.3,128]
[4121,2941995,127,-1,-1,"RCP6-HSA7C-W-4-水平",17,0.3,127]
[4122,2941995,126,-1,-1,"RCP6-HSA7C-W-4-水平",18,0.3,126]
[4123,2941995,124,-1,-1,"RCP6-HSA7C-W-4-水平",19,0.3,124]
[4124,2941995,123,-1,-1,"RCP6-HSA7C-W-4-水平",20,0.3,123]
[4125,2941995,122,-1,-1,"RCP6-HSA7C-W-4-水平",21,0.3,122]
[4126,2941995,121,-1,-1,"RCP6-HSA7C-W-4-水平",22,0.3,121]
[4127,2941995,120,-1,-1,"RCP6-HSA7C-W-4-水平",23,0.3,120]
[4128,2941995,119,-1,-1,"RCP6-HSA7C-W-4-水平",24,0.3,119]
[4129,2941995,117,-1,-1,"RCP6-HSA7C-W-4-水平",25,0.3,117]
[4130,2941995,116,-1,4131,"RCP6-HSA7C-W-4-水平",26,0.3,116]
[4131,6864655,105,4130,-1,"RCP6-HSA7C-W-4-水平",26,0.7,105]
[4132,2941995,115,-1,4133,"RCP6-HSA7C-W-4-水平",27,0.3,115]
[4133,6864655,87,4132,-1,"RCP6-HSA7C-W-4-水平",27,0.7,87]
[4134,2941995,114,-1,4135,"RCP6-HSA7C-W-4-水平",28,0.3,114]
[4135,6864655,70,4134,-1,"RCP6-HSA7C-W-4-水平",28,0.7,70]
[4136,2941995,113,-1,-1,"RCP6-HSA7C-W-4-水平",29,0.3,113]
[4137,2941995,112,-1,-1,"RCP6-HSA7C-W-4-水平",30,0.3,112]
[4138,2941995,110,-1,-1,"RCP6-HSA7C-W-4-水平",31,0.3,110]
[4139,2941995,109,-1,-1,"RCP6-HSA7C-W-4-水平",32,0.3,109]
[4140,2941995,108,-1,-1,"RCP6-HSA7C-W-4-水平",33,0.3,108]
[4141,2941995,107,-1,-1,"RCP6-HSA7C-W-4-水平",34,0.3,107]
[4142,2941995,106,-1,-1,"RCP6-HSA7C-W-4-水平",35,0.3,106]
[4143,2941995,105,-1,-1,"RCP6-HSA7C-W-4-水平",36,0.3,105]
[4144,2941995,87,-1,-1,"RCP6-HSA7C-W-4-水平",37,0.3,87]
[4145,2941995,70,-1,-1,"RCP6-HSA7C-W-4-水平",38,0.3,70]
[4146,2941995,105,-1,-1,"RCP6-HSA7C-W-4-垂直",4,0.3,105]
[4147,2941995,101,-1,-1,"RCP6-HSA7C-W-4-垂直",5,0.3,101]
[4148,2941995,97,-1,-1,"RCP6-HSA7C-W-4-垂直",6,0.3,97]
[4149,2941995,93,-1,-1,"RCP6-HSA7C-W-4-垂直",7,0.3,93]
[4150,2941995,89,-1,-1,"RCP6-HSA7C-W-4-垂直",8,0.3,89]
[4151,2941995,85,-1,-1,"RCP6-HSA7C-W-4-垂直",9,0.3,85]
[4152,2941995,81,-1,-1,"RCP6-HSA7C-W-4-垂直",10,0.3,81]
[4153,2941995,77,-1,-1,"RCP6-HSA7C-W-4-垂直",11,0.3,77]
[4154,2941995,73,-1,-1,"RCP6-HSA7C-W-4-垂直",12,0.3,73]
[4155,2941995,70,-1,-1,"RCP6-HSA7C-W-4-垂直",13,0.3,70]
[4156,2941995,280,-1,-1,"RCP6-HSA7C-W-8-水平",5,0.3,280]
[4157,2941995,275,-1,-1,"RCP6-HSA7C-W-8-水平",6,0.3,275]
[4158,2941995,270,-1,-1,"RCP6-HSA7C-W-8-水平",7,0.3,270]
[4159,2941995,266,-1,-1,"RCP6-HSA7C-W-8-水平",8,0.3,266]
[4160,2941995,261,-1,-1,"RCP6-HSA7C-W-8-水平",9,0.3,261]
[4161,2941995,256,-1,4162,"RCP6-HSA7C-W-8-水平",10,0.3,256]
[4162,6864655,210,4161,-1,"RCP6-HSA7C-W-8-水平",10,0.7,210]
[4163,2941995,251,-1,4164,"RCP6-HSA7C-W-8-水平",11,0.3,251]
[4164,6864655,204,4163,-1,"RCP6-HSA7C-W-8-水平",11,0.7,204]
[4165,2941995,247,-1,4166,"RCP6-HSA7C-W-8-水平",12,0.3,247]
[4166,6864655,199,4165,-1,"RCP6-HSA7C-W-8-水平",12,0.7,199]
[4167,2941995,242,-1,4168,"RCP6-HSA7C-W-8-水平",13,0.3,242]
[4168,6864655,193,4167,-1,"RCP6-HSA7C-W-8-水平",13,0.7,193]
[4169,2941995,237,-1,4170,"RCP6-HSA7C-W-8-水平",14,0.3,237]
[4170,6864655,188,4169,-1,"RCP6-HSA7C-W-8-水平",14,0.7,188]
[4171,2941995,233,-1,4172,"RCP6-HSA7C-W-8-水平",15,0.3,233]
[4172,6864655,183,4171,-1,"RCP6-HSA7C-W-8-水平",15,0.7,183]
[4173,2941995,228,-1,4174,"RCP6-HSA7C-W-8-水平",16,0.3,228]
[4174,6864655,177,4173,-1,"RCP6-HSA7C-W-8-水平",16,0.7,177]
[4175,2941995,223,-1,4176,"RCP6-HSA7C-W-8-水平",17,0.3,223]
[4176,6864655,172,4175,-1,"RCP6-HSA7C-W-8-水平",17,0.7,172]
[4177,2941995,219,-1,4178,"RCP6-HSA7C-W-8-水平",18,0.3,219]
[4178,6864655,166,4177,-1,"RCP6-HSA7C-W-8-水平",18,0.7,166]
[4179,2941995,214,-1,4180,"RCP6-HSA7C-W-8-水平",19,0.3,214]
[4180,6864655,161,4179,-1,"RCP6-HSA7C-W-8-水平",19,0.7,161]
[4181,2941995,210,-1,4182,"RCP6-HSA7C-W-8-水平",20,0.3,210]
[4182,6864655,156,4181,-1,"RCP6-HSA7C-W-8-水平",20,0.7,156]
[4183,2941995,206,-1,4184,"RCP6-HSA7C-W-8-水平",21,0.3,206]
[4184,6864655,150,4183,-1,"RCP6-HSA7C-W-8-水平",21,0.7,150]
[4185,2941995,202,-1,4186,"RCP6-HSA7C-W-8-水平",22,0.3,202]
[4186,6864655,145,4185,-1,"RCP6-HSA7C-W-8-水平",22,0.7,145]
[4187,2941995,198,-1,4188,"RCP6-HSA7C-W-8-水平",23,0.3,198]
[4188,6864655,140,4187,-1,"RCP6-HSA7C-W-8-水平",23,0.7,140]
[4189,2941995,194,-1,-1,"RCP6-HSA7C-W-8-水平",24,0.3,194]
[4190,2941995,190,-1,-1,"RCP6-HSA7C-W-8-水平",25,0.3,190]
[4191,2941995,186,-1,-1,"RCP6-HSA7C-W-8-水平",26,0.3,186]
[4192,2941995,182,-1,-1,"RCP6-HSA7C-W-8-水平",27,0.3,182]
[4193,2941995,178,-1,-1,"RCP6-HSA7C-W-8-水平",28,0.3,178]
[4194,2941995,175,-1,-1,"RCP6-HSA7C-W-8-水平",29,0.3,175]
[4195,2941995,171,-1,-1,"RCP6-HSA7C-W-8-水平",30,0.3,171]
[4196,2941995,167,-1,-1,"RCP6-HSA7C-W-8-水平",31,0.3,167]
[4197,2941995,163,-1,-1,"RCP6-HSA7C-W-8-水平",32,0.3,163]
[4198,2941995,159,-1,-1,"RCP6-HSA7C-W-8-水平",33,0.3,159]
[4199,2941995,155,-1,-1,"RCP6-HSA7C-W-8-水平",34,0.3,155]
[4200,2941995,151,-1,-1,"RCP6-HSA7C-W-8-水平",35,0.3,151]
[4201,2941995,147,-1,-1,"RCP6-HSA7C-W-8-水平",36,0.3,147]
[4202,2941995,143,-1,-1,"RCP6-HSA7C-W-8-水平",37,0.3,143]
[4203,2941995,140,-1,-1,"RCP6-HSA7C-W-8-水平",38,0.3,140]
[4204,2941995,210,-1,-1,"RCP6-HSA7C-W-8-垂直",2,0.3,210]
[4205,2941995,186,-1,-1,"RCP6-HSA7C-W-8-垂直",3,0.3,186]
[4206,2941995,163,-1,-1,"RCP6-HSA7C-W-8-垂直",4,0.3,163]
[4207,2941995,140,-1,-1,"RCP6-HSA7C-W-8-垂直",5,0.3,140]
[4208,2941995,116,-1,-1,"RCP6-HSA7C-W-8-垂直",6,0.3,116]
[4209,2941995,93,-1,-1,"RCP6-HSA7C-W-8-垂直",7,0.3,93]
[4210,2941995,70,-1,-1,"RCP6-HSA7C-W-8-垂直",8,0.3,70]
[4211,6864655,420,-1,-1,"RCP6-HSA7C-W-16-水平",3,0.7,420]
[4212,6864655,400,-1,-1,"RCP6-HSA7C-W-16-水平",4,0.7,400]
[4213,6864655,380,-1,-1,"RCP6-HSA7C-W-16-水平",5,0.7,380]
[4214,6864655,360,-1,-1,"RCP6-HSA7C-W-16-水平",6,0.7,360]
[4215,6864655,340,-1,-1,"RCP6-HSA7C-W-16-水平",7,0.7,340]
[4216,6864655,320,-1,-1,"RCP6-HSA7C-W-16-水平",8,0.7,320]
[4217,6864655,300,-1,-1,"RCP6-HSA7C-W-16-水平",9,0.7,300]
[4218,2941995,420,-1,4219,"RCP6-HSA7C-W-16-水平",10,0.3,420]
[4219,6864655,280,4218,-1,"RCP6-HSA7C-W-16-水平",10,0.7,280]
[4220,2941995,409,-1,4221,"RCP6-HSA7C-W-16-水平",11,0.3,409]
[4221,6864655,262,4220,-1,"RCP6-HSA7C-W-16-水平",11,0.7,262]
[4222,2941995,398,-1,4223,"RCP6-HSA7C-W-16-水平",12,0.3,398]
[4223,6864655,245,4222,-1,"RCP6-HSA7C-W-16-水平",12,0.7,245]
[4224,2941995,387,-1,4225,"RCP6-HSA7C-W-16-水平",13,0.3,387]
[4225,6864655,227,4224,-1,"RCP6-HSA7C-W-16-水平",13,0.7,227]
[4226,2941995,376,-1,4227,"RCP6-HSA7C-W-16-水平",14,0.3,376]
[4227,6864655,210,4226,-1,"RCP6-HSA7C-W-16-水平",14,0.7,210]
[4228,2941995,366,-1,4229,"RCP6-HSA7C-W-16-水平",15,0.3,366]
[4229,6864655,192,4228,-1,"RCP6-HSA7C-W-16-水平",15,0.7,192]
[4230,2941995,355,-1,4231,"RCP6-HSA7C-W-16-水平",16,0.3,355]
[4231,6864655,175,4230,-1,"RCP6-HSA7C-W-16-水平",16,0.7,175]
[4232,2941995,344,-1,4233,"RCP6-HSA7C-W-16-水平",17,0.3,344]
[4233,6864655,157,4232,-1,"RCP6-HSA7C-W-16-水平",17,0.7,157]
[4234,2941995,333,-1,4235,"RCP6-HSA7C-W-16-水平",18,0.3,333]
[4235,6864655,140,4234,-1,"RCP6-HSA7C-W-16-水平",18,0.7,140]
[4236,2941995,323,-1,-1,"RCP6-HSA7C-W-16-水平",19,0.3,323]
[4237,2941995,312,-1,-1,"RCP6-HSA7C-W-16-水平",20,0.3,312]
[4238,2941995,301,-1,-1,"RCP6-HSA7C-W-16-水平",21,0.3,301]
[4239,2941995,290,-1,-1,"RCP6-HSA7C-W-16-水平",22,0.3,290]
[4240,2941995,280,-1,-1,"RCP6-HSA7C-W-16-水平",23,0.3,280]
[4241,2941995,266,-1,-1,"RCP6-HSA7C-W-16-水平",24,0.3,266]
[4242,2941995,252,-1,-1,"RCP6-HSA7C-W-16-水平",25,0.3,252]
[4243,2941995,238,-1,-1,"RCP6-HSA7C-W-16-水平",26,0.3,238]
[4244,2941995,224,-1,-1,"RCP6-HSA7C-W-16-水平",27,0.3,224]
[4245,2941995,210,-1,-1,"RCP6-HSA7C-W-16-水平",28,0.3,210]
[4246,2941995,196,-1,-1,"RCP6-HSA7C-W-16-水平",29,0.3,196]
[4247,2941995,182,-1,-1,"RCP6-HSA7C-W-16-水平",30,0.3,182]
[4248,2941995,168,-1,-1,"RCP6-HSA7C-W-16-水平",31,0.3,168]
[4249,2941995,154,-1,-1,"RCP6-HSA7C-W-16-水平",32,0.3,154]
[4250,2941995,140,-1,-1,"RCP6-HSA7C-W-16-水平",33,0.3,140,"↑ Ver.3.80 追加"]
[4251,6864655,140,-1,-1,"RCP6-HSA6R-3-水平",4,0.7,140,"↓ Ver.4.1 追加"]
[4252,6864655,137,-1,-1,"RCP6-HSA6R-3-水平",5,0.7,137]
[4253,6864655,134,-1,-1,"RCP6-HSA6R-3-水平",6,0.7,134]
[4254,6864655,131,-1,-1,"RCP6-HSA6R-3-水平",7,0.7,131]
[4255,6864655,128,-1,-1,"RCP6-HSA6R-3-水平",8,0.7,128]
[4256,6864655,125,-1,-1,"RCP6-HSA6R-3-水平",9,0.7,125]
[4257,6864655,122,-1,-1,"RCP6-HSA6R-3-水平",10,0.7,122]
[4258,6864655,119,-1,-1,"RCP6-HSA6R-3-水平",11,0.7,119]
[4259,6864655,116,-1,-1,"RCP6-HSA6R-3-水平",12,0.7,116]
[4260,6864655,113,-1,-1,"RCP6-HSA6R-3-水平",13,0.7,113]
[4261,6864655,110,-1,-1,"RCP6-HSA6R-3-水平",14,0.7,110]
[4262,2941995,140,-1,4263,"RCP6-HSA6R-3-水平",15,0.3,140]
[4263,6864655,106,4262,-1,"RCP6-HSA6R-3-水平",15,0.7,106]
[4264,2941995,134,-1,4265,"RCP6-HSA6R-3-水平",16,0.3,134]
[4265,6864655,102,4264,-1,"RCP6-HSA6R-3-水平",16,0.7,102]
[4266,2941995,128,-1,4267,"RCP6-HSA6R-3-水平",17,0.3,128]
[4267,6864655,98,4266,-1,"RCP6-HSA6R-3-水平",17,0.7,98]
[4268,2941995,122,-1,4269,"RCP6-HSA6R-3-水平",18,0.3,122]
[4269,6864655,95,4268,-1,"RCP6-HSA6R-3-水平",18,0.7,95]
[4270,2941995,116,-1,4271,"RCP6-HSA6R-3-水平",19,0.3,116]
[4271,6864655,91,4270,-1,"RCP6-HSA6R-3-水平",19,0.7,91]
[4272,2941995,110,-1,4273,"RCP6-HSA6R-3-水平",20,0.3,110]
[4273,6864655,87,4272,-1,"RCP6-HSA6R-3-水平",20,0.7,87]
[4274,2941995,104,-1,4275,"RCP6-HSA6R-3-水平",21,0.3,104]
[4275,6864655,83,4274,-1,"RCP6-HSA6R-3-水平",21,0.7,83]
[4276,2941995,98,-1,4277,"RCP6-HSA6R-3-水平",22,0.3,98]
[4277,6864655,80,4276,-1,"RCP6-HSA6R-3-水平",22,0.7,80]
[4278,2941995,92,-1,-1,"RCP6-HSA6R-3-水平",23,0.3,92]
[4279,2941995,86,-1,-1,"RCP6-HSA6R-3-水平",24,0.3,86]
[4280,2941995,80,-1,-1,"RCP6-HSA6R-3-水平",25,0.3,80]
[4281,2941995,140,-1,-1,"RCP6-HSA6R-3-垂直",3,0.3,140]
[4282,2941995,134,-1,-1,"RCP6-HSA6R-3-垂直",4,0.3,134]
[4283,2941995,128,-1,-1,"RCP6-HSA6R-3-垂直",5,0.3,128]
[4284,2941995,122,-1,-1,"RCP6-HSA6R-3-垂直",6,0.3,122]
[4285,2941995,116,-1,-1,"RCP6-HSA6R-3-垂直",7,0.3,116]
[4286,2941995,110,-1,-1,"RCP6-HSA6R-3-垂直",8,0.3,110]
[4287,2941995,95,-1,-1,"RCP6-HSA6R-3-垂直",9,0.3,95]
[4288,2941995,80,-1,-1,"RCP6-HSA6R-3-垂直",10,0.3,80]
[4289,2941995,340,-1,-1,"RCP6-HSA6R-6-水平",1,0.3,340]
[4290,2941995,334,-1,-1,"RCP6-HSA6R-6-水平",2,0.3,334]
[4291,2941995,328,-1,4292,"RCP6-HSA6R-6-水平",3,0.3,328]
[4292,6864655,280,4291,-1,"RCP6-HSA6R-6-水平",3,0.7,280]
[4293,2941995,322,-1,4294,"RCP6-HSA6R-6-水平",4,0.3,322]
[4294,6864655,274,4293,-1,"RCP6-HSA6R-6-水平",4,0.7,274]
[4295,2941995,316,-1,4296,"RCP6-HSA6R-6-水平",5,0.3,316]
[4296,6864655,269,4295,-1,"RCP6-HSA6R-6-水平",5,0.7,269]
[4297,2941995,310,-1,4298,"RCP6-HSA6R-6-水平",6,0.3,310]
[4298,6864655,263,4297,-1,"RCP6-HSA6R-6-水平",6,0.7,263]
[4299,2941995,304,-1,4300,"RCP6-HSA6R-6-水平",7,0.3,304]
[4300,6864655,258,4299,-1,"RCP6-HSA6R-6-水平",7,0.7,258]
[4301,2941995,298,-1,4302,"RCP6-HSA6R-6-水平",8,0.3,298]
[4302,6864655,252,4301,-1,"RCP6-HSA6R-6-水平",8,0.7,252]
[4303,2941995,292,-1,4304,"RCP6-HSA6R-6-水平",9,0.3,292]
[4304,6864655,247,4303,-1,"RCP6-HSA6R-6-水平",9,0.7,247]
[4305,2941995,286,-1,4306,"RCP6-HSA6R-6-水平",10,0.3,286]
[4306,6864655,241,4305,-1,"RCP6-HSA6R-6-水平",10,0.7,241]
[4307,2941995,280,-1,4308,"RCP6-HSA6R-6-水平",11,0.3,280]
[4308,6864655,236,4307,-1,"RCP6-HSA6R-6-水平",11,0.7,236]
[4309,2941995,268,-1,4310,"RCP6-HSA6R-6-水平",12,0.3,268]
[4310,6864655,230,4309,-1,"RCP6-HSA6R-6-水平",12,0.7,230]
[4311,2941995,256,-1,4312,"RCP6-HSA6R-6-水平",13,0.3,256]
[4312,6864655,225,4311,-1,"RCP6-HSA6R-6-水平",13,0.7,225]
[4313,2941995,244,-1,4314,"RCP6-HSA6R-6-水平",14,0.3,244]
[4314,6864655,220,4313,-1,"RCP6-HSA6R-6-水平",14,0.7,220]
[4315,2941995,232,-1,-1,"RCP6-HSA6R-6-水平",15,0.3,232]
[4316,2941995,220,-1,-1,"RCP6-HSA6R-6-水平",16,0.3,220]
[4317,2941995,205,-1,-1,"RCP6-HSA6R-6-水平",17,0.3,205]
[4318,2941995,190,-1,-1,"RCP6-HSA6R-6-水平",18,0.3,190]
[4319,2941995,175,-1,-1,"RCP6-HSA6R-6-水平",19,0.3,175]
[4320,2941995,160,-1,-1,"RCP6-HSA6R-6-水平",20,0.3,160]
[4321,2941995,280,-1,-1,"RCP6-HSA6R-6-垂直",1.5,0.3,280]
[4322,2941995,268,-1,-1,"RCP6-HSA6R-6-垂直",2,0.3,268]
[4323,2941995,244,-1,-1,"RCP6-HSA6R-6-垂直",3,0.3,244]
[4324,2941995,220,-1,-1,"RCP6-HSA6R-6-垂直",4,0.3,220]
[4325,2941995,160,-1,-1,"RCP6-HSA6R-6-垂直",5,0.3,160]
[4326,6864655,560,-1,-1,"RCP6-HSA6R-12-水平",0.5,0.7,560]
[4327,6864655,546,-1,-1,"RCP6-HSA6R-12-水平",1,0.7,546]
[4328,6864655,520,-1,-1,"RCP6-HSA6R-12-水平",2,0.7,520]
[4329,6864655,493,-1,-1,"RCP6-HSA6R-12-水平",3,0.7,493]
[4330,2941995,560,-1,4331,"RCP6-HSA6R-12-水平",4,0.3,560]
[4331,6864655,466,4330,-1,"RCP6-HSA6R-12-水平",4,0.7,466]
[4332,2941995,542,-1,4333,"RCP6-HSA6R-12-水平",5,0.3,542]
[4333,6864655,440,4332,-1,"RCP6-HSA6R-12-水平",5,0.7,440]
[4334,2941995,525,-1,4335,"RCP6-HSA6R-12-水平",6,0.3,525]
[4335,6864655,416,4334,-1,"RCP6-HSA6R-12-水平",6,0.7,416]
[4336,2941995,508,-1,4337,"RCP6-HSA6R-12-水平",7,0.3,508]
[4337,6864655,392,4336,-1,"RCP6-HSA6R-12-水平",7,0.7,392]
[4338,2941995,491,-1,4339,"RCP6-HSA6R-12-水平",8,0.3,491]
[4339,6864655,368,4338,-1,"RCP6-HSA6R-12-水平",8,0.7,368]
[4340,2941995,474,-1,4341,"RCP6-HSA6R-12-水平",9,0.3,474]
[4341,6864655,344,4340,-1,"RCP6-HSA6R-12-水平",9,0.7,344]
[4342,2941995,457,-1,4343,"RCP6-HSA6R-12-水平",10,0.3,457]
[4343,6864655,320,4342,-1,"RCP6-HSA6R-12-水平",10,0.7,320]
[4344,2941995,440,-1,-1,"RCP6-HSA6R-12-水平",11,0.3,440]
[4345,2941995,400,-1,-1,"RCP6-HSA6R-12-水平",12,0.3,400]
[4346,2941995,360,-1,-1,"RCP6-HSA6R-12-水平",13,0.3,360]
[4347,2941995,320,-1,-1,"RCP6-HSA6R-12-水平",14,0.3,320]
[4348,2941995,560,-1,-1,"RCP6-HSA6R-12-垂直",0.5,0.3,560]
[4349,2941995,500,-1,-1,"RCP6-HSA6R-12-垂直",1,0.3,500]
[4350,2941995,440,-1,-1,"RCP6-HSA6R-12-垂直",1.5,0.3,440]
[4351,2941995,320,-1,-1,"RCP6-HSA6R-12-垂直",2,0.3,320]
[4352,6864655,800,-1,-1,"RCP6-HSA6R-20-水平",0.5,0.7,800]
[4353,6864655,768,-1,-1,"RCP6-HSA6R-20-水平",1,0.7,768]
[4354,6864655,704,-1,-1,"RCP6-HSA6R-20-水平",2,0.7,704]
[4355,2941995,800,-1,4356,"RCP6-HSA6R-20-水平",3,0.3,800]
[4356,6864655,640,4355,-1,"RCP6-HSA6R-20-水平",3,0.7,640]
[4357,2941995,746,-1,4358,"RCP6-HSA6R-20-水平",4,0.3,746]
[4358,6864655,480,4357,-1,"RCP6-HSA6R-20-水平",4,0.7,480]
[4359,2941995,693,-1,4360,"RCP6-HSA6R-20-水平",5,0.3,693]
[4360,6864655,320,4359,-1,"RCP6-HSA6R-20-水平",5,0.7,320]
[4361,2941995,640,-1,-1,"RCP6-HSA6R-20-水平",6,0.3,640]
[4362,2941995,560,-1,-1,"RCP6-HSA6R-20-水平",7,0.3,560]
[4363,2941995,480,-1,-1,"RCP6-HSA6R-20-水平",8,0.3,480]
[4364,2941995,640,-1,-1,"RCP6-HSA6R-20-垂直",0.75,0.3,640]
[4365,6864655,140,-1,-1,"RCP6-HSA6R-W-3-水平",2,0.7,140]
[4366,6864655,137,-1,-1,"RCP6-HSA6R-W-3-水平",3,0.7,137]
[4367,6864655,134,-1,-1,"RCP6-HSA6R-W-3-水平",4,0.7,134]
[4368,6864655,131,-1,-1,"RCP6-HSA6R-W-3-水平",5,0.7,131]
[4369,6864655,128,-1,-1,"RCP6-HSA6R-W-3-水平",6,0.7,128]
[4370,6864655,125,-1,-1,"RCP6-HSA6R-W-3-水平",7,0.7,125]
[4371,6864655,122,-1,-1,"RCP6-HSA6R-W-3-水平",8,0.7,122]
[4372,6864655,119,-1,-1,"RCP6-HSA6R-W-3-水平",9,0.7,119]
[4373,2941995,140,-1,4374,"RCP6-HSA6R-W-3-水平",10,0.3,140]
[4374,6864655,116,4373,-1,"RCP6-HSA6R-W-3-水平",10,0.7,116]
[4375,2941995,136,-1,4376,"RCP6-HSA6R-W-3-水平",11,0.3,136]
[4376,6864655,113,4375,-1,"RCP6-HSA6R-W-3-水平",11,0.7,113]
[4377,2941995,132,-1,4378,"RCP6-HSA6R-W-3-水平",12,0.3,132]
[4378,6864655,110,4377,-1,"RCP6-HSA6R-W-3-水平",12,0.7,110]
[4379,2941995,128,-1,4380,"RCP6-HSA6R-W-3-水平",13,0.3,128]
[4380,6864655,106,4379,-1,"RCP6-HSA6R-W-3-水平",13,0.7,106]
[4381,2941995,125,-1,4382,"RCP6-HSA6R-W-3-水平",14,0.3,125]
[4382,6864655,102,4381,-1,"RCP6-HSA6R-W-3-水平",14,0.7,102]
[4383,2941995,121,-1,4384,"RCP6-HSA6R-W-3-水平",15,0.3,121]
[4384,6864655,98,4383,-1,"RCP6-HSA6R-W-3-水平",15,0.7,98]
[4385,2941995,117,-1,4386,"RCP6-HSA6R-W-3-水平",16,0.3,117]
[4386,6864655,95,4385,-1,"RCP6-HSA6R-W-3-水平",16,0.7,95]
[4387,2941995,113,-1,4388,"RCP6-HSA6R-W-3-水平",17,0.3,113]
[4388,6864655,91,4387,-1,"RCP6-HSA6R-W-3-水平",17,0.7,91]
[4389,2941995,110,-1,4390,"RCP6-HSA6R-W-3-水平",18,0.3,110]
[4390,6864655,87,4389,-1,"RCP6-HSA6R-W-3-水平",18,0.7,87]
[4391,2941995,104,-1,4392,"RCP6-HSA6R-W-3-水平",19,0.3,104]
[4392,6864655,83,4391,-1,"RCP6-HSA6R-W-3-水平",19,0.7,83]
[4393,2941995,98,-1,4394,"RCP6-HSA6R-W-3-水平",20,0.3,98]
[4394,6864655,80,4393,-1,"RCP6-HSA6R-W-3-水平",20,0.7,80]
[4395,2941995,92,-1,-1,"RCP6-HSA6R-W-3-水平",21,0.3,92]
[4396,2941995,86,-1,-1,"RCP6-HSA6R-W-3-水平",22,0.3,86]
[4397,2941995,80,-1,-1,"RCP6-HSA6R-W-3-水平",23,0.3,80]
[4398,2941995,140,-1,-1,"RCP6-HSA6R-W-3-垂直",1,0.3,140]
[4399,2941995,134,-1,-1,"RCP6-HSA6R-W-3-垂直",2,0.3,134]
[4400,2941995,128,-1,-1,"RCP6-HSA6R-W-3-垂直",3,0.3,128]
[4401,2941995,122,-1,-1,"RCP6-HSA6R-W-3-垂直",4,0.3,122]
[4402,2941995,116,-1,-1,"RCP6-HSA6R-W-3-垂直",5,0.3,116]
[4403,2941995,110,-1,-1,"RCP6-HSA6R-W-3-垂直",6,0.3,110]
[4404,2941995,95,-1,-1,"RCP6-HSA6R-W-3-垂直",7,0.3,95]
[4405,2941995,80,-1,-1,"RCP6-HSA6R-W-3-垂直",8,0.3,80]
[4406,6864655,280,-1,-1,"RCP6-HSA6R-W-6-水平",2,0.7,280]
[4407,6864655,272,-1,-1,"RCP6-HSA6R-W-6-水平",3,0.7,272]
[4408,6864655,265,-1,-1,"RCP6-HSA6R-W-6-水平",4,0.7,265]
[4409,6864655,257,-1,-1,"RCP6-HSA6R-W-6-水平",5,0.7,257]
[4410,2941995,280,-1,4411,"RCP6-HSA6R-W-6-水平",6,0.3,280]
[4411,6864655,250,4410,-1,"RCP6-HSA6R-W-6-水平",6,0.7,250]
[4412,2941995,270,-1,4413,"RCP6-HSA6R-W-6-水平",7,0.3,270]
[4413,6864655,242,4412,-1,"RCP6-HSA6R-W-6-水平",7,0.7,242]
[4414,2941995,260,-1,4415,"RCP6-HSA6R-W-6-水平",8,0.3,260]
[4415,6864655,235,4414,-1,"RCP6-HSA6R-W-6-水平",8,0.7,235]
[4416,2941995,250,-1,4417,"RCP6-HSA6R-W-6-水平",9,0.3,250]
[4417,6864655,227,4416,-1,"RCP6-HSA6R-W-6-水平",9,0.7,227]
[4418,2941995,240,-1,4419,"RCP6-HSA6R-W-6-水平",10,0.3,240]
[4419,6864655,220,4418,-1,"RCP6-HSA6R-W-6-水平",10,0.7,220]
[4420,2941995,230,-1,4421,"RCP6-HSA6R-W-6-水平",11,0.3,230]
[4421,6864655,190,4420,-1,"RCP6-HSA6R-W-6-水平",11,0.7,190]
[4422,2941995,220,-1,4423,"RCP6-HSA6R-W-6-水平",12,0.3,220]
[4423,6864655,160,4422,-1,"RCP6-HSA6R-W-6-水平",12,0.7,160]
[4424,2941995,210,-1,-1,"RCP6-HSA6R-W-6-水平",13,0.3,210]
[4425,2941995,200,-1,-1,"RCP6-HSA6R-W-6-水平",14,0.3,200]
[4426,2941995,190,-1,-1,"RCP6-HSA6R-W-6-水平",15,0.3,190]
[4427,2941995,180,-1,-1,"RCP6-HSA6R-W-6-水平",16,0.3,180]
[4428,2941995,170,-1,-1,"RCP6-HSA6R-W-6-水平",17,0.3,170]
[4429,2941995,160,-1,-1,"RCP6-HSA6R-W-6-水平",18,0.3,160]
[4430,2941995,220,-1,-1,"RCP6-HSA6R-W-6-垂直",1,0.3,220]
[4431,2941995,190,-1,-1,"RCP6-HSA6R-W-6-垂直",2,0.3,190]
[4432,2941995,160,-1,-1,"RCP6-HSA6R-W-6-垂直",3,0.3,160]
[4433,6864655,440,-1,-1,"RCP6-HSA6R-W-12-水平",1,0.7,440]
[4434,6864655,416,-1,-1,"RCP6-HSA6R-W-12-水平",2,0.7,416]
[4435,6864655,392,-1,-1,"RCP6-HSA6R-W-12-水平",3,0.7,392]
[4436,6864655,368,-1,-1,"RCP6-HSA6R-W-12-水平",4,0.7,368]
[4437,6864655,344,-1,-1,"RCP6-HSA6R-W-12-水平",5,0.7,344]
[4438,6864655,320,-1,-1,"RCP6-HSA6R-W-12-水平",6,0.7,320]
[4439,2941995,440,-1,4440,"RCP6-HSA6R-W-12-水平",7,0.3,440]
[4440,6864655,260,4439,-1,"RCP6-HSA6R-W-12-水平",7,0.7,260]
[4441,2941995,416,-1,4442,"RCP6-HSA6R-W-12-水平",8,0.3,416]
[4442,6864655,200,4441,-1,"RCP6-HSA6R-W-12-水平",8,0.7,200]
[4443,2941995,392,-1,-1,"RCP6-HSA6R-W-12-水平",9,0.3,392]
[4444,2941995,368,-1,-1,"RCP6-HSA6R-W-12-水平",10,0.3,368]
[4445,2941995,344,-1,-1,"RCP6-HSA6R-W-12-水平",11,0.3,344]
[4446,2941995,320,-1,-1,"RCP6-HSA6R-W-12-水平",12,0.3,320]
[4447,6864655,140,-1,-1,"RCP6-HSA6XC-3-3-水平",4,0.7,140]
[4448,6864655,137,-1,-1,"RCP6-HSA6XC-3-3-水平",5,0.7,137]
[4449,6864655,134,-1,-1,"RCP6-HSA6XC-3-3-水平",6,0.7,134]
[4450,6864655,131,-1,-1,"RCP6-HSA6XC-3-3-水平",7,0.7,131]
[4451,6864655,128,-1,-1,"RCP6-HSA6XC-3-3-水平",8,0.7,128]
[4452,6864655,125,-1,-1,"RCP6-HSA6XC-3-3-水平",9,0.7,125]
[4453,6864655,122,-1,-1,"RCP6-HSA6XC-3-3-水平",10,0.7,122]
[4454,6864655,119,-1,-1,"RCP6-HSA6XC-3-3-水平",11,0.7,119]
[4455,6864655,116,-1,-1,"RCP6-HSA6XC-3-3-水平",12,0.7,116]
[4456,6864655,113,-1,-1,"RCP6-HSA6XC-3-3-水平",13,0.7,113]
[4457,6864655,110,-1,-1,"RCP6-HSA6XC-3-3-水平",14,0.7,110]
[4458,2941995,140,-1,4459,"RCP6-HSA6XC-3-3-水平",15,0.3,140]
[4459,6864655,106,4458,-1,"RCP6-HSA6XC-3-3-水平",15,0.7,106]
[4460,2941995,134,-1,4461,"RCP6-HSA6XC-3-3-水平",16,0.3,134]
[4461,6864655,102,4460,-1,"RCP6-HSA6XC-3-3-水平",16,0.7,102]
[4462,2941995,128,-1,4463,"RCP6-HSA6XC-3-3-水平",17,0.3,128]
[4463,6864655,98,4462,-1,"RCP6-HSA6XC-3-3-水平",17,0.7,98]
[4464,2941995,122,-1,4465,"RCP6-HSA6XC-3-3-水平",18,0.3,122]
[4465,6864655,95,4464,-1,"RCP6-HSA6XC-3-3-水平",18,0.7,95]
[4466,2941995,116,-1,4467,"RCP6-HSA6XC-3-3-水平",19,0.3,116]
[4467,6864655,91,4466,-1,"RCP6-HSA6XC-3-3-水平",19,0.7,91]
[4468,2941995,110,-1,4469,"RCP6-HSA6XC-3-3-水平",20,0.3,110]
[4469,6864655,87,4468,-1,"RCP6-HSA6XC-3-3-水平",20,0.7,87]
[4470,2941995,104,-1,4471,"RCP6-HSA6XC-3-3-水平",21,0.3,104]
[4471,6864655,83,4470,-1,"RCP6-HSA6XC-3-3-水平",21,0.7,83]
[4472,2941995,98,-1,4473,"RCP6-HSA6XC-3-3-水平",22,0.3,98]
[4473,6864655,80,4472,-1,"RCP6-HSA6XC-3-3-水平",22,0.7,80]
[4474,2941995,92,-1,-1,"RCP6-HSA6XC-3-3-水平",23,0.3,92]
[4475,2941995,86,-1,-1,"RCP6-HSA6XC-3-3-水平",24,0.3,86]
[4476,2941995,80,-1,-1,"RCP6-HSA6XC-3-3-水平",25,0.3,80]
[4477,2941995,140,-1,-1,"RCP6-HSA6XC-3-3-垂直",3,0.3,140]
[4478,2941995,134,-1,-1,"RCP6-HSA6XC-3-3-垂直",4,0.3,134]
[4479,2941995,128,-1,-1,"RCP6-HSA6XC-3-3-垂直",5,0.3,128]
[4480,2941995,122,-1,-1,"RCP6-HSA6XC-3-3-垂直",6,0.3,122]
[4481,2941995,116,-1,-1,"RCP6-HSA6XC-3-3-垂直",7,0.3,116]
[4482,2941995,110,-1,-1,"RCP6-HSA6XC-3-3-垂直",8,0.3,110]
[4483,2941995,95,-1,-1,"RCP6-HSA6XC-3-3-垂直",9,0.3,95]
[4484,2941995,80,-1,-1,"RCP6-HSA6XC-3-3-垂直",10,0.3,80]
[4485,2941995,340,-1,-1,"RCP6-HSA6XC-6-6-水平",1,0.3,340]
[4486,2941995,334,-1,-1,"RCP6-HSA6XC-6-6-水平",2,0.3,334]
[4487,2941995,328,-1,4488,"RCP6-HSA6XC-6-6-水平",3,0.3,328]
[4488,6864655,280,4487,-1,"RCP6-HSA6XC-6-6-水平",3,0.7,280]
[4489,2941995,322,-1,4490,"RCP6-HSA6XC-6-6-水平",4,0.3,322]
[4490,6864655,274,4489,-1,"RCP6-HSA6XC-6-6-水平",4,0.7,274]
[4491,2941995,316,-1,4492,"RCP6-HSA6XC-6-6-水平",5,0.3,316]
[4492,6864655,269,4491,-1,"RCP6-HSA6XC-6-6-水平",5,0.7,269]
[4493,2941995,310,-1,4494,"RCP6-HSA6XC-6-6-水平",6,0.3,310]
[4494,6864655,263,4493,-1,"RCP6-HSA6XC-6-6-水平",6,0.7,263]
[4495,2941995,304,-1,4496,"RCP6-HSA6XC-6-6-水平",7,0.3,304]
[4496,6864655,258,4495,-1,"RCP6-HSA6XC-6-6-水平",7,0.7,258]
[4497,2941995,298,-1,4498,"RCP6-HSA6XC-6-6-水平",8,0.3,298]
[4498,6864655,252,4497,-1,"RCP6-HSA6XC-6-6-水平",8,0.7,252]
[4499,2941995,292,-1,4500,"RCP6-HSA6XC-6-6-水平",9,0.3,292]
[4500,6864655,247,4499,-1,"RCP6-HSA6XC-6-6-水平",9,0.7,247]
[4501,2941995,286,-1,4502,"RCP6-HSA6XC-6-6-水平",10,0.3,286]
[4502,6864655,241,4501,-1,"RCP6-HSA6XC-6-6-水平",10,0.7,241]
[4503,2941995,280,-1,4504,"RCP6-HSA6XC-6-6-水平",11,0.3,280]
[4504,6864655,236,4503,-1,"RCP6-HSA6XC-6-6-水平",11,0.7,236]
[4505,2941995,268,-1,4506,"RCP6-HSA6XC-6-6-水平",12,0.3,268]
[4506,6864655,230,4505,-1,"RCP6-HSA6XC-6-6-水平",12,0.7,230]
[4507,2941995,256,-1,4508,"RCP6-HSA6XC-6-6-水平",13,0.3,256]
[4508,6864655,225,4507,-1,"RCP6-HSA6XC-6-6-水平",13,0.7,225]
[4509,2941995,244,-1,4510,"RCP6-HSA6XC-6-6-水平",14,0.3,244]
[4510,6864655,220,4509,-1,"RCP6-HSA6XC-6-6-水平",14,0.7,220]
[4511,2941995,232,-1,-1,"RCP6-HSA6XC-6-6-水平",15,0.3,232]
[4512,2941995,220,-1,-1,"RCP6-HSA6XC-6-6-水平",16,0.3,220]
[4513,2941995,205,-1,-1,"RCP6-HSA6XC-6-6-水平",17,0.3,205]
[4514,2941995,190,-1,-1,"RCP6-HSA6XC-6-6-水平",18,0.3,190]
[4515,2941995,175,-1,-1,"RCP6-HSA6XC-6-6-水平",19,0.3,175]
[4516,2941995,160,-1,-1,"RCP6-HSA6XC-6-6-水平",20,0.3,160]
[4517,2941995,280,-1,-1,"RCP6-HSA6XC-6-6-垂直",1.5,0.3,280]
[4518,2941995,268,-1,-1,"RCP6-HSA6XC-6-6-垂直",2,0.3,268]
[4519,2941995,244,-1,-1,"RCP6-HSA6XC-6-6-垂直",3,0.3,244]
[4520,2941995,220,-1,-1,"RCP6-HSA6XC-6-6-垂直",4,0.3,220]
[4521,2941995,160,-1,-1,"RCP6-HSA6XC-6-6-垂直",5,0.3,160]
[4522,6864655,560,-1,-1,"RCP6-HSA6XC-12-12-水平",0.5,0.7,560]
[4523,6864655,546,-1,-1,"RCP6-HSA6XC-12-12-水平",1,0.7,546]
[4524,6864655,520,-1,-1,"RCP6-HSA6XC-12-12-水平",2,0.7,520]
[4525,6864655,493,-1,-1,"RCP6-HSA6XC-12-12-水平",3,0.7,493]
[4526,2941995,560,-1,4527,"RCP6-HSA6XC-12-12-水平",4,0.3,560]
[4527,6864655,466,4526,-1,"RCP6-HSA6XC-12-12-水平",4,0.7,466]
[4528,2941995,542,-1,4529,"RCP6-HSA6XC-12-12-水平",5,0.3,542]
[4529,6864655,440,4528,-1,"RCP6-HSA6XC-12-12-水平",5,0.7,440]
[4530,2941995,525,-1,4531,"RCP6-HSA6XC-12-12-水平",6,0.3,525]
[4531,6864655,416,4530,-1,"RCP6-HSA6XC-12-12-水平",6,0.7,416]
[4532,2941995,508,-1,4533,"RCP6-HSA6XC-12-12-水平",7,0.3,508]
[4533,6864655,392,4532,-1,"RCP6-HSA6XC-12-12-水平",7,0.7,392]
[4534,2941995,491,-1,4535,"RCP6-HSA6XC-12-12-水平",8,0.3,491]
[4535,6864655,368,4534,-1,"RCP6-HSA6XC-12-12-水平",8,0.7,368]
[4536,2941995,474,-1,4537,"RCP6-HSA6XC-12-12-水平",9,0.3,474]
[4537,6864655,344,4536,-1,"RCP6-HSA6XC-12-12-水平",9,0.7,344]
[4538,2941995,457,-1,4539,"RCP6-HSA6XC-12-12-水平",10,0.3,457]
[4539,6864655,320,4538,-1,"RCP6-HSA6XC-12-12-水平",10,0.7,320]
[4540,2941995,440,-1,-1,"RCP6-HSA6XC-12-12-水平",11,0.3,440]
[4541,2941995,400,-1,-1,"RCP6-HSA6XC-12-12-水平",12,0.3,400]
[4542,2941995,360,-1,-1,"RCP6-HSA6XC-12-12-水平",13,0.3,360]
[4543,2941995,320,-1,-1,"RCP6-HSA6XC-12-12-水平",14,0.3,320]
[4544,2941995,560,-1,-1,"RCP6-HSA6XC-12-12-垂直",0.5,0.3,560]
[4545,2941995,500,-1,-1,"RCP6-HSA6XC-12-12-垂直",1,0.3,500]
[4546,2941995,440,-1,-1,"RCP6-HSA6XC-12-12-垂直",1.5,0.3,440]
[4547,2941995,320,-1,-1,"RCP6-HSA6XC-12-12-垂直",2,0.3,320]
[4548,6864655,800,-1,-1,"RCP6-HSA6XC-20-20-水平",0.5,0.7,800]
[4549,6864655,768,-1,-1,"RCP6-HSA6XC-20-20-水平",1,0.7,768]
[4550,6864655,704,-1,-1,"RCP6-HSA6XC-20-20-水平",2,0.7,704]
[4551,2941995,800,-1,4552,"RCP6-HSA6XC-20-20-水平",3,0.3,800]
[4552,6864655,640,4551,-1,"RCP6-HSA6XC-20-20-水平",3,0.7,640]
[4553,2941995,746,-1,4554,"RCP6-HSA6XC-20-20-水平",4,0.3,746]
[4554,6864655,480,4553,-1,"RCP6-HSA6XC-20-20-水平",4,0.7,480]
[4555,2941995,693,-1,4556,"RCP6-HSA6XC-20-20-水平",5,0.3,693]
[4556,6864655,320,4555,-1,"RCP6-HSA6XC-20-20-水平",5,0.7,320]
[4557,2941995,640,-1,-1,"RCP6-HSA6XC-20-20-水平",6,0.3,640]
[4558,2941995,560,-1,-1,"RCP6-HSA6XC-20-20-水平",7,0.3,560]
[4559,2941995,480,-1,-1,"RCP6-HSA6XC-20-20-水平",8,0.3,480]
[4560,2941995,640,-1,-1,"RCP6-HSA6XC-20-20-垂直",0.75,0.3,640]
[4561,6864655,140,-1,-1,"RCP6-HSA6XR-3-3-水平",4,0.7,140]
[4562,6864655,137,-1,-1,"RCP6-HSA6XR-3-3-水平",5,0.7,137]
[4563,6864655,134,-1,-1,"RCP6-HSA6XR-3-3-水平",6,0.7,134]
[4564,6864655,131,-1,-1,"RCP6-HSA6XR-3-3-水平",7,0.7,131]
[4565,6864655,128,-1,-1,"RCP6-HSA6XR-3-3-水平",8,0.7,128]
[4566,6864655,125,-1,-1,"RCP6-HSA6XR-3-3-水平",9,0.7,125]
[4567,6864655,122,-1,-1,"RCP6-HSA6XR-3-3-水平",10,0.7,122]
[4568,6864655,119,-1,-1,"RCP6-HSA6XR-3-3-水平",11,0.7,119]
[4569,6864655,116,-1,-1,"RCP6-HSA6XR-3-3-水平",12,0.7,116]
[4570,6864655,113,-1,-1,"RCP6-HSA6XR-3-3-水平",13,0.7,113]
[4571,6864655,110,-1,-1,"RCP6-HSA6XR-3-3-水平",14,0.7,110]
[4572,2941995,140,-1,4573,"RCP6-HSA6XR-3-3-水平",15,0.3,140]
[4573,6864655,106,4572,-1,"RCP6-HSA6XR-3-3-水平",15,0.7,106]
[4574,2941995,134,-1,4575,"RCP6-HSA6XR-3-3-水平",16,0.3,134]
[4575,6864655,102,4574,-1,"RCP6-HSA6XR-3-3-水平",16,0.7,102]
[4576,2941995,128,-1,4577,"RCP6-HSA6XR-3-3-水平",17,0.3,128]
[4577,6864655,98,4576,-1,"RCP6-HSA6XR-3-3-水平",17,0.7,98]
[4578,2941995,122,-1,4579,"RCP6-HSA6XR-3-3-水平",18,0.3,122]
[4579,6864655,95,4578,-1,"RCP6-HSA6XR-3-3-水平",18,0.7,95]
[4580,2941995,116,-1,4581,"RCP6-HSA6XR-3-3-水平",19,0.3,116]
[4581,6864655,91,4580,-1,"RCP6-HSA6XR-3-3-水平",19,0.7,91]
[4582,2941995,110,-1,4583,"RCP6-HSA6XR-3-3-水平",20,0.3,110]
[4583,6864655,87,4582,-1,"RCP6-HSA6XR-3-3-水平",20,0.7,87]
[4584,2941995,104,-1,4585,"RCP6-HSA6XR-3-3-水平",21,0.3,104]
[4585,6864655,83,4584,-1,"RCP6-HSA6XR-3-3-水平",21,0.7,83]
[4586,2941995,98,-1,4587,"RCP6-HSA6XR-3-3-水平",22,0.3,98]
[4587,6864655,80,4586,-1,"RCP6-HSA6XR-3-3-水平",22,0.7,80]
[4588,2941995,92,-1,-1,"RCP6-HSA6XR-3-3-水平",23,0.3,92]
[4589,2941995,86,-1,-1,"RCP6-HSA6XR-3-3-水平",24,0.3,86]
[4590,2941995,80,-1,-1,"RCP6-HSA6XR-3-3-水平",25,0.3,80]
[4591,2941995,140,-1,-1,"RCP6-HSA6XR-3-3-垂直",3,0.3,140]
[4592,2941995,134,-1,-1,"RCP6-HSA6XR-3-3-垂直",4,0.3,134]
[4593,2941995,128,-1,-1,"RCP6-HSA6XR-3-3-垂直",5,0.3,128]
[4594,2941995,122,-1,-1,"RCP6-HSA6XR-3-3-垂直",6,0.3,122]
[4595,2941995,116,-1,-1,"RCP6-HSA6XR-3-3-垂直",7,0.3,116]
[4596,2941995,110,-1,-1,"RCP6-HSA6XR-3-3-垂直",8,0.3,110]
[4597,2941995,95,-1,-1,"RCP6-HSA6XR-3-3-垂直",9,0.3,95]
[4598,2941995,80,-1,-1,"RCP6-HSA6XR-3-3-垂直",10,0.3,80]
[4599,2941995,340,-1,-1,"RCP6-HSA6XR-6-6-水平",1,0.3,340]
[4600,2941995,334,-1,-1,"RCP6-HSA6XR-6-6-水平",2,0.3,334]
[4601,2941995,328,-1,4602,"RCP6-HSA6XR-6-6-水平",3,0.3,328]
[4602,6864655,280,4601,-1,"RCP6-HSA6XR-6-6-水平",3,0.7,280]
[4603,2941995,322,-1,4604,"RCP6-HSA6XR-6-6-水平",4,0.3,322]
[4604,6864655,274,4603,-1,"RCP6-HSA6XR-6-6-水平",4,0.7,274]
[4605,2941995,316,-1,4606,"RCP6-HSA6XR-6-6-水平",5,0.3,316]
[4606,6864655,269,4605,-1,"RCP6-HSA6XR-6-6-水平",5,0.7,269]
[4607,2941995,310,-1,4608,"RCP6-HSA6XR-6-6-水平",6,0.3,310]
[4608,6864655,263,4607,-1,"RCP6-HSA6XR-6-6-水平",6,0.7,263]
[4609,2941995,304,-1,4610,"RCP6-HSA6XR-6-6-水平",7,0.3,304]
[4610,6864655,258,4609,-1,"RCP6-HSA6XR-6-6-水平",7,0.7,258]
[4611,2941995,298,-1,4612,"RCP6-HSA6XR-6-6-水平",8,0.3,298]
[4612,6864655,252,4611,-1,"RCP6-HSA6XR-6-6-水平",8,0.7,252]
[4613,2941995,292,-1,4614,"RCP6-HSA6XR-6-6-水平",9,0.3,292]
[4614,6864655,247,4613,-1,"RCP6-HSA6XR-6-6-水平",9,0.7,247]
[4615,2941995,286,-1,4616,"RCP6-HSA6XR-6-6-水平",10,0.3,286]
[4616,6864655,241,4615,-1,"RCP6-HSA6XR-6-6-水平",10,0.7,241]
[4617,2941995,280,-1,4618,"RCP6-HSA6XR-6-6-水平",11,0.3,280]
[4618,6864655,236,4617,-1,"RCP6-HSA6XR-6-6-水平",11,0.7,236]
[4619,2941995,268,-1,4620,"RCP6-HSA6XR-6-6-水平",12,0.3,268]
[4620,6864655,230,4619,-1,"RCP6-HSA6XR-6-6-水平",12,0.7,230]
[4621,2941995,256,-1,4622,"RCP6-HSA6XR-6-6-水平",13,0.3,256]
[4622,6864655,225,4621,-1,"RCP6-HSA6XR-6-6-水平",13,0.7,225]
[4623,2941995,244,-1,4624,"RCP6-HSA6XR-6-6-水平",14,0.3,244]
[4624,6864655,220,4623,-1,"RCP6-HSA6XR-6-6-水平",14,0.7,220]
[4625,2941995,232,-1,-1,"RCP6-HSA6XR-6-6-水平",15,0.3,232]
[4626,2941995,220,-1,-1,"RCP6-HSA6XR-6-6-水平",16,0.3,220]
[4627,2941995,205,-1,-1,"RCP6-HSA6XR-6-6-水平",17,0.3,205]
[4628,2941995,190,-1,-1,"RCP6-HSA6XR-6-6-水平",18,0.3,190]
[4629,2941995,175,-1,-1,"RCP6-HSA6XR-6-6-水平",19,0.3,175]
[4630,2941995,160,-1,-1,"RCP6-HSA6XR-6-6-水平",20,0.3,160]
[4631,2941995,280,-1,-1,"RCP6-HSA6XR-6-6-垂直",1.5,0.3,280]
[4632,2941995,268,-1,-1,"RCP6-HSA6XR-6-6-垂直",2,0.3,268]
[4633,2941995,244,-1,-1,"RCP6-HSA6XR-6-6-垂直",3,0.3,244]
[4634,2941995,220,-1,-1,"RCP6-HSA6XR-6-6-垂直",4,0.3,220]
[4635,2941995,160,-1,-1,"RCP6-HSA6XR-6-6-垂直",5,0.3,160]
[4636,6864655,560,-1,-1,"RCP6-HSA6XR-12-12-水平",0.5,0.7,560]
[4637,6864655,546,-1,-1,"RCP6-HSA6XR-12-12-水平",1,0.7,546]
[4638,6864655,520,-1,-1,"RCP6-HSA6XR-12-12-水平",2,0.7,520]
[4639,6864655,493,-1,-1,"RCP6-HSA6XR-12-12-水平",3,0.7,493]
[4640,2941995,560,-1,4641,"RCP6-HSA6XR-12-12-水平",4,0.3,560]
[4641,6864655,466,4640,-1,"RCP6-HSA6XR-12-12-水平",4,0.7,466]
[4642,2941995,542,-1,4643,"RCP6-HSA6XR-12-12-水平",5,0.3,542]
[4643,6864655,440,4642,-1,"RCP6-HSA6XR-12-12-水平",5,0.7,440]
[4644,2941995,525,-1,4645,"RCP6-HSA6XR-12-12-水平",6,0.3,525]
[4645,6864655,416,4644,-1,"RCP6-HSA6XR-12-12-水平",6,0.7,416]
[4646,2941995,508,-1,4647,"RCP6-HSA6XR-12-12-水平",7,0.3,508]
[4647,6864655,392,4646,-1,"RCP6-HSA6XR-12-12-水平",7,0.7,392]
[4648,2941995,491,-1,4649,"RCP6-HSA6XR-12-12-水平",8,0.3,491]
[4649,6864655,368,4648,-1,"RCP6-HSA6XR-12-12-水平",8,0.7,368]
[4650,2941995,474,-1,4651,"RCP6-HSA6XR-12-12-水平",9,0.3,474]
[4651,6864655,344,4650,-1,"RCP6-HSA6XR-12-12-水平",9,0.7,344]
[4652,2941995,457,-1,4653,"RCP6-HSA6XR-12-12-水平",10,0.3,457]
[4653,6864655,320,4652,-1,"RCP6-HSA6XR-12-12-水平",10,0.7,320]
[4654,2941995,440,-1,-1,"RCP6-HSA6XR-12-12-水平",11,0.3,440]
[4655,2941995,400,-1,-1,"RCP6-HSA6XR-12-12-水平",12,0.3,400]
[4656,2941995,360,-1,-1,"RCP6-HSA6XR-12-12-水平",13,0.3,360]
[4657,2941995,320,-1,-1,"RCP6-HSA6XR-12-12-水平",14,0.3,320]
[4658,2941995,560,-1,-1,"RCP6-HSA6XR-12-12-垂直",0.5,0.3,560]
[4659,2941995,500,-1,-1,"RCP6-HSA6XR-12-12-垂直",1,0.3,500]
[4660,2941995,440,-1,-1,"RCP6-HSA6XR-12-12-垂直",1.5,0.3,440]
[4661,2941995,320,-1,-1,"RCP6-HSA6XR-12-12-垂直",2,0.3,320]
[4662,6864655,800,-1,-1,"RCP6-HSA6XR-20-20-水平",0.5,0.7,800]
[4663,6864655,768,-1,-1,"RCP6-HSA6XR-20-20-水平",1,0.7,768]
[4664,6864655,704,-1,-1,"RCP6-HSA6XR-20-20-水平",2,0.7,704]
[4665,2941995,800,-1,4666,"RCP6-HSA6XR-20-20-水平",3,0.3,800]
[4666,6864655,640,4665,-1,"RCP6-HSA6XR-20-20-水平",3,0.7,640]
[4667,2941995,746,-1,4668,"RCP6-HSA6XR-20-20-水平",4,0.3,746]
[4668,6864655,480,4667,-1,"RCP6-HSA6XR-20-20-水平",4,0.7,480]
[4669,2941995,693,-1,4670,"RCP6-HSA6XR-20-20-水平",5,0.3,693]
[4670,6864655,320,4669,-1,"RCP6-HSA6XR-20-20-水平",5,0.7,320]
[4671,2941995,640,-1,-1,"RCP6-HSA6XR-20-20-水平",6,0.3,640]
[4672,2941995,560,-1,-1,"RCP6-HSA6XR-20-20-水平",7,0.3,560]
[4673,2941995,480,-1,-1,"RCP6-HSA6XR-20-20-水平",8,0.3,480]
[4674,2941995,640,-1,-1,"RCP6-HSA6XR-20-20-垂直",0.75,0.3,640]
[4675,2941995,120,-1,-1,"RCP6-HSA7R-4-水平",8,0.3,120]
[4676,2941995,119,-1,-1,"RCP6-HSA7R-4-水平",9,0.3,119]
[4677,2941995,119,-1,-1,"RCP6-HSA7R-4-水平",10,0.3,119]
[4678,2941995,118,-1,-1,"RCP6-HSA7R-4-水平",11,0.3,118]
[4679,2941995,118,-1,-1,"RCP6-HSA7R-4-水平",12,0.3,118]
[4680,2941995,117,-1,-1,"RCP6-HSA7R-4-水平",13,0.3,117]
[4681,2941995,117,-1,-1,"RCP6-HSA7R-4-水平",14,0.3,117]
[4682,2941995,116,-1,-1,"RCP6-HSA7R-4-水平",15,0.3,116]
[4683,2941995,116,-1,-1,"RCP6-HSA7R-4-水平",16,0.3,116]
[4684,2941995,115,-1,-1,"RCP6-HSA7R-4-水平",17,0.3,115]
[4685,2941995,115,-1,-1,"RCP6-HSA7R-4-水平",18,0.3,115]
[4686,2941995,114,-1,-1,"RCP6-HSA7R-4-水平",19,0.3,114]
[4687,2941995,114,-1,4688,"RCP6-HSA7R-4-水平",20,0.3,114]
[4688,6864655,105,4687,-1,"RCP6-HSA7R-4-水平",20,0.7,105]
[4689,2941995,113,-1,4690,"RCP6-HSA7R-4-水平",21,0.3,113]
[4690,6864655,101,4689,-1,"RCP6-HSA7R-4-水平",21,0.7,101]
[4691,2941995,113,-1,4692,"RCP6-HSA7R-4-水平",22,0.3,113]
[4692,6864655,98,4691,-1,"RCP6-HSA7R-4-水平",22,0.7,98]
[4693,2941995,112,-1,4694,"RCP6-HSA7R-4-水平",23,0.3,112]
[4694,6864655,94,4693,-1,"RCP6-HSA7R-4-水平",23,0.7,94]
[4695,2941995,112,-1,4696,"RCP6-HSA7R-4-水平",24,0.3,112]
[4696,6864655,91,4695,-1,"RCP6-HSA7R-4-水平",24,0.7,91]
[4697,2941995,112,-1,4698,"RCP6-HSA7R-4-水平",25,0.3,112]
[4698,6864655,87,4697,-1,"RCP6-HSA7R-4-水平",25,0.7,87]
[4699,2941995,111,-1,4700,"RCP6-HSA7R-4-水平",26,0.3,111]
[4700,6864655,84,4699,-1,"RCP6-HSA7R-4-水平",26,0.7,84]
[4701,2941995,111,-1,4702,"RCP6-HSA7R-4-水平",27,0.3,111]
[4702,6864655,80,4701,-1,"RCP6-HSA7R-4-水平",27,0.7,80]
[4703,2941995,110,-1,4704,"RCP6-HSA7R-4-水平",28,0.3,110]
[4704,6864655,77,4703,-1,"RCP6-HSA7R-4-水平",28,0.7,77]
[4705,2941995,110,-1,4706,"RCP6-HSA7R-4-水平",29,0.3,110]
[4706,6864655,73,4705,-1,"RCP6-HSA7R-4-水平",29,0.7,73]
[4707,2941995,109,-1,4708,"RCP6-HSA7R-4-水平",30,0.3,109]
[4708,6864655,70,4707,-1,"RCP6-HSA7R-4-水平",30,0.7,70]
[4709,2941995,109,-1,-1,"RCP6-HSA7R-4-水平",31,0.3,109]
[4710,2941995,108,-1,-1,"RCP6-HSA7R-4-水平",32,0.3,108]
[4711,2941995,108,-1,-1,"RCP6-HSA7R-4-水平",33,0.3,108]
[4712,2941995,107,-1,-1,"RCP6-HSA7R-4-水平",34,0.3,107]
[4713,2941995,107,-1,-1,"RCP6-HSA7R-4-水平",35,0.3,107]
[4714,2941995,106,-1,-1,"RCP6-HSA7R-4-水平",36,0.3,106]
[4715,2941995,106,-1,-1,"RCP6-HSA7R-4-水平",37,0.3,106]
[4716,2941995,105,-1,-1,"RCP6-HSA7R-4-水平",38,0.3,105]
[4717,2941995,105,-1,-1,"RCP6-HSA7R-4-水平",39,0.3,105]
[4718,2941995,105,-1,-1,"RCP6-HSA7R-4-水平",40,0.3,105]
[4719,2941995,105,-1,-1,"RCP6-HSA7R-4-垂直",8,0.3,105]
[4720,2941995,100,-1,-1,"RCP6-HSA7R-4-垂直",9,0.3,100]
[4721,2941995,95,-1,-1,"RCP6-HSA7R-4-垂直",10,0.3,95]
[4722,2941995,90,-1,-1,"RCP6-HSA7R-4-垂直",11,0.3,90]
[4723,2941995,85,-1,-1,"RCP6-HSA7R-4-垂直",12,0.3,85]
[4724,2941995,80,-1,-1,"RCP6-HSA7R-4-垂直",13,0.3,80]
[4725,2941995,75,-1,-1,"RCP6-HSA7R-4-垂直",14,0.3,75]
[4726,2941995,70,-1,-1,"RCP6-HSA7R-4-垂直",15,0.3,70]
[4727,6864655,210,-1,-1,"RCP6-HSA7R-8-水平",14,0.7,210]
[4728,6864655,203,-1,-1,"RCP6-HSA7R-8-水平",15,0.7,203]
[4729,6864655,197,-1,-1,"RCP6-HSA7R-8-水平",16,0.7,197]
[4730,6864655,190,-1,-1,"RCP6-HSA7R-8-水平",17,0.7,190]
[4731,6864655,184,-1,-1,"RCP6-HSA7R-8-水平",18,0.7,184]
[4732,6864655,178,-1,-1,"RCP6-HSA7R-8-水平",19,0.7,178]
[4733,6864655,171,-1,-1,"RCP6-HSA7R-8-水平",20,0.7,171]
[4734,6864655,165,-1,-1,"RCP6-HSA7R-8-水平",21,0.7,165]
[4735,6864655,159,-1,-1,"RCP6-HSA7R-8-水平",22,0.7,159]
[4736,6864655,152,-1,-1,"RCP6-HSA7R-8-水平",23,0.7,152]
[4737,6864655,146,-1,-1,"RCP6-HSA7R-8-水平",24,0.7,146]
[4738,2941995,210,-1,4739,"RCP6-HSA7R-8-水平",25,0.3,210]
[4739,6864655,140,4738,-1,"RCP6-HSA7R-8-水平",25,0.7,140]
[4740,2941995,205,-1,-1,"RCP6-HSA7R-8-水平",26,0.3,205]
[4741,2941995,200,-1,-1,"RCP6-HSA7R-8-水平",27,0.3,200]
[4742,2941995,196,-1,-1,"RCP6-HSA7R-8-水平",28,0.3,196]
[4743,2941995,191,-1,-1,"RCP6-HSA7R-8-水平",29,0.3,191]
[4744,2941995,186,-1,-1,"RCP6-HSA7R-8-水平",30,0.3,186]
[4745,2941995,182,-1,-1,"RCP6-HSA7R-8-水平",31,0.3,182]
[4746,2941995,177,-1,-1,"RCP6-HSA7R-8-水平",32,0.3,177]
[4747,2941995,172,-1,-1,"RCP6-HSA7R-8-水平",33,0.3,172]
[4748,2941995,168,-1,-1,"RCP6-HSA7R-8-水平",34,0.3,168]
[4749,2941995,163,-1,-1,"RCP6-HSA7R-8-水平",35,0.3,163]
[4750,2941995,158,-1,-1,"RCP6-HSA7R-8-水平",36,0.3,158]
[4751,2941995,154,-1,-1,"RCP6-HSA7R-8-水平",37,0.3,154]
[4752,2941995,149,-1,-1,"RCP6-HSA7R-8-水平",38,0.3,149]
[4753,2941995,144,-1,-1,"RCP6-HSA7R-8-水平",39,0.3,144]
[4754,2941995,140,-1,-1,"RCP6-HSA7R-8-水平",40,0.3,140]
[4755,2941995,210,-1,-1,"RCP6-HSA7R-8-垂直",4,0.3,210]
[4756,2941995,186,-1,-1,"RCP6-HSA7R-8-垂直",5,0.3,186]
[4757,2941995,163,-1,-1,"RCP6-HSA7R-8-垂直",6,0.3,163]
[4758,2941995,140,-1,-1,"RCP6-HSA7R-8-垂直",7,0.3,140]
[4759,2941995,116,-1,-1,"RCP6-HSA7R-8-垂直",8,0.3,116]
[4760,2941995,93,-1,-1,"RCP6-HSA7R-8-垂直",9,0.3,93]
[4761,2941995,70,-1,-1,"RCP6-HSA7R-8-垂直",10,0.3,70]
[4762,2941995,500,-1,4763,"RCP6-HSA7R-16-水平",4,0.3,500]
[4763,6864655,420,4762,-1,"RCP6-HSA7R-16-水平",4,0.7,420]
[4764,2941995,492,-1,4765,"RCP6-HSA7R-16-水平",5,0.3,492]
[4765,6864655,402,4764,-1,"RCP6-HSA7R-16-水平",5,0.7,402]
[4766,2941995,484,-1,4767,"RCP6-HSA7R-16-水平",6,0.3,484]
[4767,6864655,385,4766,-1,"RCP6-HSA7R-16-水平",6,0.7,385]
[4768,2941995,476,-1,4769,"RCP6-HSA7R-16-水平",7,0.3,476]
[4769,6864655,367,4768,-1,"RCP6-HSA7R-16-水平",7,0.7,367]
[4770,2941995,468,-1,4771,"RCP6-HSA7R-16-水平",8,0.3,468]
[4771,6864655,350,4770,-1,"RCP6-HSA7R-16-水平",8,0.7,350]
[4772,2941995,460,-1,4773,"RCP6-HSA7R-16-水平",9,0.3,460]
[4773,6864655,332,4772,-1,"RCP6-HSA7R-16-水平",9,0.7,332]
[4774,2941995,452,-1,4775,"RCP6-HSA7R-16-水平",10,0.3,452]
[4775,6864655,315,4774,-1,"RCP6-HSA7R-16-水平",10,0.7,315]
[4776,2941995,444,-1,4777,"RCP6-HSA7R-16-水平",11,0.3,444]
[4777,6864655,297,4776,-1,"RCP6-HSA7R-16-水平",11,0.7,297]
[4778,2941995,436,-1,4779,"RCP6-HSA7R-16-水平",12,0.3,436]
[4779,6864655,280,4778,-1,"RCP6-HSA7R-16-水平",12,0.7,280]
[4780,2941995,428,-1,4781,"RCP6-HSA7R-16-水平",13,0.3,428]
[4781,6864655,262,4780,-1,"RCP6-HSA7R-16-水平",13,0.7,262]
[4782,2941995,420,-1,4783,"RCP6-HSA7R-16-水平",14,0.3,420]
[4783,6864655,245,4782,-1,"RCP6-HSA7R-16-水平",14,0.7,245]
[4784,2941995,407,-1,4785,"RCP6-HSA7R-16-水平",15,0.3,407]
[4785,6864655,227,4784,-1,"RCP6-HSA7R-16-水平",15,0.7,227]
[4786,2941995,394,-1,4787,"RCP6-HSA7R-16-水平",16,0.3,394]
[4787,6864655,210,4786,-1,"RCP6-HSA7R-16-水平",16,0.7,210]
[4788,2941995,381,-1,4789,"RCP6-HSA7R-16-水平",17,0.3,381]
[4789,6864655,192,4788,-1,"RCP6-HSA7R-16-水平",17,0.7,192]
[4790,2941995,369,-1,4791,"RCP6-HSA7R-16-水平",18,0.3,369]
[4791,6864655,175,4790,-1,"RCP6-HSA7R-16-水平",18,0.7,175]
[4792,2941995,356,-1,4793,"RCP6-HSA7R-16-水平",19,0.3,356]
[4793,6864655,157,4792,-1,"RCP6-HSA7R-16-水平",19,0.7,157]
[4794,2941995,343,-1,4795,"RCP6-HSA7R-16-水平",20,0.3,343]
[4795,6864655,140,4794,-1,"RCP6-HSA7R-16-水平",20,0.7,140]
[4796,2941995,330,-1,-1,"RCP6-HSA7R-16-水平",21,0.3,330]
[4797,2941995,318,-1,-1,"RCP6-HSA7R-16-水平",22,0.3,318]
[4798,2941995,305,-1,-1,"RCP6-HSA7R-16-水平",23,0.3,305]
[4799,2941995,292,-1,-1,"RCP6-HSA7R-16-水平",24,0.3,292]
[4800,2941995,280,-1,-1,"RCP6-HSA7R-16-水平",25,0.3,280]
[4801,2941995,266,-1,-1,"RCP6-HSA7R-16-水平",26,0.3,266]
[4802,2941995,252,-1,-1,"RCP6-HSA7R-16-水平",27,0.3,252]
[4803,2941995,238,-1,-1,"RCP6-HSA7R-16-水平",28,0.3,238]
[4804,2941995,224,-1,-1,"RCP6-HSA7R-16-水平",29,0.3,224]
[4805,2941995,210,-1,-1,"RCP6-HSA7R-16-水平",30,0.3,210]
[4806,2941995,196,-1,-1,"RCP6-HSA7R-16-水平",31,0.3,196]
[4807,2941995,182,-1,-1,"RCP6-HSA7R-16-水平",32,0.3,182]
[4808,2941995,168,-1,-1,"RCP6-HSA7R-16-水平",33,0.3,168]
[4809,2941995,154,-1,-1,"RCP6-HSA7R-16-水平",34,0.3,154]
[4810,2941995,140,-1,-1,"RCP6-HSA7R-16-水平",35,0.3,140]
[4811,2941995,420,-1,-1,"RCP6-HSA7R-16-垂直",1.5,0.3,420]
[4812,2941995,373,-1,-1,"RCP6-HSA7R-16-垂直",2,0.3,373]
[4813,2941995,280,-1,-1,"RCP6-HSA7R-16-垂直",3,0.3,280]
[4814,2941995,210,-1,-1,"RCP6-HSA7R-16-垂直",4,0.3,210]
[4815,2941995,140,-1,-1,"RCP6-HSA7R-16-垂直",5,0.3,140]
[4816,2941995,800,-1,-1,"RCP6-HSA7R-24-水平",1,0.3,800]
[4817,2941995,780,-1,4818,"RCP6-HSA7R-24-水平",2,0.3,780]
[4818,6864655,640,4817,-1,"RCP6-HSA7R-24-水平",2,0.7,640]
[4819,2941995,760,-1,4820,"RCP6-HSA7R-24-水平",3,0.3,760]
[4820,6864655,612,4819,-1,"RCP6-HSA7R-24-水平",3,0.7,612]
[4821,2941995,740,-1,4822,"RCP6-HSA7R-24-水平",4,0.3,740]
[4822,6864655,585,4821,-1,"RCP6-HSA7R-24-水平",4,0.7,585]
[4823,2941995,720,-1,4824,"RCP6-HSA7R-24-水平",5,0.3,720]
[4824,6864655,557,4823,-1,"RCP6-HSA7R-24-水平",5,0.7,557]
[4825,2941995,700,-1,4826,"RCP6-HSA7R-24-水平",6,0.3,700]
[4826,6864655,530,4825,-1,"RCP6-HSA7R-24-水平",6,0.7,530]
[4827,2941995,680,-1,4828,"RCP6-HSA7R-24-水平",7,0.3,680]
[4828,6864655,502,4827,-1,"RCP6-HSA7R-24-水平",7,0.7,502]
[4829,2941995,660,-1,4830,"RCP6-HSA7R-24-水平",8,0.3,660]
[4830,6864655,475,4829,-1,"RCP6-HSA7R-24-水平",8,0.7,475]
[4831,2941995,640,-1,4832,"RCP6-HSA7R-24-水平",9,0.3,640]
[4832,6864655,447,4831,-1,"RCP6-HSA7R-24-水平",9,0.7,447]
[4833,2941995,615,-1,4834,"RCP6-HSA7R-24-水平",10,0.3,615]
[4834,6864655,420,4833,-1,"RCP6-HSA7R-24-水平",10,0.7,420]
[4835,2941995,591,-1,-1,"RCP6-HSA7R-24-水平",11,0.3,591]
[4836,2941995,566,-1,-1,"RCP6-HSA7R-24-水平",12,0.3,566]
[4837,2941995,542,-1,-1,"RCP6-HSA7R-24-水平",13,0.3,542]
[4838,2941995,517,-1,-1,"RCP6-HSA7R-24-水平",14,0.3,517]
[4839,2941995,493,-1,-1,"RCP6-HSA7R-24-水平",15,0.3,493]
[4840,2941995,468,-1,-1,"RCP6-HSA7R-24-水平",16,0.3,468]
[4841,2941995,444,-1,-1,"RCP6-HSA7R-24-水平",17,0.3,444]
[4842,2941995,420,-1,-1,"RCP6-HSA7R-24-水平",18,0.3,420]
[4843,2941995,640,-1,-1,"RCP6-HSA7R-24-垂直",1,0.3,640]
[4844,2941995,420,-1,-1,"RCP6-HSA7R-24-垂直",2,0.3,420]
[4845,2941995,120,-1,-1,"RCP6-HSA7R-W-4-水平",4,0.3,120]
[4846,2941995,119,-1,-1,"RCP6-HSA7R-W-4-水平",5,0.3,119]
[4847,2941995,119,-1,-1,"RCP6-HSA7R-W-4-水平",6,0.3,119]
[4848,2941995,118,-1,-1,"RCP6-HSA7R-W-4-水平",7,0.3,118]
[4849,2941995,118,-1,-1,"RCP6-HSA7R-W-4-水平",8,0.3,118]
[4850,2941995,117,-1,-1,"RCP6-HSA7R-W-4-水平",9,0.3,117]
[4851,2941995,117,-1,-1,"RCP6-HSA7R-W-4-水平",10,0.3,117]
[4852,2941995,116,-1,-1,"RCP6-HSA7R-W-4-水平",11,0.3,116]
[4853,2941995,116,-1,-1,"RCP6-HSA7R-W-4-水平",12,0.3,116]
[4854,2941995,115,-1,-1,"RCP6-HSA7R-W-4-水平",13,0.3,115]
[4855,2941995,115,-1,-1,"RCP6-HSA7R-W-4-水平",14,0.3,115]
[4856,2941995,114,-1,-1,"RCP6-HSA7R-W-4-水平",15,0.3,114]
[4857,2941995,114,-1,-1,"RCP6-HSA7R-W-4-水平",16,0.3,114]
[4858,2941995,113,-1,-1,"RCP6-HSA7R-W-4-水平",17,0.3,113]
[4859,2941995,113,-1,-1,"RCP6-HSA7R-W-4-水平",18,0.3,113]
[4860,2941995,112,-1,-1,"RCP6-HSA7R-W-4-水平",19,0.3,112]
[4861,2941995,112,-1,-1,"RCP6-HSA7R-W-4-水平",20,0.3,112]
[4862,2941995,112,-1,-1,"RCP6-HSA7R-W-4-水平",21,0.3,112]
[4863,2941995,111,-1,-1,"RCP6-HSA7R-W-4-水平",22,0.3,111]
[4864,2941995,111,-1,-1,"RCP6-HSA7R-W-4-水平",23,0.3,111]
[4865,2941995,110,-1,-1,"RCP6-HSA7R-W-4-水平",24,0.3,110]
[4866,2941995,110,-1,-1,"RCP6-HSA7R-W-4-水平",25,0.3,110]
[4867,2941995,109,-1,4868,"RCP6-HSA7R-W-4-水平",26,0.3,109]
[4868,6864655,105,4867,-1,"RCP6-HSA7R-W-4-水平",26,0.7,105]
[4869,2941995,109,-1,4870,"RCP6-HSA7R-W-4-水平",27,0.3,109]
[4870,6864655,87,4869,-1,"RCP6-HSA7R-W-4-水平",27,0.7,87]
[4871,2941995,108,-1,4872,"RCP6-HSA7R-W-4-水平",28,0.3,108]
[4872,6864655,70,4871,-1,"RCP6-HSA7R-W-4-水平",28,0.7,70]
[4873,2941995,108,-1,-1,"RCP6-HSA7R-W-4-水平",29,0.3,108]
[4874,2941995,107,-1,-1,"RCP6-HSA7R-W-4-水平",30,0.3,107]
[4875,2941995,107,-1,-1,"RCP6-HSA7R-W-4-水平",31,0.3,107]
[4876,2941995,106,-1,-1,"RCP6-HSA7R-W-4-水平",32,0.3,106]
[4877,2941995,106,-1,-1,"RCP6-HSA7R-W-4-水平",33,0.3,106]
[4878,2941995,105,-1,-1,"RCP6-HSA7R-W-4-水平",34,0.3,105]
[4879,2941995,105,-1,-1,"RCP6-HSA7R-W-4-水平",35,0.3,105]
[4880,2941995,105,-1,-1,"RCP6-HSA7R-W-4-水平",36,0.3,105]
[4881,2941995,87,-1,-1,"RCP6-HSA7R-W-4-水平",37,0.3,87]
[4882,2941995,70,-1,-1,"RCP6-HSA7R-W-4-水平",38,0.3,70]
[4883,2941995,105,-1,-1,"RCP6-HSA7R-W-4-垂直",4,0.3,105]
[4884,2941995,101,-1,-1,"RCP6-HSA7R-W-4-垂直",5,0.3,101]
[4885,2941995,97,-1,-1,"RCP6-HSA7R-W-4-垂直",6,0.3,97]
[4886,2941995,93,-1,-1,"RCP6-HSA7R-W-4-垂直",7,0.3,93]
[4887,2941995,89,-1,-1,"RCP6-HSA7R-W-4-垂直",8,0.3,89]
[4888,2941995,85,-1,-1,"RCP6-HSA7R-W-4-垂直",9,0.3,85]
[4889,2941995,81,-1,-1,"RCP6-HSA7R-W-4-垂直",10,0.3,81]
[4890,2941995,77,-1,-1,"RCP6-HSA7R-W-4-垂直",11,0.3,77]
[4891,2941995,73,-1,-1,"RCP6-HSA7R-W-4-垂直",12,0.3,73]
[4892,2941995,70,-1,-1,"RCP6-HSA7R-W-4-垂直",13,0.3,70]
[4893,6864655,210,-1,-1,"RCP6-HSA7R-W-8-水平",8,0.7,210]
[4894,6864655,205,-1,-1,"RCP6-HSA7R-W-8-水平",9,0.7,205]
[4895,6864655,200,-1,-1,"RCP6-HSA7R-W-8-水平",10,0.7,200]
[4896,6864655,196,-1,-1,"RCP6-HSA7R-W-8-水平",11,0.7,196]
[4897,6864655,191,-1,-1,"RCP6-HSA7R-W-8-水平",12,0.7,191]
[4898,6864655,186,-1,-1,"RCP6-HSA7R-W-8-水平",13,0.7,186]
[4899,6864655,182,-1,-1,"RCP6-HSA7R-W-8-水平",14,0.7,182]
[4900,6864655,177,-1,-1,"RCP6-HSA7R-W-8-水平",15,0.7,177]
[4901,6864655,172,-1,-1,"RCP6-HSA7R-W-8-水平",16,0.7,172]
[4902,6864655,168,-1,-1,"RCP6-HSA7R-W-8-水平",17,0.7,168]
[4903,2941995,210,-1,4904,"RCP6-HSA7R-W-8-水平",18,0.3,210]
[4904,6864655,163,4903,-1,"RCP6-HSA7R-W-8-水平",18,0.7,163]
[4905,2941995,206,-1,4906,"RCP6-HSA7R-W-8-水平",19,0.3,206]
[4906,6864655,158,4905,-1,"RCP6-HSA7R-W-8-水平",19,0.7,158]
[4907,2941995,203,-1,4908,"RCP6-HSA7R-W-8-水平",20,0.3,203]
[4908,6864655,154,4907,-1,"RCP6-HSA7R-W-8-水平",20,0.7,154]
[4909,2941995,199,-1,4910,"RCP6-HSA7R-W-8-水平",21,0.3,199]
[4910,6864655,149,4909,-1,"RCP6-HSA7R-W-8-水平",21,0.7,149]
[4911,2941995,196,-1,4912,"RCP6-HSA7R-W-8-水平",22,0.3,196]
[4912,6864655,144,4911,-1,"RCP6-HSA7R-W-8-水平",22,0.7,144]
[4913,2941995,192,-1,4914,"RCP6-HSA7R-W-8-水平",23,0.3,192]
[4914,6864655,140,4913,-1,"RCP6-HSA7R-W-8-水平",23,0.7,140]
[4915,2941995,189,-1,-1,"RCP6-HSA7R-W-8-水平",24,0.3,189]
[4916,2941995,185,-1,-1,"RCP6-HSA7R-W-8-水平",25,0.3,185]
[4917,2941995,182,-1,-1,"RCP6-HSA7R-W-8-水平",26,0.3,182]
[4918,2941995,178,-1,-1,"RCP6-HSA7R-W-8-水平",27,0.3,178]
[4919,2941995,175,-1,-1,"RCP6-HSA7R-W-8-水平",28,0.3,175]
[4920,2941995,171,-1,-1,"RCP6-HSA7R-W-8-水平",29,0.3,171]
[4921,2941995,168,-1,-1,"RCP6-HSA7R-W-8-水平",30,0.3,168]
[4922,2941995,164,-1,-1,"RCP6-HSA7R-W-8-水平",31,0.3,164]
[4923,2941995,161,-1,-1,"RCP6-HSA7R-W-8-水平",32,0.3,161]
[4924,2941995,157,-1,-1,"RCP6-HSA7R-W-8-水平",33,0.3,157]
[4925,2941995,154,-1,-1,"RCP6-HSA7R-W-8-水平",34,0.3,154]
[4926,2941995,150,-1,-1,"RCP6-HSA7R-W-8-水平",35,0.3,150]
[4927,2941995,147,-1,-1,"RCP6-HSA7R-W-8-水平",36,0.3,147]
[4928,2941995,143,-1,-1,"RCP6-HSA7R-W-8-水平",37,0.3,143]
[4929,2941995,140,-1,-1,"RCP6-HSA7R-W-8-水平",38,0.3,140]
[4930,2941995,140,-1,-1,"RCP6-HSA7R-W-8-垂直",5,0.3,140]
[4931,2941995,116,-1,-1,"RCP6-HSA7R-W-8-垂直",6,0.3,116]
[4932,2941995,93,-1,-1,"RCP6-HSA7R-W-8-垂直",7,0.3,93]
[4933,2941995,70,-1,-1,"RCP6-HSA7R-W-8-垂直",8,0.3,70]
[4934,6864655,420,-1,-1,"RCP6-HSA7R-W-16-水平",1,0.7,420]
[4935,6864655,404,-1,-1,"RCP6-HSA7R-W-16-水平",2,0.7,404]
[4936,6864655,388,-1,-1,"RCP6-HSA7R-W-16-水平",3,0.7,388]
[4937,6864655,373,-1,-1,"RCP6-HSA7R-W-16-水平",4,0.7,373]
[4938,6864655,357,-1,-1,"RCP6-HSA7R-W-16-水平",5,0.7,357]
[4939,6864655,342,-1,-1,"RCP6-HSA7R-W-16-水平",6,0.7,342]
[4940,6864655,326,-1,-1,"RCP6-HSA7R-W-16-水平",7,0.7,326]
[4941,2941995,420,-1,4942,"RCP6-HSA7R-W-16-水平",8,0.3,420]
[4942,6864655,311,4941,-1,"RCP6-HSA7R-W-16-水平",8,0.7,311]
[4943,2941995,410,-1,4944,"RCP6-HSA7R-W-16-水平",9,0.3,410]
[4944,6864655,295,4943,-1,"RCP6-HSA7R-W-16-水平",9,0.7,295]
[4945,2941995,401,-1,4946,"RCP6-HSA7R-W-16-水平",10,0.3,401]
[4946,6864655,280,4945,-1,"RCP6-HSA7R-W-16-水平",10,0.7,280]
[4947,2941995,392,-1,4948,"RCP6-HSA7R-W-16-水平",11,0.3,392]
[4948,6864655,262,4947,-1,"RCP6-HSA7R-W-16-水平",11,0.7,262]
[4949,2941995,382,-1,4950,"RCP6-HSA7R-W-16-水平",12,0.3,382]
[4950,6864655,245,4949,-1,"RCP6-HSA7R-W-16-水平",12,0.7,245]
[4951,2941995,373,-1,4952,"RCP6-HSA7R-W-16-水平",13,0.3,373]
[4952,6864655,227,4951,-1,"RCP6-HSA7R-W-16-水平",13,0.7,227]
[4953,2941995,364,-1,4954,"RCP6-HSA7R-W-16-水平",14,0.3,364]
[4954,6864655,210,4953,-1,"RCP6-HSA7R-W-16-水平",14,0.7,210]
[4955,2941995,354,-1,4956,"RCP6-HSA7R-W-16-水平",15,0.3,354]
[4956,6864655,192,4955,-1,"RCP6-HSA7R-W-16-水平",15,0.7,192]
[4957,2941995,345,-1,4958,"RCP6-HSA7R-W-16-水平",16,0.3,345]
[4958,6864655,175,4957,-1,"RCP6-HSA7R-W-16-水平",16,0.7,175]
[4959,2941995,336,-1,4960,"RCP6-HSA7R-W-16-水平",17,0.3,336]
[4960,6864655,157,4959,-1,"RCP6-HSA7R-W-16-水平",17,0.7,157]
[4961,2941995,326,-1,4962,"RCP6-HSA7R-W-16-水平",18,0.3,326]
[4962,6864655,140,4961,-1,"RCP6-HSA7R-W-16-水平",18,0.7,140]
[4963,2941995,317,-1,-1,"RCP6-HSA7R-W-16-水平",19,0.3,317]
[4964,2941995,308,-1,-1,"RCP6-HSA7R-W-16-水平",20,0.3,308]
[4965,2941995,298,-1,-1,"RCP6-HSA7R-W-16-水平",21,0.3,298]
[4966,2941995,289,-1,-1,"RCP6-HSA7R-W-16-水平",22,0.3,289]
[4967,2941995,280,-1,-1,"RCP6-HSA7R-W-16-水平",23,0.3,280]
[4968,2941995,266,-1,-1,"RCP6-HSA7R-W-16-水平",24,0.3,266]
[4969,2941995,252,-1,-1,"RCP6-HSA7R-W-16-水平",25,0.3,252]
[4970,2941995,238,-1,-1,"RCP6-HSA7R-W-16-水平",26,0.3,238]
[4971,2941995,224,-1,-1,"RCP6-HSA7R-W-16-水平",27,0.3,224]
[4972,2941995,210,-1,-1,"RCP6-HSA7R-W-16-水平",28,0.3,210]
[4973,2941995,196,-1,-1,"RCP6-HSA7R-W-16-水平",29,0.3,196]
[4974,2941995,182,-1,-1,"RCP6-HSA7R-W-16-水平",30,0.3,182]
[4975,2941995,168,-1,-1,"RCP6-HSA7R-W-16-水平",31,0.3,168]
[4976,2941995,154,-1,-1,"RCP6-HSA7R-W-16-水平",32,0.3,154]
[4977,2941995,140,-1,-1,"RCP6-HSA7R-W-16-水平",33,0.3,140]
[4978,2941995,120,-1,-1,"RCP6-HSA7XC-4-4-水平",8,0.3,120]
[4979,2941995,119,-1,-1,"RCP6-HSA7XC-4-4-水平",9,0.3,119]
[4980,2941995,119,-1,-1,"RCP6-HSA7XC-4-4-水平",10,0.3,119]
[4981,2941995,118,-1,-1,"RCP6-HSA7XC-4-4-水平",11,0.3,118]
[4982,2941995,118,-1,-1,"RCP6-HSA7XC-4-4-水平",12,0.3,118]
[4983,2941995,117,-1,-1,"RCP6-HSA7XC-4-4-水平",13,0.3,117]
[4984,2941995,117,-1,-1,"RCP6-HSA7XC-4-4-水平",14,0.3,117]
[4985,2941995,116,-1,-1,"RCP6-HSA7XC-4-4-水平",15,0.3,116]
[4986,2941995,116,-1,-1,"RCP6-HSA7XC-4-4-水平",16,0.3,116]
[4987,2941995,115,-1,-1,"RCP6-HSA7XC-4-4-水平",17,0.3,115]
[4988,2941995,115,-1,-1,"RCP6-HSA7XC-4-4-水平",18,0.3,115]
[4989,2941995,114,-1,-1,"RCP6-HSA7XC-4-4-水平",19,0.3,114]
[4990,2941995,114,-1,4991,"RCP6-HSA7XC-4-4-水平",20,0.3,114]
[4991,6864655,105,4990,-1,"RCP6-HSA7XC-4-4-水平",20,0.7,105]
[4992,2941995,113,-1,4993,"RCP6-HSA7XC-4-4-水平",21,0.3,113]
[4993,6864655,101,4992,-1,"RCP6-HSA7XC-4-4-水平",21,0.7,101]
[4994,2941995,113,-1,4995,"RCP6-HSA7XC-4-4-水平",22,0.3,113]
[4995,6864655,98,4994,-1,"RCP6-HSA7XC-4-4-水平",22,0.7,98]
[4996,2941995,112,-1,4997,"RCP6-HSA7XC-4-4-水平",23,0.3,112]
[4997,6864655,94,4996,-1,"RCP6-HSA7XC-4-4-水平",23,0.7,94]
[4998,2941995,112,-1,4999,"RCP6-HSA7XC-4-4-水平",24,0.3,112]
[4999,6864655,91,4998,-1,"RCP6-HSA7XC-4-4-水平",24,0.7,91]
[5000,2941995,112,-1,5001,"RCP6-HSA7XC-4-4-水平",25,0.3,112]
[5001,6864655,87,5000,-1,"RCP6-HSA7XC-4-4-水平",25,0.7,87]
[5002,2941995,111,-1,5003,"RCP6-HSA7XC-4-4-水平",26,0.3,111]
[5003,6864655,84,5002,-1,"RCP6-HSA7XC-4-4-水平",26,0.7,84]
[5004,2941995,111,-1,5005,"RCP6-HSA7XC-4-4-水平",27,0.3,111]
[5005,6864655,80,5004,-1,"RCP6-HSA7XC-4-4-水平",27,0.7,80]
[5006,2941995,110,-1,5007,"RCP6-HSA7XC-4-4-水平",28,0.3,110]
[5007,6864655,77,5006,-1,"RCP6-HSA7XC-4-4-水平",28,0.7,77]
[5008,2941995,110,-1,5009,"RCP6-HSA7XC-4-4-水平",29,0.3,110]
[5009,6864655,73,5008,-1,"RCP6-HSA7XC-4-4-水平",29,0.7,73]
[5010,2941995,109,-1,5011,"RCP6-HSA7XC-4-4-水平",30,0.3,109]
[5011,6864655,70,5010,-1,"RCP6-HSA7XC-4-4-水平",30,0.7,70]
[5012,2941995,109,-1,-1,"RCP6-HSA7XC-4-4-水平",31,0.3,109]
[5013,2941995,108,-1,-1,"RCP6-HSA7XC-4-4-水平",32,0.3,108]
[5014,2941995,108,-1,-1,"RCP6-HSA7XC-4-4-水平",33,0.3,108]
[5015,2941995,107,-1,-1,"RCP6-HSA7XC-4-4-水平",34,0.3,107]
[5016,2941995,107,-1,-1,"RCP6-HSA7XC-4-4-水平",35,0.3,107]
[5017,2941995,106,-1,-1,"RCP6-HSA7XC-4-4-水平",36,0.3,106]
[5018,2941995,106,-1,-1,"RCP6-HSA7XC-4-4-水平",37,0.3,106]
[5019,2941995,105,-1,-1,"RCP6-HSA7XC-4-4-水平",38,0.3,105]
[5020,2941995,105,-1,-1,"RCP6-HSA7XC-4-4-水平",39,0.3,105]
[5021,2941995,105,-1,-1,"RCP6-HSA7XC-4-4-水平",40,0.3,105]
[5022,2941995,105,-1,-1,"RCP6-HSA7XC-4-4-垂直",8,0.3,105]
[5023,2941995,100,-1,-1,"RCP6-HSA7XC-4-4-垂直",9,0.3,100]
[5024,2941995,95,-1,-1,"RCP6-HSA7XC-4-4-垂直",10,0.3,95]
[5025,2941995,90,-1,-1,"RCP6-HSA7XC-4-4-垂直",11,0.3,90]
[5026,2941995,85,-1,-1,"RCP6-HSA7XC-4-4-垂直",12,0.3,85]
[5027,2941995,80,-1,-1,"RCP6-HSA7XC-4-4-垂直",13,0.3,80]
[5028,2941995,75,-1,-1,"RCP6-HSA7XC-4-4-垂直",14,0.3,75]
[5029,2941995,70,-1,-1,"RCP6-HSA7XC-4-4-垂直",15,0.3,70]
[5030,6864655,210,-1,-1,"RCP6-HSA7XC-8-8-水平",14,0.7,210]
[5031,6864655,203,-1,-1,"RCP6-HSA7XC-8-8-水平",15,0.7,203]
[5032,6864655,197,-1,-1,"RCP6-HSA7XC-8-8-水平",16,0.7,197]
[5033,6864655,190,-1,-1,"RCP6-HSA7XC-8-8-水平",17,0.7,190]
[5034,6864655,184,-1,-1,"RCP6-HSA7XC-8-8-水平",18,0.7,184]
[5035,6864655,178,-1,-1,"RCP6-HSA7XC-8-8-水平",19,0.7,178]
[5036,6864655,171,-1,-1,"RCP6-HSA7XC-8-8-水平",20,0.7,171]
[5037,6864655,165,-1,-1,"RCP6-HSA7XC-8-8-水平",21,0.7,165]
[5038,6864655,159,-1,-1,"RCP6-HSA7XC-8-8-水平",22,0.7,159]
[5039,6864655,152,-1,-1,"RCP6-HSA7XC-8-8-水平",23,0.7,152]
[5040,6864655,146,-1,-1,"RCP6-HSA7XC-8-8-水平",24,0.7,146]
[5041,2941995,210,-1,5042,"RCP6-HSA7XC-8-8-水平",25,0.3,210]
[5042,6864655,140,5041,-1,"RCP6-HSA7XC-8-8-水平",25,0.7,140]
[5043,2941995,205,-1,-1,"RCP6-HSA7XC-8-8-水平",26,0.3,205]
[5044,2941995,200,-1,-1,"RCP6-HSA7XC-8-8-水平",27,0.3,200]
[5045,2941995,196,-1,-1,"RCP6-HSA7XC-8-8-水平",28,0.3,196]
[5046,2941995,191,-1,-1,"RCP6-HSA7XC-8-8-水平",29,0.3,191]
[5047,2941995,186,-1,-1,"RCP6-HSA7XC-8-8-水平",30,0.3,186]
[5048,2941995,182,-1,-1,"RCP6-HSA7XC-8-8-水平",31,0.3,182]
[5049,2941995,177,-1,-1,"RCP6-HSA7XC-8-8-水平",32,0.3,177]
[5050,2941995,172,-1,-1,"RCP6-HSA7XC-8-8-水平",33,0.3,172]
[5051,2941995,168,-1,-1,"RCP6-HSA7XC-8-8-水平",34,0.3,168]
[5052,2941995,163,-1,-1,"RCP6-HSA7XC-8-8-水平",35,0.3,163]
[5053,2941995,158,-1,-1,"RCP6-HSA7XC-8-8-水平",36,0.3,158]
[5054,2941995,154,-1,-1,"RCP6-HSA7XC-8-8-水平",37,0.3,154]
[5055,2941995,149,-1,-1,"RCP6-HSA7XC-8-8-水平",38,0.3,149]
[5056,2941995,144,-1,-1,"RCP6-HSA7XC-8-8-水平",39,0.3,144]
[5057,2941995,140,-1,-1,"RCP6-HSA7XC-8-8-水平",40,0.3,140]
[5058,2941995,210,-1,-1,"RCP6-HSA7XC-8-8-垂直",4,0.3,210]
[5059,2941995,186,-1,-1,"RCP6-HSA7XC-8-8-垂直",5,0.3,186]
[5060,2941995,163,-1,-1,"RCP6-HSA7XC-8-8-垂直",6,0.3,163]
[5061,2941995,140,-1,-1,"RCP6-HSA7XC-8-8-垂直",7,0.3,140]
[5062,2941995,116,-1,-1,"RCP6-HSA7XC-8-8-垂直",8,0.3,116]
[5063,2941995,93,-1,-1,"RCP6-HSA7XC-8-8-垂直",9,0.3,93]
[5064,2941995,70,-1,-1,"RCP6-HSA7XC-8-8-垂直",10,0.3,70]
[5065,2941995,500,-1,5066,"RCP6-HSA7XC-16-16-水平",4,0.3,500]
[5066,6864655,420,5065,-1,"RCP6-HSA7XC-16-16-水平",4,0.7,420]
[5067,2941995,492,-1,5068,"RCP6-HSA7XC-16-16-水平",5,0.3,492]
[5068,6864655,402,5067,-1,"RCP6-HSA7XC-16-16-水平",5,0.7,402]
[5069,2941995,484,-1,5070,"RCP6-HSA7XC-16-16-水平",6,0.3,484]
[5070,6864655,385,5069,-1,"RCP6-HSA7XC-16-16-水平",6,0.7,385]
[5071,2941995,476,-1,5072,"RCP6-HSA7XC-16-16-水平",7,0.3,476]
[5072,6864655,367,5071,-1,"RCP6-HSA7XC-16-16-水平",7,0.7,367]
[5073,2941995,468,-1,5074,"RCP6-HSA7XC-16-16-水平",8,0.3,468]
[5074,6864655,350,5073,-1,"RCP6-HSA7XC-16-16-水平",8,0.7,350]
[5075,2941995,460,-1,5076,"RCP6-HSA7XC-16-16-水平",9,0.3,460]
[5076,6864655,332,5075,-1,"RCP6-HSA7XC-16-16-水平",9,0.7,332]
[5077,2941995,452,-1,5078,"RCP6-HSA7XC-16-16-水平",10,0.3,452]
[5078,6864655,315,5077,-1,"RCP6-HSA7XC-16-16-水平",10,0.7,315]
[5079,2941995,444,-1,5080,"RCP6-HSA7XC-16-16-水平",11,0.3,444]
[5080,6864655,297,5079,-1,"RCP6-HSA7XC-16-16-水平",11,0.7,297]
[5081,2941995,436,-1,5082,"RCP6-HSA7XC-16-16-水平",12,0.3,436]
[5082,6864655,280,5081,-1,"RCP6-HSA7XC-16-16-水平",12,0.7,280]
[5083,2941995,428,-1,5084,"RCP6-HSA7XC-16-16-水平",13,0.3,428]
[5084,6864655,262,5083,-1,"RCP6-HSA7XC-16-16-水平",13,0.7,262]
[5085,2941995,420,-1,5086,"RCP6-HSA7XC-16-16-水平",14,0.3,420]
[5086,6864655,245,5085,-1,"RCP6-HSA7XC-16-16-水平",14,0.7,245]
[5087,2941995,407,-1,5088,"RCP6-HSA7XC-16-16-水平",15,0.3,407]
[5088,6864655,227,5087,-1,"RCP6-HSA7XC-16-16-水平",15,0.7,227]
[5089,2941995,394,-1,5090,"RCP6-HSA7XC-16-16-水平",16,0.3,394]
[5090,6864655,210,5089,-1,"RCP6-HSA7XC-16-16-水平",16,0.7,210]
[5091,2941995,381,-1,5092,"RCP6-HSA7XC-16-16-水平",17,0.3,381]
[5092,6864655,192,5091,-1,"RCP6-HSA7XC-16-16-水平",17,0.7,192]
[5093,2941995,369,-1,5094,"RCP6-HSA7XC-16-16-水平",18,0.3,369]
[5094,6864655,175,5093,-1,"RCP6-HSA7XC-16-16-水平",18,0.7,175]
[5095,2941995,356,-1,5096,"RCP6-HSA7XC-16-16-水平",19,0.3,356]
[5096,6864655,157,5095,-1,"RCP6-HSA7XC-16-16-水平",19,0.7,157]
[5097,2941995,343,-1,5098,"RCP6-HSA7XC-16-16-水平",20,0.3,343]
[5098,6864655,140,5097,-1,"RCP6-HSA7XC-16-16-水平",20,0.7,140]
[5099,2941995,330,-1,-1,"RCP6-HSA7XC-16-16-水平",21,0.3,330]
[5100,2941995,318,-1,-1,"RCP6-HSA7XC-16-16-水平",22,0.3,318]
[5101,2941995,305,-1,-1,"RCP6-HSA7XC-16-16-水平",23,0.3,305]
[5102,2941995,292,-1,-1,"RCP6-HSA7XC-16-16-水平",24,0.3,292]
[5103,2941995,280,-1,-1,"RCP6-HSA7XC-16-16-水平",25,0.3,280]
[5104,2941995,266,-1,-1,"RCP6-HSA7XC-16-16-水平",26,0.3,266]
[5105,2941995,252,-1,-1,"RCP6-HSA7XC-16-16-水平",27,0.3,252]
[5106,2941995,238,-1,-1,"RCP6-HSA7XC-16-16-水平",28,0.3,238]
[5107,2941995,224,-1,-1,"RCP6-HSA7XC-16-16-水平",29,0.3,224]
[5108,2941995,210,-1,-1,"RCP6-HSA7XC-16-16-水平",30,0.3,210]
[5109,2941995,196,-1,-1,"RCP6-HSA7XC-16-16-水平",31,0.3,196]
[5110,2941995,182,-1,-1,"RCP6-HSA7XC-16-16-水平",32,0.3,182]
[5111,2941995,168,-1,-1,"RCP6-HSA7XC-16-16-水平",33,0.3,168]
[5112,2941995,154,-1,-1,"RCP6-HSA7XC-16-16-水平",34,0.3,154]
[5113,2941995,140,-1,-1,"RCP6-HSA7XC-16-16-水平",35,0.3,140]
[5114,2941995,420,-1,-1,"RCP6-HSA7XC-16-16-垂直",1.5,0.3,420]
[5115,2941995,373,-1,-1,"RCP6-HSA7XC-16-16-垂直",2,0.3,373]
[5116,2941995,280,-1,-1,"RCP6-HSA7XC-16-16-垂直",3,0.3,280]
[5117,2941995,210,-1,-1,"RCP6-HSA7XC-16-16-垂直",4,0.3,210]
[5118,2941995,140,-1,-1,"RCP6-HSA7XC-16-16-垂直",5,0.3,140]
[5119,2941995,800,-1,-1,"RCP6-HSA7XC-24-24-水平",1,0.3,800]
[5120,2941995,780,-1,5121,"RCP6-HSA7XC-24-24-水平",2,0.3,780]
[5121,6864655,640,5120,-1,"RCP6-HSA7XC-24-24-水平",2,0.7,640]
[5122,2941995,760,-1,5123,"RCP6-HSA7XC-24-24-水平",3,0.3,760]
[5123,6864655,612,5122,-1,"RCP6-HSA7XC-24-24-水平",3,0.7,612]
[5124,2941995,740,-1,5125,"RCP6-HSA7XC-24-24-水平",4,0.3,740]
[5125,6864655,585,5124,-1,"RCP6-HSA7XC-24-24-水平",4,0.7,585]
[5126,2941995,720,-1,5127,"RCP6-HSA7XC-24-24-水平",5,0.3,720]
[5127,6864655,557,5126,-1,"RCP6-HSA7XC-24-24-水平",5,0.7,557]
[5128,2941995,700,-1,5129,"RCP6-HSA7XC-24-24-水平",6,0.3,700]
[5129,6864655,530,5128,-1,"RCP6-HSA7XC-24-24-水平",6,0.7,530]
[5130,2941995,680,-1,5131,"RCP6-HSA7XC-24-24-水平",7,0.3,680]
[5131,6864655,502,5130,-1,"RCP6-HSA7XC-24-24-水平",7,0.7,502]
[5132,2941995,660,-1,5133,"RCP6-HSA7XC-24-24-水平",8,0.3,660]
[5133,6864655,475,5132,-1,"RCP6-HSA7XC-24-24-水平",8,0.7,475]
[5134,2941995,640,-1,5135,"RCP6-HSA7XC-24-24-水平",9,0.3,640]
[5135,6864655,447,5134,-1,"RCP6-HSA7XC-24-24-水平",9,0.7,447]
[5136,2941995,615,-1,5137,"RCP6-HSA7XC-24-24-水平",10,0.3,615]
[5137,6864655,420,5136,-1,"RCP6-HSA7XC-24-24-水平",10,0.7,420]
[5138,2941995,591,-1,-1,"RCP6-HSA7XC-24-24-水平",11,0.3,591]
[5139,2941995,566,-1,-1,"RCP6-HSA7XC-24-24-水平",12,0.3,566]
[5140,2941995,542,-1,-1,"RCP6-HSA7XC-24-24-水平",13,0.3,542]
[5141,2941995,517,-1,-1,"RCP6-HSA7XC-24-24-水平",14,0.3,517]
[5142,2941995,493,-1,-1,"RCP6-HSA7XC-24-24-水平",15,0.3,493]
[5143,2941995,468,-1,-1,"RCP6-HSA7XC-24-24-水平",16,0.3,468]
[5144,2941995,444,-1,-1,"RCP6-HSA7XC-24-24-水平",17,0.3,444]
[5145,2941995,420,-1,-1,"RCP6-HSA7XC-24-24-水平",18,0.3,420]
[5146,2941995,640,-1,-1,"RCP6-HSA7XC-24-24-垂直",1,0.3,640]
[5147,2941995,420,-1,-1,"RCP6-HSA7XC-24-24-垂直",2,0.3,420]
[5148,2941995,120,-1,-1,"RCP6-HSA7XR-4-4-水平",8,0.3,120]
[5149,2941995,119,-1,-1,"RCP6-HSA7XR-4-4-水平",9,0.3,119]
[5150,2941995,119,-1,-1,"RCP6-HSA7XR-4-4-水平",10,0.3,119]
[5151,2941995,118,-1,-1,"RCP6-HSA7XR-4-4-水平",11,0.3,118]
[5152,2941995,118,-1,-1,"RCP6-HSA7XR-4-4-水平",12,0.3,118]
[5153,2941995,117,-1,-1,"RCP6-HSA7XR-4-4-水平",13,0.3,117]
[5154,2941995,117,-1,-1,"RCP6-HSA7XR-4-4-水平",14,0.3,117]
[5155,2941995,116,-1,-1,"RCP6-HSA7XR-4-4-水平",15,0.3,116]
[5156,2941995,116,-1,-1,"RCP6-HSA7XR-4-4-水平",16,0.3,116]
[5157,2941995,115,-1,-1,"RCP6-HSA7XR-4-4-水平",17,0.3,115]
[5158,2941995,115,-1,-1,"RCP6-HSA7XR-4-4-水平",18,0.3,115]
[5159,2941995,114,-1,-1,"RCP6-HSA7XR-4-4-水平",19,0.3,114]
[5160,2941995,114,-1,5161,"RCP6-HSA7XR-4-4-水平",20,0.3,114]
[5161,6864655,105,5160,-1,"RCP6-HSA7XR-4-4-水平",20,0.7,105]
[5162,2941995,113,-1,5163,"RCP6-HSA7XR-4-4-水平",21,0.3,113]
[5163,6864655,101,5162,-1,"RCP6-HSA7XR-4-4-水平",21,0.7,101]
[5164,2941995,113,-1,5165,"RCP6-HSA7XR-4-4-水平",22,0.3,113]
[5165,6864655,98,5164,-1,"RCP6-HSA7XR-4-4-水平",22,0.7,98]
[5166,2941995,112,-1,5167,"RCP6-HSA7XR-4-4-水平",23,0.3,112]
[5167,6864655,94,5166,-1,"RCP6-HSA7XR-4-4-水平",23,0.7,94]
[5168,2941995,112,-1,5169,"RCP6-HSA7XR-4-4-水平",24,0.3,112]
[5169,6864655,91,5168,-1,"RCP6-HSA7XR-4-4-水平",24,0.7,91]
[5170,2941995,112,-1,5171,"RCP6-HSA7XR-4-4-水平",25,0.3,112]
[5171,6864655,87,5170,-1,"RCP6-HSA7XR-4-4-水平",25,0.7,87]
[5172,2941995,111,-1,5173,"RCP6-HSA7XR-4-4-水平",26,0.3,111]
[5173,6864655,84,5172,-1,"RCP6-HSA7XR-4-4-水平",26,0.7,84]
[5174,2941995,111,-1,5175,"RCP6-HSA7XR-4-4-水平",27,0.3,111]
[5175,6864655,80,5174,-1,"RCP6-HSA7XR-4-4-水平",27,0.7,80]
[5176,2941995,110,-1,5177,"RCP6-HSA7XR-4-4-水平",28,0.3,110]
[5177,6864655,77,5176,-1,"RCP6-HSA7XR-4-4-水平",28,0.7,77]
[5178,2941995,110,-1,5179,"RCP6-HSA7XR-4-4-水平",29,0.3,110]
[5179,6864655,73,5178,-1,"RCP6-HSA7XR-4-4-水平",29,0.7,73]
[5180,2941995,109,-1,5181,"RCP6-HSA7XR-4-4-水平",30,0.3,109]
[5181,6864655,70,5180,-1,"RCP6-HSA7XR-4-4-水平",30,0.7,70]
[5182,2941995,109,-1,-1,"RCP6-HSA7XR-4-4-水平",31,0.3,109]
[5183,2941995,108,-1,-1,"RCP6-HSA7XR-4-4-水平",32,0.3,108]
[5184,2941995,108,-1,-1,"RCP6-HSA7XR-4-4-水平",33,0.3,108]
[5185,2941995,107,-1,-1,"RCP6-HSA7XR-4-4-水平",34,0.3,107]
[5186,2941995,107,-1,-1,"RCP6-HSA7XR-4-4-水平",35,0.3,107]
[5187,2941995,106,-1,-1,"RCP6-HSA7XR-4-4-水平",36,0.3,106]
[5188,2941995,106,-1,-1,"RCP6-HSA7XR-4-4-水平",37,0.3,106]
[5189,2941995,105,-1,-1,"RCP6-HSA7XR-4-4-水平",38,0.3,105]
[5190,2941995,105,-1,-1,"RCP6-HSA7XR-4-4-水平",39,0.3,105]
[5191,2941995,105,-1,-1,"RCP6-HSA7XR-4-4-水平",40,0.3,105]
[5192,2941995,105,-1,-1,"RCP6-HSA7XR-4-4-垂直",8,0.3,105]
[5193,2941995,100,-1,-1,"RCP6-HSA7XR-4-4-垂直",9,0.3,100]
[5194,2941995,95,-1,-1,"RCP6-HSA7XR-4-4-垂直",10,0.3,95]
[5195,2941995,90,-1,-1,"RCP6-HSA7XR-4-4-垂直",11,0.3,90]
[5196,2941995,85,-1,-1,"RCP6-HSA7XR-4-4-垂直",12,0.3,85]
[5197,2941995,80,-1,-1,"RCP6-HSA7XR-4-4-垂直",13,0.3,80]
[5198,2941995,75,-1,-1,"RCP6-HSA7XR-4-4-垂直",14,0.3,75]
[5199,2941995,70,-1,-1,"RCP6-HSA7XR-4-4-垂直",15,0.3,70]
[5200,6864655,210,-1,-1,"RCP6-HSA7XR-8-8-水平",14,0.7,210]
[5201,6864655,203,-1,-1,"RCP6-HSA7XR-8-8-水平",15,0.7,203]
[5202,6864655,197,-1,-1,"RCP6-HSA7XR-8-8-水平",16,0.7,197]
[5203,6864655,190,-1,-1,"RCP6-HSA7XR-8-8-水平",17,0.7,190]
[5204,6864655,184,-1,-1,"RCP6-HSA7XR-8-8-水平",18,0.7,184]
[5205,6864655,178,-1,-1,"RCP6-HSA7XR-8-8-水平",19,0.7,178]
[5206,6864655,171,-1,-1,"RCP6-HSA7XR-8-8-水平",20,0.7,171]
[5207,6864655,165,-1,-1,"RCP6-HSA7XR-8-8-水平",21,0.7,165]
[5208,6864655,159,-1,-1,"RCP6-HSA7XR-8-8-水平",22,0.7,159]
[5209,6864655,152,-1,-1,"RCP6-HSA7XR-8-8-水平",23,0.7,152]
[5210,6864655,146,-1,-1,"RCP6-HSA7XR-8-8-水平",24,0.7,146]
[5211,2941995,210,-1,5212,"RCP6-HSA7XR-8-8-水平",25,0.3,210]
[5212,6864655,140,5211,-1,"RCP6-HSA7XR-8-8-水平",25,0.7,140]
[5213,2941995,205,-1,-1,"RCP6-HSA7XR-8-8-水平",26,0.3,205]
[5214,2941995,200,-1,-1,"RCP6-HSA7XR-8-8-水平",27,0.3,200]
[5215,2941995,196,-1,-1,"RCP6-HSA7XR-8-8-水平",28,0.3,196]
[5216,2941995,191,-1,-1,"RCP6-HSA7XR-8-8-水平",29,0.3,191]
[5217,2941995,186,-1,-1,"RCP6-HSA7XR-8-8-水平",30,0.3,186]
[5218,2941995,182,-1,-1,"RCP6-HSA7XR-8-8-水平",31,0.3,182]
[5219,2941995,177,-1,-1,"RCP6-HSA7XR-8-8-水平",32,0.3,177]
[5220,2941995,172,-1,-1,"RCP6-HSA7XR-8-8-水平",33,0.3,172]
[5221,2941995,168,-1,-1,"RCP6-HSA7XR-8-8-水平",34,0.3,168]
[5222,2941995,163,-1,-1,"RCP6-HSA7XR-8-8-水平",35,0.3,163]
[5223,2941995,158,-1,-1,"RCP6-HSA7XR-8-8-水平",36,0.3,158]
[5224,2941995,154,-1,-1,"RCP6-HSA7XR-8-8-水平",37,0.3,154]
[5225,2941995,149,-1,-1,"RCP6-HSA7XR-8-8-水平",38,0.3,149]
[5226,2941995,144,-1,-1,"RCP6-HSA7XR-8-8-水平",39,0.3,144]
[5227,2941995,140,-1,-1,"RCP6-HSA7XR-8-8-水平",40,0.3,140]
[5228,2941995,210,-1,-1,"RCP6-HSA7XR-8-8-垂直",4,0.3,210]
[5229,2941995,186,-1,-1,"RCP6-HSA7XR-8-8-垂直",5,0.3,186]
[5230,2941995,163,-1,-1,"RCP6-HSA7XR-8-8-垂直",6,0.3,163]
[5231,2941995,140,-1,-1,"RCP6-HSA7XR-8-8-垂直",7,0.3,140]
[5232,2941995,116,-1,-1,"RCP6-HSA7XR-8-8-垂直",8,0.3,116]
[5233,2941995,93,-1,-1,"RCP6-HSA7XR-8-8-垂直",9,0.3,93]
[5234,2941995,70,-1,-1,"RCP6-HSA7XR-8-8-垂直",10,0.3,70]
[5235,2941995,500,-1,5236,"RCP6-HSA7XR-16-16-水平",4,0.3,500]
[5236,6864655,420,5235,-1,"RCP6-HSA7XR-16-16-水平",4,0.7,420]
[5237,2941995,492,-1,5238,"RCP6-HSA7XR-16-16-水平",5,0.3,492]
[5238,6864655,402,5237,-1,"RCP6-HSA7XR-16-16-水平",5,0.7,402]
[5239,2941995,484,-1,5240,"RCP6-HSA7XR-16-16-水平",6,0.3,484]
[5240,6864655,385,5239,-1,"RCP6-HSA7XR-16-16-水平",6,0.7,385]
[5241,2941995,476,-1,5242,"RCP6-HSA7XR-16-16-水平",7,0.3,476]
[5242,6864655,367,5241,-1,"RCP6-HSA7XR-16-16-水平",7,0.7,367]
[5243,2941995,468,-1,5244,"RCP6-HSA7XR-16-16-水平",8,0.3,468]
[5244,6864655,350,5243,-1,"RCP6-HSA7XR-16-16-水平",8,0.7,350]
[5245,2941995,460,-1,5246,"RCP6-HSA7XR-16-16-水平",9,0.3,460]
[5246,6864655,332,5245,-1,"RCP6-HSA7XR-16-16-水平",9,0.7,332]
[5247,2941995,452,-1,5248,"RCP6-HSA7XR-16-16-水平",10,0.3,452]
[5248,6864655,315,5247,-1,"RCP6-HSA7XR-16-16-水平",10,0.7,315]
[5249,2941995,444,-1,5250,"RCP6-HSA7XR-16-16-水平",11,0.3,444]
[5250,6864655,297,5249,-1,"RCP6-HSA7XR-16-16-水平",11,0.7,297]
[5251,2941995,436,-1,5252,"RCP6-HSA7XR-16-16-水平",12,0.3,436]
[5252,6864655,280,5251,-1,"RCP6-HSA7XR-16-16-水平",12,0.7,280]
[5253,2941995,428,-1,5254,"RCP6-HSA7XR-16-16-水平",13,0.3,428]
[5254,6864655,262,5253,-1,"RCP6-HSA7XR-16-16-水平",13,0.7,262]
[5255,2941995,420,-1,5256,"RCP6-HSA7XR-16-16-水平",14,0.3,420]
[5256,6864655,245,5255,-1,"RCP6-HSA7XR-16-16-水平",14,0.7,245]
[5257,2941995,407,-1,5258,"RCP6-HSA7XR-16-16-水平",15,0.3,407]
[5258,6864655,227,5257,-1,"RCP6-HSA7XR-16-16-水平",15,0.7,227]
[5259,2941995,394,-1,5260,"RCP6-HSA7XR-16-16-水平",16,0.3,394]
[5260,6864655,210,5259,-1,"RCP6-HSA7XR-16-16-水平",16,0.7,210]
[5261,2941995,381,-1,5262,"RCP6-HSA7XR-16-16-水平",17,0.3,381]
[5262,6864655,192,5261,-1,"RCP6-HSA7XR-16-16-水平",17,0.7,192]
[5263,2941995,369,-1,5264,"RCP6-HSA7XR-16-16-水平",18,0.3,369]
[5264,6864655,175,5263,-1,"RCP6-HSA7XR-16-16-水平",18,0.7,175]
[5265,2941995,356,-1,5266,"RCP6-HSA7XR-16-16-水平",19,0.3,356]
[5266,6864655,157,5265,-1,"RCP6-HSA7XR-16-16-水平",19,0.7,157]
[5267,2941995,343,-1,5268,"RCP6-HSA7XR-16-16-水平",20,0.3,343]
[5268,6864655,140,5267,-1,"RCP6-HSA7XR-16-16-水平",20,0.7,140]
[5269,2941995,330,-1,-1,"RCP6-HSA7XR-16-16-水平",21,0.3,330]
[5270,2941995,318,-1,-1,"RCP6-HSA7XR-16-16-水平",22,0.3,318]
[5271,2941995,305,-1,-1,"RCP6-HSA7XR-16-16-水平",23,0.3,305]
[5272,2941995,292,-1,-1,"RCP6-HSA7XR-16-16-水平",24,0.3,292]
[5273,2941995,280,-1,-1,"RCP6-HSA7XR-16-16-水平",25,0.3,280]
[5274,2941995,266,-1,-1,"RCP6-HSA7XR-16-16-水平",26,0.3,266]
[5275,2941995,252,-1,-1,"RCP6-HSA7XR-16-16-水平",27,0.3,252]
[5276,2941995,238,-1,-1,"RCP6-HSA7XR-16-16-水平",28,0.3,238]
[5277,2941995,224,-1,-1,"RCP6-HSA7XR-16-16-水平",29,0.3,224]
[5278,2941995,210,-1,-1,"RCP6-HSA7XR-16-16-水平",30,0.3,210]
[5279,2941995,196,-1,-1,"RCP6-HSA7XR-16-16-水平",31,0.3,196]
[5280,2941995,182,-1,-1,"RCP6-HSA7XR-16-16-水平",32,0.3,182]
[5281,2941995,168,-1,-1,"RCP6-HSA7XR-16-16-水平",33,0.3,168]
[5282,2941995,154,-1,-1,"RCP6-HSA7XR-16-16-水平",34,0.3,154]
[5283,2941995,140,-1,-1,"RCP6-HSA7XR-16-16-水平",35,0.3,140]
[5284,2941995,420,-1,-1,"RCP6-HSA7XR-16-16-垂直",1.5,0.3,420]
[5285,2941995,373,-1,-1,"RCP6-HSA7XR-16-16-垂直",2,0.3,373]
[5286,2941995,280,-1,-1,"RCP6-HSA7XR-16-16-垂直",3,0.3,280]
[5287,2941995,210,-1,-1,"RCP6-HSA7XR-16-16-垂直",4,0.3,210]
[5288,2941995,140,-1,-1,"RCP6-HSA7XR-16-16-垂直",5,0.3,140]
[5289,2941995,800,-1,-1,"RCP6-HSA7XR-24-24-水平",1,0.3,800]
[5290,2941995,780,-1,5291,"RCP6-HSA7XR-24-24-水平",2,0.3,780]
[5291,6864655,640,5290,-1,"RCP6-HSA7XR-24-24-水平",2,0.7,640]
[5292,2941995,760,-1,5293,"RCP6-HSA7XR-24-24-水平",3,0.3,760]
[5293,6864655,612,5292,-1,"RCP6-HSA7XR-24-24-水平",3,0.7,612]
[5294,2941995,740,-1,5295,"RCP6-HSA7XR-24-24-水平",4,0.3,740]
[5295,6864655,585,5294,-1,"RCP6-HSA7XR-24-24-水平",4,0.7,585]
[5296,2941995,720,-1,5297,"RCP6-HSA7XR-24-24-水平",5,0.3,720]
[5297,6864655,557,5296,-1,"RCP6-HSA7XR-24-24-水平",5,0.7,557]
[5298,2941995,700,-1,5299,"RCP6-HSA7XR-24-24-水平",6,0.3,700]
[5299,6864655,530,5298,-1,"RCP6-HSA7XR-24-24-水平",6,0.7,530]
[5300,2941995,680,-1,5301,"RCP6-HSA7XR-24-24-水平",7,0.3,680]
[5301,6864655,502,5300,-1,"RCP6-HSA7XR-24-24-水平",7,0.7,502]
[5302,2941995,660,-1,5303,"RCP6-HSA7XR-24-24-水平",8,0.3,660]
[5303,6864655,475,5302,-1,"RCP6-HSA7XR-24-24-水平",8,0.7,475]
[5304,2941995,640,-1,5305,"RCP6-HSA7XR-24-24-水平",9,0.3,640]
[5305,6864655,447,5304,-1,"RCP6-HSA7XR-24-24-水平",9,0.7,447]
[5306,2941995,615,-1,5307,"RCP6-HSA7XR-24-24-水平",10,0.3,615]
[5307,6864655,420,5306,-1,"RCP6-HSA7XR-24-24-水平",10,0.7,420]
[5308,2941995,591,-1,-1,"RCP6-HSA7XR-24-24-水平",11,0.3,591]
[5309,2941995,566,-1,-1,"RCP6-HSA7XR-24-24-水平",12,0.3,566]
[5310,2941995,542,-1,-1,"RCP6-HSA7XR-24-24-水平",13,0.3,542]
[5311,2941995,517,-1,-1,"RCP6-HSA7XR-24-24-水平",14,0.3,517]
[5312,2941995,493,-1,-1,"RCP6-HSA7XR-24-24-水平",15,0.3,493]
[5313,2941995,468,-1,-1,"RCP6-HSA7XR-24-24-水平",16,0.3,468]
[5314,2941995,444,-1,-1,"RCP6-HSA7XR-24-24-水平",17,0.3,444]
[5315,2941995,420,-1,-1,"RCP6-HSA7XR-24-24-水平",18,0.3,420]
[5316,2941995,640,-1,-1,"RCP6-HSA7XR-24-24-垂直",1,0.3,640]
[5317,2941995,420,-1,-1,"RCP6-HSA7XR-24-24-垂直",2,0.3,420,"↑ Ver.4.1 追加"]
[5318,2941995,170,-1,-1,"RCP6CR-HSA6C-3-水平",5,0.3,170,"↓ Ver.4.3 追加"]
[5319,2941995,167,-1,-1,"RCP6CR-HSA6C-3-水平",6,0.3,167]
[5320,2941995,164,-1,-1,"RCP6CR-HSA6C-3-水平",7,0.3,164]
[5321,2941995,161,-1,-1,"RCP6CR-HSA6C-3-水平",8,0.3,161]
[5322,2941995,158,-1,-1,"RCP6CR-HSA6C-3-水平",9,0.3,158]
[5323,2941995,155,-1,-1,"RCP6CR-HSA6C-3-水平",10,0.3,155]
[5324,2941995,152,-1,5325,"RCP6CR-HSA6C-3-水平",11,0.3,152]
[5325,6864655,140,5324,-1,"RCP6CR-HSA6C-3-水平",11,0.7,140]
[5326,2941995,149,-1,5327,"RCP6CR-HSA6C-3-水平",12,0.3,149]
[5327,6864655,130,5326,-1,"RCP6CR-HSA6C-3-水平",12,0.7,130]
[5328,2941995,146,-1,5329,"RCP6CR-HSA6C-3-水平",13,0.3,146]
[5329,6864655,120,5328,-1,"RCP6CR-HSA6C-3-水平",13,0.7,120]
[5330,2941995,143,-1,5331,"RCP6CR-HSA6C-3-水平",14,0.3,143]
[5331,6864655,110,5330,-1,"RCP6CR-HSA6C-3-水平",14,0.7,110]
[5332,2941995,140,-1,5333,"RCP6CR-HSA6C-3-水平",15,0.3,140]
[5333,6864655,106,5332,-1,"RCP6CR-HSA6C-3-水平",15,0.7,106]
[5334,2941995,134,-1,5335,"RCP6CR-HSA6C-3-水平",16,0.3,134]
[5335,6864655,102,5334,-1,"RCP6CR-HSA6C-3-水平",16,0.7,102]
[5336,2941995,128,-1,5337,"RCP6CR-HSA6C-3-水平",17,0.3,128]
[5337,6864655,98,5336,-1,"RCP6CR-HSA6C-3-水平",17,0.7,98]
[5338,2941995,122,-1,5339,"RCP6CR-HSA6C-3-水平",18,0.3,122]
[5339,6864655,95,5338,-1,"RCP6CR-HSA6C-3-水平",18,0.7,95]
[5340,2941995,116,-1,5341,"RCP6CR-HSA6C-3-水平",19,0.3,116]
[5341,6864655,91,5340,-1,"RCP6CR-HSA6C-3-水平",19,0.7,91]
[5342,2941995,110,-1,5343,"RCP6CR-HSA6C-3-水平",20,0.3,110]
[5343,6864655,87,5342,-1,"RCP6CR-HSA6C-3-水平",20,0.7,87]
[5344,2941995,104,-1,5345,"RCP6CR-HSA6C-3-水平",21,0.3,104]
[5345,6864655,83,5344,-1,"RCP6CR-HSA6C-3-水平",21,0.7,83]
[5346,2941995,98,-1,5347,"RCP6CR-HSA6C-3-水平",22,0.3,98]
[5347,6864655,80,5346,-1,"RCP6CR-HSA6C-3-水平",22,0.7,80]
[5348,2941995,92,-1,-1,"RCP6CR-HSA6C-3-水平",23,0.3,92]
[5349,2941995,86,-1,-1,"RCP6CR-HSA6C-3-水平",24,0.3,86]
[5350,2941995,80,-1,-1,"RCP6CR-HSA6C-3-水平",25,0.3,80]
[5351,2941995,170,-1,-1,"RCP6CR-HSA6C-3-垂直",1.5,0.3,170]
[5352,2941995,165,-1,-1,"RCP6CR-HSA6C-3-垂直",2,0.3,165]
[5353,2941995,157,-1,-1,"RCP6CR-HSA6C-3-垂直",3,0.3,157]
[5354,2941995,148,-1,-1,"RCP6CR-HSA6C-3-垂直",4,0.3,148]
[5355,2941995,140,-1,-1,"RCP6CR-HSA6C-3-垂直",5,0.3,140]
[5356,2941995,130,-1,-1,"RCP6CR-HSA6C-3-垂直",6,0.3,130]
[5357,2941995,120,-1,-1,"RCP6CR-HSA6C-3-垂直",7,0.3,120]
[5358,2941995,110,-1,-1,"RCP6CR-HSA6C-3-垂直",8,0.3,110]
[5359,2941995,95,-1,-1,"RCP6CR-HSA6C-3-垂直",9,0.3,95]
[5360,2941995,80,-1,-1,"RCP6CR-HSA6C-3-垂直",10,0.3,80]
[5361,6864655,340,-1,-1,"RCP6CR-HSA6C-6-水平",1,0.7,340]
[5362,6864655,330,-1,-1,"RCP6CR-HSA6C-6-水平",2,0.7,330]
[5363,6864655,320,-1,-1,"RCP6CR-HSA6C-6-水平",3,0.7,320]
[5364,6864655,310,-1,-1,"RCP6CR-HSA6C-6-水平",4,0.7,310]
[5365,6864655,300,-1,-1,"RCP6CR-HSA6C-6-水平",5,0.7,300]
[5366,6864655,290,-1,-1,"RCP6CR-HSA6C-6-水平",6,0.7,290]
[5367,6864655,280,-1,-1,"RCP6CR-HSA6C-6-水平",7,0.7,280]
[5368,2941995,340,-1,5369,"RCP6CR-HSA6C-6-水平",8,0.3,340]
[5369,6864655,271,5368,-1,"RCP6CR-HSA6C-6-水平",8,0.7,271]
[5370,2941995,328,-1,5371,"RCP6CR-HSA6C-6-水平",9,0.3,328]
[5371,6864655,262,5370,-1,"RCP6CR-HSA6C-6-水平",9,0.7,262]
[5372,2941995,316,-1,5373,"RCP6CR-HSA6C-6-水平",10,0.3,316]
[5373,6864655,254,5372,-1,"RCP6CR-HSA6C-6-水平",10,0.7,254]
[5374,2941995,304,-1,5375,"RCP6CR-HSA6C-6-水平",11,0.3,304]
[5375,6864655,245,5374,-1,"RCP6CR-HSA6C-6-水平",11,0.7,245]
[5376,2941995,292,-1,5377,"RCP6CR-HSA6C-6-水平",12,0.3,292]
[5377,6864655,237,5376,-1,"RCP6CR-HSA6C-6-水平",12,0.7,237]
[5378,2941995,280,-1,5379,"RCP6CR-HSA6C-6-水平",13,0.3,280]
[5379,6864655,228,5378,-1,"RCP6CR-HSA6C-6-水平",13,0.7,228]
[5380,2941995,260,-1,5381,"RCP6CR-HSA6C-6-水平",14,0.3,260]
[5381,6864655,220,5380,-1,"RCP6CR-HSA6C-6-水平",14,0.7,220]
[5382,2941995,240,-1,-1,"RCP6CR-HSA6C-6-水平",15,0.3,240]
[5383,2941995,220,-1,-1,"RCP6CR-HSA6C-6-水平",16,0.3,220]
[5384,2941995,205,-1,-1,"RCP6CR-HSA6C-6-水平",17,0.3,205]
[5385,2941995,190,-1,-1,"RCP6CR-HSA6C-6-水平",18,0.3,190]
[5386,2941995,175,-1,-1,"RCP6CR-HSA6C-6-水平",19,0.3,175]
[5387,2941995,160,-1,-1,"RCP6CR-HSA6C-6-水平",20,0.3,160]
[5388,2941995,340,-1,-1,"RCP6CR-HSA6C-6-垂直",1,0.3,340]
[5389,2941995,300,-1,-1,"RCP6CR-HSA6C-6-垂直",2,0.3,300]
[5390,2941995,280,-1,-1,"RCP6CR-HSA6C-6-垂直",2.5,0.3,280]
[5391,2941995,260,-1,-1,"RCP6CR-HSA6C-6-垂直",3,0.3,260]
[5392,2941995,220,-1,-1,"RCP6CR-HSA6C-6-垂直",4,0.3,220]
[5393,2941995,160,-1,-1,"RCP6CR-HSA6C-6-垂直",5,0.3,160]
[5394,6864655,560,-1,-1,"RCP6CR-HSA6C-12-水平",2.5,0.7,560]
[5395,6864655,546,-1,-1,"RCP6CR-HSA6C-12-水平",3,0.7,546]
[5396,2941995,680,-1,5397,"RCP6CR-HSA6C-12-水平",4,0.3,680]
[5397,6864655,520,5396,-1,"RCP6CR-HSA6C-12-水平",4,0.7,520]
[5398,2941995,640,-1,5399,"RCP6CR-HSA6C-12-水平",5,0.3,640]
[5399,6864655,493,5398,-1,"RCP6CR-HSA6C-12-水平",5,0.7,493]
[5400,2941995,600,-1,5401,"RCP6CR-HSA6C-12-水平",6,0.3,600]
[5401,6864655,466,5400,-1,"RCP6CR-HSA6C-12-水平",6,0.7,466]
[5402,2941995,560,-1,5403,"RCP6CR-HSA6C-12-水平",7,0.3,560]
[5403,6864655,440,5402,-1,"RCP6CR-HSA6C-12-水平",7,0.7,440]
[5404,2941995,530,-1,5405,"RCP6CR-HSA6C-12-水平",8,0.3,530]
[5405,6864655,400,5404,-1,"RCP6CR-HSA6C-12-水平",8,0.7,400]
[5406,2941995,500,-1,5407,"RCP6CR-HSA6C-12-水平",9,0.3,500]
[5407,6864655,360,5406,-1,"RCP6CR-HSA6C-12-水平",9,0.7,360]
[5408,2941995,470,-1,5409,"RCP6CR-HSA6C-12-水平",10,0.3,470]
[5409,6864655,320,5408,-1,"RCP6CR-HSA6C-12-水平",10,0.7,320]
[5410,2941995,440,-1,-1,"RCP6CR-HSA6C-12-水平",11,0.3,440]
[5411,2941995,400,-1,-1,"RCP6CR-HSA6C-12-水平",12,0.3,400]
[5412,2941995,360,-1,-1,"RCP6CR-HSA6C-12-水平",13,0.3,360]
[5413,2941995,320,-1,-1,"RCP6CR-HSA6C-12-水平",14,0.3,320]
[5414,2941995,560,-1,-1,"RCP6CR-HSA6C-12-垂直",1,0.3,560]
[5415,2941995,440,-1,-1,"RCP6CR-HSA6C-12-垂直",1.5,0.3,440]
[5416,2941995,320,-1,-1,"RCP6CR-HSA6C-12-垂直",2,0.3,320]
[5417,6864655,800,-1,-1,"RCP6CR-HSA6C-20-水平",1.5,0.7,800]
[5418,6864655,746,-1,-1,"RCP6CR-HSA6C-20-水平",2,0.7,746]
[5419,6864655,640,-1,-1,"RCP6CR-HSA6C-20-水平",3,0.7,640]
[5420,2941995,800,-1,5421,"RCP6CR-HSA6C-20-水平",4,0.3,800]
[5421,6864655,480,5420,-1,"RCP6CR-HSA6C-20-水平",4,0.7,480]
[5422,2941995,720,-1,5423,"RCP6CR-HSA6C-20-水平",5,0.3,720]
[5423,6864655,320,5422,-1,"RCP6CR-HSA6C-20-水平",5,0.7,320]
[5424,2941995,640,-1,-1,"RCP6CR-HSA6C-20-水平",6,0.3,640]
[5425,2941995,560,-1,-1,"RCP6CR-HSA6C-20-水平",7,0.3,560]
[5426,2941995,480,-1,-1,"RCP6CR-HSA6C-20-水平",8,0.3,480]
[5427,2941995,800,-1,-1,"RCP6CR-HSA6C-20-垂直",0.5,0.3,800]
[5428,2941995,640,-1,-1,"RCP6CR-HSA6C-20-垂直",0.75,0.3,640]
[5429,6864655,170,-1,-1,"RCP6CR-HSA6C-W-3-水平",4,0.7,170]
[5430,6864655,162,-1,-1,"RCP6CR-HSA6C-W-3-水平",5,0.7,162]
[5431,6864655,155,-1,-1,"RCP6CR-HSA6C-W-3-水平",6,0.7,155]
[5432,6864655,147,-1,-1,"RCP6CR-HSA6C-W-3-水平",7,0.7,147]
[5433,2941995,170,-1,5434,"RCP6CR-HSA6C-W-3-水平",8,0.3,170]
[5434,6864655,140,5433,-1,"RCP6CR-HSA6C-W-3-水平",8,0.7,140]
[5435,2941995,162,-1,5436,"RCP6CR-HSA6C-W-3-水平",9,0.3,162]
[5436,6864655,132,5435,-1,"RCP6CR-HSA6C-W-3-水平",9,0.7,132]
[5437,2941995,155,-1,5438,"RCP6CR-HSA6C-W-3-水平",10,0.3,155]
[5438,6864655,125,5437,-1,"RCP6CR-HSA6C-W-3-水平",10,0.7,125]
[5439,2941995,147,-1,5440,"RCP6CR-HSA6C-W-3-水平",11,0.3,147]
[5440,6864655,117,5439,-1,"RCP6CR-HSA6C-W-3-水平",11,0.7,117]
[5441,2941995,140,-1,5442,"RCP6CR-HSA6C-W-3-水平",12,0.3,140]
[5442,6864655,110,5441,-1,"RCP6CR-HSA6C-W-3-水平",12,0.7,110]
[5443,2941995,135,-1,5444,"RCP6CR-HSA6C-W-3-水平",13,0.3,135]
[5444,6864655,106,5443,-1,"RCP6CR-HSA6C-W-3-水平",13,0.7,106]
[5445,2941995,130,-1,5446,"RCP6CR-HSA6C-W-3-水平",14,0.3,130]
[5446,6864655,102,5445,-1,"RCP6CR-HSA6C-W-3-水平",14,0.7,102]
[5447,2941995,125,-1,5448,"RCP6CR-HSA6C-W-3-水平",15,0.3,125]
[5448,6864655,98,5447,-1,"RCP6CR-HSA6C-W-3-水平",15,0.7,98]
[5449,2941995,120,-1,5450,"RCP6CR-HSA6C-W-3-水平",16,0.3,120]
[5450,6864655,95,5449,-1,"RCP6CR-HSA6C-W-3-水平",16,0.7,95]
[5451,2941995,115,-1,5452,"RCP6CR-HSA6C-W-3-水平",17,0.3,115]
[5452,6864655,91,5451,-1,"RCP6CR-HSA6C-W-3-水平",17,0.7,91]
[5453,2941995,110,-1,5454,"RCP6CR-HSA6C-W-3-水平",18,0.3,110]
[5454,6864655,87,5453,-1,"RCP6CR-HSA6C-W-3-水平",18,0.7,87]
[5455,2941995,104,-1,5456,"RCP6CR-HSA6C-W-3-水平",19,0.3,104]
[5456,6864655,83,5455,-1,"RCP6CR-HSA6C-W-3-水平",19,0.7,83]
[5457,2941995,98,-1,5458,"RCP6CR-HSA6C-W-3-水平",20,0.3,98]
[5458,6864655,80,5457,-1,"RCP6CR-HSA6C-W-3-水平",20,0.7,80]
[5459,2941995,92,-1,-1,"RCP6CR-HSA6C-W-3-水平",21,0.3,92]
[5460,2941995,86,-1,-1,"RCP6CR-HSA6C-W-3-水平",22,0.3,86]
[5461,2941995,80,-1,-1,"RCP6CR-HSA6C-W-3-水平",23,0.3,80]
[5462,2941995,170,-1,-1,"RCP6CR-HSA6C-W-3-垂直",1,0.3,170]
[5463,2941995,155,-1,-1,"RCP6CR-HSA6C-W-3-垂直",2,0.3,155]
[5464,2941995,140,-1,-1,"RCP6CR-HSA6C-W-3-垂直",3,0.3,140]
[5465,2941995,130,-1,-1,"RCP6CR-HSA6C-W-3-垂直",4,0.3,130]
[5466,2941995,120,-1,-1,"RCP6CR-HSA6C-W-3-垂直",5,0.3,120]
[5467,2941995,110,-1,-1,"RCP6CR-HSA6C-W-3-垂直",6,0.3,110]
[5468,2941995,95,-1,-1,"RCP6CR-HSA6C-W-3-垂直",7,0.3,95]
[5469,2941995,80,-1,-1,"RCP6CR-HSA6C-W-3-垂直",8,0.3,80]
[5470,2941995,340,-1,-1,"RCP6CR-HSA6C-W-6-水平",1,0.3,340]
[5471,2941995,331,-1,-1,"RCP6CR-HSA6C-W-6-水平",2,0.3,331]
[5472,2941995,322,-1,-1,"RCP6CR-HSA6C-W-6-水平",3,0.3,322]
[5473,2941995,314,-1,5474,"RCP6CR-HSA6C-W-6-水平",4,0.3,314]
[5474,6864655,280,5473,-1,"RCP6CR-HSA6C-W-6-水平",4,0.7,280]
[5475,2941995,305,-1,5476,"RCP6CR-HSA6C-W-6-水平",5,0.3,305]
[5476,6864655,272,5475,-1,"RCP6CR-HSA6C-W-6-水平",5,0.7,272]
[5477,2941995,297,-1,5478,"RCP6CR-HSA6C-W-6-水平",6,0.3,297]
[5478,6864655,265,5477,-1,"RCP6CR-HSA6C-W-6-水平",6,0.7,265]
[5479,2941995,288,-1,5480,"RCP6CR-HSA6C-W-6-水平",7,0.3,288]
[5480,6864655,257,5479,-1,"RCP6CR-HSA6C-W-6-水平",7,0.7,257]
[5481,2941995,280,-1,5482,"RCP6CR-HSA6C-W-6-水平",8,0.3,280]
[5482,6864655,250,5481,-1,"RCP6CR-HSA6C-W-6-水平",8,0.7,250]
[5483,2941995,270,-1,5484,"RCP6CR-HSA6C-W-6-水平",9,0.3,270]
[5484,6864655,242,5483,-1,"RCP6CR-HSA6C-W-6-水平",9,0.7,242]
[5485,2941995,260,-1,5486,"RCP6CR-HSA6C-W-6-水平",10,0.3,260]
[5486,6864655,235,5485,-1,"RCP6CR-HSA6C-W-6-水平",10,0.7,235]
[5487,2941995,250,-1,5488,"RCP6CR-HSA6C-W-6-水平",11,0.3,250]
[5488,6864655,227,5487,-1,"RCP6CR-HSA6C-W-6-水平",11,0.7,227]
[5489,2941995,240,-1,5490,"RCP6CR-HSA6C-W-6-水平",12,0.3,240]
[5490,6864655,220,5489,-1,"RCP6CR-HSA6C-W-6-水平",12,0.7,220]
[5491,2941995,230,-1,-1,"RCP6CR-HSA6C-W-6-水平",13,0.3,230]
[5492,2941995,220,-1,-1,"RCP6CR-HSA6C-W-6-水平",14,0.3,220]
[5493,2941995,205,-1,-1,"RCP6CR-HSA6C-W-6-水平",15,0.3,205]
[5494,2941995,190,-1,-1,"RCP6CR-HSA6C-W-6-水平",16,0.3,190]
[5495,2941995,175,-1,-1,"RCP6CR-HSA6C-W-6-水平",17,0.3,175]
[5496,2941995,160,-1,-1,"RCP6CR-HSA6C-W-6-水平",18,0.3,160]
[5497,2941995,220,-1,-1,"RCP6CR-HSA6C-W-6-垂直",2,0.3,220]
[5498,2941995,160,-1,-1,"RCP6CR-HSA6C-W-6-垂直",3,0.3,160]
[5499,2941995,560,-1,-1,"RCP6CR-HSA6C-W-12-水平",2,0.3,560]
[5500,2941995,542,-1,5501,"RCP6CR-HSA6C-W-12-水平",3,0.3,542]
[5501,6864655,440,5500,-1,"RCP6CR-HSA6C-W-12-水平",3,0.7,440]
[5502,2941995,525,-1,5503,"RCP6CR-HSA6C-W-12-水平",4,0.3,525]
[5503,6864655,416,5502,-1,"RCP6CR-HSA6C-W-12-水平",4,0.7,416]
[5504,2941995,508,-1,5505,"RCP6CR-HSA6C-W-12-水平",5,0.3,508]
[5505,6864655,392,5504,-1,"RCP6CR-HSA6C-W-12-水平",5,0.7,392]
[5506,2941995,491,-1,5507,"RCP6CR-HSA6C-W-12-水平",6,0.3,491]
[5507,6864655,368,5506,-1,"RCP6CR-HSA6C-W-12-水平",6,0.7,368]
[5508,2941995,474,-1,5509,"RCP6CR-HSA6C-W-12-水平",7,0.3,474]
[5509,6864655,344,5508,-1,"RCP6CR-HSA6C-W-12-水平",7,0.7,344]
[5510,2941995,457,-1,5511,"RCP6CR-HSA6C-W-12-水平",8,0.3,457]
[5511,6864655,320,5510,-1,"RCP6CR-HSA6C-W-12-水平",8,0.7,320]
[5512,2941995,440,-1,-1,"RCP6CR-HSA6C-W-12-水平",9,0.3,440]
[5513,2941995,400,-1,-1,"RCP6CR-HSA6C-W-12-水平",10,0.3,400]
[5514,2941995,360,-1,-1,"RCP6CR-HSA6C-W-12-水平",11,0.3,360]
[5515,2941995,320,-1,-1,"RCP6CR-HSA6C-W-12-水平",12,0.3,320]
[5516,6864655,140,-1,-1,"RCP6CR-HSA6XC-3-3-水平",4,0.7,140]
[5517,6864655,137,-1,-1,"RCP6CR-HSA6XC-3-3-水平",5,0.7,137]
[5518,6864655,134,-1,-1,"RCP6CR-HSA6XC-3-3-水平",6,0.7,134]
[5519,6864655,131,-1,-1,"RCP6CR-HSA6XC-3-3-水平",7,0.7,131]
[5520,6864655,128,-1,-1,"RCP6CR-HSA6XC-3-3-水平",8,0.7,128]
[5521,6864655,125,-1,-1,"RCP6CR-HSA6XC-3-3-水平",9,0.7,125]
[5522,6864655,122,-1,-1,"RCP6CR-HSA6XC-3-3-水平",10,0.7,122]
[5523,6864655,119,-1,-1,"RCP6CR-HSA6XC-3-3-水平",11,0.7,119]
[5524,6864655,116,-1,-1,"RCP6CR-HSA6XC-3-3-水平",12,0.7,116]
[5525,6864655,113,-1,-1,"RCP6CR-HSA6XC-3-3-水平",13,0.7,113]
[5526,6864655,110,-1,-1,"RCP6CR-HSA6XC-3-3-水平",14,0.7,110]
[5527,2941995,140,-1,5528,"RCP6CR-HSA6XC-3-3-水平",15,0.3,140]
[5528,6864655,106,5527,-1,"RCP6CR-HSA6XC-3-3-水平",15,0.7,106]
[5529,2941995,134,-1,5530,"RCP6CR-HSA6XC-3-3-水平",16,0.3,134]
[5530,6864655,102,5529,-1,"RCP6CR-HSA6XC-3-3-水平",16,0.7,102]
[5531,2941995,128,-1,5532,"RCP6CR-HSA6XC-3-3-水平",17,0.3,128]
[5532,6864655,98,5531,-1,"RCP6CR-HSA6XC-3-3-水平",17,0.7,98]
[5533,2941995,122,-1,5534,"RCP6CR-HSA6XC-3-3-水平",18,0.3,122]
[5534,6864655,95,5533,-1,"RCP6CR-HSA6XC-3-3-水平",18,0.7,95]
[5535,2941995,116,-1,5536,"RCP6CR-HSA6XC-3-3-水平",19,0.3,116]
[5536,6864655,91,5535,-1,"RCP6CR-HSA6XC-3-3-水平",19,0.7,91]
[5537,2941995,110,-1,5538,"RCP6CR-HSA6XC-3-3-水平",20,0.3,110]
[5538,6864655,87,5537,-1,"RCP6CR-HSA6XC-3-3-水平",20,0.7,87]
[5539,2941995,104,-1,5540,"RCP6CR-HSA6XC-3-3-水平",21,0.3,104]
[5540,6864655,83,5539,-1,"RCP6CR-HSA6XC-3-3-水平",21,0.7,83]
[5541,2941995,98,-1,5542,"RCP6CR-HSA6XC-3-3-水平",22,0.3,98]
[5542,6864655,80,5541,-1,"RCP6CR-HSA6XC-3-3-水平",22,0.7,80]
[5543,2941995,92,-1,-1,"RCP6CR-HSA6XC-3-3-水平",23,0.3,92]
[5544,2941995,86,-1,-1,"RCP6CR-HSA6XC-3-3-水平",24,0.3,86]
[5545,2941995,80,-1,-1,"RCP6CR-HSA6XC-3-3-水平",25,0.3,80]
[5546,2941995,140,-1,-1,"RCP6CR-HSA6XC-3-3-垂直",3,0.3,140]
[5547,2941995,134,-1,-1,"RCP6CR-HSA6XC-3-3-垂直",4,0.3,134]
[5548,2941995,128,-1,-1,"RCP6CR-HSA6XC-3-3-垂直",5,0.3,128]
[5549,2941995,122,-1,-1,"RCP6CR-HSA6XC-3-3-垂直",6,0.3,122]
[5550,2941995,116,-1,-1,"RCP6CR-HSA6XC-3-3-垂直",7,0.3,116]
[5551,2941995,110,-1,-1,"RCP6CR-HSA6XC-3-3-垂直",8,0.3,110]
[5552,2941995,95,-1,-1,"RCP6CR-HSA6XC-3-3-垂直",9,0.3,95]
[5553,2941995,80,-1,-1,"RCP6CR-HSA6XC-3-3-垂直",10,0.3,80]
[5554,2941995,340,-1,-1,"RCP6CR-HSA6XC-6-6-水平",1,0.3,340]
[5555,2941995,334,-1,-1,"RCP6CR-HSA6XC-6-6-水平",2,0.3,334]
[5556,2941995,328,-1,5557,"RCP6CR-HSA6XC-6-6-水平",3,0.3,328]
[5557,6864655,280,5556,-1,"RCP6CR-HSA6XC-6-6-水平",3,0.7,280]
[5558,2941995,322,-1,5559,"RCP6CR-HSA6XC-6-6-水平",4,0.3,322]
[5559,6864655,274,5558,-1,"RCP6CR-HSA6XC-6-6-水平",4,0.7,274]
[5560,2941995,316,-1,5561,"RCP6CR-HSA6XC-6-6-水平",5,0.3,316]
[5561,6864655,269,5560,-1,"RCP6CR-HSA6XC-6-6-水平",5,0.7,269]
[5562,2941995,310,-1,5563,"RCP6CR-HSA6XC-6-6-水平",6,0.3,310]
[5563,6864655,263,5562,-1,"RCP6CR-HSA6XC-6-6-水平",6,0.7,263]
[5564,2941995,304,-1,5565,"RCP6CR-HSA6XC-6-6-水平",7,0.3,304]
[5565,6864655,258,5564,-1,"RCP6CR-HSA6XC-6-6-水平",7,0.7,258]
[5566,2941995,298,-1,5567,"RCP6CR-HSA6XC-6-6-水平",8,0.3,298]
[5567,6864655,252,5566,-1,"RCP6CR-HSA6XC-6-6-水平",8,0.7,252]
[5568,2941995,292,-1,5569,"RCP6CR-HSA6XC-6-6-水平",9,0.3,292]
[5569,6864655,247,5568,-1,"RCP6CR-HSA6XC-6-6-水平",9,0.7,247]
[5570,2941995,286,-1,5571,"RCP6CR-HSA6XC-6-6-水平",10,0.3,286]
[5571,6864655,241,5570,-1,"RCP6CR-HSA6XC-6-6-水平",10,0.7,241]
[5572,2941995,280,-1,5573,"RCP6CR-HSA6XC-6-6-水平",11,0.3,280]
[5573,6864655,236,5572,-1,"RCP6CR-HSA6XC-6-6-水平",11,0.7,236]
[5574,2941995,268,-1,5575,"RCP6CR-HSA6XC-6-6-水平",12,0.3,268]
[5575,6864655,230,5574,-1,"RCP6CR-HSA6XC-6-6-水平",12,0.7,230]
[5576,2941995,256,-1,5577,"RCP6CR-HSA6XC-6-6-水平",13,0.3,256]
[5577,6864655,225,5576,-1,"RCP6CR-HSA6XC-6-6-水平",13,0.7,225]
[5578,2941995,244,-1,5579,"RCP6CR-HSA6XC-6-6-水平",14,0.3,244]
[5579,6864655,220,5578,-1,"RCP6CR-HSA6XC-6-6-水平",14,0.7,220]
[5580,2941995,232,-1,-1,"RCP6CR-HSA6XC-6-6-水平",15,0.3,232]
[5581,2941995,220,-1,-1,"RCP6CR-HSA6XC-6-6-水平",16,0.3,220]
[5582,2941995,205,-1,-1,"RCP6CR-HSA6XC-6-6-水平",17,0.3,205]
[5583,2941995,190,-1,-1,"RCP6CR-HSA6XC-6-6-水平",18,0.3,190]
[5584,2941995,175,-1,-1,"RCP6CR-HSA6XC-6-6-水平",19,0.3,175]
[5585,2941995,160,-1,-1,"RCP6CR-HSA6XC-6-6-水平",20,0.3,160]
[5586,2941995,280,-1,-1,"RCP6CR-HSA6XC-6-6-垂直",1.5,0.3,280]
[5587,2941995,268,-1,-1,"RCP6CR-HSA6XC-6-6-垂直",2,0.3,268]
[5588,2941995,244,-1,-1,"RCP6CR-HSA6XC-6-6-垂直",3,0.3,244]
[5589,2941995,220,-1,-1,"RCP6CR-HSA6XC-6-6-垂直",4,0.3,220]
[5590,2941995,160,-1,-1,"RCP6CR-HSA6XC-6-6-垂直",5,0.3,160]
[5591,6864655,560,-1,-1,"RCP6CR-HSA6XC-12-12-水平",0.5,0.7,560]
[5592,6864655,546,-1,-1,"RCP6CR-HSA6XC-12-12-水平",1,0.7,546]
[5593,6864655,520,-1,-1,"RCP6CR-HSA6XC-12-12-水平",2,0.7,520]
[5594,6864655,493,-1,-1,"RCP6CR-HSA6XC-12-12-水平",3,0.7,493]
[5595,2941995,560,-1,5596,"RCP6CR-HSA6XC-12-12-水平",4,0.3,560]
[5596,6864655,466,5595,-1,"RCP6CR-HSA6XC-12-12-水平",4,0.7,466]
[5597,2941995,542,-1,5598,"RCP6CR-HSA6XC-12-12-水平",5,0.3,542]
[5598,6864655,440,5597,-1,"RCP6CR-HSA6XC-12-12-水平",5,0.7,440]
[5599,2941995,525,-1,5600,"RCP6CR-HSA6XC-12-12-水平",6,0.3,525]
[5600,6864655,416,5599,-1,"RCP6CR-HSA6XC-12-12-水平",6,0.7,416]
[5601,2941995,508,-1,5602,"RCP6CR-HSA6XC-12-12-水平",7,0.3,508]
[5602,6864655,392,5601,-1,"RCP6CR-HSA6XC-12-12-水平",7,0.7,392]
[5603,2941995,491,-1,5604,"RCP6CR-HSA6XC-12-12-水平",8,0.3,491]
[5604,6864655,368,5603,-1,"RCP6CR-HSA6XC-12-12-水平",8,0.7,368]
[5605,2941995,474,-1,5606,"RCP6CR-HSA6XC-12-12-水平",9,0.3,474]
[5606,6864655,344,5605,-1,"RCP6CR-HSA6XC-12-12-水平",9,0.7,344]
[5607,2941995,457,-1,5608,"RCP6CR-HSA6XC-12-12-水平",10,0.3,457]
[5608,6864655,320,5607,-1,"RCP6CR-HSA6XC-12-12-水平",10,0.7,320]
[5609,2941995,440,-1,-1,"RCP6CR-HSA6XC-12-12-水平",11,0.3,440]
[5610,2941995,400,-1,-1,"RCP6CR-HSA6XC-12-12-水平",12,0.3,400]
[5611,2941995,360,-1,-1,"RCP6CR-HSA6XC-12-12-水平",13,0.3,360]
[5612,2941995,320,-1,-1,"RCP6CR-HSA6XC-12-12-水平",14,0.3,320]
[5613,2941995,560,-1,-1,"RCP6CR-HSA6XC-12-12-垂直",0.5,0.3,560]
[5614,2941995,500,-1,-1,"RCP6CR-HSA6XC-12-12-垂直",1,0.3,500]
[5615,2941995,440,-1,-1,"RCP6CR-HSA6XC-12-12-垂直",1.5,0.3,440]
[5616,2941995,320,-1,-1,"RCP6CR-HSA6XC-12-12-垂直",2,0.3,320]
[5617,6864655,800,-1,-1,"RCP6CR-HSA6XC-20-20-水平",0.5,0.7,800]
[5618,6864655,768,-1,-1,"RCP6CR-HSA6XC-20-20-水平",1,0.7,768]
[5619,6864655,704,-1,-1,"RCP6CR-HSA6XC-20-20-水平",2,0.7,704]
[5620,2941995,800,-1,5621,"RCP6CR-HSA6XC-20-20-水平",3,0.3,800]
[5621,6864655,640,5620,-1,"RCP6CR-HSA6XC-20-20-水平",3,0.7,640]
[5622,2941995,746,-1,5623,"RCP6CR-HSA6XC-20-20-水平",4,0.3,746]
[5623,6864655,480,5622,-1,"RCP6CR-HSA6XC-20-20-水平",4,0.7,480]
[5624,2941995,693,-1,5625,"RCP6CR-HSA6XC-20-20-水平",5,0.3,693]
[5625,6864655,320,5624,-1,"RCP6CR-HSA6XC-20-20-水平",5,0.7,320]
[5626,2941995,640,-1,-1,"RCP6CR-HSA6XC-20-20-水平",6,0.3,640]
[5627,2941995,560,-1,-1,"RCP6CR-HSA6XC-20-20-水平",7,0.3,560]
[5628,2941995,480,-1,-1,"RCP6CR-HSA6XC-20-20-水平",8,0.3,480]
[5629,2941995,640,-1,-1,"RCP6CR-HSA6XC-20-20-垂直",0.75,0.3,640]
[5630,2941995,140,-1,-1,"RCP6CR-HSA7C-4-水平",3,0.3,140]
[5631,2941995,139,-1,-1,"RCP6CR-HSA7C-4-水平",4,0.3,139]
[5632,2941995,138,-1,-1,"RCP6CR-HSA7C-4-水平",5,0.3,138]
[5633,2941995,137,-1,-1,"RCP6CR-HSA7C-4-水平",6,0.3,137]
[5634,2941995,136,-1,-1,"RCP6CR-HSA7C-4-水平",7,0.3,136]
[5635,2941995,135,-1,-1,"RCP6CR-HSA7C-4-水平",8,0.3,135]
[5636,2941995,134,-1,-1,"RCP6CR-HSA7C-4-水平",9,0.3,134]
[5637,2941995,133,-1,-1,"RCP6CR-HSA7C-4-水平",10,0.3,133]
[5638,2941995,132,-1,-1,"RCP6CR-HSA7C-4-水平",11,0.3,132]
[5639,2941995,131,-1,-1,"RCP6CR-HSA7C-4-水平",12,0.3,131]
[5640,2941995,130,-1,-1,"RCP6CR-HSA7C-4-水平",13,0.3,130]
[5641,2941995,129,-1,-1,"RCP6CR-HSA7C-4-水平",14,0.3,129]
[5642,2941995,128,-1,-1,"RCP6CR-HSA7C-4-水平",15,0.3,128]
[5643,2941995,127,-1,-1,"RCP6CR-HSA7C-4-水平",16,0.3,127]
[5644,2941995,126,-1,-1,"RCP6CR-HSA7C-4-水平",17,0.3,126]
[5645,2941995,125,-1,-1,"RCP6CR-HSA7C-4-水平",18,0.3,125]
[5646,2941995,124,-1,-1,"RCP6CR-HSA7C-4-水平",19,0.3,124]
[5647,2941995,123,-1,-1,"RCP6CR-HSA7C-4-水平",20,0.3,123]
[5648,2941995,122,-1,-1,"RCP6CR-HSA7C-4-水平",21,0.3,122]
[5649,2941995,122,-1,-1,"RCP6CR-HSA7C-4-水平",22,0.3,122]
[5650,2941995,121,-1,-1,"RCP6CR-HSA7C-4-水平",23,0.3,121]
[5651,2941995,120,-1,-1,"RCP6CR-HSA7C-4-水平",24,0.3,120]
[5652,2941995,119,-1,-1,"RCP6CR-HSA7C-4-水平",25,0.3,119]
[5653,2941995,118,-1,-1,"RCP6CR-HSA7C-4-水平",26,0.3,118]
[5654,2941995,117,-1,-1,"RCP6CR-HSA7C-4-水平",27,0.3,117]
[5655,2941995,116,-1,-1,"RCP6CR-HSA7C-4-水平",28,0.3,116]
[5656,2941995,115,-1,-1,"RCP6CR-HSA7C-4-水平",29,0.3,115]
[5657,2941995,114,-1,5658,"RCP6CR-HSA7C-4-水平",30,0.3,114]
[5658,6864655,105,5657,-1,"RCP6CR-HSA7C-4-水平",30,0.7,105]
[5659,2941995,113,-1,-1,"RCP6CR-HSA7C-4-水平",31,0.3,113]
[5660,2941995,112,-1,-1,"RCP6CR-HSA7C-4-水平",32,0.3,112]
[5661,2941995,111,-1,-1,"RCP6CR-HSA7C-4-水平",33,0.3,111]
[5662,2941995,110,-1,-1,"RCP6CR-HSA7C-4-水平",34,0.3,110]
[5663,2941995,109,-1,-1,"RCP6CR-HSA7C-4-水平",35,0.3,109]
[5664,2941995,108,-1,-1,"RCP6CR-HSA7C-4-水平",36,0.3,108]
[5665,2941995,107,-1,-1,"RCP6CR-HSA7C-4-水平",37,0.3,107]
[5666,2941995,106,-1,-1,"RCP6CR-HSA7C-4-水平",38,0.3,106]
[5667,2941995,105,-1,-1,"RCP6CR-HSA7C-4-水平",39,0.3,105]
[5668,2941995,105,-1,-1,"RCP6CR-HSA7C-4-水平",40,0.3,105]
[5669,2941995,105,-1,-1,"RCP6CR-HSA7C-4-垂直",8,0.3,105]
[5670,2941995,100,-1,-1,"RCP6CR-HSA7C-4-垂直",9,0.3,100]
[5671,2941995,95,-1,-1,"RCP6CR-HSA7C-4-垂直",10,0.3,95]
[5672,2941995,90,-1,-1,"RCP6CR-HSA7C-4-垂直",11,0.3,90]
[5673,2941995,85,-1,-1,"RCP6CR-HSA7C-4-垂直",12,0.3,85]
[5674,2941995,80,-1,-1,"RCP6CR-HSA7C-4-垂直",13,0.3,80]
[5675,2941995,75,-1,-1,"RCP6CR-HSA7C-4-垂直",14,0.3,75]
[5676,2941995,70,-1,-1,"RCP6CR-HSA7C-4-垂直",15,0.3,70]
[5677,2941995,280,-1,-1,"RCP6CR-HSA7C-8-水平",10,0.3,280]
[5678,2941995,275,-1,-1,"RCP6CR-HSA7C-8-水平",11,0.3,275]
[5679,2941995,270,-1,-1,"RCP6CR-HSA7C-8-水平",12,0.3,270]
[5680,2941995,266,-1,-1,"RCP6CR-HSA7C-8-水平",13,0.3,266]
[5681,2941995,261,-1,5682,"RCP6CR-HSA7C-8-水平",14,0.3,261]
[5682,6864655,210,5681,-1,"RCP6CR-HSA7C-8-水平",14,0.7,210]
[5683,2941995,256,-1,5684,"RCP6CR-HSA7C-8-水平",15,0.3,256]
[5684,6864655,203,5683,-1,"RCP6CR-HSA7C-8-水平",15,0.7,203]
[5685,2941995,252,-1,5686,"RCP6CR-HSA7C-8-水平",16,0.3,252]
[5686,6864655,197,5685,-1,"RCP6CR-HSA7C-8-水平",16,0.7,197]
[5687,2941995,247,-1,5688,"RCP6CR-HSA7C-8-水平",17,0.3,247]
[5688,6864655,190,5687,-1,"RCP6CR-HSA7C-8-水平",17,0.7,190]
[5689,2941995,242,-1,5690,"RCP6CR-HSA7C-8-水平",18,0.3,242]
[5690,6864655,184,5689,-1,"RCP6CR-HSA7C-8-水平",18,0.7,184]
[5691,2941995,238,-1,5692,"RCP6CR-HSA7C-8-水平",19,0.3,238]
[5692,6864655,178,5691,-1,"RCP6CR-HSA7C-8-水平",19,0.7,178]
[5693,2941995,233,-1,5694,"RCP6CR-HSA7C-8-水平",20,0.3,233]
[5694,6864655,171,5693,-1,"RCP6CR-HSA7C-8-水平",20,0.7,171]
[5695,2941995,228,-1,5696,"RCP6CR-HSA7C-8-水平",21,0.3,228]
[5696,6864655,165,5695,-1,"RCP6CR-HSA7C-8-水平",21,0.7,165]
[5697,2941995,224,-1,5698,"RCP6CR-HSA7C-8-水平",22,0.3,224]
[5698,6864655,159,5697,-1,"RCP6CR-HSA7C-8-水平",22,0.7,159]
[5699,2941995,219,-1,5700,"RCP6CR-HSA7C-8-水平",23,0.3,219]
[5700,6864655,152,5699,-1,"RCP6CR-HSA7C-8-水平",23,0.7,152]
[5701,2941995,214,-1,5702,"RCP6CR-HSA7C-8-水平",24,0.3,214]
[5702,6864655,146,5701,-1,"RCP6CR-HSA7C-8-水平",24,0.7,146]
[5703,2941995,210,-1,5704,"RCP6CR-HSA7C-8-水平",25,0.3,210]
[5704,6864655,140,5703,-1,"RCP6CR-HSA7C-8-水平",25,0.7,140]
[5705,2941995,205,-1,-1,"RCP6CR-HSA7C-8-水平",26,0.3,205]
[5706,2941995,200,-1,-1,"RCP6CR-HSA7C-8-水平",27,0.3,200]
[5707,2941995,196,-1,-1,"RCP6CR-HSA7C-8-水平",28,0.3,196]
[5708,2941995,191,-1,-1,"RCP6CR-HSA7C-8-水平",29,0.3,191]
[5709,2941995,186,-1,-1,"RCP6CR-HSA7C-8-水平",30,0.3,186]
[5710,2941995,182,-1,-1,"RCP6CR-HSA7C-8-水平",31,0.3,182]
[5711,2941995,177,-1,-1,"RCP6CR-HSA7C-8-水平",32,0.3,177]
[5712,2941995,172,-1,-1,"RCP6CR-HSA7C-8-水平",33,0.3,172]
[5713,2941995,168,-1,-1,"RCP6CR-HSA7C-8-水平",34,0.3,168]
[5714,2941995,163,-1,-1,"RCP6CR-HSA7C-8-水平",35,0.3,163]
[5715,2941995,158,-1,-1,"RCP6CR-HSA7C-8-水平",36,0.3,158]
[5716,2941995,154,-1,-1,"RCP6CR-HSA7C-8-水平",37,0.3,154]
[5717,2941995,149,-1,-1,"RCP6CR-HSA7C-8-水平",38,0.3,149]
[5718,2941995,144,-1,-1,"RCP6CR-HSA7C-8-水平",39,0.3,144]
[5719,2941995,140,-1,-1,"RCP6CR-HSA7C-8-水平",40,0.3,140]
[5720,2941995,280,-1,-1,"RCP6CR-HSA7C-8-垂直",1.5,0.3,280]
[5721,2941995,266,-1,-1,"RCP6CR-HSA7C-8-垂直",2,0.3,266]
[5722,2941995,238,-1,-1,"RCP6CR-HSA7C-8-垂直",3,0.3,238]
[5723,2941995,210,-1,-1,"RCP6CR-HSA7C-8-垂直",4,0.3,210]
[5724,2941995,186,-1,-1,"RCP6CR-HSA7C-8-垂直",5,0.3,186]
[5725,2941995,163,-1,-1,"RCP6CR-HSA7C-8-垂直",6,0.3,163]
[5726,2941995,140,-1,-1,"RCP6CR-HSA7C-8-垂直",7,0.3,140]
[5727,2941995,116,-1,-1,"RCP6CR-HSA7C-8-垂直",8,0.3,116]
[5728,2941995,93,-1,-1,"RCP6CR-HSA7C-8-垂直",9,0.3,93]
[5729,2941995,70,-1,-1,"RCP6CR-HSA7C-8-垂直",10,0.3,70]
[5730,6864655,560,-1,-1,"RCP6CR-HSA7C-16-水平",0.5,0.7,560]
[5731,6864655,547,-1,-1,"RCP6CR-HSA7C-16-水平",1,0.7,547]
[5732,6864655,521,-1,-1,"RCP6CR-HSA7C-16-水平",2,0.7,521]
[5733,6864655,496,-1,-1,"RCP6CR-HSA7C-16-水平",3,0.7,496]
[5734,6864655,470,-1,-1,"RCP6CR-HSA7C-16-水平",4,0.7,470]
[5735,6864655,445,-1,-1,"RCP6CR-HSA7C-16-水平",5,0.7,445]
[5736,6864655,420,-1,-1,"RCP6CR-HSA7C-16-水平",6,0.7,420]
[5737,2941995,560,-1,5738,"RCP6CR-HSA7C-16-水平",7,0.3,560]
[5738,6864655,396,5737,-1,"RCP6CR-HSA7C-16-水平",7,0.7,396]
[5739,2941995,542,-1,5740,"RCP6CR-HSA7C-16-水平",8,0.3,542]
[5740,6864655,373,5739,-1,"RCP6CR-HSA7C-16-水平",8,0.7,373]
[5741,2941995,525,-1,5742,"RCP6CR-HSA7C-16-水平",9,0.3,525]
[5742,6864655,350,5741,-1,"RCP6CR-HSA7C-16-水平",9,0.7,350]
[5743,2941995,507,-1,5744,"RCP6CR-HSA7C-16-水平",10,0.3,507]
[5744,6864655,326,5743,-1,"RCP6CR-HSA7C-16-水平",10,0.7,326]
[5745,2941995,490,-1,5746,"RCP6CR-HSA7C-16-水平",11,0.3,490]
[5746,6864655,303,5745,-1,"RCP6CR-HSA7C-16-水平",11,0.7,303]
[5747,2941995,472,-1,5748,"RCP6CR-HSA7C-16-水平",12,0.3,472]
[5748,6864655,280,5747,-1,"RCP6CR-HSA7C-16-水平",12,0.7,280]
[5749,2941995,455,-1,5750,"RCP6CR-HSA7C-16-水平",13,0.3,455]
[5750,6864655,262,5749,-1,"RCP6CR-HSA7C-16-水平",13,0.7,262]
[5751,2941995,437,-1,5752,"RCP6CR-HSA7C-16-水平",14,0.3,437]
[5752,6864655,245,5751,-1,"RCP6CR-HSA7C-16-水平",14,0.7,245]
[5753,2941995,420,-1,5754,"RCP6CR-HSA7C-16-水平",15,0.3,420]
[5754,6864655,227,5753,-1,"RCP6CR-HSA7C-16-水平",15,0.7,227]
[5755,2941995,406,-1,5756,"RCP6CR-HSA7C-16-水平",16,0.3,406]
[5756,6864655,210,5755,-1,"RCP6CR-HSA7C-16-水平",16,0.7,210]
[5757,2941995,392,-1,5758,"RCP6CR-HSA7C-16-水平",17,0.3,392]
[5758,6864655,192,5757,-1,"RCP6CR-HSA7C-16-水平",17,0.7,192]
[5759,2941995,378,-1,5760,"RCP6CR-HSA7C-16-水平",18,0.3,378]
[5760,6864655,175,5759,-1,"RCP6CR-HSA7C-16-水平",18,0.7,175]
[5761,2941995,364,-1,5762,"RCP6CR-HSA7C-16-水平",19,0.3,364]
[5762,6864655,157,5761,-1,"RCP6CR-HSA7C-16-水平",19,0.7,157]
[5763,2941995,350,-1,5764,"RCP6CR-HSA7C-16-水平",20,0.3,350]
[5764,6864655,140,5763,-1,"RCP6CR-HSA7C-16-水平",20,0.7,140]
[5765,2941995,336,-1,-1,"RCP6CR-HSA7C-16-水平",21,0.3,336]
[5766,2941995,322,-1,-1,"RCP6CR-HSA7C-16-水平",22,0.3,322]
[5767,2941995,308,-1,-1,"RCP6CR-HSA7C-16-水平",23,0.3,308]
[5768,2941995,294,-1,-1,"RCP6CR-HSA7C-16-水平",24,0.3,294]
[5769,2941995,280,-1,-1,"RCP6CR-HSA7C-16-水平",25,0.3,280]
[5770,2941995,266,-1,-1,"RCP6CR-HSA7C-16-水平",26,0.3,266]
[5771,2941995,252,-1,-1,"RCP6CR-HSA7C-16-水平",27,0.3,252]
[5772,2941995,238,-1,-1,"RCP6CR-HSA7C-16-水平",28,0.3,238]
[5773,2941995,224,-1,-1,"RCP6CR-HSA7C-16-水平",29,0.3,224]
[5774,2941995,210,-1,-1,"RCP6CR-HSA7C-16-水平",30,0.3,210]
[5775,2941995,196,-1,-1,"RCP6CR-HSA7C-16-水平",31,0.3,196]
[5776,2941995,182,-1,-1,"RCP6CR-HSA7C-16-水平",32,0.3,182]
[5777,2941995,168,-1,-1,"RCP6CR-HSA7C-16-水平",33,0.3,168]
[5778,2941995,154,-1,-1,"RCP6CR-HSA7C-16-水平",34,0.3,154]
[5779,2941995,140,-1,-1,"RCP6CR-HSA7C-16-水平",35,0.3,140]
[5780,2941995,560,-1,-1,"RCP6CR-HSA7C-16-垂直",0.5,0.3,560]
[5781,2941995,490,-1,-1,"RCP6CR-HSA7C-16-垂直",1,0.3,490]
[5782,2941995,420,-1,-1,"RCP6CR-HSA7C-16-垂直",1.5,0.3,420]
[5783,2941995,373,-1,-1,"RCP6CR-HSA7C-16-垂直",2,0.3,373]
[5784,2941995,280,-1,-1,"RCP6CR-HSA7C-16-垂直",3,0.3,280]
[5785,2941995,210,-1,-1,"RCP6CR-HSA7C-16-垂直",4,0.3,210]
[5786,2941995,140,-1,-1,"RCP6CR-HSA7C-16-垂直",5,0.3,140]
[5787,6864655,800,-1,-1,"RCP6CR-HSA7C-24-水平",0.5,0.7,800]
[5788,6864655,746,-1,-1,"RCP6CR-HSA7C-24-水平",1,0.7,746]
[5789,6864655,640,-1,-1,"RCP6CR-HSA7C-24-水平",2,0.7,640]
[5790,6864655,612,-1,-1,"RCP6CR-HSA7C-24-水平",3,0.7,612]
[5791,2941995,800,-1,5792,"RCP6CR-HSA7C-24-水平",4,0.3,800]
[5792,6864655,585,5791,-1,"RCP6CR-HSA7C-24-水平",4,0.7,585]
[5793,2941995,773,-1,5794,"RCP6CR-HSA7C-24-水平",5,0.3,773]
[5794,6864655,557,5793,-1,"RCP6CR-HSA7C-24-水平",5,0.7,557]
[5795,2941995,746,-1,5796,"RCP6CR-HSA7C-24-水平",6,0.3,746]
[5796,6864655,530,5795,-1,"RCP6CR-HSA7C-24-水平",6,0.7,530]
[5797,2941995,720,-1,5798,"RCP6CR-HSA7C-24-水平",7,0.3,720]
[5798,6864655,502,5797,-1,"RCP6CR-HSA7C-24-水平",7,0.7,502]
[5799,2941995,693,-1,5800,"RCP6CR-HSA7C-24-水平",8,0.3,693]
[5800,6864655,475,5799,-1,"RCP6CR-HSA7C-24-水平",8,0.7,475]
[5801,2941995,666,-1,5802,"RCP6CR-HSA7C-24-水平",9,0.3,666]
[5802,6864655,447,5801,-1,"RCP6CR-HSA7C-24-水平",9,0.7,447]
[5803,2941995,640,-1,5804,"RCP6CR-HSA7C-24-水平",10,0.3,640]
[5804,6864655,420,5803,-1,"RCP6CR-HSA7C-24-水平",10,0.7,420]
[5805,2941995,612,-1,-1,"RCP6CR-HSA7C-24-水平",11,0.3,612]
[5806,2941995,585,-1,-1,"RCP6CR-HSA7C-24-水平",12,0.3,585]
[5807,2941995,557,-1,-1,"RCP6CR-HSA7C-24-水平",13,0.3,557]
[5808,2941995,530,-1,-1,"RCP6CR-HSA7C-24-水平",14,0.3,530]
[5809,2941995,502,-1,-1,"RCP6CR-HSA7C-24-水平",15,0.3,502]
[5810,2941995,475,-1,-1,"RCP6CR-HSA7C-24-水平",16,0.3,475]
[5811,2941995,447,-1,-1,"RCP6CR-HSA7C-24-水平",17,0.3,447]
[5812,2941995,420,-1,-1,"RCP6CR-HSA7C-24-水平",18,0.3,420]
[5813,2941995,800,-1,-1,"RCP6CR-HSA7C-24-垂直",0.5,0.3,800]
[5814,2941995,640,-1,-1,"RCP6CR-HSA7C-24-垂直",1,0.3,640]
[5815,2941995,420,-1,-1,"RCP6CR-HSA7C-24-垂直",2,0.3,420]
[5816,2941995,140,-1,-1,"RCP6CR-HSA7C-W-4-水平",6,0.3,140]
[5817,2941995,138,-1,-1,"RCP6CR-HSA7C-W-4-水平",7,0.3,138]
[5818,2941995,137,-1,-1,"RCP6CR-HSA7C-W-4-水平",8,0.3,137]
[5819,2941995,136,-1,-1,"RCP6CR-HSA7C-W-4-水平",9,0.3,136]
[5820,2941995,135,-1,-1,"RCP6CR-HSA7C-W-4-水平",10,0.3,135]
[5821,2941995,134,-1,-1,"RCP6CR-HSA7C-W-4-水平",11,0.3,134]
[5822,2941995,133,-1,-1,"RCP6CR-HSA7C-W-4-水平",12,0.3,133]
[5823,2941995,131,-1,-1,"RCP6CR-HSA7C-W-4-水平",13,0.3,131]
[5824,2941995,130,-1,-1,"RCP6CR-HSA7C-W-4-水平",14,0.3,130]
[5825,2941995,129,-1,-1,"RCP6CR-HSA7C-W-4-水平",15,0.3,129]
[5826,2941995,128,-1,-1,"RCP6CR-HSA7C-W-4-水平",16,0.3,128]
[5827,2941995,127,-1,-1,"RCP6CR-HSA7C-W-4-水平",17,0.3,127]
[5828,2941995,126,-1,-1,"RCP6CR-HSA7C-W-4-水平",18,0.3,126]
[5829,2941995,124,-1,-1,"RCP6CR-HSA7C-W-4-水平",19,0.3,124]
[5830,2941995,123,-1,-1,"RCP6CR-HSA7C-W-4-水平",20,0.3,123]
[5831,2941995,122,-1,-1,"RCP6CR-HSA7C-W-4-水平",21,0.3,122]
[5832,2941995,121,-1,-1,"RCP6CR-HSA7C-W-4-水平",22,0.3,121]
[5833,2941995,120,-1,-1,"RCP6CR-HSA7C-W-4-水平",23,0.3,120]
[5834,2941995,119,-1,-1,"RCP6CR-HSA7C-W-4-水平",24,0.3,119]
[5835,2941995,117,-1,-1,"RCP6CR-HSA7C-W-4-水平",25,0.3,117]
[5836,2941995,116,-1,5837,"RCP6CR-HSA7C-W-4-水平",26,0.3,116]
[5837,6864655,105,5836,-1,"RCP6CR-HSA7C-W-4-水平",26,0.7,105]
[5838,2941995,115,-1,5839,"RCP6CR-HSA7C-W-4-水平",27,0.3,115]
[5839,6864655,87,5838,-1,"RCP6CR-HSA7C-W-4-水平",27,0.7,87]
[5840,2941995,114,-1,5841,"RCP6CR-HSA7C-W-4-水平",28,0.3,114]
[5841,6864655,70,5840,-1,"RCP6CR-HSA7C-W-4-水平",28,0.7,70]
[5842,2941995,113,-1,-1,"RCP6CR-HSA7C-W-4-水平",29,0.3,113]
[5843,2941995,112,-1,-1,"RCP6CR-HSA7C-W-4-水平",30,0.3,112]
[5844,2941995,110,-1,-1,"RCP6CR-HSA7C-W-4-水平",31,0.3,110]
[5845,2941995,109,-1,-1,"RCP6CR-HSA7C-W-4-水平",32,0.3,109]
[5846,2941995,108,-1,-1,"RCP6CR-HSA7C-W-4-水平",33,0.3,108]
[5847,2941995,107,-1,-1,"RCP6CR-HSA7C-W-4-水平",34,0.3,107]
[5848,2941995,106,-1,-1,"RCP6CR-HSA7C-W-4-水平",35,0.3,106]
[5849,2941995,105,-1,-1,"RCP6CR-HSA7C-W-4-水平",36,0.3,105]
[5850,2941995,87,-1,-1,"RCP6CR-HSA7C-W-4-水平",37,0.3,87]
[5851,2941995,70,-1,-1,"RCP6CR-HSA7C-W-4-水平",38,0.3,70]
[5852,2941995,105,-1,-1,"RCP6CR-HSA7C-W-4-垂直",4,0.3,105]
[5853,2941995,101,-1,-1,"RCP6CR-HSA7C-W-4-垂直",5,0.3,101]
[5854,2941995,97,-1,-1,"RCP6CR-HSA7C-W-4-垂直",6,0.3,97]
[5855,2941995,93,-1,-1,"RCP6CR-HSA7C-W-4-垂直",7,0.3,93]
[5856,2941995,89,-1,-1,"RCP6CR-HSA7C-W-4-垂直",8,0.3,89]
[5857,2941995,85,-1,-1,"RCP6CR-HSA7C-W-4-垂直",9,0.3,85]
[5858,2941995,81,-1,-1,"RCP6CR-HSA7C-W-4-垂直",10,0.3,81]
[5859,2941995,77,-1,-1,"RCP6CR-HSA7C-W-4-垂直",11,0.3,77]
[5860,2941995,73,-1,-1,"RCP6CR-HSA7C-W-4-垂直",12,0.3,73]
[5861,2941995,70,-1,-1,"RCP6CR-HSA7C-W-4-垂直",13,0.3,70]
[5862,2941995,280,-1,-1,"RCP6CR-HSA7C-W-8-水平",5,0.3,280]
[5863,2941995,275,-1,-1,"RCP6CR-HSA7C-W-8-水平",6,0.3,275]
[5864,2941995,270,-1,-1,"RCP6CR-HSA7C-W-8-水平",7,0.3,270]
[5865,2941995,266,-1,-1,"RCP6CR-HSA7C-W-8-水平",8,0.3,266]
[5866,2941995,261,-1,-1,"RCP6CR-HSA7C-W-8-水平",9,0.3,261]
[5867,2941995,256,-1,5868,"RCP6CR-HSA7C-W-8-水平",10,0.3,256]
[5868,6864655,210,5867,-1,"RCP6CR-HSA7C-W-8-水平",10,0.7,210]
[5869,2941995,251,-1,5870,"RCP6CR-HSA7C-W-8-水平",11,0.3,251]
[5870,6864655,204,5869,-1,"RCP6CR-HSA7C-W-8-水平",11,0.7,204]
[5871,2941995,247,-1,5872,"RCP6CR-HSA7C-W-8-水平",12,0.3,247]
[5872,6864655,199,5871,-1,"RCP6CR-HSA7C-W-8-水平",12,0.7,199]
[5873,2941995,242,-1,5874,"RCP6CR-HSA7C-W-8-水平",13,0.3,242]
[5874,6864655,193,5873,-1,"RCP6CR-HSA7C-W-8-水平",13,0.7,193]
[5875,2941995,237,-1,5876,"RCP6CR-HSA7C-W-8-水平",14,0.3,237]
[5876,6864655,188,5875,-1,"RCP6CR-HSA7C-W-8-水平",14,0.7,188]
[5877,2941995,233,-1,5878,"RCP6CR-HSA7C-W-8-水平",15,0.3,233]
[5878,6864655,183,5877,-1,"RCP6CR-HSA7C-W-8-水平",15,0.7,183]
[5879,2941995,228,-1,5880,"RCP6CR-HSA7C-W-8-水平",16,0.3,228]
[5880,6864655,177,5879,-1,"RCP6CR-HSA7C-W-8-水平",16,0.7,177]
[5881,2941995,223,-1,5882,"RCP6CR-HSA7C-W-8-水平",17,0.3,223]
[5882,6864655,172,5881,-1,"RCP6CR-HSA7C-W-8-水平",17,0.7,172]
[5883,2941995,219,-1,5884,"RCP6CR-HSA7C-W-8-水平",18,0.3,219]
[5884,6864655,166,5883,-1,"RCP6CR-HSA7C-W-8-水平",18,0.7,166]
[5885,2941995,214,-1,5886,"RCP6CR-HSA7C-W-8-水平",19,0.3,214]
[5886,6864655,161,5885,-1,"RCP6CR-HSA7C-W-8-水平",19,0.7,161]
[5887,2941995,210,-1,5888,"RCP6CR-HSA7C-W-8-水平",20,0.3,210]
[5888,6864655,156,5887,-1,"RCP6CR-HSA7C-W-8-水平",20,0.7,156]
[5889,2941995,206,-1,5890,"RCP6CR-HSA7C-W-8-水平",21,0.3,206]
[5890,6864655,150,5889,-1,"RCP6CR-HSA7C-W-8-水平",21,0.7,150]
[5891,2941995,202,-1,5892,"RCP6CR-HSA7C-W-8-水平",22,0.3,202]
[5892,6864655,145,5891,-1,"RCP6CR-HSA7C-W-8-水平",22,0.7,145]
[5893,2941995,198,-1,5894,"RCP6CR-HSA7C-W-8-水平",23,0.3,198]
[5894,6864655,140,5893,-1,"RCP6CR-HSA7C-W-8-水平",23,0.7,140]
[5895,2941995,194,-1,-1,"RCP6CR-HSA7C-W-8-水平",24,0.3,194]
[5896,2941995,190,-1,-1,"RCP6CR-HSA7C-W-8-水平",25,0.3,190]
[5897,2941995,186,-1,-1,"RCP6CR-HSA7C-W-8-水平",26,0.3,186]
[5898,2941995,182,-1,-1,"RCP6CR-HSA7C-W-8-水平",27,0.3,182]
[5899,2941995,178,-1,-1,"RCP6CR-HSA7C-W-8-水平",28,0.3,178]
[5900,2941995,175,-1,-1,"RCP6CR-HSA7C-W-8-水平",29,0.3,175]
[5901,2941995,171,-1,-1,"RCP6CR-HSA7C-W-8-水平",30,0.3,171]
[5902,2941995,167,-1,-1,"RCP6CR-HSA7C-W-8-水平",31,0.3,167]
[5903,2941995,163,-1,-1,"RCP6CR-HSA7C-W-8-水平",32,0.3,163]
[5904,2941995,159,-1,-1,"RCP6CR-HSA7C-W-8-水平",33,0.3,159]
[5905,2941995,155,-1,-1,"RCP6CR-HSA7C-W-8-水平",34,0.3,155]
[5906,2941995,151,-1,-1,"RCP6CR-HSA7C-W-8-水平",35,0.3,151]
[5907,2941995,147,-1,-1,"RCP6CR-HSA7C-W-8-水平",36,0.3,147]
[5908,2941995,143,-1,-1,"RCP6CR-HSA7C-W-8-水平",37,0.3,143]
[5909,2941995,140,-1,-1,"RCP6CR-HSA7C-W-8-水平",38,0.3,140]
[5910,2941995,210,-1,-1,"RCP6CR-HSA7C-W-8-垂直",2,0.3,210]
[5911,2941995,186,-1,-1,"RCP6CR-HSA7C-W-8-垂直",3,0.3,186]
[5912,2941995,163,-1,-1,"RCP6CR-HSA7C-W-8-垂直",4,0.3,163]
[5913,2941995,140,-1,-1,"RCP6CR-HSA7C-W-8-垂直",5,0.3,140]
[5914,2941995,116,-1,-1,"RCP6CR-HSA7C-W-8-垂直",6,0.3,116]
[5915,2941995,93,-1,-1,"RCP6CR-HSA7C-W-8-垂直",7,0.3,93]
[5916,2941995,70,-1,-1,"RCP6CR-HSA7C-W-8-垂直",8,0.3,70]
[5917,6864655,420,-1,-1,"RCP6CR-HSA7C-W-16-水平",3,0.7,420]
[5918,6864655,400,-1,-1,"RCP6CR-HSA7C-W-16-水平",4,0.7,400]
[5919,6864655,380,-1,-1,"RCP6CR-HSA7C-W-16-水平",5,0.7,380]
[5920,6864655,360,-1,-1,"RCP6CR-HSA7C-W-16-水平",6,0.7,360]
[5921,6864655,340,-1,-1,"RCP6CR-HSA7C-W-16-水平",7,0.7,340]
[5922,6864655,320,-1,-1,"RCP6CR-HSA7C-W-16-水平",8,0.7,320]
[5923,6864655,300,-1,-1,"RCP6CR-HSA7C-W-16-水平",9,0.7,300]
[5924,2941995,420,-1,5925,"RCP6CR-HSA7C-W-16-水平",10,0.3,420]
[5925,6864655,280,5924,-1,"RCP6CR-HSA7C-W-16-水平",10,0.7,280]
[5926,2941995,409,-1,5927,"RCP6CR-HSA7C-W-16-水平",11,0.3,409]
[5927,6864655,262,5926,-1,"RCP6CR-HSA7C-W-16-水平",11,0.7,262]
[5928,2941995,398,-1,5929,"RCP6CR-HSA7C-W-16-水平",12,0.3,398]
[5929,6864655,245,5928,-1,"RCP6CR-HSA7C-W-16-水平",12,0.7,245]
[5930,2941995,387,-1,5931,"RCP6CR-HSA7C-W-16-水平",13,0.3,387]
[5931,6864655,227,5930,-1,"RCP6CR-HSA7C-W-16-水平",13,0.7,227]
[5932,2941995,376,-1,5933,"RCP6CR-HSA7C-W-16-水平",14,0.3,376]
[5933,6864655,210,5932,-1,"RCP6CR-HSA7C-W-16-水平",14,0.7,210]
[5934,2941995,366,-1,5935,"RCP6CR-HSA7C-W-16-水平",15,0.3,366]
[5935,6864655,192,5934,-1,"RCP6CR-HSA7C-W-16-水平",15,0.7,192]
[5936,2941995,355,-1,5937,"RCP6CR-HSA7C-W-16-水平",16,0.3,355]
[5937,6864655,175,5936,-1,"RCP6CR-HSA7C-W-16-水平",16,0.7,175]
[5938,2941995,344,-1,5939,"RCP6CR-HSA7C-W-16-水平",17,0.3,344]
[5939,6864655,157,5938,-1,"RCP6CR-HSA7C-W-16-水平",17,0.7,157]
[5940,2941995,333,-1,5941,"RCP6CR-HSA7C-W-16-水平",18,0.3,333]
[5941,6864655,140,5940,-1,"RCP6CR-HSA7C-W-16-水平",18,0.7,140]
[5942,2941995,323,-1,-1,"RCP6CR-HSA7C-W-16-水平",19,0.3,323]
[5943,2941995,312,-1,-1,"RCP6CR-HSA7C-W-16-水平",20,0.3,312]
[5944,2941995,301,-1,-1,"RCP6CR-HSA7C-W-16-水平",21,0.3,301]
[5945,2941995,290,-1,-1,"RCP6CR-HSA7C-W-16-水平",22,0.3,290]
[5946,2941995,280,-1,-1,"RCP6CR-HSA7C-W-16-水平",23,0.3,280]
[5947,2941995,266,-1,-1,"RCP6CR-HSA7C-W-16-水平",24,0.3,266]
[5948,2941995,252,-1,-1,"RCP6CR-HSA7C-W-16-水平",25,0.3,252]
[5949,2941995,238,-1,-1,"RCP6CR-HSA7C-W-16-水平",26,0.3,238]
[5950,2941995,224,-1,-1,"RCP6CR-HSA7C-W-16-水平",27,0.3,224]
[5951,2941995,210,-1,-1,"RCP6CR-HSA7C-W-16-水平",28,0.3,210]
[5952,2941995,196,-1,-1,"RCP6CR-HSA7C-W-16-水平",29,0.3,196]
[5953,2941995,182,-1,-1,"RCP6CR-HSA7C-W-16-水平",30,0.3,182]
[5954,2941995,168,-1,-1,"RCP6CR-HSA7C-W-16-水平",31,0.3,168]
[5955,2941995,154,-1,-1,"RCP6CR-HSA7C-W-16-水平",32,0.3,154]
[5956,2941995,140,-1,-1,"RCP6CR-HSA7C-W-16-水平",33,0.3,140]
[5957,2941995,120,-1,-1,"RCP6CR-HSA7XC-4-4-水平",8,0.3,120]
[5958,2941995,119,-1,-1,"RCP6CR-HSA7XC-4-4-水平",9,0.3,119]
[5959,2941995,119,-1,-1,"RCP6CR-HSA7XC-4-4-水平",10,0.3,119]
[5960,2941995,118,-1,-1,"RCP6CR-HSA7XC-4-4-水平",11,0.3,118]
[5961,2941995,118,-1,-1,"RCP6CR-HSA7XC-4-4-水平",12,0.3,118]
[5962,2941995,117,-1,-1,"RCP6CR-HSA7XC-4-4-水平",13,0.3,117]
[5963,2941995,117,-1,-1,"RCP6CR-HSA7XC-4-4-水平",14,0.3,117]
[5964,2941995,116,-1,-1,"RCP6CR-HSA7XC-4-4-水平",15,0.3,116]
[5965,2941995,116,-1,-1,"RCP6CR-HSA7XC-4-4-水平",16,0.3,116]
[5966,2941995,115,-1,-1,"RCP6CR-HSA7XC-4-4-水平",17,0.3,115]
[5967,2941995,115,-1,-1,"RCP6CR-HSA7XC-4-4-水平",18,0.3,115]
[5968,2941995,114,-1,-1,"RCP6CR-HSA7XC-4-4-水平",19,0.3,114]
[5969,2941995,114,-1,5970,"RCP6CR-HSA7XC-4-4-水平",20,0.3,114]
[5970,6864655,105,5969,-1,"RCP6CR-HSA7XC-4-4-水平",20,0.7,105]
[5971,2941995,113,-1,5972,"RCP6CR-HSA7XC-4-4-水平",21,0.3,113]
[5972,6864655,101,5971,-1,"RCP6CR-HSA7XC-4-4-水平",21,0.7,101]
[5973,2941995,113,-1,5974,"RCP6CR-HSA7XC-4-4-水平",22,0.3,113]
[5974,6864655,98,5973,-1,"RCP6CR-HSA7XC-4-4-水平",22,0.7,98]
[5975,2941995,112,-1,5976,"RCP6CR-HSA7XC-4-4-水平",23,0.3,112]
[5976,6864655,94,5975,-1,"RCP6CR-HSA7XC-4-4-水平",23,0.7,94]
[5977,2941995,112,-1,5978,"RCP6CR-HSA7XC-4-4-水平",24,0.3,112]
[5978,6864655,91,5977,-1,"RCP6CR-HSA7XC-4-4-水平",24,0.7,91]
[5979,2941995,112,-1,5980,"RCP6CR-HSA7XC-4-4-水平",25,0.3,112]
[5980,6864655,87,5979,-1,"RCP6CR-HSA7XC-4-4-水平",25,0.7,87]
[5981,2941995,111,-1,5982,"RCP6CR-HSA7XC-4-4-水平",26,0.3,111]
[5982,6864655,84,5981,-1,"RCP6CR-HSA7XC-4-4-水平",26,0.7,84]
[5983,2941995,111,-1,5984,"RCP6CR-HSA7XC-4-4-水平",27,0.3,111]
[5984,6864655,80,5983,-1,"RCP6CR-HSA7XC-4-4-水平",27,0.7,80]
[5985,2941995,110,-1,5986,"RCP6CR-HSA7XC-4-4-水平",28,0.3,110]
[5986,6864655,77,5985,-1,"RCP6CR-HSA7XC-4-4-水平",28,0.7,77]
[5987,2941995,110,-1,5988,"RCP6CR-HSA7XC-4-4-水平",29,0.3,110]
[5988,6864655,73,5987,-1,"RCP6CR-HSA7XC-4-4-水平",29,0.7,73]
[5989,2941995,109,-1,5990,"RCP6CR-HSA7XC-4-4-水平",30,0.3,109]
[5990,6864655,70,5989,-1,"RCP6CR-HSA7XC-4-4-水平",30,0.7,70]
[5991,2941995,109,-1,-1,"RCP6CR-HSA7XC-4-4-水平",31,0.3,109]
[5992,2941995,108,-1,-1,"RCP6CR-HSA7XC-4-4-水平",32,0.3,108]
[5993,2941995,108,-1,-1,"RCP6CR-HSA7XC-4-4-水平",33,0.3,108]
[5994,2941995,107,-1,-1,"RCP6CR-HSA7XC-4-4-水平",34,0.3,107]
[5995,2941995,107,-1,-1,"RCP6CR-HSA7XC-4-4-水平",35,0.3,107]
[5996,2941995,106,-1,-1,"RCP6CR-HSA7XC-4-4-水平",36,0.3,106]
[5997,2941995,106,-1,-1,"RCP6CR-HSA7XC-4-4-水平",37,0.3,106]
[5998,2941995,105,-1,-1,"RCP6CR-HSA7XC-4-4-水平",38,0.3,105]
[5999,2941995,105,-1,-1,"RCP6CR-HSA7XC-4-4-水平",39,0.3,105]
[6000,2941995,105,-1,-1,"RCP6CR-HSA7XC-4-4-水平",40,0.3,105]
[6001,2941995,105,-1,-1,"RCP6CR-HSA7XC-4-4-垂直",8,0.3,105]
[6002,2941995,100,-1,-1,"RCP6CR-HSA7XC-4-4-垂直",9,0.3,100]
[6003,2941995,95,-1,-1,"RCP6CR-HSA7XC-4-4-垂直",10,0.3,95]
[6004,2941995,90,-1,-1,"RCP6CR-HSA7XC-4-4-垂直",11,0.3,90]
[6005,2941995,85,-1,-1,"RCP6CR-HSA7XC-4-4-垂直",12,0.3,85]
[6006,2941995,80,-1,-1,"RCP6CR-HSA7XC-4-4-垂直",13,0.3,80]
[6007,2941995,75,-1,-1,"RCP6CR-HSA7XC-4-4-垂直",14,0.3,75]
[6008,2941995,70,-1,-1,"RCP6CR-HSA7XC-4-4-垂直",15,0.3,70]
[6009,6864655,210,-1,-1,"RCP6CR-HSA7XC-8-8-水平",14,0.7,210]
[6010,6864655,203,-1,-1,"RCP6CR-HSA7XC-8-8-水平",15,0.7,203]
[6011,6864655,197,-1,-1,"RCP6CR-HSA7XC-8-8-水平",16,0.7,197]
[6012,6864655,190,-1,-1,"RCP6CR-HSA7XC-8-8-水平",17,0.7,190]
[6013,6864655,184,-1,-1,"RCP6CR-HSA7XC-8-8-水平",18,0.7,184]
[6014,6864655,178,-1,-1,"RCP6CR-HSA7XC-8-8-水平",19,0.7,178]
[6015,6864655,171,-1,-1,"RCP6CR-HSA7XC-8-8-水平",20,0.7,171]
[6016,6864655,165,-1,-1,"RCP6CR-HSA7XC-8-8-水平",21,0.7,165]
[6017,6864655,159,-1,-1,"RCP6CR-HSA7XC-8-8-水平",22,0.7,159]
[6018,6864655,152,-1,-1,"RCP6CR-HSA7XC-8-8-水平",23,0.7,152]
[6019,6864655,146,-1,-1,"RCP6CR-HSA7XC-8-8-水平",24,0.7,146]
[6020,2941995,210,-1,6021,"RCP6CR-HSA7XC-8-8-水平",25,0.3,210]
[6021,6864655,140,6020,-1,"RCP6CR-HSA7XC-8-8-水平",25,0.7,140]
[6022,2941995,205,-1,-1,"RCP6CR-HSA7XC-8-8-水平",26,0.3,205]
[6023,2941995,200,-1,-1,"RCP6CR-HSA7XC-8-8-水平",27,0.3,200]
[6024,2941995,196,-1,-1,"RCP6CR-HSA7XC-8-8-水平",28,0.3,196]
[6025,2941995,191,-1,-1,"RCP6CR-HSA7XC-8-8-水平",29,0.3,191]
[6026,2941995,186,-1,-1,"RCP6CR-HSA7XC-8-8-水平",30,0.3,186]
[6027,2941995,182,-1,-1,"RCP6CR-HSA7XC-8-8-水平",31,0.3,182]
[6028,2941995,177,-1,-1,"RCP6CR-HSA7XC-8-8-水平",32,0.3,177]
[6029,2941995,172,-1,-1,"RCP6CR-HSA7XC-8-8-水平",33,0.3,172]
[6030,2941995,168,-1,-1,"RCP6CR-HSA7XC-8-8-水平",34,0.3,168]
[6031,2941995,163,-1,-1,"RCP6CR-HSA7XC-8-8-水平",35,0.3,163]
[6032,2941995,158,-1,-1,"RCP6CR-HSA7XC-8-8-水平",36,0.3,158]
[6033,2941995,154,-1,-1,"RCP6CR-HSA7XC-8-8-水平",37,0.3,154]
[6034,2941995,149,-1,-1,"RCP6CR-HSA7XC-8-8-水平",38,0.3,149]
[6035,2941995,144,-1,-1,"RCP6CR-HSA7XC-8-8-水平",39,0.3,144]
[6036,2941995,140,-1,-1,"RCP6CR-HSA7XC-8-8-水平",40,0.3,140]
[6037,2941995,210,-1,-1,"RCP6CR-HSA7XC-8-8-垂直",4,0.3,210]
[6038,2941995,186,-1,-1,"RCP6CR-HSA7XC-8-8-垂直",5,0.3,186]
[6039,2941995,163,-1,-1,"RCP6CR-HSA7XC-8-8-垂直",6,0.3,163]
[6040,2941995,140,-1,-1,"RCP6CR-HSA7XC-8-8-垂直",7,0.3,140]
[6041,2941995,116,-1,-1,"RCP6CR-HSA7XC-8-8-垂直",8,0.3,116]
[6042,2941995,93,-1,-1,"RCP6CR-HSA7XC-8-8-垂直",9,0.3,93]
[6043,2941995,70,-1,-1,"RCP6CR-HSA7XC-8-8-垂直",10,0.3,70]
[6044,2941995,500,-1,6045,"RCP6CR-HSA7XC-16-16-水平",4,0.3,500]
[6045,6864655,420,6044,-1,"RCP6CR-HSA7XC-16-16-水平",4,0.7,420]
[6046,2941995,492,-1,6047,"RCP6CR-HSA7XC-16-16-水平",5,0.3,492]
[6047,6864655,402,6046,-1,"RCP6CR-HSA7XC-16-16-水平",5,0.7,402]
[6048,2941995,484,-1,6049,"RCP6CR-HSA7XC-16-16-水平",6,0.3,484]
[6049,6864655,385,6048,-1,"RCP6CR-HSA7XC-16-16-水平",6,0.7,385]
[6050,2941995,476,-1,6051,"RCP6CR-HSA7XC-16-16-水平",7,0.3,476]
[6051,6864655,367,6050,-1,"RCP6CR-HSA7XC-16-16-水平",7,0.7,367]
[6052,2941995,468,-1,6053,"RCP6CR-HSA7XC-16-16-水平",8,0.3,468]
[6053,6864655,350,6052,-1,"RCP6CR-HSA7XC-16-16-水平",8,0.7,350]
[6054,2941995,460,-1,6055,"RCP6CR-HSA7XC-16-16-水平",9,0.3,460]
[6055,6864655,332,6054,-1,"RCP6CR-HSA7XC-16-16-水平",9,0.7,332]
[6056,2941995,452,-1,6057,"RCP6CR-HSA7XC-16-16-水平",10,0.3,452]
[6057,6864655,315,6056,-1,"RCP6CR-HSA7XC-16-16-水平",10,0.7,315]
[6058,2941995,444,-1,6059,"RCP6CR-HSA7XC-16-16-水平",11,0.3,444]
[6059,6864655,297,6058,-1,"RCP6CR-HSA7XC-16-16-水平",11,0.7,297]
[6060,2941995,436,-1,6061,"RCP6CR-HSA7XC-16-16-水平",12,0.3,436]
[6061,6864655,280,6060,-1,"RCP6CR-HSA7XC-16-16-水平",12,0.7,280]
[6062,2941995,428,-1,6063,"RCP6CR-HSA7XC-16-16-水平",13,0.3,428]
[6063,6864655,262,6062,-1,"RCP6CR-HSA7XC-16-16-水平",13,0.7,262]
[6064,2941995,420,-1,6065,"RCP6CR-HSA7XC-16-16-水平",14,0.3,420]
[6065,6864655,245,6064,-1,"RCP6CR-HSA7XC-16-16-水平",14,0.7,245]
[6066,2941995,407,-1,6067,"RCP6CR-HSA7XC-16-16-水平",15,0.3,407]
[6067,6864655,227,6066,-1,"RCP6CR-HSA7XC-16-16-水平",15,0.7,227]
[6068,2941995,394,-1,6069,"RCP6CR-HSA7XC-16-16-水平",16,0.3,394]
[6069,6864655,210,6068,-1,"RCP6CR-HSA7XC-16-16-水平",16,0.7,210]
[6070,2941995,381,-1,6071,"RCP6CR-HSA7XC-16-16-水平",17,0.3,381]
[6071,6864655,192,6070,-1,"RCP6CR-HSA7XC-16-16-水平",17,0.7,192]
[6072,2941995,369,-1,6073,"RCP6CR-HSA7XC-16-16-水平",18,0.3,369]
[6073,6864655,175,6072,-1,"RCP6CR-HSA7XC-16-16-水平",18,0.7,175]
[6074,2941995,356,-1,6075,"RCP6CR-HSA7XC-16-16-水平",19,0.3,356]
[6075,6864655,157,6074,-1,"RCP6CR-HSA7XC-16-16-水平",19,0.7,157]
[6076,2941995,343,-1,6077,"RCP6CR-HSA7XC-16-16-水平",20,0.3,343]
[6077,6864655,140,6076,-1,"RCP6CR-HSA7XC-16-16-水平",20,0.7,140]
[6078,2941995,330,-1,-1,"RCP6CR-HSA7XC-16-16-水平",21,0.3,330]
[6079,2941995,318,-1,-1,"RCP6CR-HSA7XC-16-16-水平",22,0.3,318]
[6080,2941995,305,-1,-1,"RCP6CR-HSA7XC-16-16-水平",23,0.3,305]
[6081,2941995,292,-1,-1,"RCP6CR-HSA7XC-16-16-水平",24,0.3,292]
[6082,2941995,280,-1,-1,"RCP6CR-HSA7XC-16-16-水平",25,0.3,280]
[6083,2941995,266,-1,-1,"RCP6CR-HSA7XC-16-16-水平",26,0.3,266]
[6084,2941995,252,-1,-1,"RCP6CR-HSA7XC-16-16-水平",27,0.3,252]
[6085,2941995,238,-1,-1,"RCP6CR-HSA7XC-16-16-水平",28,0.3,238]
[6086,2941995,224,-1,-1,"RCP6CR-HSA7XC-16-16-水平",29,0.3,224]
[6087,2941995,210,-1,-1,"RCP6CR-HSA7XC-16-16-水平",30,0.3,210]
[6088,2941995,196,-1,-1,"RCP6CR-HSA7XC-16-16-水平",31,0.3,196]
[6089,2941995,182,-1,-1,"RCP6CR-HSA7XC-16-16-水平",32,0.3,182]
[6090,2941995,168,-1,-1,"RCP6CR-HSA7XC-16-16-水平",33,0.3,168]
[6091,2941995,154,-1,-1,"RCP6CR-HSA7XC-16-16-水平",34,0.3,154]
[6092,2941995,140,-1,-1,"RCP6CR-HSA7XC-16-16-水平",35,0.3,140]
[6093,2941995,420,-1,-1,"RCP6CR-HSA7XC-16-16-垂直",1.5,0.3,420]
[6094,2941995,373,-1,-1,"RCP6CR-HSA7XC-16-16-垂直",2,0.3,373]
[6095,2941995,280,-1,-1,"RCP6CR-HSA7XC-16-16-垂直",3,0.3,280]
[6096,2941995,210,-1,-1,"RCP6CR-HSA7XC-16-16-垂直",4,0.3,210]
[6097,2941995,140,-1,-1,"RCP6CR-HSA7XC-16-16-垂直",5,0.3,140]
[6098,2941995,800,-1,-1,"RCP6CR-HSA7XC-24-24-水平",1,0.3,800]
[6099,2941995,780,-1,6100,"RCP6CR-HSA7XC-24-24-水平",2,0.3,780]
[6100,6864655,640,6099,-1,"RCP6CR-HSA7XC-24-24-水平",2,0.7,640]
[6101,2941995,760,-1,6102,"RCP6CR-HSA7XC-24-24-水平",3,0.3,760]
[6102,6864655,612,6101,-1,"RCP6CR-HSA7XC-24-24-水平",3,0.7,612]
[6103,2941995,740,-1,6104,"RCP6CR-HSA7XC-24-24-水平",4,0.3,740]
[6104,6864655,585,6103,-1,"RCP6CR-HSA7XC-24-24-水平",4,0.7,585]
[6105,2941995,720,-1,6106,"RCP6CR-HSA7XC-24-24-水平",5,0.3,720]
[6106,6864655,557,6105,-1,"RCP6CR-HSA7XC-24-24-水平",5,0.7,557]
[6107,2941995,700,-1,6108,"RCP6CR-HSA7XC-24-24-水平",6,0.3,700]
[6108,6864655,530,6107,-1,"RCP6CR-HSA7XC-24-24-水平",6,0.7,530]
[6109,2941995,680,-1,6110,"RCP6CR-HSA7XC-24-24-水平",7,0.3,680]
[6110,6864655,502,6109,-1,"RCP6CR-HSA7XC-24-24-水平",7,0.7,502]
[6111,2941995,660,-1,6112,"RCP6CR-HSA7XC-24-24-水平",8,0.3,660]
[6112,6864655,475,6111,-1,"RCP6CR-HSA7XC-24-24-水平",8,0.7,475]
[6113,2941995,640,-1,6114,"RCP6CR-HSA7XC-24-24-水平",9,0.3,640]
[6114,6864655,447,6113,-1,"RCP6CR-HSA7XC-24-24-水平",9,0.7,447]
[6115,2941995,615,-1,6116,"RCP6CR-HSA7XC-24-24-水平",10,0.3,615]
[6116,6864655,420,6115,-1,"RCP6CR-HSA7XC-24-24-水平",10,0.7,420]
[6117,2941995,591,-1,-1,"RCP6CR-HSA7XC-24-24-水平",11,0.3,591]
[6118,2941995,566,-1,-1,"RCP6CR-HSA7XC-24-24-水平",12,0.3,566]
[6119,2941995,542,-1,-1,"RCP6CR-HSA7XC-24-24-水平",13,0.3,542]
[6120,2941995,517,-1,-1,"RCP6CR-HSA7XC-24-24-水平",14,0.3,517]
[6121,2941995,493,-1,-1,"RCP6CR-HSA7XC-24-24-水平",15,0.3,493]
[6122,2941995,468,-1,-1,"RCP6CR-HSA7XC-24-24-水平",16,0.3,468]
[6123,2941995,444,-1,-1,"RCP6CR-HSA7XC-24-24-水平",17,0.3,444]
[6124,2941995,420,-1,-1,"RCP6CR-HSA7XC-24-24-水平",18,0.3,420]
[6125,2941995,640,-1,-1,"RCP6CR-HSA7XC-24-24-垂直",1,0.3,640]
[6126,2941995,420,-1,-1,"RCP6CR-HSA7XC-24-24-垂直",2,0.3,420,"↑ Ver.4.3 追加"]
["EOF"]

{"sheet":"Message","index":7,"n_rows":82,"n_cols":4,"rows_kept":82,"cut":false,"hidden":true,"merged":[]}
["No.","元データ","リンク用文字体裁込み"]
[1,"Ver4.3",{"$f":"B2","v":"Ver4.3"},"C列書式変更禁止 (リンク先テキストボックスの書式にも影響する為)"]
[2,"节拍计算","节拍计算","C列書式変更禁止 (リンク先テキストボックスの書式にも影響する為)"]
[3,"PULSE-MotorSeries [Normal-Spec]","PULSE-MotorSeries [Normal-Spec]","C列書式変更禁止 (リンク先テキストボックスの書式にも影響する為)"]
[4,"通过速度・加减速度・移动距离自动计算单轴机械手的定位时间（Cycle Time）。\n请在以下<a>～<e>项目中选择使用的产品。　在<1>～<5>中输入需要的运行条件。\n点击「最快运行设定」按钮后，将根据移动距离与负载质量，计算速度与加减速度。","通过速度・加减速度・移动距离自动计算单轴机械手的定位时间（Cycle Time）。\n请在以下<a>～<e>项目中选择使用的产品。　在<1>～<5>中输入需要的运行条件。\n点击「最快运行设定」按钮后，将根据移动距离与负载质量，计算速度与加减速度。"]
[5,"系列","系列"]
[6,"型号","型号"]
[7,"导程","导程"]
[8,"减速比","减速比"]
[9,"行程","行程"]
[10,"安装姿态","安装姿态"]
[11,"移动距离[mm]","移动距离[mm]"]
[12,"移动距离[deg]","移动距离[deg]"]
[13,"负载质量[kg]","负载质量[kg]"]
[14,"负载转动惯量[kgm^2]","负载转动惯量[kgm^2]"]
[15,"速度[㎜/s]","速度[㎜/s]"]
[16,"速度[deg/s]","速度[deg/s]"]
[17,"加速度[G]","加速度[G]"]
[18,"减速度[G]","减速度[G]"]
[19,"定位宽度 [㎜]","定位宽度 [㎜]"]
[20,"定位宽度 [deg]","定位宽度 [deg]"]
[21,"未能正确计算定位时间","未能正确计算定位时间"]
[22,"※代表进入定位宽度范围内需要的时间","※代表进入定位宽度范围内需要的时间"]
[23,"※计算结果供参考。 根据负载情况变化，实际的定位时间也会发生变化。\n※伺服增益调整后，可能比计算结果更快定位完成。\n　 详情请参考控制器的使用说明书。","※计算结果供参考。 根据负载情况变化，实际的定位时间也会发生变化。\n※伺服增益调整后，可能比计算结果更快定位完成。\n　 详情请参考控制器的使用说明书。"]
[24,"●计算结果","●计算结果"]
[25,"定位时间 [s]","定位时间 [s]"]
[26,"最快运行设定",{"$f":"B27","v":"最快运行设定"}]
[27,"选择型号",{"$f":"B28","v":"选择型号"},"VBA用"]
[28,"请从列表选择型号","请从列表选择型号","VBA用"]
[29,"选择导程","选择导程","VBA用"]
[30,"请从列表选择导程","请从列表选择导程","VBA用"]
[31,"选择行程","选择行程","VBA用"]
[32,"请从列表选择行程。如果是特殊行程，请选择大于且最接近驱动轴行程的标准行程。","请从列表选择行程。如果是特殊行程，请选择大于且最接近驱动轴行程的标准行程。","VBA用"]
[33,"运行姿态选择","运行姿态选择","VBA用"]
[34,"请从列表选择运行姿态","请从列表选择运行姿态","VBA用"]
[35,"筛选负载质量","筛选负载质量","VBA用"]
[36,"请从列表选择负载质量","请从列表选择负载质量","VBA用"]
[37,"请再从候选列表中选择","请再从候选列表中选择","VBA用"]
[38,"移动距离为有效行程(","移动距离为有效行程(","VBA用"]
[39,"@UNIT)内","@UNIT)内","VBA用"]
[40,"设定值需大于定位宽度。","设定值需大于定位宽度。","VBA用"]
[41,"负载质量超范围。","负载质量超范围。","VBA用"]
[42,"负载質量的上限为","负载質量的上限为","VBA用"]
[43,"kg。","kg。","VBA用"]
[44,"负载转动惯量超范围。","负载转动惯量超范围。","VBA用"]
[45,"负载转动惯量的上限为","负载转动惯量的上限为","VBA用"]
[46,"kgm^2。","kgm^2。","VBA用"]
[47,"速度超范围。","速度超范围。","VBA用"]
[48,"速度的上限为","速度的上限为","VBA用"]
[49,"@UNIT/s。","@UNIT/s。","VBA用"]
[50,"加速度超范围。","加速度超范围。","VBA用"]
[51,"加速度的上限为","加速度的上限为","VBA用"]
[52,"G。","G。","VBA用"]
[53,"减速度超范围。","减速度超范围。","VBA用"]
[54,"减速度的上限为","减速度的上限为","VBA用"]
[55,"G。","G。","VBA用"]
[56,"相对负载和速度设定，加速度超范围。","相对负载和速度设定，加速度超范围。","VBA用"]
[57,"加速度的上限为","加速度的上限为","VBA用"]
[58,"G。","G。","VBA用"]
[59,"相对负载和速度设定，加速度超范围。","相对负载和速度设定，加速度超范围。","VBA用"]
[60,"减速度的上限为","减速度的上限为","VBA用"]
[61,"G。","G。","VBA用"]
[62,"相对负载的设定，速度超范围。","相对负载的设定，速度超范围。","VBA用"]
[63,"速度的上限为","速度的上限为","VBA用"]
[64,"@UNIT/s。","@UNIT/s。","VBA用"]
[65,"负载超范围。","负载超范围。","VBA用"]
[66,"负载的上限为","负载的上限为","VBA用"]
[67,"。","。","VBA用"]
[68,"定位宽度超范围。","定位宽度超范围。","VBA用"]
[69,"设定值需大于0.001@UNIT，小于移动距离。","设定值需大于0.001@UNIT，小于移动距离。","VBA用"]
[70,"更新速度、加减速度。","更新速度、加减速度。","VBA用"]
[71,"确认吗 ?","确认吗 ?","VBA用"]
[72,"最快运行设定","最快运行设定","VBA用"]
[73,"相对于负载设定","相对于负载设定","VBA用"]
[74,"相对于负载与速度设定","相对于负载与速度设定","VBA用"]
[75,"速度 ","速度 ","VBA用"]
[76,"加速度 ","加速度 ","VBA用"]
[77,"减速度 ","减速度 ","VBA用"]
[78,"超出范围。","超出范围。","VBA用"]
[79,"确认更新运行条件吗？","确认更新运行条件吗？","VBA用"]
[80,"水平","水平"]
[81,"垂直","垂直"]

{"sheet":"LangData","index":8,"n_rows":83,"n_cols":6,"rows_kept":83,"cut":false,"hidden":true,"merged":[]}
["言語設定\n(0=日本語\n/1=英語\n/2=中国語)","No.","日本語","英語","中国"]
[2,1,"Ver4.3","Ver4.3","Ver4.3"]
[null,2,"サイクルタイム計算","Cycle time calculation","节拍计算"]
[null,3,"PULSE-MotorSeries [Normal-Spec]","PULSE-MotorSeries [Normal-Spec]","PULSE-MotorSeries [Normal-Spec]"]
["※VBA用文字列を追加した場合は\n　 VBAにも値セット処理を追加すること",4,"速度・加減速度・移動距離から単軸ロボットの位置決め時間（サイクルタイム）を自動で算出します。\n以下の<a>～<e>で使用する製品を選択してください。　<1>～<5>に使用する時の運転条件を入力してください。\n「最速運転設定」ボタンを押すと、移動距離と搬送負荷から、速度と加減速度を設定します。","The cycle time of single axis robot can be calculated automatically from velocity, acceleration, deceleration and cycle-time.\nPlease select the product used from the following from <a> to <e>. Please input the operation conditions from <1> to <5>. \nBy pushing the \"Fastest operation setting\" button, the velocity, acceleration and deceleration are calculated\nfrom moving distance and transfer load.","通过速度・加减速度・移动距离自动计算单轴机械手的定位时间（Cycle Time）。\n请在以下<a>～<e>项目中选择使用的产品。　在<1>～<5>中输入需要的运行条件。\n点击「最快运行设定」按钮后，将根据移动距离与负载质量，计算速度与加减速度。"]
[null,5,"シリーズ","Series","系列"]
[null,6,"型式","Model","型号"]
[null,7,"リード","Lead","导程"]
[null,8,"減速比","Reduction ratio","减速比"]
[null,9,"ストローク","Stroke","行程"]
[null,10,"設置姿勢","Installation Posture","安装姿态"]
[null,11,"移動距離[㎜]","Moving distance [㎜]","移动距离[mm]"]
[null,12,"移動距離[deg]","Moving distance [deg]","移动距离[deg]"]
[null,13,"搬送質量[kg]","Transfer weight [kg]","负载质量[kg]"]
[null,14,"搬送ｲﾅｰｼｬ[kgm^2]","Inertia moment [kgm^2]","负载转动惯量[kgm^2]"]
[null,15,"速度[㎜/s]","Velocity [㎜/s]","速度[㎜/s]"]
[null,16,"速度[deg/s]","Velocity [deg/s]","速度[deg/s]"]
[null,17,"加速度[G]","Acceleration [G]","加速度[G]"]
[null,18,"減速度[G]","Deceleration [G]","减速度[G]"]
[null,19,"位置決め幅 [㎜]","Positioning distance [㎜]","定位宽度 [㎜]"]
[null,20,"位置決め幅 [deg]","Positioning distance [deg]","定位宽度 [deg]"]
[null,21,"位置決め時間を正しく計算できていません","Cycle-time is not calculating correctly.","未能正确计算定位时间"]
[null,22,"※位置決め幅に到達するまでの時間を表します。","※ Time to reach positioning distance","※代表进入定位宽度范围内需要的时间"]
[null,23,"※計算結果は参考値です。　負荷状況により実際の位置決め時間とは異なる場合があります。\n※ゲイン調整により計算結果より早く位置決めできる場合があります。\n　 詳しくは使用するコントローラーの取扱説明書をご確認ください。","※The calculation result is a reference value.\n　 The actual positioning time may differ depending on the load conditions.\n※By adjusting the servo gain, it may be possible to position faster than the calculation result.\n　 For details, please refer to the instruction manual of the controller to be used. ","※计算结果供参考。 根据负载情况变化，实际的定位时间也会发生变化。\n※伺服增益调整后，可能比计算结果更快定位完成。\n　 详情请参考控制器的使用说明书。"]
[null,24,"●計算結果","●Calculation result","●计算结果"]
[null,25,"位置決め時間 [s]","Cycle-time [s]","定位时间 [s]"]
[null,26,"最速運転設定","Fastest operating setting","最快运行设定"]
[null,27,"型式選択","Select Model","选择型号","VBA用"]
[null,28,"リストから、型式を選択してください。","Select Model from the List.","请从列表选择型号","VBA用"]
[null,29,"リード選択","Select Lead","选择导程","VBA用"]
[null,30,"リストから、リードを選択してください。","Select Lead from the List.","请从列表选择导程","VBA用"]
[null,31,"ストローク選択","Select Stroke","选择行程","VBA用"]
[null,32,"ﾘｽﾄから、ｽﾄﾛｰｸを選択してください。半端ｽﾄﾛｰｸ(ｽﾄﾛｰｸ特殊)の場合、そのｱｸﾁｭｴｰﾀのｽﾄﾛｰｸに最も近い、それ以上の標準ｽﾄﾛｰｸを選択してください。","Select Stroke from the List. In case of odd stroke (special stoke), please select the nearest stroke (longer standard-stroke).","请从列表选择行程。如果是特殊行程，请选择大于且最接近驱动轴行程的标准行程。","VBA用"]
[null,33,"運転姿勢選択","Select installation posture","运行姿态选择","VBA用"]
[null,34,"リストから、運転姿勢を選択してください。","Select installation posture from the List.","请从列表选择运行姿态","VBA用"]
[null,35,"搬送質量絞込み","Specify Transfer Weight","筛选负载质量","VBA用"]
[null,36,"ﾘｽﾄから、搬送質量を選択してください。","Select Transfer Weight from the List.","请从列表选择负载质量","VBA用"]
[null,37,"候補から再度選択して下さい。","Select again from the other options.","请再从候选列表中选择","VBA用"]
[null,38,"移動距離は、有効ストローク(","Moving distance should be within the effective stroke","移动距离为有效行程(","VBA用"]
[null,39,"@UNIT)以内で、","(@UNIT).","@UNIT)内","VBA用"]
[null,40,"位置決め幅より大きい値を設定して下さい。","Please set much longer than the positioning distance.","设定值需大于定位宽度。","VBA用"]
[null,41,"搬送質量が範囲外です。","The transfer weight is out of range.","负载质量超范围。","VBA用"]
[null,42,"搬送質量の上限は","The limit of transfer weight is","负载質量的上限为","VBA用"]
[null,43,"kgです。","kg,","kg。","VBA用"]
[null,44,"搬送ｲﾅｰｼｬが範囲外です。","The inertia moment is out of range.","负载转动惯量超范围。","VBA用"]
[null,45,"搬送ｲﾅｰｼｬの上限は","The limit of inertia moment is","负载转动惯量的上限为","VBA用"]
[null,46,"kgm^2です。","kgm^2.","kgm^2。","VBA用"]
[null,47,"速度が範囲外です。","The velocity is out of range.","速度超范围。","VBA用"]
[null,48,"速度の上限は","The limit of velocity is","速度的上限为","VBA用"]
[null,49,"@UNIT/sです。","@UNIT/s.","@UNIT/s。","VBA用"]
[null,50,"加速度が範囲外です。","The acceleration is out of range.","加速度超范围。","VBA用"]
[null,51,"加速度の上限は","The limit of acceleration is","加速度的上限为","VBA用"]
[null,52,"Gです。","G.","G。","VBA用"]
[null,53,"減速度が範囲外です。","The deceleration is out of range.","减速度超范围。","VBA用"]
[null,54,"減速度の上限は","The limit of deceleration is","减速度的上限为","VBA用"]
[null,55,"Gです。","G.","G。","VBA用"]
[null,56,"搬送負荷と速度の設定に対して加速度が範囲外です。","The acceleration is out of range for the setting of transfer load and velocity.","相对负载和速度设定，加速度超范围。","VBA用"]
[null,57,"加速度の上限は","The limit of acceleration is","加速度的上限为","VBA用"]
[null,58,"Gです。","G.","G。","VBA用"]
[null,59,"搬送負荷と速度の設定に対して減速度が範囲外です。","The deceleration is out of range for the setting of transfer load and velocity.","相对负载和速度设定，加速度超范围。","VBA用"]
[null,60,"減速度の上限は","The limit of deceleration is","减速度的上限为","VBA用"]
[null,61,"Gです。","G.","G。","VBA用"]
[null,62,"搬送負荷の設定に対して速度が範囲外です。","The velocity is out of range for the setting of transfer load.","相对负载的设定，速度超范围。","VBA用"]
[null,63,"速度の上限は","The limit of velocity is","速度的上限为","VBA用"]
[null,64,"@UNIT/sです。","@UNIT/s.","@UNIT/s。","VBA用"]
[null,65,"搬送負荷が範囲外です。","The transfer load is out of range ","负载超范围。","VBA用"]
[null,66,"搬送負荷の上限は","The limit of transfer load is","负载的上限为","VBA用"]
[null,67,"です。","kg.","。","VBA用"]
[null,68,"位置決め幅が範囲外です。","The positioning distance is out of range ","定位宽度超范围。","VBA用"]
[null,69,"0.001@UNIT以上、移動距離未満で設定して下さい。","Please set the poisoning distance longer than 0.001@UNIT and shorter than moving distance.","设定值需大于0.001@UNIT，小于移动距离。","VBA用"]
[null,70,"速度、加減速度を上書きします。","Overwrite the velocity, acceleration and deceleration.","更新速度、加减速度。","VBA用"]
[null,71,"よろしいですか ?","Is it OK to overwrite?","确认吗 ?","VBA用"]
[null,72,"最速運転設定","Setting fastest driving. ","最快运行设定","VBA用"]
[null,73,"搬送負荷の設定に対して、","For setting of the transfer load,","相对于负载设定","VBA用"]
[null,74,"搬送負荷と速度の設定に対して","For setting of the transfer load and velocity,","相对于负载与速度设定","VBA用"]
[null,75,"速度 ","Velocity","速度 ","VBA用"]
[null,76,"加速度 ","Acceleration","加速度 ","VBA用"]
[null,77,"減速度 ","deceleration ","减速度 ","VBA用"]
[null,78,"が、範囲外です。","is out of range.","超出范围。","VBA用"]
[null,79,"運転条件を上書きして、よろしいですか？","Is it Ok to overwrite the operating conditions?","确认更新运行条件吗？","VBA用"]
[null,80,"水平","Horizontal","水平"]
[null,81,"垂直","Vertical","垂直"]
[null,"EOF"]

{"sheet":"LangData_Model","index":9,"n_rows":157,"n_cols":5,"rows_kept":157,"cut":false,"hidden":true,"merged":[]}
["No.","日本語","英語","中国"]
[1,"RCP4-SA5C","RCP4-SA5C","RCP4-SA5C"]
[2,"RCP4-SA6C","RCP4-SA6C","RCP4-SA6C"]
[3,"RCP4-SA7C","RCP4-SA7C","RCP4-SA7C"]
[4,"RCP4-RA5C","RCP4-RA5C","RCP4-RA5C"]
[5,"RCP4-RA6C","RCP4-RA6C","RCP4-RA6C"]
[6,"ERC3-SA5","ERC3-SA5","ERC3-SA5"]
[7,"ERC3-SA7","ERC3-SA7","ERC3-SA7"]
[8,"ERC3-RA4","ERC3-RA4","ERC3-RA4"]
[9,"ERC3-RA6","ERC3-RA6","ERC3-RA6"]
[10,"RCP4-SA5R","RCP4-SA5R","RCP4-SA5R"]
[11,"RCP4-SA6R","RCP4-SA6R","RCP4-SA6R"]
[12,"RCP4-SA7R","RCP4-SA7R","RCP4-SA7R"]
[13,"RCP4-RA5R","RCP4-RA5R","RCP4-RA5R"]
[14,"RCP4-RA6R","RCP4-RA6R","RCP4-RA6R"]
[15,"ERC3D-SA5","ERC3D-SA5","ERC3D-SA5"]
[16,"ERC3D-SA7","ERC3D-SA7","ERC3D-SA7"]
[17,"ERC3CR-SA5","ERC3CR-SA5","ERC3CR-SA5"]
[18,"ERC3CR-SA7","ERC3CR-SA7","ERC3CR-SA7"]
[19,"RCP5-SA4C","RCP5-SA4C","RCP5-SA4C"]
[20,"RCP5-SA6C","RCP5-SA6C","RCP5-SA6C"]
[21,"RCP5-SA7C","RCP5-SA7C","RCP5-SA7C"]
[22,"RCP5-RA4C","RCP5-RA4C","RCP5-RA4C"]
[23,"RCP5-RA6C","RCP5-RA6C","RCP5-RA6C"]
[24,"RCP5-RA7C","RCP5-RA7C","RCP5-RA7C"]
[25,"RCP4W-RA6C","RCP4W-RA6C","RCP4W-RA6C"]
[26,"RCP4W-RA6C(高推力)","RCP4W-RA6C(High thrust)","RCP4W-RA6C(高推力)"]
[27,"RCP4W-RA7C","RCP4W-RA7C","RCP4W-RA7C"]
[28,"RCP4W-RA7C(高推力)","RCP4W-RA7C(High thrust)","RCP4W-RA7C(高推力)"]
[29,"RCP4-SA3C","RCP4-SA3C","RCP4-SA3C"]
[30,"RCP4-RA3C","RCP4-RA3C","RCP4-RA3C"]
[31,"RCP5-RA8C","RCP5-RA8C","RCP5-RA8C"]
[32,"RCP5-RA10C","RCP5-RA10C","RCP5-RA10C"]
[33,"RCP5-RA8R","RCP5-RA8R","RCP5-RA8R"]
[34,"RCP5-RA10R","RCP5-RA10R","RCP5-RA10R"]
[35,"RCP4-SA3R","RCP4-SA3R","RCP4-SA3R"]
[36,"RCP4-RA3R","RCP4-RA3R","RCP4-RA3R"]
[37,"RCP4CR-SA3C","RCP4CR-SA3C","RCP4CR-SA3C"]
[38,"RCP4CR-SA5C","RCP4CR-SA5C","RCP4CR-SA5C"]
[39,"RCP4CR-SA6C","RCP4CR-SA6C","RCP4CR-SA6C"]
[40,"RCP4CR-SA7C","RCP4CR-SA7C","RCP4CR-SA7C"]
[41,"RCP5CR-SA4C","RCP5CR-SA4C","RCP5CR-SA4C"]
[42,"RCP5CR-SA6C","RCP5CR-SA6C","RCP5CR-SA6C"]
[43,"RCP5CR-SA7C","RCP5CR-SA7C","RCP5CR-SA7C"]
[44,"RCP5-BA4","RCP5-BA4","RCP5-BA4"]
[45,"RCP5-BA6","RCP5-BA6","RCP5-BA6"]
[46,"RCP5-BA7","RCP5-BA7","RCP5-BA7"]
[47,"RCP5-SA4R","RCP5-SA4R","RCP5-SA4R"]
[48,"RCP5-SA6R","RCP5-SA6R","RCP5-SA6R"]
[49,"RCP5-SA7R","RCP5-SA7R","RCP5-SA7R"]
[50,"RCP5-RA4R","RCP5-RA4R","RCP5-RA4R"]
[51,"RCP5-RA6R","RCP5-RA6R","RCP5-RA6R"]
[52,"RCP5-RA7R","RCP5-RA7R","RCP5-RA7R"]
[53,"RCP5W-RA6C","RCP5W-RA6C","RCP5W-RA6C"]
[54,"RCP5W-RA6C(高推力)","RCP5W-RA6C(High thrust)","RCP5W-RA6C(高推力)"]
[55,"RCP5W-RA7C","RCP5W-RA7C","RCP5W-RA7C"]
[56,"RCP5W-RA7C(高推力)","RCP5W-RA7C(High thrust)","RCP5W-RA7C(高推力)"]
[57,"RCP4-RA6C(高推力)","RCP4-RA6C(High thrust)","RCP4-RA6C(高推力)"]
[58,"RCP5W-RA8C","RCP5W-RA8C","RCP5W-RA8C"]
[59,"RCP5W-RA10C","RCP5W-RA10C","RCP5W-RA10C"]
[60,"RCP6-SA8C","RCP6-SA8C","RCP6-SA8C"]
[61,"RCP6-SA8R","RCP6-SA8R","RCP6-SA8R"]
[62,"RCP6-WSA16C","RCP6-WSA16C","RCP6-WSA16C"]
[63,"RCP6-WSA16R","RCP6-WSA16R","RCP6-WSA16R"]
[64,"RCP6-RA8C","RCP6-RA8C","RCP6-RA8C"]
[65,"RCP6-RA8R","RCP6-RA8R","RCP6-RA8R"]
[66,"RCP6-RRA8C","RCP6-RRA8C","RCP6-RRA8C"]
[67,"RCP6-RRA8R","RCP6-RRA8R","RCP6-RRA8R"]
[68,"RCP6-WRA16C","RCP6-WRA16C","RCP6-WRA16C"]
[69,"RCP6-WRA16R","RCP6-WRA16R","RCP6-WRA16R"]
[70,"RCP6-SA4C","RCP6-SA4C","RCP6-SA4C"]
[71,"RCP6-SA6C","RCP6-SA6C","RCP6-SA6C"]
[72,"RCP6-SA7C","RCP6-SA7C","RCP6-SA7C"]
[73,"RCP6-SA4R","RCP6-SA4R","RCP6-SA4R"]
[74,"RCP6-SA6R","RCP6-SA6R","RCP6-SA6R"]
[75,"RCP6-SA7R","RCP6-SA7R","RCP6-SA7R"]
[76,"RCP6-WSA10C","RCP6-WSA10C","RCP6-WSA10C"]
[77,"RCP6-WSA12C","RCP6-WSA12C","RCP6-WSA12C"]
[78,"RCP6-WSA14C","RCP6-WSA14C","RCP6-WSA14C"]
[79,"RCP6-WSA10R","RCP6-WSA10R","RCP6-WSA10R"]
[80,"RCP6-WSA12R","RCP6-WSA12R","RCP6-WSA12R"]
[81,"RCP6-WSA14R","RCP6-WSA14R","RCP6-WSA14R"]
[82,"RCP6-RA4C","RCP6-RA4C","RCP6-RA4C"]
[83,"RCP6-RA6C","RCP6-RA6C","RCP6-RA6C"]
[84,"RCP6-RA7C","RCP6-RA7C","RCP6-RA7C"]
[85,"RCP6-RA4R","RCP6-RA4R","RCP6-RA4R"]
[86,"RCP6-RA6R","RCP6-RA6R","RCP6-RA6R"]
[87,"RCP6-RA7R","RCP6-RA7R","RCP6-RA7R"]
[88,"RCP6-RRA4C","RCP6-RRA4C","RCP6-RRA4C"]
[89,"RCP6-RRA6C","RCP6-RRA6C","RCP6-RRA6C"]
[90,"RCP6-RRA7C","RCP6-RRA7C","RCP6-RRA7C"]
[91,"RCP6-RRA4R","RCP6-RRA4R","RCP6-RRA4R"]
[92,"RCP6-RRA6R","RCP6-RRA6R","RCP6-RRA6R"]
[93,"RCP6-RRA7R","RCP6-RRA7R","RCP6-RRA7R"]
[94,"RCP6-WRA10C","RCP6-WRA10C","RCP6-WRA10C"]
[95,"RCP6-WRA12C","RCP6-WRA12C","RCP6-WRA12C"]
[96,"RCP6-WRA14C","RCP6-WRA14C","RCP6-WRA14C"]
[97,"RCP6-WRA10R","RCP6-WRA10R","RCP6-WRA10R"]
[98,"RCP6-WRA12R","RCP6-WRA12R","RCP6-WRA12R"]
[99,"RCP6-WRA14R","RCP6-WRA14R","RCP6-WRA14R"]
[100,"RCP6-TA4C(SB)","RCP6-TA4C(SB)","RCP6-TA4C(SB)"]
[101,"RCP6-TA6C(SB)","RCP6-TA6C(SB)","RCP6-TA6C(SB)"]
[102,"RCP6-TA7C(SB)","RCP6-TA7C(SB)","RCP6-TA7C(SB)"]
[103,"RCP6-TA4R(SB)","RCP6-TA4R(SB)","RCP6-TA4R(SB)"]
[104,"RCP6-TA6R(SB)","RCP6-TA6R(SB)","RCP6-TA6R(SB)"]
[105,"RCP6-TA7R(SB)","RCP6-TA7R(SB)","RCP6-TA7R(SB)"]
[106,"RCP6-TA4C(DB)","RCP6-TA4C(DB)","RCP6-TA4C(DB)"]
[107,"RCP6-TA6C(DB)","RCP6-TA6C(DB)","RCP6-TA6C(DB)"]
[108,"RCP6-TA7C(DB)","RCP6-TA7C(DB)","RCP6-TA7C(DB)"]
[109,"RCP6-TA4R(DB)","RCP6-TA4R(DB)","RCP6-TA4R(DB)"]
[110,"RCP6-TA6R(DB)","RCP6-TA6R(DB)","RCP6-TA6R(DB)"]
[111,"RCP6-TA7R(DB)","RCP6-TA7R(DB)","RCP6-TA7R(DB)"]
[112,"RCP6CR-SA4C","RCP6CR-SA4C","RCP6CR-SA4C"]
[113,"RCP6CR-SA6C","RCP6CR-SA6C","RCP6CR-SA6C"]
[114,"RCP6CR-SA7C","RCP6CR-SA7C","RCP6CR-SA7C"]
[115,"RCP6CR-SA8C","RCP6CR-SA8C","RCP6CR-SA8C"]
[116,"RCP6CR-WSA10C","RCP6CR-WSA10C","RCP6CR-WSA10C"]
[117,"RCP6CR-WSA12C","RCP6CR-WSA12C","RCP6CR-WSA12C"]
[118,"RCP6CR-WSA14C","RCP6CR-WSA14C","RCP6CR-WSA14C"]
[119,"RCP6CR-WSA16C","RCP6CR-WSA16C","RCP6CR-WSA16C"]
[120,"RCP6-HSA6C","RCP6-HSA6C","RCP6-HSA6C"]
[121,"RCP6-HSA7C","RCP6-HSA7C","RCP6-HSA7C"]
[122,"RCP6-HSA6C-W","RCP6-HSA6C-W","RCP6-HSA6C-W"]
[123,"RCP6-HSA7C-W","RCP6-HSA7C-W","RCP6-HSA7C-W"]
[124,"RCP6-HSA6R","RCP6-HSA6R","RCP6-HSA6R","↓ Ver.4.1 追加"]
[125,"RCP6-HSA6R-W","RCP6-HSA6R-W","RCP6-HSA6R-W"]
[126,"RCP6-HSA6XC-3","RCP6-HSA6XC-3","RCP6-HSA6XC-3"]
[127,"RCP6-HSA6XC-6","RCP6-HSA6XC-6","RCP6-HSA6XC-6"]
[128,"RCP6-HSA6XC-12","RCP6-HSA6XC-12","RCP6-HSA6XC-12"]
[129,"RCP6-HSA6XC-20","RCP6-HSA6XC-20","RCP6-HSA6XC-20"]
[130,"RCP6-HSA6XR-3","RCP6-HSA6XR-3","RCP6-HSA6XR-3"]
[131,"RCP6-HSA6XR-6","RCP6-HSA6XR-6","RCP6-HSA6XR-6"]
[132,"RCP6-HSA6XR-12","RCP6-HSA6XR-12","RCP6-HSA6XR-12"]
[133,"RCP6-HSA6XR-20","RCP6-HSA6XR-20","RCP6-HSA6XR-20"]
[134,"RCP6-HSA7R","RCP6-HSA7R","RCP6-HSA7R"]
[135,"RCP6-HSA7R-W","RCP6-HSA7R-W","RCP6-HSA7R-W"]
[136,"RCP6-HSA7XC-4","RCP6-HSA7XC-4","RCP6-HSA7XC-4"]
[137,"RCP6-HSA7XC-8","RCP6-HSA7XC-8","RCP6-HSA7XC-8"]
[138,"RCP6-HSA7XC-16","RCP6-HSA7XC-16","RCP6-HSA7XC-16"]
[139,"RCP6-HSA7XC-24","RCP6-HSA7XC-24","RCP6-HSA7XC-24"]
[140,"RCP6-HSA7XR-4","RCP6-HSA7XR-4","RCP6-HSA7XR-4"]
[141,"RCP6-HSA7XR-8","RCP6-HSA7XR-8","RCP6-HSA7XR-8"]
[142,"RCP6-HSA7XR-16","RCP6-HSA7XR-16","RCP6-HSA7XR-16"]
[143,"RCP6-HSA7XR-24","RCP6-HSA7XR-24","RCP6-HSA7XR-24","↑ Ver.4.1 追加"]
[144,"RCP6CR-HSA6C","RCP6CR-HSA6C","RCP6CR-HSA6C","↓ Ver.4.3 追加"]
[145,"RCP6CR-HSA6C-W","RCP6CR-HSA6C-W","RCP6CR-HSA6C-W"]
[146,"RCP6CR-HSA6XC-3","RCP6CR-HSA6XC-3","RCP6CR-HSA6XC-3"]
[147,"RCP6CR-HSA6XC-6","RCP6CR-HSA6XC-6","RCP6CR-HSA6XC-6"]
[148,"RCP6CR-HSA6XC-12","RCP6CR-HSA6XC-12","RCP6CR-HSA6XC-12"]
[149,"RCP6CR-HSA6XC-20","RCP6CR-HSA6XC-20","RCP6CR-HSA6XC-20"]
[150,"RCP6CR-HSA7C","RCP6CR-HSA7C","RCP6CR-HSA7C"]
[151,"RCP6CR-HSA7C-W","RCP6CR-HSA7C-W","RCP6CR-HSA7C-W"]
[152,"RCP6CR-HSA7XC-4","RCP6CR-HSA7XC-4","RCP6CR-HSA7XC-4"]
[153,"RCP6CR-HSA7XC-8","RCP6CR-HSA7XC-8","RCP6CR-HSA7XC-8"]
[154,"RCP6CR-HSA7XC-16","RCP6CR-HSA7XC-16","RCP6CR-HSA7XC-16"]
[155,"RCP6CR-HSA7XC-24","RCP6CR-HSA7XC-24","RCP6CR-HSA7XC-24","↑ Ver.4.3 追加"]
["EOF"]